{"text_format":"1","workbook":"xlsx","n_sheets":14,"sheets":["INDEX","INPUT","PT","CC","SCC","GCC","GRID","AS","AT","SS","ST","DTMIN","A1","A2"],"not_rendered":{"charts":5,"images":2,"macros":1,"external_links":0,"defined_names":17,"comments":0,"pivot_tables":0},"unopened":[],"bounds":{"document_bytes":16777216,"sheet_cells":100000,"rows_first":2000,"rows_last":500,"rows_between":2000,"halvings":0,"cell_chars":16384,"cell_head_chars":4096},"cells_cut":0,"cells_raw":0,"read":"whole","date_system":"1900"}

{"sheet":"INDEX","index":0,"n_rows":21,"n_cols":5,"rows_kept":21,"cut":false,"hidden":false,"merged":[[20,4,20,12],[8,4,8,12],[14,4,14,12],[9,4,9,12],[16,4,16,12],[10,4,10,12],[15,4,15,12],[12,4,12,12],[7,4,7,12],[11,4,11,12],[13,4,13,12],[17,4,17,12],[19,4,19,12]]}
[]
[null,"Pinch Analysis Spreadsheet"]
[]
[]
[]
[null,null,"TABLE OF CONTENTS:"]
[]
[null,null,"INPUT","Input Data","Input problem data, i.e. stream temperatures, stream names, stream properties and dTmin criteria."]
[null,null,"PT","Problem Table & Cascade","Problem table, heat cascade, pinch identification, problem type, min utility requirements."]
[null,null,"CC","Composite Curves","Composite curve plot."]
[null,null,"SCC","Shifted Composite Curves","Shifted composite curve plot."]
[null,null,"GCC","Grand Composite Curve","Grand composite plot."]
[null,null,"GRID","Grid Diagram","Schematic showing hot and cold shfted streams and the pinch location."]
[null,null,"AS","Actual Streams","Schematic showing actual streams."]
[null,null,"AT","Actual Intervals Table","Calculation table for actual composite curves."]
[null,null,"SS","Shifted Streams","Schematic showing shifted streams."]
[null,null,"ST","Shifted Intervals Table","Calculation table for shifted composite curves."]
[null,null,"DTMIN","Varying dTmin global","Pinch analysis over a range of dTmin values."]
[]
[null,null,"A1","Set-up and conversions","Configuration page listing conversion factors."]
[null,null,"A2","Plot tables","Tabulation of plot values."]

{"sheet":"INPUT","index":1,"n_rows":65,"n_cols":11,"rows_kept":65,"cut":false,"hidden":false,"merged":[[3,5,3,7],[11,5,11,7]]}
["Input Data"]
[]
[]
[null,"1. Select Input Method from the Dropdown list:",null,null,null,"Heat Capacity Flowrate"]
[]
[null,"2. Input Global dTmin & select input temperature units:",null,null,null,10,"°C"]
[]
[null,"3. Select appropriate units for the input data from the drop down lists below (E15/F15).",null,null,null,null,null,null,"Requires Input -"]
[null,null,null,null,null,null,null,null,"Optional Input -"]
[null,"4. Input data: Stream Name, Temperatures & Heat/Flow Data (max 50 streams).",null,null,null,null,null,null,"Calculation cell -"]
[]
[null,"5. Select desired output unit set:",null,null,null,"SI-based (kW/K)"]
[]
["Stream Name","Supply Temperature","Target Temperature","dT Min Contrib",{"$f":"IF(F4='A1'!B4,'A1'!B12,IF(F4='A1'!B5,'A1'!D12,IF(F4='A1'!B6,'A1'!F12,IF(F4='A1'!B7,'A1'!F12,\"SELECT INPUT (See 1. Above)\"))))","v":"Heat Capacity Flowrate"},{"$f":"IF(F4='A1'!B6,'A1'!H12,IF(F4='A1'!B7,'A1'!J12,\"\"))","v":""},"Heat Flow","Stream Type","Supply Shift","Target Shift",{"$f":"IF(AND(K16:K66=\"\"),\"\",\"CHECK INPUT WARNING\")","v":""}]
[null,{"$f":"G6","v":"°C"},{"$f":"G6","v":"°C"},{"$f":"G6","v":"°C"},"kW/K","",{"$f":"'A1'!I29","v":"kW"},null,{"$f":"'A1'!K29","v":"°C"},{"$f":"'A1'!L29","v":"°C"}]
[1,200,50,10,3,null,{"$f":"'A1'!I30","v":450},{"$f":"IF('A1'!J30=\"\",\"\",'A1'!J30)","v":"HOT"},{"$f":"IF('A1'!K30=\"\",\"\",'A1'!K30)","v":190},{"$f":"IF('A1'!L30=\"\",\"\",'A1'!L30)","v":40},{"$f":"IF(AND(A16:F16=\"\"),\"\",IF('A1'!AD30=\"\",IF('A1'!AE30=\"\",IF('A1'!AF30=\"\",IF('A1'!AG30=\"\",IF('A1'!AH30=\"\",IF('A1'!AI30=\"\",\"\",'A1'!AI30),'A1'!AH30),'A1'!AG30),'A1'!AF30),'A1'!AE30),'A1'!AD30))","v":""}]
[2,240,100,10,1.5,null,{"$f":"'A1'!I31","v":210},{"$f":"IF('A1'!J31=\"\",\"\",'A1'!J31)","v":"HOT"},{"$f":"IF('A1'!K31=\"\",\"\",'A1'!K31)","v":230},{"$f":"IF('A1'!L31=\"\",\"\",'A1'!L31)","v":90},{"$f":"IF(AND(A17:F17=\"\"),\"\",IF('A1'!AD31=\"\",IF('A1'!AE31=\"\",IF('A1'!AF31=\"\",IF('A1'!AG31=\"\",IF('A1'!AH31=\"\",IF('A1'!AI31=\"\",\"\",'A1'!AI31),'A1'!AH31),'A1'!AG31),'A1'!AF31),'A1'!AE31),'A1'!AD31))","v":""}]
[3,120,119,10,300,null,{"$f":"'A1'!I32","v":300},{"$f":"IF('A1'!J32=\"\",\"\",'A1'!J32)","v":"HOT"},{"$f":"IF('A1'!K32=\"\",\"\",'A1'!K32)","v":110},{"$f":"IF('A1'!L32=\"\",\"\",'A1'!L32)","v":109},{"$f":"IF(AND(A18:F18=\"\"),\"\",IF('A1'!AD32=\"\",IF('A1'!AE32=\"\",IF('A1'!AF32=\"\",IF('A1'!AG32=\"\",IF('A1'!AH32=\"\",IF('A1'!AI32=\"\",\"\",'A1'!AI32),'A1'!AH32),'A1'!AG32),'A1'!AF32),'A1'!AE32),'A1'!AD32))","v":""}]
[4,30,200,10,4,null,{"$f":"'A1'!I33","v":680},{"$f":"IF('A1'!J33=\"\",\"\",'A1'!J33)","v":"COLD"},{"$f":"IF('A1'!K33=\"\",\"\",'A1'!K33)","v":40},{"$f":"IF('A1'!L33=\"\",\"\",'A1'!L33)","v":210},{"$f":"IF(AND(A19:F19=\"\"),\"\",IF('A1'!AD33=\"\",IF('A1'!AE33=\"\",IF('A1'!AF33=\"\",IF('A1'!AG33=\"\",IF('A1'!AH33=\"\",IF('A1'!AI33=\"\",\"\",'A1'!AI33),'A1'!AH33),'A1'!AG33),'A1'!AF33),'A1'!AE33),'A1'!AD33))","v":""}]
[5,50,250,10,2,null,{"$f":"'A1'!I34","v":400},{"$f":"IF('A1'!J34=\"\",\"\",'A1'!J34)","v":"COLD"},{"$f":"IF('A1'!K34=\"\",\"\",'A1'!K34)","v":60},{"$f":"IF('A1'!L34=\"\",\"\",'A1'!L34)","v":260},{"$f":"IF(AND(A20:F20=\"\"),\"\",IF('A1'!AD34=\"\",IF('A1'!AE34=\"\",IF('A1'!AF34=\"\",IF('A1'!AG34=\"\",IF('A1'!AH34=\"\",IF('A1'!AI34=\"\",\"\",'A1'!AI34),'A1'!AH34),'A1'!AG34),'A1'!AF34),'A1'!AE34),'A1'!AD34))","v":""}]
[null,null,null,null,null,null,{"$f":"'A1'!I35","v":""},{"$f":"IF('A1'!J35=\"\",\"\",'A1'!J35)","v":""},{"$f":"IF('A1'!K35=\"\",\"\",'A1'!K35)","v":""},{"$f":"IF('A1'!L35=\"\",\"\",'A1'!L35)","v":""},{"$f":"IF(AND(A21:F21=\"\"),\"\",IF('A1'!AD35=\"\",IF('A1'!AE35=\"\",IF('A1'!AF35=\"\",IF('A1'!AG35=\"\",IF('A1'!AH35=\"\",IF('A1'!AI35=\"\",\"\",'A1'!AI35),'A1'!AH35),'A1'!AG35),'A1'!AF35),'A1'!AE35),'A1'!AD35))","v":""}]
[null,null,null,null,null,null,{"$f":"'A1'!I36","v":""},{"$f":"IF('A1'!J36=\"\",\"\",'A1'!J36)","v":""},{"$f":"IF('A1'!K36=\"\",\"\",'A1'!K36)","v":""},{"$f":"IF('A1'!L36=\"\",\"\",'A1'!L36)","v":""},{"$f":"IF(AND(A22:F22=\"\"),\"\",IF('A1'!AD36=\"\",IF('A1'!AE36=\"\",IF('A1'!AF36=\"\",IF('A1'!AG36=\"\",IF('A1'!AH36=\"\",IF('A1'!AI36=\"\",\"\",'A1'!AI36),'A1'!AH36),'A1'!AG36),'A1'!AF36),'A1'!AE36),'A1'!AD36))","v":""}]
[null,null,null,null,null,null,{"$f":"'A1'!I37","v":""},{"$f":"IF('A1'!J37=\"\",\"\",'A1'!J37)","v":""},{"$f":"IF('A1'!K37=\"\",\"\",'A1'!K37)","v":""},{"$f":"IF('A1'!L37=\"\",\"\",'A1'!L37)","v":""},{"$f":"IF(AND(A23:F23=\"\"),\"\",IF('A1'!AD37=\"\",IF('A1'!AE37=\"\",IF('A1'!AF37=\"\",IF('A1'!AG37=\"\",IF('A1'!AH37=\"\",IF('A1'!AI37=\"\",\"\",'A1'!AI37),'A1'!AH37),'A1'!AG37),'A1'!AF37),'A1'!AE37),'A1'!AD37))","v":""}]
[null,null,null,null,null,null,{"$f":"'A1'!I38","v":""},{"$f":"IF('A1'!J38=\"\",\"\",'A1'!J38)","v":""},{"$f":"IF('A1'!K38=\"\",\"\",'A1'!K38)","v":""},{"$f":"IF('A1'!L38=\"\",\"\",'A1'!L38)","v":""},{"$f":"IF(AND(A24:F24=\"\"),\"\",IF('A1'!AD38=\"\",IF('A1'!AE38=\"\",IF('A1'!AF38=\"\",IF('A1'!AG38=\"\",IF('A1'!AH38=\"\",IF('A1'!AI38=\"\",\"\",'A1'!AI38),'A1'!AH38),'A1'!AG38),'A1'!AF38),'A1'!AE38),'A1'!AD38))","v":""}]
[null,null,null,null,null,null,{"$f":"'A1'!I39","v":""},{"$f":"IF('A1'!J39=\"\",\"\",'A1'!J39)","v":""},{"$f":"IF('A1'!K39=\"\",\"\",'A1'!K39)","v":""},{"$f":"IF('A1'!L39=\"\",\"\",'A1'!L39)","v":""},{"$f":"IF(AND(A25:F25=\"\"),\"\",IF('A1'!AD39=\"\",IF('A1'!AE39=\"\",IF('A1'!AF39=\"\",IF('A1'!AG39=\"\",IF('A1'!AH39=\"\",IF('A1'!AI39=\"\",\"\",'A1'!AI39),'A1'!AH39),'A1'!AG39),'A1'!AF39),'A1'!AE39),'A1'!AD39))","v":""}]
[null,null,null,null,null,null,{"$f":"'A1'!I40","v":""},{"$f":"IF('A1'!J40=\"\",\"\",'A1'!J40)","v":""},{"$f":"IF('A1'!K40=\"\",\"\",'A1'!K40)","v":""},{"$f":"IF('A1'!L40=\"\",\"\",'A1'!L40)","v":""},{"$f":"IF(AND(A26:F26=\"\"),\"\",IF('A1'!AD40=\"\",IF('A1'!AE40=\"\",IF('A1'!AF40=\"\",IF('A1'!AG40=\"\",IF('A1'!AH40=\"\",IF('A1'!AI40=\"\",\"\",'A1'!AI40),'A1'!AH40),'A1'!AG40),'A1'!AF40),'A1'!AE40),'A1'!AD40))","v":""}]
[null,null,null,null,null,null,{"$f":"'A1'!I41","v":""},{"$f":"IF('A1'!J41=\"\",\"\",'A1'!J41)","v":""},{"$f":"IF('A1'!K41=\"\",\"\",'A1'!K41)","v":""},{"$f":"IF('A1'!L41=\"\",\"\",'A1'!L41)","v":""},{"$f":"IF(AND(A27:F27=\"\"),\"\",IF('A1'!AD41=\"\",IF('A1'!AE41=\"\",IF('A1'!AF41=\"\",IF('A1'!AG41=\"\",IF('A1'!AH41=\"\",IF('A1'!AI41=\"\",\"\",'A1'!AI41),'A1'!AH41),'A1'!AG41),'A1'!AF41),'A1'!AE41),'A1'!AD41))","v":""}]
[null,null,null,null,null,null,{"$f":"'A1'!I42","v":""},{"$f":"IF('A1'!J42=\"\",\"\",'A1'!J42)","v":""},{"$f":"IF('A1'!K42=\"\",\"\",'A1'!K42)","v":""},{"$f":"IF('A1'!L42=\"\",\"\",'A1'!L42)","v":""},{"$f":"IF(AND(A28:F28=\"\"),\"\",IF('A1'!AD42=\"\",IF('A1'!AE42=\"\",IF('A1'!AF42=\"\",IF('A1'!AG42=\"\",IF('A1'!AH42=\"\",IF('A1'!AI42=\"\",\"\",'A1'!AI42),'A1'!AH42),'A1'!AG42),'A1'!AF42),'A1'!AE42),'A1'!AD42))","v":""}]
[null,null,null,null,null,null,{"$f":"'A1'!I43","v":""},{"$f":"IF('A1'!J43=\"\",\"\",'A1'!J43)","v":""},{"$f":"IF('A1'!K43=\"\",\"\",'A1'!K43)","v":""},{"$f":"IF('A1'!L43=\"\",\"\",'A1'!L43)","v":""},{"$f":"IF(AND(A29:F29=\"\"),\"\",IF('A1'!AD43=\"\",IF('A1'!AE43=\"\",IF('A1'!AF43=\"\",IF('A1'!AG43=\"\",IF('A1'!AH43=\"\",IF('A1'!AI43=\"\",\"\",'A1'!AI43),'A1'!AH43),'A1'!AG43),'A1'!AF43),'A1'!AE43),'A1'!AD43))","v":""}]
[null,null,null,null,null,null,{"$f":"'A1'!I44","v":""},{"$f":"IF('A1'!J44=\"\",\"\",'A1'!J44)","v":""},{"$f":"IF('A1'!K44=\"\",\"\",'A1'!K44)","v":""},{"$f":"IF('A1'!L44=\"\",\"\",'A1'!L44)","v":""},{"$f":"IF(AND(A30:F30=\"\"),\"\",IF('A1'!AD44=\"\",IF('A1'!AE44=\"\",IF('A1'!AF44=\"\",IF('A1'!AG44=\"\",IF('A1'!AH44=\"\",IF('A1'!AI44=\"\",\"\",'A1'!AI44),'A1'!AH44),'A1'!AG44),'A1'!AF44),'A1'!AE44),'A1'!AD44))","v":""}]
[null,null,null,null,null,null,{"$f":"'A1'!I45","v":""},{"$f":"IF('A1'!J45=\"\",\"\",'A1'!J45)","v":""},{"$f":"IF('A1'!K45=\"\",\"\",'A1'!K45)","v":""},{"$f":"IF('A1'!L45=\"\",\"\",'A1'!L45)","v":""},{"$f":"IF(AND(A31:F31=\"\"),\"\",IF('A1'!AD45=\"\",IF('A1'!AE45=\"\",IF('A1'!AF45=\"\",IF('A1'!AG45=\"\",IF('A1'!AH45=\"\",IF('A1'!AI45=\"\",\"\",'A1'!AI45),'A1'!AH45),'A1'!AG45),'A1'!AF45),'A1'!AE45),'A1'!AD45))","v":""}]
[null,null,null,null,null,null,{"$f":"'A1'!I46","v":""},{"$f":"IF('A1'!J46=\"\",\"\",'A1'!J46)","v":""},{"$f":"IF('A1'!K46=\"\",\"\",'A1'!K46)","v":""},{"$f":"IF('A1'!L46=\"\",\"\",'A1'!L46)","v":""},{"$f":"IF(AND(A32:F32=\"\"),\"\",IF('A1'!AD46=\"\",IF('A1'!AE46=\"\",IF('A1'!AF46=\"\",IF('A1'!AG46=\"\",IF('A1'!AH46=\"\",IF('A1'!AI46=\"\",\"\",'A1'!AI46),'A1'!AH46),'A1'!AG46),'A1'!AF46),'A1'!AE46),'A1'!AD46))","v":""}]
[null,null,null,null,null,null,{"$f":"'A1'!I47","v":""},{"$f":"IF('A1'!J47=\"\",\"\",'A1'!J47)","v":""},{"$f":"IF('A1'!K47=\"\",\"\",'A1'!K47)","v":""},{"$f":"IF('A1'!L47=\"\",\"\",'A1'!L47)","v":""},{"$f":"IF(AND(A33:F33=\"\"),\"\",IF('A1'!AD47=\"\",IF('A1'!AE47=\"\",IF('A1'!AF47=\"\",IF('A1'!AG47=\"\",IF('A1'!AH47=\"\",IF('A1'!AI47=\"\",\"\",'A1'!AI47),'A1'!AH47),'A1'!AG47),'A1'!AF47),'A1'!AE47),'A1'!AD47))","v":""}]
[null,null,null,null,null,null,{"$f":"'A1'!I48","v":""},{"$f":"IF('A1'!J48=\"\",\"\",'A1'!J48)","v":""},{"$f":"IF('A1'!K48=\"\",\"\",'A1'!K48)","v":""},{"$f":"IF('A1'!L48=\"\",\"\",'A1'!L48)","v":""},{"$f":"IF(AND(A34:F34=\"\"),\"\",IF('A1'!AD48=\"\",IF('A1'!AE48=\"\",IF('A1'!AF48=\"\",IF('A1'!AG48=\"\",IF('A1'!AH48=\"\",IF('A1'!AI48=\"\",\"\",'A1'!AI48),'A1'!AH48),'A1'!AG48),'A1'!AF48),'A1'!AE48),'A1'!AD48))","v":""}]
[null,null,null,null,null,null,{"$f":"'A1'!I49","v":""},{"$f":"IF('A1'!J49=\"\",\"\",'A1'!J49)","v":""},{"$f":"IF('A1'!K49=\"\",\"\",'A1'!K49)","v":""},{"$f":"IF('A1'!L49=\"\",\"\",'A1'!L49)","v":""},{"$f":"IF(AND(A35:F35=\"\"),\"\",IF('A1'!AD49=\"\",IF('A1'!AE49=\"\",IF('A1'!AF49=\"\",IF('A1'!AG49=\"\",IF('A1'!AH49=\"\",IF('A1'!AI49=\"\",\"\",'A1'!AI49),'A1'!AH49),'A1'!AG49),'A1'!AF49),'A1'!AE49),'A1'!AD49))","v":""}]
[null,null,null,null,null,null,{"$f":"'A1'!I50","v":""},{"$f":"IF('A1'!J50=\"\",\"\",'A1'!J50)","v":""},{"$f":"IF('A1'!K50=\"\",\"\",'A1'!K50)","v":""},{"$f":"IF('A1'!L50=\"\",\"\",'A1'!L50)","v":""},{"$f":"IF(AND(A36:F36=\"\"),\"\",IF('A1'!AD50=\"\",IF('A1'!AE50=\"\",IF('A1'!AF50=\"\",IF('A1'!AG50=\"\",IF('A1'!AH50=\"\",IF('A1'!AI50=\"\",\"\",'A1'!AI50),'A1'!AH50),'A1'!AG50),'A1'!AF50),'A1'!AE50),'A1'!AD50))","v":""}]
[null,null,null,null,null,null,{"$f":"'A1'!I51","v":""},{"$f":"IF('A1'!J51=\"\",\"\",'A1'!J51)","v":""},{"$f":"IF('A1'!K51=\"\",\"\",'A1'!K51)","v":""},{"$f":"IF('A1'!L51=\"\",\"\",'A1'!L51)","v":""},{"$f":"IF(AND(A37:F37=\"\"),\"\",IF('A1'!AD51=\"\",IF('A1'!AE51=\"\",IF('A1'!AF51=\"\",IF('A1'!AG51=\"\",IF('A1'!AH51=\"\",IF('A1'!AI51=\"\",\"\",'A1'!AI51),'A1'!AH51),'A1'!AG51),'A1'!AF51),'A1'!AE51),'A1'!AD51))","v":""}]
[null,null,null,null,null,null,{"$f":"'A1'!I52","v":""},{"$f":"IF('A1'!J52=\"\",\"\",'A1'!J52)","v":""},{"$f":"IF('A1'!K52=\"\",\"\",'A1'!K52)","v":""},{"$f":"IF('A1'!L52=\"\",\"\",'A1'!L52)","v":""},{"$f":"IF(AND(A38:F38=\"\"),\"\",IF('A1'!AD52=\"\",IF('A1'!AE52=\"\",IF('A1'!AF52=\"\",IF('A1'!AG52=\"\",IF('A1'!AH52=\"\",IF('A1'!AI52=\"\",\"\",'A1'!AI52),'A1'!AH52),'A1'!AG52),'A1'!AF52),'A1'!AE52),'A1'!AD52))","v":""}]
[null,null,null,null,null,null,{"$f":"'A1'!I53","v":""},{"$f":"IF('A1'!J53=\"\",\"\",'A1'!J53)","v":""},{"$f":"IF('A1'!K53=\"\",\"\",'A1'!K53)","v":""},{"$f":"IF('A1'!L53=\"\",\"\",'A1'!L53)","v":""},{"$f":"IF(AND(A39:F39=\"\"),\"\",IF('A1'!AD53=\"\",IF('A1'!AE53=\"\",IF('A1'!AF53=\"\",IF('A1'!AG53=\"\",IF('A1'!AH53=\"\",IF('A1'!AI53=\"\",\"\",'A1'!AI53),'A1'!AH53),'A1'!AG53),'A1'!AF53),'A1'!AE53),'A1'!AD53))","v":""}]
[null,null,null,null,null,null,{"$f":"'A1'!I54","v":""},{"$f":"IF('A1'!J54=\"\",\"\",'A1'!J54)","v":""},{"$f":"IF('A1'!K54=\"\",\"\",'A1'!K54)","v":""},{"$f":"IF('A1'!L54=\"\",\"\",'A1'!L54)","v":""},{"$f":"IF(AND(A40:F40=\"\"),\"\",IF('A1'!AD54=\"\",IF('A1'!AE54=\"\",IF('A1'!AF54=\"\",IF('A1'!AG54=\"\",IF('A1'!AH54=\"\",IF('A1'!AI54=\"\",\"\",'A1'!AI54),'A1'!AH54),'A1'!AG54),'A1'!AF54),'A1'!AE54),'A1'!AD54))","v":""}]
[null,null,null,null,null,null,{"$f":"'A1'!I55","v":""},{"$f":"IF('A1'!J55=\"\",\"\",'A1'!J55)","v":""},{"$f":"IF('A1'!K55=\"\",\"\",'A1'!K55)","v":""},{"$f":"IF('A1'!L55=\"\",\"\",'A1'!L55)","v":""},{"$f":"IF(AND(A41:F41=\"\"),\"\",IF('A1'!AD55=\"\",IF('A1'!AE55=\"\",IF('A1'!AF55=\"\",IF('A1'!AG55=\"\",IF('A1'!AH55=\"\",IF('A1'!AI55=\"\",\"\",'A1'!AI55),'A1'!AH55),'A1'!AG55),'A1'!AF55),'A1'!AE55),'A1'!AD55))","v":""}]
[null,null,null,null,null,null,{"$f":"'A1'!I56","v":""},{"$f":"IF('A1'!J56=\"\",\"\",'A1'!J56)","v":""},{"$f":"IF('A1'!K56=\"\",\"\",'A1'!K56)","v":""},{"$f":"IF('A1'!L56=\"\",\"\",'A1'!L56)","v":""},{"$f":"IF(AND(A42:F42=\"\"),\"\",IF('A1'!AD56=\"\",IF('A1'!AE56=\"\",IF('A1'!AF56=\"\",IF('A1'!AG56=\"\",IF('A1'!AH56=\"\",IF('A1'!AI56=\"\",\"\",'A1'!AI56),'A1'!AH56),'A1'!AG56),'A1'!AF56),'A1'!AE56),'A1'!AD56))","v":""}]
[null,null,null,null,null,null,{"$f":"'A1'!I57","v":""},{"$f":"IF('A1'!J57=\"\",\"\",'A1'!J57)","v":""},{"$f":"IF('A1'!K57=\"\",\"\",'A1'!K57)","v":""},{"$f":"IF('A1'!L57=\"\",\"\",'A1'!L57)","v":""},{"$f":"IF(AND(A43:F43=\"\"),\"\",IF('A1'!AD57=\"\",IF('A1'!AE57=\"\",IF('A1'!AF57=\"\",IF('A1'!AG57=\"\",IF('A1'!AH57=\"\",IF('A1'!AI57=\"\",\"\",'A1'!AI57),'A1'!AH57),'A1'!AG57),'A1'!AF57),'A1'!AE57),'A1'!AD57))","v":""}]
[null,null,null,null,null,null,{"$f":"'A1'!I58","v":""},{"$f":"IF('A1'!J58=\"\",\"\",'A1'!J58)","v":""},{"$f":"IF('A1'!K58=\"\",\"\",'A1'!K58)","v":""},{"$f":"IF('A1'!L58=\"\",\"\",'A1'!L58)","v":""},{"$f":"IF(AND(A44:F44=\"\"),\"\",IF('A1'!AD58=\"\",IF('A1'!AE58=\"\",IF('A1'!AF58=\"\",IF('A1'!AG58=\"\",IF('A1'!AH58=\"\",IF('A1'!AI58=\"\",\"\",'A1'!AI58),'A1'!AH58),'A1'!AG58),'A1'!AF58),'A1'!AE58),'A1'!AD58))","v":""}]
[null,null,null,null,null,null,{"$f":"'A1'!I59","v":""},{"$f":"IF('A1'!J59=\"\",\"\",'A1'!J59)","v":""},{"$f":"IF('A1'!K59=\"\",\"\",'A1'!K59)","v":""},{"$f":"IF('A1'!L59=\"\",\"\",'A1'!L59)","v":""},{"$f":"IF(AND(A45:F45=\"\"),\"\",IF('A1'!AD59=\"\",IF('A1'!AE59=\"\",IF('A1'!AF59=\"\",IF('A1'!AG59=\"\",IF('A1'!AH59=\"\",IF('A1'!AI59=\"\",\"\",'A1'!AI59),'A1'!AH59),'A1'!AG59),'A1'!AF59),'A1'!AE59),'A1'!AD59))","v":""}]
[null,null,null,null,null,null,{"$f":"'A1'!I60","v":""},{"$f":"IF('A1'!J60=\"\",\"\",'A1'!J60)","v":""},{"$f":"IF('A1'!K60=\"\",\"\",'A1'!K60)","v":""},{"$f":"IF('A1'!L60=\"\",\"\",'A1'!L60)","v":""},{"$f":"IF(AND(A46:F46=\"\"),\"\",IF('A1'!AD60=\"\",IF('A1'!AE60=\"\",IF('A1'!AF60=\"\",IF('A1'!AG60=\"\",IF('A1'!AH60=\"\",IF('A1'!AI60=\"\",\"\",'A1'!AI60),'A1'!AH60),'A1'!AG60),'A1'!AF60),'A1'!AE60),'A1'!AD60))","v":""}]
[null,null,null,null,null,null,{"$f":"'A1'!I61","v":""},{"$f":"IF('A1'!J61=\"\",\"\",'A1'!J61)","v":""},{"$f":"IF('A1'!K61=\"\",\"\",'A1'!K61)","v":""},{"$f":"IF('A1'!L61=\"\",\"\",'A1'!L61)","v":""},{"$f":"IF(AND(A47:F47=\"\"),\"\",IF('A1'!AD61=\"\",IF('A1'!AE61=\"\",IF('A1'!AF61=\"\",IF('A1'!AG61=\"\",IF('A1'!AH61=\"\",IF('A1'!AI61=\"\",\"\",'A1'!AI61),'A1'!AH61),'A1'!AG61),'A1'!AF61),'A1'!AE61),'A1'!AD61))","v":""}]
[null,null,null,null,null,null,{"$f":"'A1'!I62","v":""},{"$f":"IF('A1'!J62=\"\",\"\",'A1'!J62)","v":""},{"$f":"IF('A1'!K62=\"\",\"\",'A1'!K62)","v":""},{"$f":"IF('A1'!L62=\"\",\"\",'A1'!L62)","v":""},{"$f":"IF(AND(A48:F48=\"\"),\"\",IF('A1'!AD62=\"\",IF('A1'!AE62=\"\",IF('A1'!AF62=\"\",IF('A1'!AG62=\"\",IF('A1'!AH62=\"\",IF('A1'!AI62=\"\",\"\",'A1'!AI62),'A1'!AH62),'A1'!AG62),'A1'!AF62),'A1'!AE62),'A1'!AD62))","v":""}]
[null,null,null,null,null,null,{"$f":"'A1'!I63","v":""},{"$f":"IF('A1'!J63=\"\",\"\",'A1'!J63)","v":""},{"$f":"IF('A1'!K63=\"\",\"\",'A1'!K63)","v":""},{"$f":"IF('A1'!L63=\"\",\"\",'A1'!L63)","v":""},{"$f":"IF(AND(A49:F49=\"\"),\"\",IF('A1'!AD63=\"\",IF('A1'!AE63=\"\",IF('A1'!AF63=\"\",IF('A1'!AG63=\"\",IF('A1'!AH63=\"\",IF('A1'!AI63=\"\",\"\",'A1'!AI63),'A1'!AH63),'A1'!AG63),'A1'!AF63),'A1'!AE63),'A1'!AD63))","v":""}]
[null,null,null,null,null,null,{"$f":"'A1'!I64","v":""},{"$f":"IF('A1'!J64=\"\",\"\",'A1'!J64)","v":""},{"$f":"IF('A1'!K64=\"\",\"\",'A1'!K64)","v":""},{"$f":"IF('A1'!L64=\"\",\"\",'A1'!L64)","v":""},{"$f":"IF(AND(A50:F50=\"\"),\"\",IF('A1'!AD64=\"\",IF('A1'!AE64=\"\",IF('A1'!AF64=\"\",IF('A1'!AG64=\"\",IF('A1'!AH64=\"\",IF('A1'!AI64=\"\",\"\",'A1'!AI64),'A1'!AH64),'A1'!AG64),'A1'!AF64),'A1'!AE64),'A1'!AD64))","v":""}]
[null,null,null,null,null,null,{"$f":"'A1'!I65","v":""},{"$f":"IF('A1'!J65=\"\",\"\",'A1'!J65)","v":""},{"$f":"IF('A1'!K65=\"\",\"\",'A1'!K65)","v":""},{"$f":"IF('A1'!L65=\"\",\"\",'A1'!L65)","v":""},{"$f":"IF(AND(A51:F51=\"\"),\"\",IF('A1'!AD65=\"\",IF('A1'!AE65=\"\",IF('A1'!AF65=\"\",IF('A1'!AG65=\"\",IF('A1'!AH65=\"\",IF('A1'!AI65=\"\",\"\",'A1'!AI65),'A1'!AH65),'A1'!AG65),'A1'!AF65),'A1'!AE65),'A1'!AD65))","v":""}]
[null,null,null,null,null,null,{"$f":"'A1'!I66","v":""},{"$f":"IF('A1'!J66=\"\",\"\",'A1'!J66)","v":""},{"$f":"IF('A1'!K66=\"\",\"\",'A1'!K66)","v":""},{"$f":"IF('A1'!L66=\"\",\"\",'A1'!L66)","v":""},{"$f":"IF(AND(A52:F52=\"\"),\"\",IF('A1'!AD66=\"\",IF('A1'!AE66=\"\",IF('A1'!AF66=\"\",IF('A1'!AG66=\"\",IF('A1'!AH66=\"\",IF('A1'!AI66=\"\",\"\",'A1'!AI66),'A1'!AH66),'A1'!AG66),'A1'!AF66),'A1'!AE66),'A1'!AD66))","v":""}]
[null,null,null,null,null,null,{"$f":"'A1'!I67","v":""},{"$f":"IF('A1'!J67=\"\",\"\",'A1'!J67)","v":""},{"$f":"IF('A1'!K67=\"\",\"\",'A1'!K67)","v":""},{"$f":"IF('A1'!L67=\"\",\"\",'A1'!L67)","v":""},{"$f":"IF(AND(A53:F53=\"\"),\"\",IF('A1'!AD67=\"\",IF('A1'!AE67=\"\",IF('A1'!AF67=\"\",IF('A1'!AG67=\"\",IF('A1'!AH67=\"\",IF('A1'!AI67=\"\",\"\",'A1'!AI67),'A1'!AH67),'A1'!AG67),'A1'!AF67),'A1'!AE67),'A1'!AD67))","v":""}]
[null,null,null,null,null,null,{"$f":"'A1'!I68","v":""},{"$f":"IF('A1'!J68=\"\",\"\",'A1'!J68)","v":""},{"$f":"IF('A1'!K68=\"\",\"\",'A1'!K68)","v":""},{"$f":"IF('A1'!L68=\"\",\"\",'A1'!L68)","v":""},{"$f":"IF(AND(A54:F54=\"\"),\"\",IF('A1'!AD68=\"\",IF('A1'!AE68=\"\",IF('A1'!AF68=\"\",IF('A1'!AG68=\"\",IF('A1'!AH68=\"\",IF('A1'!AI68=\"\",\"\",'A1'!AI68),'A1'!AH68),'A1'!AG68),'A1'!AF68),'A1'!AE68),'A1'!AD68))","v":""}]
[null,null,null,null,null,null,{"$f":"'A1'!I69","v":""},{"$f":"IF('A1'!J69=\"\",\"\",'A1'!J69)","v":""},{"$f":"IF('A1'!K69=\"\",\"\",'A1'!K69)","v":""},{"$f":"IF('A1'!L69=\"\",\"\",'A1'!L69)","v":""},{"$f":"IF(AND(A55:F55=\"\"),\"\",IF('A1'!AD69=\"\",IF('A1'!AE69=\"\",IF('A1'!AF69=\"\",IF('A1'!AG69=\"\",IF('A1'!AH69=\"\",IF('A1'!AI69=\"\",\"\",'A1'!AI69),'A1'!AH69),'A1'!AG69),'A1'!AF69),'A1'!AE69),'A1'!AD69))","v":""}]
[null,null,null,null,null,null,{"$f":"'A1'!I70","v":""},{"$f":"IF('A1'!J70=\"\",\"\",'A1'!J70)","v":""},{"$f":"IF('A1'!K70=\"\",\"\",'A1'!K70)","v":""},{"$f":"IF('A1'!L70=\"\",\"\",'A1'!L70)","v":""},{"$f":"IF(AND(A56:F56=\"\"),\"\",IF('A1'!AD70=\"\",IF('A1'!AE70=\"\",IF('A1'!AF70=\"\",IF('A1'!AG70=\"\",IF('A1'!AH70=\"\",IF('A1'!AI70=\"\",\"\",'A1'!AI70),'A1'!AH70),'A1'!AG70),'A1'!AF70),'A1'!AE70),'A1'!AD70))","v":""}]
[null,null,null,null,null,null,{"$f":"'A1'!I71","v":""},{"$f":"IF('A1'!J71=\"\",\"\",'A1'!J71)","v":""},{"$f":"IF('A1'!K71=\"\",\"\",'A1'!K71)","v":""},{"$f":"IF('A1'!L71=\"\",\"\",'A1'!L71)","v":""},{"$f":"IF(AND(A57:F57=\"\"),\"\",IF('A1'!AD71=\"\",IF('A1'!AE71=\"\",IF('A1'!AF71=\"\",IF('A1'!AG71=\"\",IF('A1'!AH71=\"\",IF('A1'!AI71=\"\",\"\",'A1'!AI71),'A1'!AH71),'A1'!AG71),'A1'!AF71),'A1'!AE71),'A1'!AD71))","v":""}]
[null,null,null,null,null,null,{"$f":"'A1'!I72","v":""},{"$f":"IF('A1'!J72=\"\",\"\",'A1'!J72)","v":""},{"$f":"IF('A1'!K72=\"\",\"\",'A1'!K72)","v":""},{"$f":"IF('A1'!L72=\"\",\"\",'A1'!L72)","v":""},{"$f":"IF(AND(A58:F58=\"\"),\"\",IF('A1'!AD72=\"\",IF('A1'!AE72=\"\",IF('A1'!AF72=\"\",IF('A1'!AG72=\"\",IF('A1'!AH72=\"\",IF('A1'!AI72=\"\",\"\",'A1'!AI72),'A1'!AH72),'A1'!AG72),'A1'!AF72),'A1'!AE72),'A1'!AD72))","v":""}]
[null,null,null,null,null,null,{"$f":"'A1'!I73","v":""},{"$f":"IF('A1'!J73=\"\",\"\",'A1'!J73)","v":""},{"$f":"IF('A1'!K73=\"\",\"\",'A1'!K73)","v":""},{"$f":"IF('A1'!L73=\"\",\"\",'A1'!L73)","v":""},{"$f":"IF(AND(A59:F59=\"\"),\"\",IF('A1'!AD73=\"\",IF('A1'!AE73=\"\",IF('A1'!AF73=\"\",IF('A1'!AG73=\"\",IF('A1'!AH73=\"\",IF('A1'!AI73=\"\",\"\",'A1'!AI73),'A1'!AH73),'A1'!AG73),'A1'!AF73),'A1'!AE73),'A1'!AD73))","v":""}]
[null,null,null,null,null,null,{"$f":"'A1'!I74","v":""},{"$f":"IF('A1'!J74=\"\",\"\",'A1'!J74)","v":""},{"$f":"IF('A1'!K74=\"\",\"\",'A1'!K74)","v":""},{"$f":"IF('A1'!L74=\"\",\"\",'A1'!L74)","v":""},{"$f":"IF(AND(A60:F60=\"\"),\"\",IF('A1'!AD74=\"\",IF('A1'!AE74=\"\",IF('A1'!AF74=\"\",IF('A1'!AG74=\"\",IF('A1'!AH74=\"\",IF('A1'!AI74=\"\",\"\",'A1'!AI74),'A1'!AH74),'A1'!AG74),'A1'!AF74),'A1'!AE74),'A1'!AD74))","v":""}]
[null,null,null,null,null,null,{"$f":"'A1'!I75","v":""},{"$f":"IF('A1'!J75=\"\",\"\",'A1'!J75)","v":""},{"$f":"IF('A1'!K75=\"\",\"\",'A1'!K75)","v":""},{"$f":"IF('A1'!L75=\"\",\"\",'A1'!L75)","v":""},{"$f":"IF(AND(A61:F61=\"\"),\"\",IF('A1'!AD75=\"\",IF('A1'!AE75=\"\",IF('A1'!AF75=\"\",IF('A1'!AG75=\"\",IF('A1'!AH75=\"\",IF('A1'!AI75=\"\",\"\",'A1'!AI75),'A1'!AH75),'A1'!AG75),'A1'!AF75),'A1'!AE75),'A1'!AD75))","v":""}]
[null,null,null,null,null,null,{"$f":"'A1'!I76","v":""},{"$f":"IF('A1'!J76=\"\",\"\",'A1'!J76)","v":""},{"$f":"IF('A1'!K76=\"\",\"\",'A1'!K76)","v":""},{"$f":"IF('A1'!L76=\"\",\"\",'A1'!L76)","v":""},{"$f":"IF(AND(A62:F62=\"\"),\"\",IF('A1'!AD76=\"\",IF('A1'!AE76=\"\",IF('A1'!AF76=\"\",IF('A1'!AG76=\"\",IF('A1'!AH76=\"\",IF('A1'!AI76=\"\",\"\",'A1'!AI76),'A1'!AH76),'A1'!AG76),'A1'!AF76),'A1'!AE76),'A1'!AD76))","v":""}]
[null,null,null,null,null,null,{"$f":"'A1'!I77","v":""},{"$f":"IF('A1'!J77=\"\",\"\",'A1'!J77)","v":""},{"$f":"IF('A1'!K77=\"\",\"\",'A1'!K77)","v":""},{"$f":"IF('A1'!L77=\"\",\"\",'A1'!L77)","v":""},{"$f":"IF(AND(A63:F63=\"\"),\"\",IF('A1'!AD77=\"\",IF('A1'!AE77=\"\",IF('A1'!AF77=\"\",IF('A1'!AG77=\"\",IF('A1'!AH77=\"\",IF('A1'!AI77=\"\",\"\",'A1'!AI77),'A1'!AH77),'A1'!AG77),'A1'!AF77),'A1'!AE77),'A1'!AD77))","v":""}]
[null,null,null,null,null,null,{"$f":"'A1'!I78","v":""},{"$f":"IF('A1'!J78=\"\",\"\",'A1'!J78)","v":""},{"$f":"IF('A1'!K78=\"\",\"\",'A1'!K78)","v":""},{"$f":"IF('A1'!L78=\"\",\"\",'A1'!L78)","v":""},{"$f":"IF(AND(A64:F64=\"\"),\"\",IF('A1'!AD78=\"\",IF('A1'!AE78=\"\",IF('A1'!AF78=\"\",IF('A1'!AG78=\"\",IF('A1'!AH78=\"\",IF('A1'!AI78=\"\",\"\",'A1'!AI78),'A1'!AH78),'A1'!AG78),'A1'!AF78),'A1'!AE78),'A1'!AD78))","v":""}]
[null,null,null,null,null,null,{"$f":"'A1'!I79","v":""},{"$f":"IF('A1'!J79=\"\",\"\",'A1'!J79)","v":""},{"$f":"IF('A1'!K79=\"\",\"\",'A1'!K79)","v":""},{"$f":"IF('A1'!L79=\"\",\"\",'A1'!L79)","v":""},{"$f":"IF(AND(A65:F65=\"\"),\"\",IF('A1'!AD79=\"\",IF('A1'!AE79=\"\",IF('A1'!AF79=\"\",IF('A1'!AG79=\"\",IF('A1'!AH79=\"\",IF('A1'!AI79=\"\",\"\",'A1'!AI79),'A1'!AH79),'A1'!AG79),'A1'!AF79),'A1'!AE79),'A1'!AD79))","v":""}]

{"sheet":"PT","index":2,"n_rows":203,"n_cols":23,"rows_kept":203,"cut":false,"hidden":false,"merged":[[10,14,10,16]]}
["Problem Table & Cascade"]
[]
["Shift Temperature","Interval","T(i+1)-Ti","mCpnet","dH",null,null,null,"Infeasible Cascade",null,null,"Feasible Cascade"]
[{"$f":"'A1'!T3","v":"°C"},null,{"$f":"'A1'!T3","v":"°C"},{"$f":"'A1'!T4","v":"kW/K"},{"$f":"'A1'!T5","v":"kW"},null,null,null,null,null,null,null,null,null,"Hot Pinch",{"$f":"INPUT!F6/2+INDEX($A$5:$M$105,MATCH(\"PINCH\",$H$5:$H$105,0),1)","v":115},{"$f":"'A1'!T3","v":"°C"}]
[{"$f":"IF(B6=\"\",\"\",(LARGE('A1'!$K$30:$L$79,B6)))","v":260},null,null,null,null,null,null,{"$f":"IF(J5:J203=\"\",\"\",IF(MIN(J5:J203)=J5:J203,\"PINCH\",\"\"))","v":""},{"$f":"IF(A5=\"\",\"\",\"▼\")","v":"▼"},{"$f":"IF(A5=\"\",\"\",0)","v":0},null,"▼",{"$f":"ABS(INDEX($A$5:$M$85,MATCH(\"PINCH\",$H$5:$H$85,0),10))","v":280},null,"Cold Pinch",{"$f":"-INPUT!F6/2+INDEX($A$5:$M$105,MATCH(\"PINCH\",$H$5:$H$105,0),1)","v":105},{"$f":"'A1'!T3","v":"°C"}]
[{"$f":"IF(B7=\"\",\"\",(LARGE('A1'!$K$30:$L$79,B7)))","v":""},{"$f":"IF((SUM(IF(FREQUENCY('A1'!$K$30:$L$79,'A1'!$K$30:$L$79)>0,1)))>1,1,\"\")","v":1},{"$f":"IF((B6:B202)=\"\",\"\",(A5:A201)-(A7:A203))","v":30},{"$f":"IF(C6=\"\",\"\",SUM(IF('A1'!J$30:J$79=\"HOT\",IF('A1'!K$30:K$79>=A5,IF('A1'!L$30:L$79<=A7,1*'A1'!H$30:H$79,0),0),0),IF('A1'!J$30:J$79=\"COLD\",IF('A1'!K$30:K$79<=A7,IF('A1'!L$30:L$79>=A5,-1*'A1'!H$30:H$79,0),0),0)))","v":-2},{"$f":"IF(D6=\"\",\"\",D6*C6)","v":-60},{"$f":"IF(E6=\"\",\"\",IF(E6<1,\"demand\",\"surplus\"))","v":"demand"},null,"",{"$f":"E6","v":-60},{"$f":"IF(A6=\"\",\"\",J$5+SUM(I5:I$6))","v":""},null,{"$f":"E6","v":-60},{"$f":"IF(A6=\"\",\"\",IF(L6=\"▼\",((M$5)+(SUM(L5:L$6))),(-(M$5+SUM(L5:L$6)))))","v":""}]
[{"$f":"IF(B6=\"\",\"\",(LARGE('A1'!$K$30:$L$79,(1+SUM(COUNTIF('A1'!$K$30:$L$79,A$5:A6))-(B6*COUNTIF('A1'!$K$30:$L$79,A$6))))))","v":230},{"$f":"IF(B5=\"\",\"\",IF((SUM(IF(FREQUENCY('A1'!$K$30:$L$79,'A1'!$K$30:$L$79)>0,1)))>(B5+1),(B5+1),\"\"))","v":""},"",{"$f":"IF(C7=\"\",\"\",SUM(IF('A1'!J$30:J$79=\"HOT\",IF('A1'!K$30:K$79>=A6,IF('A1'!L$30:L$79<=A8,1*'A1'!H$30:H$79,0),0),0),IF('A1'!J$30:J$79=\"COLD\",IF('A1'!K$30:K$79<=A8,IF('A1'!L$30:L$79>=A6,-1*'A1'!H$30:H$79,0),0),0)))","v":""},"",{"$f":"IF(E7=\"\",\"\",IF(E7<1,\"demand\",\"surplus\"))","v":""},null,"",{"$f":"IF(A7=\"\",\"\",\"▼\")","v":"▼"},{"$f":"IF(A7=\"\",\"\",J$5+SUM(I6:I$6))","v":-60},null,{"$f":"IF(L6=\"\",\"\",IF((M$5+SUM(L$6:L6))>=0,\"▼\",\"▲\"))","v":"▼"},{"$f":"IF(A7=\"\",\"\",IF(L7=\"▼\",((M$5)+(SUM(L6:L$6))),(-(M$5+SUM(L6:L$6)))))","v":220},null,"Min Hot Utility",{"$f":"M5","v":280},{"$f":"'A1'!T5","v":"kW"}]
[{"$f":"IF(B7=\"\",\"\",(LARGE('A1'!$K$30:$L$79,(1+SUM(COUNTIF('A1'!$K$30:$L$79,A$5:A7))-(B7*COUNTIF('A1'!$K$30:$L$79,A$6))))))","v":""},{"$f":"IF(B6=\"\",\"\",IF((SUM(IF(FREQUENCY('A1'!$K$30:$L$79,'A1'!$K$30:$L$79)>0,1)))>(B6+1),(B6+1),\"\"))","v":2},20,{"$f":"IF(C8=\"\",\"\",SUM(IF('A1'!J$30:J$79=\"HOT\",IF('A1'!K$30:K$79>=A7,IF('A1'!L$30:L$79<=A9,1*'A1'!H$30:H$79,0),0),0),IF('A1'!J$30:J$79=\"COLD\",IF('A1'!K$30:K$79<=A9,IF('A1'!L$30:L$79>=A7,-1*'A1'!H$30:H$79,0),0),0)))","v":-0.5},-10,"demand",null,"",{"$f":"E8","v":-10},{"$f":"IF(A8=\"\",\"\",J$5+SUM(I$6:I7))","v":""},null,{"$f":"E8","v":-10},{"$f":"IF(A8=\"\",\"\",IF(L8=\"▼\",((M$5)+(SUM(L$6:L7))),(-(M$5+SUM(L$6:L7)))))","v":""},null,"Min Cold Utility",{"$f":"((M$5)+(SUM(L$6:L105)))","v":160},{"$f":"'A1'!T5","v":"kW"}]
[{"$f":"IF(B8=\"\",\"\",(LARGE('A1'!$K$30:$L$79,(1+SUM(COUNTIF('A1'!$K$30:$L$79,A$5:A8))-(B8*COUNTIF('A1'!$K$30:$L$79,A$6))))))","v":210},{"$f":"IF(B7=\"\",\"\",IF((SUM(IF(FREQUENCY('A1'!$K$30:$L$79,'A1'!$K$30:$L$79)>0,1)))>(B7+1),(B7+1),\"\"))","v":""},"",{"$f":"IF(C9=\"\",\"\",SUM(IF('A1'!J$30:J$79=\"HOT\",IF('A1'!K$30:K$79>=A8,IF('A1'!L$30:L$79<=A10,1*'A1'!H$30:H$79,0),0),0),IF('A1'!J$30:J$79=\"COLD\",IF('A1'!K$30:K$79<=A10,IF('A1'!L$30:L$79>=A8,-1*'A1'!H$30:H$79,0),0),0)))","v":""},"","",null,"",{"$f":"IF(A9=\"\",\"\",\"▼\")","v":"▼"},{"$f":"IF(A9=\"\",\"\",J$5+SUM(I$6:I8))","v":-70},null,{"$f":"IF(L8=\"\",\"\",IF((M$5+SUM(L$6:L8))>=0,\"▼\",\"▲\"))","v":"▼"},{"$f":"IF(A9=\"\",\"\",IF(L9=\"▼\",((M$5)+(SUM(L$6:L8))),(-(M$5+SUM(L$6:L8)))))","v":210}]
[{"$f":"IF(B9=\"\",\"\",(LARGE('A1'!$K$30:$L$79,(1+SUM(COUNTIF('A1'!$K$30:$L$79,A$5:A9))-(B9*COUNTIF('A1'!$K$30:$L$79,A$6))))))","v":""},{"$f":"IF(B8=\"\",\"\",IF((SUM(IF(FREQUENCY('A1'!$K$30:$L$79,'A1'!$K$30:$L$79)>0,1)))>(B8+1),(B8+1),\"\"))","v":3},20,{"$f":"IF(C10=\"\",\"\",SUM(IF('A1'!J$30:J$79=\"HOT\",IF('A1'!K$30:K$79>=A9,IF('A1'!L$30:L$79<=A11,1*'A1'!H$30:H$79,0),0),0),IF('A1'!J$30:J$79=\"COLD\",IF('A1'!K$30:K$79<=A11,IF('A1'!L$30:L$79>=A9,-1*'A1'!H$30:H$79,0),0),0)))","v":-4.5},-90,"demand",null,"",{"$f":"E10","v":-90},{"$f":"IF(A10=\"\",\"\",J$5+SUM(I$6:I9))","v":""},null,{"$f":"E10","v":-90},{"$f":"IF(A10=\"\",\"\",IF(L10=\"▼\",((M$5)+(SUM(L$6:L9))),(-(M$5+SUM(L$6:L9)))))","v":""},null,{"$f":"IF(COUNTIF(H5:H105,\"PINCH\")=1,\"SINGLE PINCH PROBLEM\",IF(COUNTIF(H5:H105,\"PINCH\")>1,IF(OR(INDEX($A$5:$M$105,MATCH(\"PINCH\",$H$5:$H$105,0)+2,8)=\"PINCH\",INDEX($A$5:$M$105,MATCH(\"PINCH\",$H$5:$H$105,0)-2,8)=\"PINCH\"),\"PINCH REGION PROBLEM\",\"MULTIPLE PINCH PROBLEM\"),\"\"))","v":"SINGLE PINCH PROBLEM"}]
[{"$f":"IF(B10=\"\",\"\",(LARGE('A1'!$K$30:$L$79,(1+SUM(COUNTIF('A1'!$K$30:$L$79,A$5:A10))-(B10*COUNTIF('A1'!$K$30:$L$79,A$6))))))","v":190},{"$f":"IF(B9=\"\",\"\",IF((SUM(IF(FREQUENCY('A1'!$K$30:$L$79,'A1'!$K$30:$L$79)>0,1)))>(B9+1),(B9+1),\"\"))","v":""},"",{"$f":"IF(C11=\"\",\"\",SUM(IF('A1'!J$30:J$79=\"HOT\",IF('A1'!K$30:K$79>=A10,IF('A1'!L$30:L$79<=A12,1*'A1'!H$30:H$79,0),0),0),IF('A1'!J$30:J$79=\"COLD\",IF('A1'!K$30:K$79<=A12,IF('A1'!L$30:L$79>=A10,-1*'A1'!H$30:H$79,0),0),0)))","v":""},"","",null,"",{"$f":"IF(A11=\"\",\"\",\"▼\")","v":"▼"},{"$f":"IF(A11=\"\",\"\",J$5+SUM(I$6:I10))","v":-160},null,{"$f":"IF(L10=\"\",\"\",IF((M$5+SUM(L$6:L10))>=0,\"▼\",\"▲\"))","v":"▼"},{"$f":"IF(A11=\"\",\"\",IF(L11=\"▼\",((M$5)+(SUM(L$6:L10))),(-(M$5+SUM(L$6:L10)))))","v":120},null,null,null,null,null,null,null,null,null,{"$f":"IF(AND(U10=\"p\",U12=\"p\"),1,0)","v":0}]
[{"$f":"IF(B11=\"\",\"\",(LARGE('A1'!$K$30:$L$79,(1+SUM(COUNTIF('A1'!$K$30:$L$79,A$5:A11))-(B11*COUNTIF('A1'!$K$30:$L$79,A$6))))))","v":""},{"$f":"IF(B10=\"\",\"\",IF((SUM(IF(FREQUENCY('A1'!$K$30:$L$79,'A1'!$K$30:$L$79)>0,1)))>(B10+1),(B10+1),\"\"))","v":4},80,{"$f":"IF(C12=\"\",\"\",SUM(IF('A1'!J$30:J$79=\"HOT\",IF('A1'!K$30:K$79>=A11,IF('A1'!L$30:L$79<=A13,1*'A1'!H$30:H$79,0),0),0),IF('A1'!J$30:J$79=\"COLD\",IF('A1'!K$30:K$79<=A13,IF('A1'!L$30:L$79>=A11,-1*'A1'!H$30:H$79,0),0),0)))","v":-1.5},-120,"demand",null,"",{"$f":"E12","v":-120},{"$f":"IF(A12=\"\",\"\",J$5+SUM(I$6:I11))","v":""},null,{"$f":"E12","v":-120},{"$f":"IF(A12=\"\",\"\",IF(L12=\"▼\",((M$5)+(SUM(L$6:L11))),(-(M$5+SUM(L$6:L11)))))","v":""},null,{"$f":"IF(OR(P7<=0,P8<=0),\"THRESHOLD PROBLEM\",\"\")","v":""}]
[{"$f":"IF(B12=\"\",\"\",(LARGE('A1'!$K$30:$L$79,(1+SUM(COUNTIF('A1'!$K$30:$L$79,A$5:A12))-(B12*COUNTIF('A1'!$K$30:$L$79,A$6))))))","v":110},{"$f":"IF(B11=\"\",\"\",IF((SUM(IF(FREQUENCY('A1'!$K$30:$L$79,'A1'!$K$30:$L$79)>0,1)))>(B11+1),(B11+1),\"\"))","v":""},"",{"$f":"IF(C13=\"\",\"\",SUM(IF('A1'!J$30:J$79=\"HOT\",IF('A1'!K$30:K$79>=A12,IF('A1'!L$30:L$79<=A14,1*'A1'!H$30:H$79,0),0),0),IF('A1'!J$30:J$79=\"COLD\",IF('A1'!K$30:K$79<=A14,IF('A1'!L$30:L$79>=A12,-1*'A1'!H$30:H$79,0),0),0)))","v":""},"","",null,"PINCH",{"$f":"IF(A13=\"\",\"\",\"▼\")","v":"▼"},{"$f":"IF(A13=\"\",\"\",J$5+SUM(I$6:I12))","v":-280},null,{"$f":"IF(L12=\"\",\"\",IF((M$5+SUM(L$6:L12))>=0,\"▼\",\"▲\"))","v":"▼"},{"$f":"IF(A13=\"\",\"\",IF(L13=\"▼\",((M$5)+(SUM(L$6:L12))),(-(M$5+SUM(L$6:L12)))))","v":0}]
[{"$f":"IF(B13=\"\",\"\",(LARGE('A1'!$K$30:$L$79,(1+SUM(COUNTIF('A1'!$K$30:$L$79,A$5:A13))-(B13*COUNTIF('A1'!$K$30:$L$79,A$6))))))","v":""},{"$f":"IF(B12=\"\",\"\",IF((SUM(IF(FREQUENCY('A1'!$K$30:$L$79,'A1'!$K$30:$L$79)>0,1)))>(B12+1),(B12+1),\"\"))","v":5},1,{"$f":"IF(C14=\"\",\"\",SUM(IF('A1'!J$30:J$79=\"HOT\",IF('A1'!K$30:K$79>=A13,IF('A1'!L$30:L$79<=A15,1*'A1'!H$30:H$79,0),0),0),IF('A1'!J$30:J$79=\"COLD\",IF('A1'!K$30:K$79<=A15,IF('A1'!L$30:L$79>=A13,-1*'A1'!H$30:H$79,0),0),0)))","v":298.5},298.5,"surplus",null,"",{"$f":"E14","v":298.5},{"$f":"IF(A14=\"\",\"\",J$5+SUM(I$6:I13))","v":""},null,{"$f":"E14","v":298.5},{"$f":"IF(A14=\"\",\"\",IF(L14=\"▼\",((M$5)+(SUM(L$6:L13))),(-(M$5+SUM(L$6:L13)))))","v":""}]
[{"$f":"IF(B14=\"\",\"\",(LARGE('A1'!$K$30:$L$79,(1+SUM(COUNTIF('A1'!$K$30:$L$79,A$5:A14))-(B14*COUNTIF('A1'!$K$30:$L$79,A$6))))))","v":109},{"$f":"IF(B13=\"\",\"\",IF((SUM(IF(FREQUENCY('A1'!$K$30:$L$79,'A1'!$K$30:$L$79)>0,1)))>(B13+1),(B13+1),\"\"))","v":""},"",{"$f":"IF(C15=\"\",\"\",SUM(IF('A1'!J$30:J$79=\"HOT\",IF('A1'!K$30:K$79>=A14,IF('A1'!L$30:L$79<=A16,1*'A1'!H$30:H$79,0),0),0),IF('A1'!J$30:J$79=\"COLD\",IF('A1'!K$30:K$79<=A16,IF('A1'!L$30:L$79>=A14,-1*'A1'!H$30:H$79,0),0),0)))","v":""},{"$f":"IF(D15=\"\",\"\",D15*C15)","v":""},"",null,"",{"$f":"IF(A15=\"\",\"\",\"▼\")","v":"▼"},{"$f":"IF(A15=\"\",\"\",J$5+SUM(I$6:I14))","v":18.5},null,{"$f":"IF(L14=\"\",\"\",IF((M$5+SUM(L$6:L14))>=0,\"▼\",\"▲\"))","v":"▼"},{"$f":"IF(A15=\"\",\"\",IF(L15=\"▼\",((M$5)+(SUM(L$6:L14))),(-(M$5+SUM(L$6:L14)))))","v":298.5}]
[{"$f":"IF(B15=\"\",\"\",(LARGE('A1'!$K$30:$L$79,(1+SUM(COUNTIF('A1'!$K$30:$L$79,A$5:A15))-(B15*COUNTIF('A1'!$K$30:$L$79,A$6))))))","v":""},{"$f":"IF(B14=\"\",\"\",IF((SUM(IF(FREQUENCY('A1'!$K$30:$L$79,'A1'!$K$30:$L$79)>0,1)))>(B14+1),(B14+1),\"\"))","v":6},19,{"$f":"IF(C16=\"\",\"\",SUM(IF('A1'!J$30:J$79=\"HOT\",IF('A1'!K$30:K$79>=A15,IF('A1'!L$30:L$79<=A17,1*'A1'!H$30:H$79,0),0),0),IF('A1'!J$30:J$79=\"COLD\",IF('A1'!K$30:K$79<=A17,IF('A1'!L$30:L$79>=A15,-1*'A1'!H$30:H$79,0),0),0)))","v":-1.5},-28.5,"demand",null,"",{"$f":"E16","v":-28.5},{"$f":"IF(A16=\"\",\"\",J$5+SUM(I$6:I15))","v":""},null,{"$f":"E16","v":-28.5},{"$f":"IF(A16=\"\",\"\",IF(L16=\"▼\",((M$5)+(SUM(L$6:L15))),(-(M$5+SUM(L$6:L15)))))","v":""}]
[{"$f":"IF(B16=\"\",\"\",(LARGE('A1'!$K$30:$L$79,(1+SUM(COUNTIF('A1'!$K$30:$L$79,A$5:A16))-(B16*COUNTIF('A1'!$K$30:$L$79,A$6))))))","v":90},{"$f":"IF(B15=\"\",\"\",IF((SUM(IF(FREQUENCY('A1'!$K$30:$L$79,'A1'!$K$30:$L$79)>0,1)))>(B15+1),(B15+1),\"\"))","v":""},"",{"$f":"IF(C17=\"\",\"\",SUM(IF('A1'!J$30:J$79=\"HOT\",IF('A1'!K$30:K$79>=A16,IF('A1'!L$30:L$79<=A18,1*'A1'!H$30:H$79,0),0),0),IF('A1'!J$30:J$79=\"COLD\",IF('A1'!K$30:K$79<=A18,IF('A1'!L$30:L$79>=A16,-1*'A1'!H$30:H$79,0),0),0)))","v":""},"","",null,"",{"$f":"IF(A17=\"\",\"\",\"▼\")","v":"▼"},{"$f":"IF(A17=\"\",\"\",J$5+SUM(I$6:I16))","v":-10},null,{"$f":"IF(L16=\"\",\"\",IF((M$5+SUM(L$6:L16))>=0,\"▼\",\"▲\"))","v":"▼"},{"$f":"IF(A17=\"\",\"\",IF(L17=\"▼\",((M$5)+(SUM(L$6:L16))),(-(M$5+SUM(L$6:L16)))))","v":270}]
[{"$f":"IF(B17=\"\",\"\",(LARGE('A1'!$K$30:$L$79,(1+SUM(COUNTIF('A1'!$K$30:$L$79,A$5:A17))-(B17*COUNTIF('A1'!$K$30:$L$79,A$6))))))","v":""},{"$f":"IF(B16=\"\",\"\",IF((SUM(IF(FREQUENCY('A1'!$K$30:$L$79,'A1'!$K$30:$L$79)>0,1)))>(B16+1),(B16+1),\"\"))","v":7},30,{"$f":"IF(C18=\"\",\"\",SUM(IF('A1'!J$30:J$79=\"HOT\",IF('A1'!K$30:K$79>=A17,IF('A1'!L$30:L$79<=A19,1*'A1'!H$30:H$79,0),0),0),IF('A1'!J$30:J$79=\"COLD\",IF('A1'!K$30:K$79<=A19,IF('A1'!L$30:L$79>=A17,-1*'A1'!H$30:H$79,0),0),0)))","v":-3},-90,"demand",null,"",{"$f":"E18","v":-90},{"$f":"IF(A18=\"\",\"\",J$5+SUM(I$6:I17))","v":""},null,{"$f":"E18","v":-90},{"$f":"IF(A18=\"\",\"\",IF(L18=\"▼\",((M$5)+(SUM(L$6:L17))),(-(M$5+SUM(L$6:L17)))))","v":""}]
[{"$f":"IF(B18=\"\",\"\",(LARGE('A1'!$K$30:$L$79,(1+SUM(COUNTIF('A1'!$K$30:$L$79,A$5:A18))-(B18*COUNTIF('A1'!$K$30:$L$79,A$6))))))","v":60},{"$f":"IF(B17=\"\",\"\",IF((SUM(IF(FREQUENCY('A1'!$K$30:$L$79,'A1'!$K$30:$L$79)>0,1)))>(B17+1),(B17+1),\"\"))","v":""},"",{"$f":"IF(C19=\"\",\"\",SUM(IF('A1'!J$30:J$79=\"HOT\",IF('A1'!K$30:K$79>=A18,IF('A1'!L$30:L$79<=A20,1*'A1'!H$30:H$79,0),0),0),IF('A1'!J$30:J$79=\"COLD\",IF('A1'!K$30:K$79<=A20,IF('A1'!L$30:L$79>=A18,-1*'A1'!H$30:H$79,0),0),0)))","v":""},"","",null,"",{"$f":"IF(A19=\"\",\"\",\"▼\")","v":"▼"},{"$f":"IF(A19=\"\",\"\",J$5+SUM(I$6:I18))","v":-100},null,{"$f":"IF(L18=\"\",\"\",IF((M$5+SUM(L$6:L18))>=0,\"▼\",\"▲\"))","v":"▼"},{"$f":"IF(A19=\"\",\"\",IF(L19=\"▼\",((M$5)+(SUM(L$6:L18))),(-(M$5+SUM(L$6:L18)))))","v":180}]
[{"$f":"IF(B19=\"\",\"\",(LARGE('A1'!$K$30:$L$79,(1+SUM(COUNTIF('A1'!$K$30:$L$79,A$5:A19))-(B19*COUNTIF('A1'!$K$30:$L$79,A$6))))))","v":""},{"$f":"IF(B18=\"\",\"\",IF((SUM(IF(FREQUENCY('A1'!$K$30:$L$79,'A1'!$K$30:$L$79)>0,1)))>(B18+1),(B18+1),\"\"))","v":8},20,{"$f":"IF(C20=\"\",\"\",SUM(IF('A1'!J$30:J$79=\"HOT\",IF('A1'!K$30:K$79>=A19,IF('A1'!L$30:L$79<=A21,1*'A1'!H$30:H$79,0),0),0),IF('A1'!J$30:J$79=\"COLD\",IF('A1'!K$30:K$79<=A21,IF('A1'!L$30:L$79>=A19,-1*'A1'!H$30:H$79,0),0),0)))","v":-1},-20,"demand",null,"",{"$f":"E20","v":-20},{"$f":"IF(A20=\"\",\"\",J$5+SUM(I$6:I19))","v":""},null,{"$f":"E20","v":-20},{"$f":"IF(A20=\"\",\"\",IF(L20=\"▼\",((M$5)+(SUM(L$6:L19))),(-(M$5+SUM(L$6:L19)))))","v":""}]
[{"$f":"IF(B20=\"\",\"\",(LARGE('A1'!$K$30:$L$79,(1+SUM(COUNTIF('A1'!$K$30:$L$79,A$5:A20))-(B20*COUNTIF('A1'!$K$30:$L$79,A$6))))))","v":40},{"$f":"IF(B19=\"\",\"\",IF((SUM(IF(FREQUENCY('A1'!$K$30:$L$79,'A1'!$K$30:$L$79)>0,1)))>(B19+1),(B19+1),\"\"))","v":""},"",{"$f":"IF(C21=\"\",\"\",SUM(IF('A1'!J$30:J$79=\"HOT\",IF('A1'!K$30:K$79>=A20,IF('A1'!L$30:L$79<=A22,1*'A1'!H$30:H$79,0),0),0),IF('A1'!J$30:J$79=\"COLD\",IF('A1'!K$30:K$79<=A22,IF('A1'!L$30:L$79>=A20,-1*'A1'!H$30:H$79,0),0),0)))","v":""},"","",null,"",{"$f":"IF(A21=\"\",\"\",\"▼\")","v":"▼"},{"$f":"IF(A21=\"\",\"\",J$5+SUM(I$6:I20))","v":-120},null,{"$f":"IF(L20=\"\",\"\",IF((M$5+SUM(L$6:L20))>=0,\"▼\",\"▲\"))","v":"▼"},{"$f":"IF(A21=\"\",\"\",IF(L21=\"▼\",((M$5)+(SUM(L$6:L20))),(-(M$5+SUM(L$6:L20)))))","v":160}]
[{"$f":"IF(B21=\"\",\"\",(LARGE('A1'!$K$30:$L$79,(1+SUM(COUNTIF('A1'!$K$30:$L$79,A$5:A21))-(B21*COUNTIF('A1'!$K$30:$L$79,A$6))))))","v":""},{"$f":"IF(B20=\"\",\"\",IF((SUM(IF(FREQUENCY('A1'!$K$30:$L$79,'A1'!$K$30:$L$79)>0,1)))>(B20+1),(B20+1),\"\"))","v":""},"",{"$f":"IF(C22=\"\",\"\",SUM(IF('A1'!J$30:J$79=\"HOT\",IF('A1'!K$30:K$79>=A21,IF('A1'!L$30:L$79<=A23,1*'A1'!H$30:H$79,0),0),0),IF('A1'!J$30:J$79=\"COLD\",IF('A1'!K$30:K$79<=A23,IF('A1'!L$30:L$79>=A21,-1*'A1'!H$30:H$79,0),0),0)))","v":""},"","",null,"",{"$f":"E22","v":""},{"$f":"IF(A22=\"\",\"\",J$5+SUM(I$6:I21))","v":""},null,{"$f":"E22","v":""},{"$f":"IF(A22=\"\",\"\",IF(L22=\"▼\",((M$5)+(SUM(L$6:L21))),(-(M$5+SUM(L$6:L21)))))","v":""}]
[{"$f":"IF(B22=\"\",\"\",(LARGE('A1'!$K$30:$L$79,(1+SUM(COUNTIF('A1'!$K$30:$L$79,A$5:A22))-(B22*COUNTIF('A1'!$K$30:$L$79,A$6))))))","v":""},{"$f":"IF(B21=\"\",\"\",IF((SUM(IF(FREQUENCY('A1'!$K$30:$L$79,'A1'!$K$30:$L$79)>0,1)))>(B21+1),(B21+1),\"\"))","v":""},"",{"$f":"IF(C23=\"\",\"\",SUM(IF('A1'!J$30:J$79=\"HOT\",IF('A1'!K$30:K$79>=A22,IF('A1'!L$30:L$79<=A24,1*'A1'!H$30:H$79,0),0),0),IF('A1'!J$30:J$79=\"COLD\",IF('A1'!K$30:K$79<=A24,IF('A1'!L$30:L$79>=A22,-1*'A1'!H$30:H$79,0),0),0)))","v":""},"","",null,"",{"$f":"IF(A23=\"\",\"\",\"▼\")","v":""},{"$f":"IF(A23=\"\",\"\",J$5+SUM(I$6:I22))","v":""},null,{"$f":"IF(L22=\"\",\"\",IF((M$5+SUM(L$6:L22))>=0,\"▼\",\"▲\"))","v":""},{"$f":"IF(A23=\"\",\"\",IF(L23=\"▼\",((M$5)+(SUM(L$6:L22))),(-(M$5+SUM(L$6:L22)))))","v":""}]
[{"$f":"IF(B23=\"\",\"\",(LARGE('A1'!$K$30:$L$79,(1+SUM(COUNTIF('A1'!$K$30:$L$79,A$5:A23))-(B23*COUNTIF('A1'!$K$30:$L$79,A$6))))))","v":""},{"$f":"IF(B22=\"\",\"\",IF((SUM(IF(FREQUENCY('A1'!$K$30:$L$79,'A1'!$K$30:$L$79)>0,1)))>(B22+1),(B22+1),\"\"))","v":""},"",{"$f":"IF(C24=\"\",\"\",SUM(IF('A1'!J$30:J$79=\"HOT\",IF('A1'!K$30:K$79>=A23,IF('A1'!L$30:L$79<=A25,1*'A1'!H$30:H$79,0),0),0),IF('A1'!J$30:J$79=\"COLD\",IF('A1'!K$30:K$79<=A25,IF('A1'!L$30:L$79>=A23,-1*'A1'!H$30:H$79,0),0),0)))","v":""},"","",null,"",{"$f":"E24","v":""},{"$f":"IF(A24=\"\",\"\",J$5+SUM(I$6:I23))","v":""},null,{"$f":"E24","v":""},{"$f":"IF(A24=\"\",\"\",IF(L24=\"▼\",((M$5)+(SUM(L$6:L23))),(-(M$5+SUM(L$6:L23)))))","v":""}]
[{"$f":"IF(B24=\"\",\"\",(LARGE('A1'!$K$30:$L$79,(1+SUM(COUNTIF('A1'!$K$30:$L$79,A$5:A24))-(B24*COUNTIF('A1'!$K$30:$L$79,A$6))))))","v":""},{"$f":"IF(B23=\"\",\"\",IF((SUM(IF(FREQUENCY('A1'!$K$30:$L$79,'A1'!$K$30:$L$79)>0,1)))>(B23+1),(B23+1),\"\"))","v":""},"",{"$f":"IF(C25=\"\",\"\",SUM(IF('A1'!J$30:J$79=\"HOT\",IF('A1'!K$30:K$79>=A24,IF('A1'!L$30:L$79<=A26,1*'A1'!H$30:H$79,0),0),0),IF('A1'!J$30:J$79=\"COLD\",IF('A1'!K$30:K$79<=A26,IF('A1'!L$30:L$79>=A24,-1*'A1'!H$30:H$79,0),0),0)))","v":""},"","",null,"",{"$f":"IF(A25=\"\",\"\",\"▼\")","v":""},{"$f":"IF(A25=\"\",\"\",J$5+SUM(I$6:I24))","v":""},null,{"$f":"IF(L24=\"\",\"\",IF((M$5+SUM(L$6:L24))>=0,\"▼\",\"▲\"))","v":""},{"$f":"IF(A25=\"\",\"\",IF(L25=\"▼\",((M$5)+(SUM(L$6:L24))),(-(M$5+SUM(L$6:L24)))))","v":""}]
[{"$f":"IF(B25=\"\",\"\",(LARGE('A1'!$K$30:$L$79,(1+SUM(COUNTIF('A1'!$K$30:$L$79,A$5:A25))-(B25*COUNTIF('A1'!$K$30:$L$79,A$6))))))","v":""},{"$f":"IF(B24=\"\",\"\",IF((SUM(IF(FREQUENCY('A1'!$K$30:$L$79,'A1'!$K$30:$L$79)>0,1)))>(B24+1),(B24+1),\"\"))","v":""},"",{"$f":"IF(C26=\"\",\"\",SUM(IF('A1'!J$30:J$79=\"HOT\",IF('A1'!K$30:K$79>=A25,IF('A1'!L$30:L$79<=A27,1*'A1'!H$30:H$79,0),0),0),IF('A1'!J$30:J$79=\"COLD\",IF('A1'!K$30:K$79<=A27,IF('A1'!L$30:L$79>=A25,-1*'A1'!H$30:H$79,0),0),0)))","v":""},"","",null,"",{"$f":"E26","v":""},{"$f":"IF(A26=\"\",\"\",J$5+SUM(I$6:I25))","v":""},null,{"$f":"E26","v":""},{"$f":"IF(A26=\"\",\"\",IF(L26=\"▼\",((M$5)+(SUM(L$6:L25))),(-(M$5+SUM(L$6:L25)))))","v":""}]
[{"$f":"IF(B26=\"\",\"\",(LARGE('A1'!$K$30:$L$79,(1+SUM(COUNTIF('A1'!$K$30:$L$79,A$5:A26))-(B26*COUNTIF('A1'!$K$30:$L$79,A$6))))))","v":""},{"$f":"IF(B25=\"\",\"\",IF((SUM(IF(FREQUENCY('A1'!$K$30:$L$79,'A1'!$K$30:$L$79)>0,1)))>(B25+1),(B25+1),\"\"))","v":""},"",{"$f":"IF(C27=\"\",\"\",SUM(IF('A1'!J$30:J$79=\"HOT\",IF('A1'!K$30:K$79>=A26,IF('A1'!L$30:L$79<=A28,1*'A1'!H$30:H$79,0),0),0),IF('A1'!J$30:J$79=\"COLD\",IF('A1'!K$30:K$79<=A28,IF('A1'!L$30:L$79>=A26,-1*'A1'!H$30:H$79,0),0),0)))","v":""},"","",null,"",{"$f":"IF(A27=\"\",\"\",\"▼\")","v":""},{"$f":"IF(A27=\"\",\"\",J$5+SUM(I$6:I26))","v":""},null,{"$f":"IF(L26=\"\",\"\",IF((M$5+SUM(L$6:L26))>=0,\"▼\",\"▲\"))","v":""},{"$f":"IF(A27=\"\",\"\",IF(L27=\"▼\",((M$5)+(SUM(L$6:L26))),(-(M$5+SUM(L$6:L26)))))","v":""}]
[{"$f":"IF(B27=\"\",\"\",(LARGE('A1'!$K$30:$L$79,(1+SUM(COUNTIF('A1'!$K$30:$L$79,A$5:A27))-(B27*COUNTIF('A1'!$K$30:$L$79,A$6))))))","v":""},{"$f":"IF(B26=\"\",\"\",IF((SUM(IF(FREQUENCY('A1'!$K$30:$L$79,'A1'!$K$30:$L$79)>0,1)))>(B26+1),(B26+1),\"\"))","v":""},"",{"$f":"IF(C28=\"\",\"\",SUM(IF('A1'!J$30:J$79=\"HOT\",IF('A1'!K$30:K$79>=A27,IF('A1'!L$30:L$79<=A29,1*'A1'!H$30:H$79,0),0),0),IF('A1'!J$30:J$79=\"COLD\",IF('A1'!K$30:K$79<=A29,IF('A1'!L$30:L$79>=A27,-1*'A1'!H$30:H$79,0),0),0)))","v":""},"","",null,"",{"$f":"E28","v":""},{"$f":"IF(A28=\"\",\"\",J$5+SUM(I$6:I27))","v":""},null,{"$f":"E28","v":""},{"$f":"IF(A28=\"\",\"\",IF(L28=\"▼\",((M$5)+(SUM(L$6:L27))),(-(M$5+SUM(L$6:L27)))))","v":""}]
[{"$f":"IF(B28=\"\",\"\",(LARGE('A1'!$K$30:$L$79,(1+SUM(COUNTIF('A1'!$K$30:$L$79,A$5:A28))-(B28*COUNTIF('A1'!$K$30:$L$79,A$6))))))","v":""},{"$f":"IF(B27=\"\",\"\",IF((SUM(IF(FREQUENCY('A1'!$K$30:$L$79,'A1'!$K$30:$L$79)>0,1)))>(B27+1),(B27+1),\"\"))","v":""},"",{"$f":"IF(C29=\"\",\"\",SUM(IF('A1'!J$30:J$79=\"HOT\",IF('A1'!K$30:K$79>=A28,IF('A1'!L$30:L$79<=A30,1*'A1'!H$30:H$79,0),0),0),IF('A1'!J$30:J$79=\"COLD\",IF('A1'!K$30:K$79<=A30,IF('A1'!L$30:L$79>=A28,-1*'A1'!H$30:H$79,0),0),0)))","v":""},"","",null,"",{"$f":"IF(A29=\"\",\"\",\"▼\")","v":""},{"$f":"IF(A29=\"\",\"\",J$5+SUM(I$6:I28))","v":""},null,{"$f":"IF(L28=\"\",\"\",IF((M$5+SUM(L$6:L28))>=0,\"▼\",\"▲\"))","v":""},{"$f":"IF(A29=\"\",\"\",IF(L29=\"▼\",((M$5)+(SUM(L$6:L28))),(-(M$5+SUM(L$6:L28)))))","v":""}]
[{"$f":"IF(B29=\"\",\"\",(LARGE('A1'!$K$30:$L$79,(1+SUM(COUNTIF('A1'!$K$30:$L$79,A$5:A29))-(B29*COUNTIF('A1'!$K$30:$L$79,A$6))))))","v":""},{"$f":"IF(B28=\"\",\"\",IF((SUM(IF(FREQUENCY('A1'!$K$30:$L$79,'A1'!$K$30:$L$79)>0,1)))>(B28+1),(B28+1),\"\"))","v":""},"",{"$f":"IF(C30=\"\",\"\",SUM(IF('A1'!J$30:J$79=\"HOT\",IF('A1'!K$30:K$79>=A29,IF('A1'!L$30:L$79<=A31,1*'A1'!H$30:H$79,0),0),0),IF('A1'!J$30:J$79=\"COLD\",IF('A1'!K$30:K$79<=A31,IF('A1'!L$30:L$79>=A29,-1*'A1'!H$30:H$79,0),0),0)))","v":""},"","",null,"",{"$f":"E30","v":""},{"$f":"IF(A30=\"\",\"\",J$5+SUM(I$6:I29))","v":""},null,{"$f":"E30","v":""},{"$f":"IF(A30=\"\",\"\",IF(L30=\"▼\",((M$5)+(SUM(L$6:L29))),(-(M$5+SUM(L$6:L29)))))","v":""}]
[{"$f":"IF(B30=\"\",\"\",(LARGE('A1'!$K$30:$L$79,(1+SUM(COUNTIF('A1'!$K$30:$L$79,A$5:A30))-(B30*COUNTIF('A1'!$K$30:$L$79,A$6))))))","v":""},{"$f":"IF(B29=\"\",\"\",IF((SUM(IF(FREQUENCY('A1'!$K$30:$L$79,'A1'!$K$30:$L$79)>0,1)))>(B29+1),(B29+1),\"\"))","v":""},"",{"$f":"IF(C31=\"\",\"\",SUM(IF('A1'!J$30:J$79=\"HOT\",IF('A1'!K$30:K$79>=A30,IF('A1'!L$30:L$79<=A32,1*'A1'!H$30:H$79,0),0),0),IF('A1'!J$30:J$79=\"COLD\",IF('A1'!K$30:K$79<=A32,IF('A1'!L$30:L$79>=A30,-1*'A1'!H$30:H$79,0),0),0)))","v":""},"","",null,"",{"$f":"IF(A31=\"\",\"\",\"▼\")","v":""},{"$f":"IF(A31=\"\",\"\",J$5+SUM(I$6:I30))","v":""},null,{"$f":"IF(L30=\"\",\"\",IF((M$5+SUM(L$6:L30))>=0,\"▼\",\"▲\"))","v":""},{"$f":"IF(A31=\"\",\"\",IF(L31=\"▼\",((M$5)+(SUM(L$6:L30))),(-(M$5+SUM(L$6:L30)))))","v":""}]
[{"$f":"IF(B31=\"\",\"\",(LARGE('A1'!$K$30:$L$79,(1+SUM(COUNTIF('A1'!$K$30:$L$79,A$5:A31))-(B31*COUNTIF('A1'!$K$30:$L$79,A$6))))))","v":""},{"$f":"IF(B30=\"\",\"\",IF((SUM(IF(FREQUENCY('A1'!$K$30:$L$79,'A1'!$K$30:$L$79)>0,1)))>(B30+1),(B30+1),\"\"))","v":""},"",{"$f":"IF(C32=\"\",\"\",SUM(IF('A1'!J$30:J$79=\"HOT\",IF('A1'!K$30:K$79>=A31,IF('A1'!L$30:L$79<=A33,1*'A1'!H$30:H$79,0),0),0),IF('A1'!J$30:J$79=\"COLD\",IF('A1'!K$30:K$79<=A33,IF('A1'!L$30:L$79>=A31,-1*'A1'!H$30:H$79,0),0),0)))","v":""},"","",null,"",{"$f":"E32","v":""},{"$f":"IF(A32=\"\",\"\",J$5+SUM(I$6:I31))","v":""},null,{"$f":"E32","v":""},{"$f":"IF(A32=\"\",\"\",IF(L32=\"▼\",((M$5)+(SUM(L$6:L31))),(-(M$5+SUM(L$6:L31)))))","v":""}]
[{"$f":"IF(B32=\"\",\"\",(LARGE('A1'!$K$30:$L$79,(1+SUM(COUNTIF('A1'!$K$30:$L$79,A$5:A32))-(B32*COUNTIF('A1'!$K$30:$L$79,A$6))))))","v":""},{"$f":"IF(B31=\"\",\"\",IF((SUM(IF(FREQUENCY('A1'!$K$30:$L$79,'A1'!$K$30:$L$79)>0,1)))>(B31+1),(B31+1),\"\"))","v":""},"",{"$f":"IF(C33=\"\",\"\",SUM(IF('A1'!J$30:J$79=\"HOT\",IF('A1'!K$30:K$79>=A32,IF('A1'!L$30:L$79<=A34,1*'A1'!H$30:H$79,0),0),0),IF('A1'!J$30:J$79=\"COLD\",IF('A1'!K$30:K$79<=A34,IF('A1'!L$30:L$79>=A32,-1*'A1'!H$30:H$79,0),0),0)))","v":""},"","",null,"",{"$f":"IF(A33=\"\",\"\",\"▼\")","v":""},{"$f":"IF(A33=\"\",\"\",J$5+SUM(I$6:I32))","v":""},null,{"$f":"IF(L32=\"\",\"\",IF((M$5+SUM(L$6:L32))>=0,\"▼\",\"▲\"))","v":""},{"$f":"IF(A33=\"\",\"\",IF(L33=\"▼\",((M$5)+(SUM(L$6:L32))),(-(M$5+SUM(L$6:L32)))))","v":""}]
[{"$f":"IF(B33=\"\",\"\",(LARGE('A1'!$K$30:$L$79,(1+SUM(COUNTIF('A1'!$K$30:$L$79,A$5:A33))-(B33*COUNTIF('A1'!$K$30:$L$79,A$6))))))","v":""},{"$f":"IF(B32=\"\",\"\",IF((SUM(IF(FREQUENCY('A1'!$K$30:$L$79,'A1'!$K$30:$L$79)>0,1)))>(B32+1),(B32+1),\"\"))","v":""},"",{"$f":"IF(C34=\"\",\"\",SUM(IF('A1'!J$30:J$79=\"HOT\",IF('A1'!K$30:K$79>=A33,IF('A1'!L$30:L$79<=A35,1*'A1'!H$30:H$79,0),0),0),IF('A1'!J$30:J$79=\"COLD\",IF('A1'!K$30:K$79<=A35,IF('A1'!L$30:L$79>=A33,-1*'A1'!H$30:H$79,0),0),0)))","v":""},"","",null,"",{"$f":"E34","v":""},{"$f":"IF(A34=\"\",\"\",J$5+SUM(I$6:I33))","v":""},null,{"$f":"E34","v":""},{"$f":"IF(A34=\"\",\"\",IF(L34=\"▼\",((M$5)+(SUM(L$6:L33))),(-(M$5+SUM(L$6:L33)))))","v":""}]
[{"$f":"IF(B34=\"\",\"\",(LARGE('A1'!$K$30:$L$79,(1+SUM(COUNTIF('A1'!$K$30:$L$79,A$5:A34))-(B34*COUNTIF('A1'!$K$30:$L$79,A$6))))))","v":""},{"$f":"IF(B33=\"\",\"\",IF((SUM(IF(FREQUENCY('A1'!$K$30:$L$79,'A1'!$K$30:$L$79)>0,1)))>(B33+1),(B33+1),\"\"))","v":""},"",{"$f":"IF(C35=\"\",\"\",SUM(IF('A1'!J$30:J$79=\"HOT\",IF('A1'!K$30:K$79>=A34,IF('A1'!L$30:L$79<=A36,1*'A1'!H$30:H$79,0),0),0),IF('A1'!J$30:J$79=\"COLD\",IF('A1'!K$30:K$79<=A36,IF('A1'!L$30:L$79>=A34,-1*'A1'!H$30:H$79,0),0),0)))","v":""},"","",null,"",{"$f":"IF(A35=\"\",\"\",\"▼\")","v":""},{"$f":"IF(A35=\"\",\"\",J$5+SUM(I$6:I34))","v":""},null,{"$f":"IF(L34=\"\",\"\",IF((M$5+SUM(L$6:L34))>=0,\"▼\",\"▲\"))","v":""},{"$f":"IF(A35=\"\",\"\",IF(L35=\"▼\",((M$5)+(SUM(L$6:L34))),(-(M$5+SUM(L$6:L34)))))","v":""}]
[{"$f":"IF(B35=\"\",\"\",(LARGE('A1'!$K$30:$L$79,(1+SUM(COUNTIF('A1'!$K$30:$L$79,A$5:A35))-(B35*COUNTIF('A1'!$K$30:$L$79,A$6))))))","v":""},{"$f":"IF(B34=\"\",\"\",IF((SUM(IF(FREQUENCY('A1'!$K$30:$L$79,'A1'!$K$30:$L$79)>0,1)))>(B34+1),(B34+1),\"\"))","v":""},"",{"$f":"IF(C36=\"\",\"\",SUM(IF('A1'!J$30:J$79=\"HOT\",IF('A1'!K$30:K$79>=A35,IF('A1'!L$30:L$79<=A37,1*'A1'!H$30:H$79,0),0),0),IF('A1'!J$30:J$79=\"COLD\",IF('A1'!K$30:K$79<=A37,IF('A1'!L$30:L$79>=A35,-1*'A1'!H$30:H$79,0),0),0)))","v":""},"","",null,"",{"$f":"E36","v":""},{"$f":"IF(A36=\"\",\"\",J$5+SUM(I$6:I35))","v":""},null,{"$f":"E36","v":""},{"$f":"IF(A36=\"\",\"\",IF(L36=\"▼\",((M$5)+(SUM(L$6:L35))),(-(M$5+SUM(L$6:L35)))))","v":""}]
[{"$f":"IF(B36=\"\",\"\",(LARGE('A1'!$K$30:$L$79,(1+SUM(COUNTIF('A1'!$K$30:$L$79,A$5:A36))-(B36*COUNTIF('A1'!$K$30:$L$79,A$6))))))","v":""},{"$f":"IF(B35=\"\",\"\",IF((SUM(IF(FREQUENCY('A1'!$K$30:$L$79,'A1'!$K$30:$L$79)>0,1)))>(B35+1),(B35+1),\"\"))","v":""},"",{"$f":"IF(C37=\"\",\"\",SUM(IF('A1'!J$30:J$79=\"HOT\",IF('A1'!K$30:K$79>=A36,IF('A1'!L$30:L$79<=A38,1*'A1'!H$30:H$79,0),0),0),IF('A1'!J$30:J$79=\"COLD\",IF('A1'!K$30:K$79<=A38,IF('A1'!L$30:L$79>=A36,-1*'A1'!H$30:H$79,0),0),0)))","v":""},"","",null,"",{"$f":"IF(A37=\"\",\"\",\"▼\")","v":""},{"$f":"IF(A37=\"\",\"\",J$5+SUM(I$6:I36))","v":""},null,{"$f":"IF(L36=\"\",\"\",IF((M$5+SUM(L$6:L36))>=0,\"▼\",\"▲\"))","v":""},{"$f":"IF(A37=\"\",\"\",IF(L37=\"▼\",((M$5)+(SUM(L$6:L36))),(-(M$5+SUM(L$6:L36)))))","v":""}]
[{"$f":"IF(B37=\"\",\"\",(LARGE('A1'!$K$30:$L$79,(1+SUM(COUNTIF('A1'!$K$30:$L$79,A$5:A37))-(B37*COUNTIF('A1'!$K$30:$L$79,A$6))))))","v":""},{"$f":"IF(B36=\"\",\"\",IF((SUM(IF(FREQUENCY('A1'!$K$30:$L$79,'A1'!$K$30:$L$79)>0,1)))>(B36+1),(B36+1),\"\"))","v":""},"",{"$f":"IF(C38=\"\",\"\",SUM(IF('A1'!J$30:J$79=\"HOT\",IF('A1'!K$30:K$79>=A37,IF('A1'!L$30:L$79<=A39,1*'A1'!H$30:H$79,0),0),0),IF('A1'!J$30:J$79=\"COLD\",IF('A1'!K$30:K$79<=A39,IF('A1'!L$30:L$79>=A37,-1*'A1'!H$30:H$79,0),0),0)))","v":""},"","",null,"",{"$f":"E38","v":""},{"$f":"IF(A38=\"\",\"\",J$5+SUM(I$6:I37))","v":""},null,{"$f":"E38","v":""},{"$f":"IF(A38=\"\",\"\",IF(L38=\"▼\",((M$5)+(SUM(L$6:L37))),(-(M$5+SUM(L$6:L37)))))","v":""}]
[{"$f":"IF(B38=\"\",\"\",(LARGE('A1'!$K$30:$L$79,(1+SUM(COUNTIF('A1'!$K$30:$L$79,A$5:A38))-(B38*COUNTIF('A1'!$K$30:$L$79,A$6))))))","v":""},{"$f":"IF(B37=\"\",\"\",IF((SUM(IF(FREQUENCY('A1'!$K$30:$L$79,'A1'!$K$30:$L$79)>0,1)))>(B37+1),(B37+1),\"\"))","v":""},"",{"$f":"IF(C39=\"\",\"\",SUM(IF('A1'!J$30:J$79=\"HOT\",IF('A1'!K$30:K$79>=A38,IF('A1'!L$30:L$79<=A40,1*'A1'!H$30:H$79,0),0),0),IF('A1'!J$30:J$79=\"COLD\",IF('A1'!K$30:K$79<=A40,IF('A1'!L$30:L$79>=A38,-1*'A1'!H$30:H$79,0),0),0)))","v":""},"","",null,"",{"$f":"IF(A39=\"\",\"\",\"▼\")","v":""},{"$f":"IF(A39=\"\",\"\",J$5+SUM(I$6:I38))","v":""},null,{"$f":"IF(L38=\"\",\"\",IF((M$5+SUM(L$6:L38))>=0,\"▼\",\"▲\"))","v":""},{"$f":"IF(A39=\"\",\"\",IF(L39=\"▼\",((M$5)+(SUM(L$6:L38))),(-(M$5+SUM(L$6:L38)))))","v":""}]
[{"$f":"IF(B39=\"\",\"\",(LARGE('A1'!$K$30:$L$79,(1+SUM(COUNTIF('A1'!$K$30:$L$79,A$5:A39))-(B39*COUNTIF('A1'!$K$30:$L$79,A$6))))))","v":""},{"$f":"IF(B38=\"\",\"\",IF((SUM(IF(FREQUENCY('A1'!$K$30:$L$79,'A1'!$K$30:$L$79)>0,1)))>(B38+1),(B38+1),\"\"))","v":""},"",{"$f":"IF(C40=\"\",\"\",SUM(IF('A1'!J$30:J$79=\"HOT\",IF('A1'!K$30:K$79>=A39,IF('A1'!L$30:L$79<=A41,1*'A1'!H$30:H$79,0),0),0),IF('A1'!J$30:J$79=\"COLD\",IF('A1'!K$30:K$79<=A41,IF('A1'!L$30:L$79>=A39,-1*'A1'!H$30:H$79,0),0),0)))","v":""},"","",null,"",{"$f":"E40","v":""},{"$f":"IF(A40=\"\",\"\",J$5+SUM(I$6:I39))","v":""},null,{"$f":"E40","v":""},{"$f":"IF(A40=\"\",\"\",IF(L40=\"▼\",((M$5)+(SUM(L$6:L39))),(-(M$5+SUM(L$6:L39)))))","v":""}]
[{"$f":"IF(B40=\"\",\"\",(LARGE('A1'!$K$30:$L$79,(1+SUM(COUNTIF('A1'!$K$30:$L$79,A$5:A40))-(B40*COUNTIF('A1'!$K$30:$L$79,A$6))))))","v":""},{"$f":"IF(B39=\"\",\"\",IF((SUM(IF(FREQUENCY('A1'!$K$30:$L$79,'A1'!$K$30:$L$79)>0,1)))>(B39+1),(B39+1),\"\"))","v":""},"",{"$f":"IF(C41=\"\",\"\",SUM(IF('A1'!J$30:J$79=\"HOT\",IF('A1'!K$30:K$79>=A40,IF('A1'!L$30:L$79<=A42,1*'A1'!H$30:H$79,0),0),0),IF('A1'!J$30:J$79=\"COLD\",IF('A1'!K$30:K$79<=A42,IF('A1'!L$30:L$79>=A40,-1*'A1'!H$30:H$79,0),0),0)))","v":""},"","",null,"",{"$f":"IF(A41=\"\",\"\",\"▼\")","v":""},{"$f":"IF(A41=\"\",\"\",J$5+SUM(I$6:I40))","v":""},null,{"$f":"IF(L40=\"\",\"\",IF((M$5+SUM(L$6:L40))>=0,\"▼\",\"▲\"))","v":""},{"$f":"IF(A41=\"\",\"\",IF(L41=\"▼\",((M$5)+(SUM(L$6:L40))),(-(M$5+SUM(L$6:L40)))))","v":""}]
[{"$f":"IF(B41=\"\",\"\",(LARGE('A1'!$K$30:$L$79,(1+SUM(COUNTIF('A1'!$K$30:$L$79,A$5:A41))-(B41*COUNTIF('A1'!$K$30:$L$79,A$6))))))","v":""},{"$f":"IF(B40=\"\",\"\",IF((SUM(IF(FREQUENCY('A1'!$K$30:$L$79,'A1'!$K$30:$L$79)>0,1)))>(B40+1),(B40+1),\"\"))","v":""},"",{"$f":"IF(C42=\"\",\"\",SUM(IF('A1'!J$30:J$79=\"HOT\",IF('A1'!K$30:K$79>=A41,IF('A1'!L$30:L$79<=A43,1*'A1'!H$30:H$79,0),0),0),IF('A1'!J$30:J$79=\"COLD\",IF('A1'!K$30:K$79<=A43,IF('A1'!L$30:L$79>=A41,-1*'A1'!H$30:H$79,0),0),0)))","v":""},"","",null,"",{"$f":"E42","v":""},{"$f":"IF(A42=\"\",\"\",J$5+SUM(I$6:I41))","v":""},null,{"$f":"E42","v":""},{"$f":"IF(A42=\"\",\"\",IF(L42=\"▼\",((M$5)+(SUM(L$6:L41))),(-(M$5+SUM(L$6:L41)))))","v":""}]
[{"$f":"IF(B42=\"\",\"\",(LARGE('A1'!$K$30:$L$79,(1+SUM(COUNTIF('A1'!$K$30:$L$79,A$5:A42))-(B42*COUNTIF('A1'!$K$30:$L$79,A$6))))))","v":""},{"$f":"IF(B41=\"\",\"\",IF((SUM(IF(FREQUENCY('A1'!$K$30:$L$79,'A1'!$K$30:$L$79)>0,1)))>(B41+1),(B41+1),\"\"))","v":""},"",{"$f":"IF(C43=\"\",\"\",SUM(IF('A1'!J$30:J$79=\"HOT\",IF('A1'!K$30:K$79>=A42,IF('A1'!L$30:L$79<=A44,1*'A1'!H$30:H$79,0),0),0),IF('A1'!J$30:J$79=\"COLD\",IF('A1'!K$30:K$79<=A44,IF('A1'!L$30:L$79>=A42,-1*'A1'!H$30:H$79,0),0),0)))","v":""},"","",null,"",{"$f":"IF(A43=\"\",\"\",\"▼\")","v":""},{"$f":"IF(A43=\"\",\"\",J$5+SUM(I$6:I42))","v":""},null,{"$f":"IF(L42=\"\",\"\",IF((M$5+SUM(L$6:L42))>=0,\"▼\",\"▲\"))","v":""},{"$f":"IF(A43=\"\",\"\",IF(L43=\"▼\",((M$5)+(SUM(L$6:L42))),(-(M$5+SUM(L$6:L42)))))","v":""}]
[{"$f":"IF(B43=\"\",\"\",(LARGE('A1'!$K$30:$L$79,(1+SUM(COUNTIF('A1'!$K$30:$L$79,A$5:A43))-(B43*COUNTIF('A1'!$K$30:$L$79,A$6))))))","v":""},{"$f":"IF(B42=\"\",\"\",IF((SUM(IF(FREQUENCY('A1'!$K$30:$L$79,'A1'!$K$30:$L$79)>0,1)))>(B42+1),(B42+1),\"\"))","v":""},"",{"$f":"IF(C44=\"\",\"\",SUM(IF('A1'!J$30:J$79=\"HOT\",IF('A1'!K$30:K$79>=A43,IF('A1'!L$30:L$79<=A45,1*'A1'!H$30:H$79,0),0),0),IF('A1'!J$30:J$79=\"COLD\",IF('A1'!K$30:K$79<=A45,IF('A1'!L$30:L$79>=A43,-1*'A1'!H$30:H$79,0),0),0)))","v":""},"","",null,"",{"$f":"E44","v":""},{"$f":"IF(A44=\"\",\"\",J$5+SUM(I$6:I43))","v":""},null,{"$f":"E44","v":""},{"$f":"IF(A44=\"\",\"\",IF(L44=\"▼\",((M$5)+(SUM(L$6:L43))),(-(M$5+SUM(L$6:L43)))))","v":""}]
[{"$f":"IF(B44=\"\",\"\",(LARGE('A1'!$K$30:$L$79,(1+SUM(COUNTIF('A1'!$K$30:$L$79,A$5:A44))-(B44*COUNTIF('A1'!$K$30:$L$79,A$6))))))","v":""},{"$f":"IF(B43=\"\",\"\",IF((SUM(IF(FREQUENCY('A1'!$K$30:$L$79,'A1'!$K$30:$L$79)>0,1)))>(B43+1),(B43+1),\"\"))","v":""},"",{"$f":"IF(C45=\"\",\"\",SUM(IF('A1'!J$30:J$79=\"HOT\",IF('A1'!K$30:K$79>=A44,IF('A1'!L$30:L$79<=A46,1*'A1'!H$30:H$79,0),0),0),IF('A1'!J$30:J$79=\"COLD\",IF('A1'!K$30:K$79<=A46,IF('A1'!L$30:L$79>=A44,-1*'A1'!H$30:H$79,0),0),0)))","v":""},"","",null,"",{"$f":"IF(A45=\"\",\"\",\"▼\")","v":""},{"$f":"IF(A45=\"\",\"\",J$5+SUM(I$6:I44))","v":""},null,{"$f":"IF(L44=\"\",\"\",IF((M$5+SUM(L$6:L44))>=0,\"▼\",\"▲\"))","v":""},{"$f":"IF(A45=\"\",\"\",IF(L45=\"▼\",((M$5)+(SUM(L$6:L44))),(-(M$5+SUM(L$6:L44)))))","v":""}]
[{"$f":"IF(B45=\"\",\"\",(LARGE('A1'!$K$30:$L$79,(1+SUM(COUNTIF('A1'!$K$30:$L$79,A$5:A45))-(B45*COUNTIF('A1'!$K$30:$L$79,A$6))))))","v":""},{"$f":"IF(B44=\"\",\"\",IF((SUM(IF(FREQUENCY('A1'!$K$30:$L$79,'A1'!$K$30:$L$79)>0,1)))>(B44+1),(B44+1),\"\"))","v":""},"",{"$f":"IF(C46=\"\",\"\",SUM(IF('A1'!J$30:J$79=\"HOT\",IF('A1'!K$30:K$79>=A45,IF('A1'!L$30:L$79<=A47,1*'A1'!H$30:H$79,0),0),0),IF('A1'!J$30:J$79=\"COLD\",IF('A1'!K$30:K$79<=A47,IF('A1'!L$30:L$79>=A45,-1*'A1'!H$30:H$79,0),0),0)))","v":""},"","",null,"",{"$f":"E46","v":""},{"$f":"IF(A46=\"\",\"\",J$5+SUM(I$6:I45))","v":""},null,{"$f":"E46","v":""},{"$f":"IF(A46=\"\",\"\",IF(L46=\"▼\",((M$5)+(SUM(L$6:L45))),(-(M$5+SUM(L$6:L45)))))","v":""}]
[{"$f":"IF(B46=\"\",\"\",(LARGE('A1'!$K$30:$L$79,(1+SUM(COUNTIF('A1'!$K$30:$L$79,A$5:A46))-(B46*COUNTIF('A1'!$K$30:$L$79,A$6))))))","v":""},{"$f":"IF(B45=\"\",\"\",IF((SUM(IF(FREQUENCY('A1'!$K$30:$L$79,'A1'!$K$30:$L$79)>0,1)))>(B45+1),(B45+1),\"\"))","v":""},"",{"$f":"IF(C47=\"\",\"\",SUM(IF('A1'!J$30:J$79=\"HOT\",IF('A1'!K$30:K$79>=A46,IF('A1'!L$30:L$79<=A48,1*'A1'!H$30:H$79,0),0),0),IF('A1'!J$30:J$79=\"COLD\",IF('A1'!K$30:K$79<=A48,IF('A1'!L$30:L$79>=A46,-1*'A1'!H$30:H$79,0),0),0)))","v":""},"","",null,"",{"$f":"IF(A47=\"\",\"\",\"▼\")","v":""},{"$f":"IF(A47=\"\",\"\",J$5+SUM(I$6:I46))","v":""},null,{"$f":"IF(L46=\"\",\"\",IF((M$5+SUM(L$6:L46))>=0,\"▼\",\"▲\"))","v":""},{"$f":"IF(A47=\"\",\"\",IF(L47=\"▼\",((M$5)+(SUM(L$6:L46))),(-(M$5+SUM(L$6:L46)))))","v":""}]
[{"$f":"IF(B47=\"\",\"\",(LARGE('A1'!$K$30:$L$79,(1+SUM(COUNTIF('A1'!$K$30:$L$79,A$5:A47))-(B47*COUNTIF('A1'!$K$30:$L$79,A$6))))))","v":""},{"$f":"IF(B46=\"\",\"\",IF((SUM(IF(FREQUENCY('A1'!$K$30:$L$79,'A1'!$K$30:$L$79)>0,1)))>(B46+1),(B46+1),\"\"))","v":""},"",{"$f":"IF(C48=\"\",\"\",SUM(IF('A1'!J$30:J$79=\"HOT\",IF('A1'!K$30:K$79>=A47,IF('A1'!L$30:L$79<=A49,1*'A1'!H$30:H$79,0),0),0),IF('A1'!J$30:J$79=\"COLD\",IF('A1'!K$30:K$79<=A49,IF('A1'!L$30:L$79>=A47,-1*'A1'!H$30:H$79,0),0),0)))","v":""},"","",null,"",{"$f":"E48","v":""},{"$f":"IF(A48=\"\",\"\",J$5+SUM(I$6:I47))","v":""},null,{"$f":"E48","v":""},{"$f":"IF(A48=\"\",\"\",IF(L48=\"▼\",((M$5)+(SUM(L$6:L47))),(-(M$5+SUM(L$6:L47)))))","v":""}]
[{"$f":"IF(B48=\"\",\"\",(LARGE('A1'!$K$30:$L$79,(1+SUM(COUNTIF('A1'!$K$30:$L$79,A$5:A48))-(B48*COUNTIF('A1'!$K$30:$L$79,A$6))))))","v":""},{"$f":"IF(B47=\"\",\"\",IF((SUM(IF(FREQUENCY('A1'!$K$30:$L$79,'A1'!$K$30:$L$79)>0,1)))>(B47+1),(B47+1),\"\"))","v":""},"",{"$f":"IF(C49=\"\",\"\",SUM(IF('A1'!J$30:J$79=\"HOT\",IF('A1'!K$30:K$79>=A48,IF('A1'!L$30:L$79<=A50,1*'A1'!H$30:H$79,0),0),0),IF('A1'!J$30:J$79=\"COLD\",IF('A1'!K$30:K$79<=A50,IF('A1'!L$30:L$79>=A48,-1*'A1'!H$30:H$79,0),0),0)))","v":""},"","",null,"",{"$f":"IF(A49=\"\",\"\",\"▼\")","v":""},{"$f":"IF(A49=\"\",\"\",J$5+SUM(I$6:I48))","v":""},null,{"$f":"IF(L48=\"\",\"\",IF((M$5+SUM(L$6:L48))>=0,\"▼\",\"▲\"))","v":""},{"$f":"IF(A49=\"\",\"\",IF(L49=\"▼\",((M$5)+(SUM(L$6:L48))),(-(M$5+SUM(L$6:L48)))))","v":""}]
[{"$f":"IF(B49=\"\",\"\",(LARGE('A1'!$K$30:$L$79,(1+SUM(COUNTIF('A1'!$K$30:$L$79,A$5:A49))-(B49*COUNTIF('A1'!$K$30:$L$79,A$6))))))","v":""},{"$f":"IF(B48=\"\",\"\",IF((SUM(IF(FREQUENCY('A1'!$K$30:$L$79,'A1'!$K$30:$L$79)>0,1)))>(B48+1),(B48+1),\"\"))","v":""},"",{"$f":"IF(C50=\"\",\"\",SUM(IF('A1'!J$30:J$79=\"HOT\",IF('A1'!K$30:K$79>=A49,IF('A1'!L$30:L$79<=A51,1*'A1'!H$30:H$79,0),0),0),IF('A1'!J$30:J$79=\"COLD\",IF('A1'!K$30:K$79<=A51,IF('A1'!L$30:L$79>=A49,-1*'A1'!H$30:H$79,0),0),0)))","v":""},"","",null,"",{"$f":"E50","v":""},{"$f":"IF(A50=\"\",\"\",J$5+SUM(I$6:I49))","v":""},null,{"$f":"E50","v":""},{"$f":"IF(A50=\"\",\"\",IF(L50=\"▼\",((M$5)+(SUM(L$6:L49))),(-(M$5+SUM(L$6:L49)))))","v":""}]
[{"$f":"IF(B50=\"\",\"\",(LARGE('A1'!$K$30:$L$79,(1+SUM(COUNTIF('A1'!$K$30:$L$79,A$5:A50))-(B50*COUNTIF('A1'!$K$30:$L$79,A$6))))))","v":""},{"$f":"IF(B49=\"\",\"\",IF((SUM(IF(FREQUENCY('A1'!$K$30:$L$79,'A1'!$K$30:$L$79)>0,1)))>(B49+1),(B49+1),\"\"))","v":""},"",{"$f":"IF(C51=\"\",\"\",SUM(IF('A1'!J$30:J$79=\"HOT\",IF('A1'!K$30:K$79>=A50,IF('A1'!L$30:L$79<=A52,1*'A1'!H$30:H$79,0),0),0),IF('A1'!J$30:J$79=\"COLD\",IF('A1'!K$30:K$79<=A52,IF('A1'!L$30:L$79>=A50,-1*'A1'!H$30:H$79,0),0),0)))","v":""},"","",null,"",{"$f":"IF(A51=\"\",\"\",\"▼\")","v":""},{"$f":"IF(A51=\"\",\"\",J$5+SUM(I$6:I50))","v":""},null,{"$f":"IF(L50=\"\",\"\",IF((M$5+SUM(L$6:L50))>=0,\"▼\",\"▲\"))","v":""},{"$f":"IF(A51=\"\",\"\",IF(L51=\"▼\",((M$5)+(SUM(L$6:L50))),(-(M$5+SUM(L$6:L50)))))","v":""}]
[{"$f":"IF(B51=\"\",\"\",(LARGE('A1'!$K$30:$L$79,(1+SUM(COUNTIF('A1'!$K$30:$L$79,A$5:A51))-(B51*COUNTIF('A1'!$K$30:$L$79,A$6))))))","v":""},{"$f":"IF(B50=\"\",\"\",IF((SUM(IF(FREQUENCY('A1'!$K$30:$L$79,'A1'!$K$30:$L$79)>0,1)))>(B50+1),(B50+1),\"\"))","v":""},"",{"$f":"IF(C52=\"\",\"\",SUM(IF('A1'!J$30:J$79=\"HOT\",IF('A1'!K$30:K$79>=A51,IF('A1'!L$30:L$79<=A53,1*'A1'!H$30:H$79,0),0),0),IF('A1'!J$30:J$79=\"COLD\",IF('A1'!K$30:K$79<=A53,IF('A1'!L$30:L$79>=A51,-1*'A1'!H$30:H$79,0),0),0)))","v":""},"","",null,"",{"$f":"E52","v":""},{"$f":"IF(A52=\"\",\"\",J$5+SUM(I$6:I51))","v":""},null,{"$f":"E52","v":""},{"$f":"IF(A52=\"\",\"\",IF(L52=\"▼\",((M$5)+(SUM(L$6:L51))),(-(M$5+SUM(L$6:L51)))))","v":""}]
[{"$f":"IF(B52=\"\",\"\",(LARGE('A1'!$K$30:$L$79,(1+SUM(COUNTIF('A1'!$K$30:$L$79,A$5:A52))-(B52*COUNTIF('A1'!$K$30:$L$79,A$6))))))","v":""},{"$f":"IF(B51=\"\",\"\",IF((SUM(IF(FREQUENCY('A1'!$K$30:$L$79,'A1'!$K$30:$L$79)>0,1)))>(B51+1),(B51+1),\"\"))","v":""},"",{"$f":"IF(C53=\"\",\"\",SUM(IF('A1'!J$30:J$79=\"HOT\",IF('A1'!K$30:K$79>=A52,IF('A1'!L$30:L$79<=A54,1*'A1'!H$30:H$79,0),0),0),IF('A1'!J$30:J$79=\"COLD\",IF('A1'!K$30:K$79<=A54,IF('A1'!L$30:L$79>=A52,-1*'A1'!H$30:H$79,0),0),0)))","v":""},"","",null,"",{"$f":"IF(A53=\"\",\"\",\"▼\")","v":""},{"$f":"IF(A53=\"\",\"\",J$5+SUM(I$6:I52))","v":""},null,{"$f":"IF(L52=\"\",\"\",IF((M$5+SUM(L$6:L52))>=0,\"▼\",\"▲\"))","v":""},{"$f":"IF(A53=\"\",\"\",IF(L53=\"▼\",((M$5)+(SUM(L$6:L52))),(-(M$5+SUM(L$6:L52)))))","v":""}]
[{"$f":"IF(B53=\"\",\"\",(LARGE('A1'!$K$30:$L$79,(1+SUM(COUNTIF('A1'!$K$30:$L$79,A$5:A53))-(B53*COUNTIF('A1'!$K$30:$L$79,A$6))))))","v":""},{"$f":"IF(B52=\"\",\"\",IF((SUM(IF(FREQUENCY('A1'!$K$30:$L$79,'A1'!$K$30:$L$79)>0,1)))>(B52+1),(B52+1),\"\"))","v":""},"",{"$f":"IF(C54=\"\",\"\",SUM(IF('A1'!J$30:J$79=\"HOT\",IF('A1'!K$30:K$79>=A53,IF('A1'!L$30:L$79<=A55,1*'A1'!H$30:H$79,0),0),0),IF('A1'!J$30:J$79=\"COLD\",IF('A1'!K$30:K$79<=A55,IF('A1'!L$30:L$79>=A53,-1*'A1'!H$30:H$79,0),0),0)))","v":""},"","",null,"",{"$f":"E54","v":""},{"$f":"IF(A54=\"\",\"\",J$5+SUM(I$6:I53))","v":""},null,{"$f":"E54","v":""},{"$f":"IF(A54=\"\",\"\",IF(L54=\"▼\",((M$5)+(SUM(L$6:L53))),(-(M$5+SUM(L$6:L53)))))","v":""}]
[{"$f":"IF(B54=\"\",\"\",(LARGE('A1'!$K$30:$L$79,(1+SUM(COUNTIF('A1'!$K$30:$L$79,A$5:A54))-(B54*COUNTIF('A1'!$K$30:$L$79,A$6))))))","v":""},{"$f":"IF(B53=\"\",\"\",IF((SUM(IF(FREQUENCY('A1'!$K$30:$L$79,'A1'!$K$30:$L$79)>0,1)))>(B53+1),(B53+1),\"\"))","v":""},"",{"$f":"IF(C55=\"\",\"\",SUM(IF('A1'!J$30:J$79=\"HOT\",IF('A1'!K$30:K$79>=A54,IF('A1'!L$30:L$79<=A56,1*'A1'!H$30:H$79,0),0),0),IF('A1'!J$30:J$79=\"COLD\",IF('A1'!K$30:K$79<=A56,IF('A1'!L$30:L$79>=A54,-1*'A1'!H$30:H$79,0),0),0)))","v":""},"","",null,"",{"$f":"IF(A55=\"\",\"\",\"▼\")","v":""},{"$f":"IF(A55=\"\",\"\",J$5+SUM(I$6:I54))","v":""},null,{"$f":"IF(L54=\"\",\"\",IF((M$5+SUM(L$6:L54))>=0,\"▼\",\"▲\"))","v":""},{"$f":"IF(A55=\"\",\"\",IF(L55=\"▼\",((M$5)+(SUM(L$6:L54))),(-(M$5+SUM(L$6:L54)))))","v":""}]
[{"$f":"IF(B55=\"\",\"\",(LARGE('A1'!$K$30:$L$79,(1+SUM(COUNTIF('A1'!$K$30:$L$79,A$5:A55))-(B55*COUNTIF('A1'!$K$30:$L$79,A$6))))))","v":""},{"$f":"IF(B54=\"\",\"\",IF((SUM(IF(FREQUENCY('A1'!$K$30:$L$79,'A1'!$K$30:$L$79)>0,1)))>(B54+1),(B54+1),\"\"))","v":""},"",{"$f":"IF(C56=\"\",\"\",SUM(IF('A1'!J$30:J$79=\"HOT\",IF('A1'!K$30:K$79>=A55,IF('A1'!L$30:L$79<=A57,1*'A1'!H$30:H$79,0),0),0),IF('A1'!J$30:J$79=\"COLD\",IF('A1'!K$30:K$79<=A57,IF('A1'!L$30:L$79>=A55,-1*'A1'!H$30:H$79,0),0),0)))","v":""},"","",null,"",{"$f":"E56","v":""},{"$f":"IF(A56=\"\",\"\",J$5+SUM(I$6:I55))","v":""},null,{"$f":"E56","v":""},{"$f":"IF(A56=\"\",\"\",IF(L56=\"▼\",((M$5)+(SUM(L$6:L55))),(-(M$5+SUM(L$6:L55)))))","v":""}]
[{"$f":"IF(B56=\"\",\"\",(LARGE('A1'!$K$30:$L$79,(1+SUM(COUNTIF('A1'!$K$30:$L$79,A$5:A56))-(B56*COUNTIF('A1'!$K$30:$L$79,A$6))))))","v":""},{"$f":"IF(B55=\"\",\"\",IF((SUM(IF(FREQUENCY('A1'!$K$30:$L$79,'A1'!$K$30:$L$79)>0,1)))>(B55+1),(B55+1),\"\"))","v":""},"",{"$f":"IF(C57=\"\",\"\",SUM(IF('A1'!J$30:J$79=\"HOT\",IF('A1'!K$30:K$79>=A56,IF('A1'!L$30:L$79<=A58,1*'A1'!H$30:H$79,0),0),0),IF('A1'!J$30:J$79=\"COLD\",IF('A1'!K$30:K$79<=A58,IF('A1'!L$30:L$79>=A56,-1*'A1'!H$30:H$79,0),0),0)))","v":""},"","",null,"",{"$f":"IF(A57=\"\",\"\",\"▼\")","v":""},{"$f":"IF(A57=\"\",\"\",J$5+SUM(I$6:I56))","v":""},null,{"$f":"IF(L56=\"\",\"\",IF((M$5+SUM(L$6:L56))>=0,\"▼\",\"▲\"))","v":""},{"$f":"IF(A57=\"\",\"\",IF(L57=\"▼\",((M$5)+(SUM(L$6:L56))),(-(M$5+SUM(L$6:L56)))))","v":""}]
[{"$f":"IF(B57=\"\",\"\",(LARGE('A1'!$K$30:$L$79,(1+SUM(COUNTIF('A1'!$K$30:$L$79,A$5:A57))-(B57*COUNTIF('A1'!$K$30:$L$79,A$6))))))","v":""},{"$f":"IF(B56=\"\",\"\",IF((SUM(IF(FREQUENCY('A1'!$K$30:$L$79,'A1'!$K$30:$L$79)>0,1)))>(B56+1),(B56+1),\"\"))","v":""},"",{"$f":"IF(C58=\"\",\"\",SUM(IF('A1'!J$30:J$79=\"HOT\",IF('A1'!K$30:K$79>=A57,IF('A1'!L$30:L$79<=A59,1*'A1'!H$30:H$79,0),0),0),IF('A1'!J$30:J$79=\"COLD\",IF('A1'!K$30:K$79<=A59,IF('A1'!L$30:L$79>=A57,-1*'A1'!H$30:H$79,0),0),0)))","v":""},"","",null,"",{"$f":"E58","v":""},{"$f":"IF(A58=\"\",\"\",J$5+SUM(I$6:I57))","v":""},null,{"$f":"E58","v":""},{"$f":"IF(A58=\"\",\"\",IF(L58=\"▼\",((M$5)+(SUM(L$6:L57))),(-(M$5+SUM(L$6:L57)))))","v":""}]
[{"$f":"IF(B58=\"\",\"\",(LARGE('A1'!$K$30:$L$79,(1+SUM(COUNTIF('A1'!$K$30:$L$79,A$5:A58))-(B58*COUNTIF('A1'!$K$30:$L$79,A$6))))))","v":""},{"$f":"IF(B57=\"\",\"\",IF((SUM(IF(FREQUENCY('A1'!$K$30:$L$79,'A1'!$K$30:$L$79)>0,1)))>(B57+1),(B57+1),\"\"))","v":""},"",{"$f":"IF(C59=\"\",\"\",SUM(IF('A1'!J$30:J$79=\"HOT\",IF('A1'!K$30:K$79>=A58,IF('A1'!L$30:L$79<=A60,1*'A1'!H$30:H$79,0),0),0),IF('A1'!J$30:J$79=\"COLD\",IF('A1'!K$30:K$79<=A60,IF('A1'!L$30:L$79>=A58,-1*'A1'!H$30:H$79,0),0),0)))","v":""},"","",null,"",{"$f":"IF(A59=\"\",\"\",\"▼\")","v":""},{"$f":"IF(A59=\"\",\"\",J$5+SUM(I$6:I58))","v":""},null,{"$f":"IF(L58=\"\",\"\",IF((M$5+SUM(L$6:L58))>=0,\"▼\",\"▲\"))","v":""},{"$f":"IF(A59=\"\",\"\",IF(L59=\"▼\",((M$5)+(SUM(L$6:L58))),(-(M$5+SUM(L$6:L58)))))","v":""}]
[{"$f":"IF(B59=\"\",\"\",(LARGE('A1'!$K$30:$L$79,(1+SUM(COUNTIF('A1'!$K$30:$L$79,A$5:A59))-(B59*COUNTIF('A1'!$K$30:$L$79,A$6))))))","v":""},{"$f":"IF(B58=\"\",\"\",IF((SUM(IF(FREQUENCY('A1'!$K$30:$L$79,'A1'!$K$30:$L$79)>0,1)))>(B58+1),(B58+1),\"\"))","v":""},"",{"$f":"IF(C60=\"\",\"\",SUM(IF('A1'!J$30:J$79=\"HOT\",IF('A1'!K$30:K$79>=A59,IF('A1'!L$30:L$79<=A61,1*'A1'!H$30:H$79,0),0),0),IF('A1'!J$30:J$79=\"COLD\",IF('A1'!K$30:K$79<=A61,IF('A1'!L$30:L$79>=A59,-1*'A1'!H$30:H$79,0),0),0)))","v":""},"","",null,"",{"$f":"E60","v":""},{"$f":"IF(A60=\"\",\"\",J$5+SUM(I$6:I59))","v":""},null,{"$f":"E60","v":""},{"$f":"IF(A60=\"\",\"\",IF(L60=\"▼\",((M$5)+(SUM(L$6:L59))),(-(M$5+SUM(L$6:L59)))))","v":""}]
[{"$f":"IF(B60=\"\",\"\",(LARGE('A1'!$K$30:$L$79,(1+SUM(COUNTIF('A1'!$K$30:$L$79,A$5:A60))-(B60*COUNTIF('A1'!$K$30:$L$79,A$6))))))","v":""},{"$f":"IF(B59=\"\",\"\",IF((SUM(IF(FREQUENCY('A1'!$K$30:$L$79,'A1'!$K$30:$L$79)>0,1)))>(B59+1),(B59+1),\"\"))","v":""},"",{"$f":"IF(C61=\"\",\"\",SUM(IF('A1'!J$30:J$79=\"HOT\",IF('A1'!K$30:K$79>=A60,IF('A1'!L$30:L$79<=A62,1*'A1'!H$30:H$79,0),0),0),IF('A1'!J$30:J$79=\"COLD\",IF('A1'!K$30:K$79<=A62,IF('A1'!L$30:L$79>=A60,-1*'A1'!H$30:H$79,0),0),0)))","v":""},"","",null,"",{"$f":"IF(A61=\"\",\"\",\"▼\")","v":""},{"$f":"IF(A61=\"\",\"\",J$5+SUM(I$6:I60))","v":""},null,{"$f":"IF(L60=\"\",\"\",IF((M$5+SUM(L$6:L60))>=0,\"▼\",\"▲\"))","v":""},{"$f":"IF(A61=\"\",\"\",IF(L61=\"▼\",((M$5)+(SUM(L$6:L60))),(-(M$5+SUM(L$6:L60)))))","v":""}]
[{"$f":"IF(B61=\"\",\"\",(LARGE('A1'!$K$30:$L$79,(1+SUM(COUNTIF('A1'!$K$30:$L$79,A$5:A61))-(B61*COUNTIF('A1'!$K$30:$L$79,A$6))))))","v":""},{"$f":"IF(B60=\"\",\"\",IF((SUM(IF(FREQUENCY('A1'!$K$30:$L$79,'A1'!$K$30:$L$79)>0,1)))>(B60+1),(B60+1),\"\"))","v":""},"",{"$f":"IF(C62=\"\",\"\",SUM(IF('A1'!J$30:J$79=\"HOT\",IF('A1'!K$30:K$79>=A61,IF('A1'!L$30:L$79<=A63,1*'A1'!H$30:H$79,0),0),0),IF('A1'!J$30:J$79=\"COLD\",IF('A1'!K$30:K$79<=A63,IF('A1'!L$30:L$79>=A61,-1*'A1'!H$30:H$79,0),0),0)))","v":""},"","",null,"",{"$f":"E62","v":""},{"$f":"IF(A62=\"\",\"\",J$5+SUM(I$6:I61))","v":""},null,{"$f":"E62","v":""},{"$f":"IF(A62=\"\",\"\",IF(L62=\"▼\",((M$5)+(SUM(L$6:L61))),(-(M$5+SUM(L$6:L61)))))","v":""}]
[{"$f":"IF(B62=\"\",\"\",(LARGE('A1'!$K$30:$L$79,(1+SUM(COUNTIF('A1'!$K$30:$L$79,A$5:A62))-(B62*COUNTIF('A1'!$K$30:$L$79,A$6))))))","v":""},{"$f":"IF(B61=\"\",\"\",IF((SUM(IF(FREQUENCY('A1'!$K$30:$L$79,'A1'!$K$30:$L$79)>0,1)))>(B61+1),(B61+1),\"\"))","v":""},"",{"$f":"IF(C63=\"\",\"\",SUM(IF('A1'!J$30:J$79=\"HOT\",IF('A1'!K$30:K$79>=A62,IF('A1'!L$30:L$79<=A64,1*'A1'!H$30:H$79,0),0),0),IF('A1'!J$30:J$79=\"COLD\",IF('A1'!K$30:K$79<=A64,IF('A1'!L$30:L$79>=A62,-1*'A1'!H$30:H$79,0),0),0)))","v":""},"","",null,"",{"$f":"IF(A63=\"\",\"\",\"▼\")","v":""},{"$f":"IF(A63=\"\",\"\",J$5+SUM(I$6:I62))","v":""},null,{"$f":"IF(L62=\"\",\"\",IF((M$5+SUM(L$6:L62))>=0,\"▼\",\"▲\"))","v":""},{"$f":"IF(A63=\"\",\"\",IF(L63=\"▼\",((M$5)+(SUM(L$6:L62))),(-(M$5+SUM(L$6:L62)))))","v":""}]
[{"$f":"IF(B63=\"\",\"\",(LARGE('A1'!$K$30:$L$79,(1+SUM(COUNTIF('A1'!$K$30:$L$79,A$5:A63))-(B63*COUNTIF('A1'!$K$30:$L$79,A$6))))))","v":""},{"$f":"IF(B62=\"\",\"\",IF((SUM(IF(FREQUENCY('A1'!$K$30:$L$79,'A1'!$K$30:$L$79)>0,1)))>(B62+1),(B62+1),\"\"))","v":""},"",{"$f":"IF(C64=\"\",\"\",SUM(IF('A1'!J$30:J$79=\"HOT\",IF('A1'!K$30:K$79>=A63,IF('A1'!L$30:L$79<=A65,1*'A1'!H$30:H$79,0),0),0),IF('A1'!J$30:J$79=\"COLD\",IF('A1'!K$30:K$79<=A65,IF('A1'!L$30:L$79>=A63,-1*'A1'!H$30:H$79,0),0),0)))","v":""},"","",null,"",{"$f":"E64","v":""},{"$f":"IF(A64=\"\",\"\",J$5+SUM(I$6:I63))","v":""},null,{"$f":"E64","v":""},{"$f":"IF(A64=\"\",\"\",IF(L64=\"▼\",((M$5)+(SUM(L$6:L63))),(-(M$5+SUM(L$6:L63)))))","v":""}]
[{"$f":"IF(B64=\"\",\"\",(LARGE('A1'!$K$30:$L$79,(1+SUM(COUNTIF('A1'!$K$30:$L$79,A$5:A64))-(B64*COUNTIF('A1'!$K$30:$L$79,A$6))))))","v":""},{"$f":"IF(B63=\"\",\"\",IF((SUM(IF(FREQUENCY('A1'!$K$30:$L$79,'A1'!$K$30:$L$79)>0,1)))>(B63+1),(B63+1),\"\"))","v":""},"",{"$f":"IF(C65=\"\",\"\",SUM(IF('A1'!J$30:J$79=\"HOT\",IF('A1'!K$30:K$79>=A64,IF('A1'!L$30:L$79<=A66,1*'A1'!H$30:H$79,0),0),0),IF('A1'!J$30:J$79=\"COLD\",IF('A1'!K$30:K$79<=A66,IF('A1'!L$30:L$79>=A64,-1*'A1'!H$30:H$79,0),0),0)))","v":""},"","",null,"",{"$f":"IF(A65=\"\",\"\",\"▼\")","v":""},{"$f":"IF(A65=\"\",\"\",J$5+SUM(I$6:I64))","v":""},null,{"$f":"IF(L64=\"\",\"\",IF((M$5+SUM(L$6:L64))>=0,\"▼\",\"▲\"))","v":""},{"$f":"IF(A65=\"\",\"\",IF(L65=\"▼\",((M$5)+(SUM(L$6:L64))),(-(M$5+SUM(L$6:L64)))))","v":""}]
[{"$f":"IF(B65=\"\",\"\",(LARGE('A1'!$K$30:$L$79,(1+SUM(COUNTIF('A1'!$K$30:$L$79,A$5:A65))-(B65*COUNTIF('A1'!$K$30:$L$79,A$6))))))","v":""},{"$f":"IF(B64=\"\",\"\",IF((SUM(IF(FREQUENCY('A1'!$K$30:$L$79,'A1'!$K$30:$L$79)>0,1)))>(B64+1),(B64+1),\"\"))","v":""},"",{"$f":"IF(C66=\"\",\"\",SUM(IF('A1'!J$30:J$79=\"HOT\",IF('A1'!K$30:K$79>=A65,IF('A1'!L$30:L$79<=A67,1*'A1'!H$30:H$79,0),0),0),IF('A1'!J$30:J$79=\"COLD\",IF('A1'!K$30:K$79<=A67,IF('A1'!L$30:L$79>=A65,-1*'A1'!H$30:H$79,0),0),0)))","v":""},"","",null,"",{"$f":"E66","v":""},{"$f":"IF(A66=\"\",\"\",J$5+SUM(I$6:I65))","v":""},null,{"$f":"E66","v":""},{"$f":"IF(A66=\"\",\"\",IF(L66=\"▼\",((M$5)+(SUM(L$6:L65))),(-(M$5+SUM(L$6:L65)))))","v":""}]
[{"$f":"IF(B66=\"\",\"\",(LARGE('A1'!$K$30:$L$79,(1+SUM(COUNTIF('A1'!$K$30:$L$79,A$5:A66))-(B66*COUNTIF('A1'!$K$30:$L$79,A$6))))))","v":""},{"$f":"IF(B65=\"\",\"\",IF((SUM(IF(FREQUENCY('A1'!$K$30:$L$79,'A1'!$K$30:$L$79)>0,1)))>(B65+1),(B65+1),\"\"))","v":""},"",{"$f":"IF(C67=\"\",\"\",SUM(IF('A1'!J$30:J$79=\"HOT\",IF('A1'!K$30:K$79>=A66,IF('A1'!L$30:L$79<=A68,1*'A1'!H$30:H$79,0),0),0),IF('A1'!J$30:J$79=\"COLD\",IF('A1'!K$30:K$79<=A68,IF('A1'!L$30:L$79>=A66,-1*'A1'!H$30:H$79,0),0),0)))","v":""},"","",null,"",{"$f":"IF(A67=\"\",\"\",\"▼\")","v":""},{"$f":"IF(A67=\"\",\"\",J$5+SUM(I$6:I66))","v":""},null,{"$f":"IF(L66=\"\",\"\",IF((M$5+SUM(L$6:L66))>=0,\"▼\",\"▲\"))","v":""},{"$f":"IF(A67=\"\",\"\",IF(L67=\"▼\",((M$5)+(SUM(L$6:L66))),(-(M$5+SUM(L$6:L66)))))","v":""}]
[{"$f":"IF(B67=\"\",\"\",(LARGE('A1'!$K$30:$L$79,(1+SUM(COUNTIF('A1'!$K$30:$L$79,A$5:A67))-(B67*COUNTIF('A1'!$K$30:$L$79,A$6))))))","v":""},{"$f":"IF(B66=\"\",\"\",IF((SUM(IF(FREQUENCY('A1'!$K$30:$L$79,'A1'!$K$30:$L$79)>0,1)))>(B66+1),(B66+1),\"\"))","v":""},"",{"$f":"IF(C68=\"\",\"\",SUM(IF('A1'!J$30:J$79=\"HOT\",IF('A1'!K$30:K$79>=A67,IF('A1'!L$30:L$79<=A69,1*'A1'!H$30:H$79,0),0),0),IF('A1'!J$30:J$79=\"COLD\",IF('A1'!K$30:K$79<=A69,IF('A1'!L$30:L$79>=A67,-1*'A1'!H$30:H$79,0),0),0)))","v":""},"","",null,"",{"$f":"E68","v":""},{"$f":"IF(A68=\"\",\"\",J$5+SUM(I$6:I67))","v":""},null,{"$f":"E68","v":""},{"$f":"IF(A68=\"\",\"\",IF(L68=\"▼\",((M$5)+(SUM(L$6:L67))),(-(M$5+SUM(L$6:L67)))))","v":""}]
[{"$f":"IF(B68=\"\",\"\",(LARGE('A1'!$K$30:$L$79,(1+SUM(COUNTIF('A1'!$K$30:$L$79,A$5:A68))-(B68*COUNTIF('A1'!$K$30:$L$79,A$6))))))","v":""},{"$f":"IF(B67=\"\",\"\",IF((SUM(IF(FREQUENCY('A1'!$K$30:$L$79,'A1'!$K$30:$L$79)>0,1)))>(B67+1),(B67+1),\"\"))","v":""},"",{"$f":"IF(C69=\"\",\"\",SUM(IF('A1'!J$30:J$79=\"HOT\",IF('A1'!K$30:K$79>=A68,IF('A1'!L$30:L$79<=A70,1*'A1'!H$30:H$79,0),0),0),IF('A1'!J$30:J$79=\"COLD\",IF('A1'!K$30:K$79<=A70,IF('A1'!L$30:L$79>=A68,-1*'A1'!H$30:H$79,0),0),0)))","v":""},"","",null,"",{"$f":"IF(A69=\"\",\"\",\"▼\")","v":""},{"$f":"IF(A69=\"\",\"\",J$5+SUM(I$6:I68))","v":""},null,{"$f":"IF(L68=\"\",\"\",IF((M$5+SUM(L$6:L68))>=0,\"▼\",\"▲\"))","v":""},{"$f":"IF(A69=\"\",\"\",IF(L69=\"▼\",((M$5)+(SUM(L$6:L68))),(-(M$5+SUM(L$6:L68)))))","v":""}]
[{"$f":"IF(B69=\"\",\"\",(LARGE('A1'!$K$30:$L$79,(1+SUM(COUNTIF('A1'!$K$30:$L$79,A$5:A69))-(B69*COUNTIF('A1'!$K$30:$L$79,A$6))))))","v":""},{"$f":"IF(B68=\"\",\"\",IF((SUM(IF(FREQUENCY('A1'!$K$30:$L$79,'A1'!$K$30:$L$79)>0,1)))>(B68+1),(B68+1),\"\"))","v":""},"",{"$f":"IF(C70=\"\",\"\",SUM(IF('A1'!J$30:J$79=\"HOT\",IF('A1'!K$30:K$79>=A69,IF('A1'!L$30:L$79<=A71,1*'A1'!H$30:H$79,0),0),0),IF('A1'!J$30:J$79=\"COLD\",IF('A1'!K$30:K$79<=A71,IF('A1'!L$30:L$79>=A69,-1*'A1'!H$30:H$79,0),0),0)))","v":""},"","",null,"",{"$f":"E70","v":""},{"$f":"IF(A70=\"\",\"\",J$5+SUM(I$6:I69))","v":""},null,{"$f":"E70","v":""},{"$f":"IF(A70=\"\",\"\",IF(L70=\"▼\",((M$5)+(SUM(L$6:L69))),(-(M$5+SUM(L$6:L69)))))","v":""}]
[{"$f":"IF(B70=\"\",\"\",(LARGE('A1'!$K$30:$L$79,(1+SUM(COUNTIF('A1'!$K$30:$L$79,A$5:A70))-(B70*COUNTIF('A1'!$K$30:$L$79,A$6))))))","v":""},{"$f":"IF(B69=\"\",\"\",IF((SUM(IF(FREQUENCY('A1'!$K$30:$L$79,'A1'!$K$30:$L$79)>0,1)))>(B69+1),(B69+1),\"\"))","v":""},"",{"$f":"IF(C71=\"\",\"\",SUM(IF('A1'!J$30:J$79=\"HOT\",IF('A1'!K$30:K$79>=A70,IF('A1'!L$30:L$79<=A72,1*'A1'!H$30:H$79,0),0),0),IF('A1'!J$30:J$79=\"COLD\",IF('A1'!K$30:K$79<=A72,IF('A1'!L$30:L$79>=A70,-1*'A1'!H$30:H$79,0),0),0)))","v":""},"",{"$f":"IF(E71=\"\",\"\",IF(E71<1,\"demand\",\"surplus\"))","v":""},null,"",{"$f":"IF(A71=\"\",\"\",\"▼\")","v":""},{"$f":"IF(A71=\"\",\"\",J$5+SUM(I$6:I70))","v":""},null,{"$f":"IF(L70=\"\",\"\",IF((M$5+SUM(L$6:L70))>=0,\"▼\",\"▲\"))","v":""},{"$f":"IF(A71=\"\",\"\",IF(L71=\"▼\",((M$5)+(SUM(L$6:L70))),(-(M$5+SUM(L$6:L70)))))","v":""}]
[{"$f":"IF(B71=\"\",\"\",(LARGE('A1'!$K$30:$L$79,(1+SUM(COUNTIF('A1'!$K$30:$L$79,A$5:A71))-(B71*COUNTIF('A1'!$K$30:$L$79,A$6))))))","v":""},{"$f":"IF(B70=\"\",\"\",IF((SUM(IF(FREQUENCY('A1'!$K$30:$L$79,'A1'!$K$30:$L$79)>0,1)))>(B70+1),(B70+1),\"\"))","v":""},"",{"$f":"IF(C72=\"\",\"\",SUM(IF('A1'!J$30:J$79=\"HOT\",IF('A1'!K$30:K$79>=A71,IF('A1'!L$30:L$79<=A73,1*'A1'!H$30:H$79,0),0),0),IF('A1'!J$30:J$79=\"COLD\",IF('A1'!K$30:K$79<=A73,IF('A1'!L$30:L$79>=A71,-1*'A1'!H$30:H$79,0),0),0)))","v":""},"","",null,"",{"$f":"E72","v":""},{"$f":"IF(A72=\"\",\"\",J$5+SUM(I$6:I71))","v":""},null,{"$f":"E72","v":""},{"$f":"IF(A72=\"\",\"\",IF(L72=\"▼\",((M$5)+(SUM(L$6:L71))),(-(M$5+SUM(L$6:L71)))))","v":""}]
[{"$f":"IF(B72=\"\",\"\",(LARGE('A1'!$K$30:$L$79,(1+SUM(COUNTIF('A1'!$K$30:$L$79,A$5:A72))-(B72*COUNTIF('A1'!$K$30:$L$79,A$6))))))","v":""},{"$f":"IF(B71=\"\",\"\",IF((SUM(IF(FREQUENCY('A1'!$K$30:$L$79,'A1'!$K$30:$L$79)>0,1)))>(B71+1),(B71+1),\"\"))","v":""},"",{"$f":"IF(C73=\"\",\"\",SUM(IF('A1'!J$30:J$79=\"HOT\",IF('A1'!K$30:K$79>=A72,IF('A1'!L$30:L$79<=A74,1*'A1'!H$30:H$79,0),0),0),IF('A1'!J$30:J$79=\"COLD\",IF('A1'!K$30:K$79<=A74,IF('A1'!L$30:L$79>=A72,-1*'A1'!H$30:H$79,0),0),0)))","v":""},"","",null,"",{"$f":"IF(A73=\"\",\"\",\"▼\")","v":""},{"$f":"IF(A73=\"\",\"\",J$5+SUM(I$6:I72))","v":""},null,{"$f":"IF(L72=\"\",\"\",IF((M$5+SUM(L$6:L72))>=0,\"▼\",\"▲\"))","v":""},{"$f":"IF(A73=\"\",\"\",IF(L73=\"▼\",((M$5)+(SUM(L$6:L72))),(-(M$5+SUM(L$6:L72)))))","v":""}]
[{"$f":"IF(B73=\"\",\"\",(LARGE('A1'!$K$30:$L$79,(1+SUM(COUNTIF('A1'!$K$30:$L$79,A$5:A73))-(B73*COUNTIF('A1'!$K$30:$L$79,A$6))))))","v":""},{"$f":"IF(B72=\"\",\"\",IF((SUM(IF(FREQUENCY('A1'!$K$30:$L$79,'A1'!$K$30:$L$79)>0,1)))>(B72+1),(B72+1),\"\"))","v":""},"",{"$f":"IF(C74=\"\",\"\",SUM(IF('A1'!J$30:J$79=\"HOT\",IF('A1'!K$30:K$79>=A73,IF('A1'!L$30:L$79<=A75,1*'A1'!H$30:H$79,0),0),0),IF('A1'!J$30:J$79=\"COLD\",IF('A1'!K$30:K$79<=A75,IF('A1'!L$30:L$79>=A73,-1*'A1'!H$30:H$79,0),0),0)))","v":""},"","",null,"",{"$f":"E74","v":""},{"$f":"IF(A74=\"\",\"\",J$5+SUM(I$6:I73))","v":""},null,{"$f":"E74","v":""},{"$f":"IF(A74=\"\",\"\",IF(L74=\"▼\",((M$5)+(SUM(L$6:L73))),(-(M$5+SUM(L$6:L73)))))","v":""}]
[{"$f":"IF(B74=\"\",\"\",(LARGE('A1'!$K$30:$L$79,(1+SUM(COUNTIF('A1'!$K$30:$L$79,A$5:A74))-(B74*COUNTIF('A1'!$K$30:$L$79,A$6))))))","v":""},{"$f":"IF(B73=\"\",\"\",IF((SUM(IF(FREQUENCY('A1'!$K$30:$L$79,'A1'!$K$30:$L$79)>0,1)))>(B73+1),(B73+1),\"\"))","v":""},"",{"$f":"IF(C75=\"\",\"\",SUM(IF('A1'!J$30:J$79=\"HOT\",IF('A1'!K$30:K$79>=A74,IF('A1'!L$30:L$79<=A76,1*'A1'!H$30:H$79,0),0),0),IF('A1'!J$30:J$79=\"COLD\",IF('A1'!K$30:K$79<=A76,IF('A1'!L$30:L$79>=A74,-1*'A1'!H$30:H$79,0),0),0)))","v":""},"","",null,"",{"$f":"IF(A75=\"\",\"\",\"▼\")","v":""},{"$f":"IF(A75=\"\",\"\",J$5+SUM(I$6:I74))","v":""},null,{"$f":"IF(L74=\"\",\"\",IF((M$5+SUM(L$6:L74))>=0,\"▼\",\"▲\"))","v":""},{"$f":"IF(A75=\"\",\"\",IF(L75=\"▼\",((M$5)+(SUM(L$6:L74))),(-(M$5+SUM(L$6:L74)))))","v":""}]
[{"$f":"IF(B75=\"\",\"\",(LARGE('A1'!$K$30:$L$79,(1+SUM(COUNTIF('A1'!$K$30:$L$79,A$5:A75))-(B75*COUNTIF('A1'!$K$30:$L$79,A$6))))))","v":""},{"$f":"IF(B74=\"\",\"\",IF((SUM(IF(FREQUENCY('A1'!$K$30:$L$79,'A1'!$K$30:$L$79)>0,1)))>(B74+1),(B74+1),\"\"))","v":""},"",{"$f":"IF(C76=\"\",\"\",SUM(IF('A1'!J$30:J$79=\"HOT\",IF('A1'!K$30:K$79>=A75,IF('A1'!L$30:L$79<=A77,1*'A1'!H$30:H$79,0),0),0),IF('A1'!J$30:J$79=\"COLD\",IF('A1'!K$30:K$79<=A77,IF('A1'!L$30:L$79>=A75,-1*'A1'!H$30:H$79,0),0),0)))","v":""},"","",null,"",{"$f":"E76","v":""},{"$f":"IF(A76=\"\",\"\",J$5+SUM(I$6:I75))","v":""},null,{"$f":"E76","v":""},{"$f":"IF(A76=\"\",\"\",IF(L76=\"▼\",((M$5)+(SUM(L$6:L75))),(-(M$5+SUM(L$6:L75)))))","v":""}]
[{"$f":"IF(B76=\"\",\"\",(LARGE('A1'!$K$30:$L$79,(1+SUM(COUNTIF('A1'!$K$30:$L$79,A$5:A76))-(B76*COUNTIF('A1'!$K$30:$L$79,A$6))))))","v":""},{"$f":"IF(B75=\"\",\"\",IF((SUM(IF(FREQUENCY('A1'!$K$30:$L$79,'A1'!$K$30:$L$79)>0,1)))>(B75+1),(B75+1),\"\"))","v":""},"",{"$f":"IF(C77=\"\",\"\",SUM(IF('A1'!J$30:J$79=\"HOT\",IF('A1'!K$30:K$79>=A76,IF('A1'!L$30:L$79<=A78,1*'A1'!H$30:H$79,0),0),0),IF('A1'!J$30:J$79=\"COLD\",IF('A1'!K$30:K$79<=A78,IF('A1'!L$30:L$79>=A76,-1*'A1'!H$30:H$79,0),0),0)))","v":""},"","",null,"",{"$f":"IF(A77=\"\",\"\",\"▼\")","v":""},{"$f":"IF(A77=\"\",\"\",J$5+SUM(I$6:I76))","v":""},null,{"$f":"IF(L76=\"\",\"\",IF((M$5+SUM(L$6:L76))>=0,\"▼\",\"▲\"))","v":""},{"$f":"IF(A77=\"\",\"\",IF(L77=\"▼\",((M$5)+(SUM(L$6:L76))),(-(M$5+SUM(L$6:L76)))))","v":""}]
[{"$f":"IF(B77=\"\",\"\",(LARGE('A1'!$K$30:$L$79,(1+SUM(COUNTIF('A1'!$K$30:$L$79,A$5:A77))-(B77*COUNTIF('A1'!$K$30:$L$79,A$6))))))","v":""},{"$f":"IF(B76=\"\",\"\",IF((SUM(IF(FREQUENCY('A1'!$K$30:$L$79,'A1'!$K$30:$L$79)>0,1)))>(B76+1),(B76+1),\"\"))","v":""},"",{"$f":"IF(C78=\"\",\"\",SUM(IF('A1'!J$30:J$79=\"HOT\",IF('A1'!K$30:K$79>=A77,IF('A1'!L$30:L$79<=A79,1*'A1'!H$30:H$79,0),0),0),IF('A1'!J$30:J$79=\"COLD\",IF('A1'!K$30:K$79<=A79,IF('A1'!L$30:L$79>=A77,-1*'A1'!H$30:H$79,0),0),0)))","v":""},"","",null,"",{"$f":"E78","v":""},{"$f":"IF(A78=\"\",\"\",J$5+SUM(I$6:I77))","v":""},null,{"$f":"E78","v":""},{"$f":"IF(A78=\"\",\"\",IF(L78=\"▼\",((M$5)+(SUM(L$6:L77))),(-(M$5+SUM(L$6:L77)))))","v":""}]
[{"$f":"IF(B78=\"\",\"\",(LARGE('A1'!$K$30:$L$79,(1+SUM(COUNTIF('A1'!$K$30:$L$79,A$5:A78))-(B78*COUNTIF('A1'!$K$30:$L$79,A$6))))))","v":""},{"$f":"IF(B77=\"\",\"\",IF((SUM(IF(FREQUENCY('A1'!$K$30:$L$79,'A1'!$K$30:$L$79)>0,1)))>(B77+1),(B77+1),\"\"))","v":""},"",{"$f":"IF(C79=\"\",\"\",SUM(IF('A1'!J$30:J$79=\"HOT\",IF('A1'!K$30:K$79>=A78,IF('A1'!L$30:L$79<=A80,1*'A1'!H$30:H$79,0),0),0),IF('A1'!J$30:J$79=\"COLD\",IF('A1'!K$30:K$79<=A80,IF('A1'!L$30:L$79>=A78,-1*'A1'!H$30:H$79,0),0),0)))","v":""},{"$f":"IF(D79=\"\",\"\",D79*C79)","v":""},"",null,"",{"$f":"IF(A79=\"\",\"\",\"▼\")","v":""},{"$f":"IF(A79=\"\",\"\",J$5+SUM(I$6:I78))","v":""},null,{"$f":"IF(L78=\"\",\"\",IF((M$5+SUM(L$6:L78))>=0,\"▼\",\"▲\"))","v":""},{"$f":"IF(A79=\"\",\"\",IF(L79=\"▼\",((M$5)+(SUM(L$6:L78))),(-(M$5+SUM(L$6:L78)))))","v":""}]
[{"$f":"IF(B79=\"\",\"\",(LARGE('A1'!$K$30:$L$79,(1+SUM(COUNTIF('A1'!$K$30:$L$79,A$5:A79))-(B79*COUNTIF('A1'!$K$30:$L$79,A$6))))))","v":""},{"$f":"IF(B78=\"\",\"\",IF((SUM(IF(FREQUENCY('A1'!$K$30:$L$79,'A1'!$K$30:$L$79)>0,1)))>(B78+1),(B78+1),\"\"))","v":""},"",{"$f":"IF(C80=\"\",\"\",SUM(IF('A1'!J$30:J$79=\"HOT\",IF('A1'!K$30:K$79>=A79,IF('A1'!L$30:L$79<=A81,1*'A1'!H$30:H$79,0),0),0),IF('A1'!J$30:J$79=\"COLD\",IF('A1'!K$30:K$79<=A81,IF('A1'!L$30:L$79>=A79,-1*'A1'!H$30:H$79,0),0),0)))","v":""},"","",null,"",{"$f":"E80","v":""},{"$f":"IF(A80=\"\",\"\",J$5+SUM(I$6:I79))","v":""},null,{"$f":"E80","v":""},{"$f":"IF(A80=\"\",\"\",IF(L80=\"▼\",((M$5)+(SUM(L$6:L79))),(-(M$5+SUM(L$6:L79)))))","v":""}]
[{"$f":"IF(B80=\"\",\"\",(LARGE('A1'!$K$30:$L$79,(1+SUM(COUNTIF('A1'!$K$30:$L$79,A$5:A80))-(B80*COUNTIF('A1'!$K$30:$L$79,A$6))))))","v":""},{"$f":"IF(B79=\"\",\"\",IF((SUM(IF(FREQUENCY('A1'!$K$30:$L$79,'A1'!$K$30:$L$79)>0,1)))>(B79+1),(B79+1),\"\"))","v":""},"",{"$f":"IF(C81=\"\",\"\",SUM(IF('A1'!J$30:J$79=\"HOT\",IF('A1'!K$30:K$79>=A80,IF('A1'!L$30:L$79<=A82,1*'A1'!H$30:H$79,0),0),0),IF('A1'!J$30:J$79=\"COLD\",IF('A1'!K$30:K$79<=A82,IF('A1'!L$30:L$79>=A80,-1*'A1'!H$30:H$79,0),0),0)))","v":""},"","",null,"",{"$f":"IF(A81=\"\",\"\",\"▼\")","v":""},{"$f":"IF(A81=\"\",\"\",J$5+SUM(I$6:I80))","v":""},null,{"$f":"IF(L80=\"\",\"\",IF((M$5+SUM(L$6:L80))>=0,\"▼\",\"▲\"))","v":""},{"$f":"IF(A81=\"\",\"\",IF(L81=\"▼\",((M$5)+(SUM(L$6:L80))),(-(M$5+SUM(L$6:L80)))))","v":""}]
[{"$f":"IF(B81=\"\",\"\",(LARGE('A1'!$K$30:$L$79,(1+SUM(COUNTIF('A1'!$K$30:$L$79,A$5:A81))-(B81*COUNTIF('A1'!$K$30:$L$79,A$6))))))","v":""},{"$f":"IF(B80=\"\",\"\",IF((SUM(IF(FREQUENCY('A1'!$K$30:$L$79,'A1'!$K$30:$L$79)>0,1)))>(B80+1),(B80+1),\"\"))","v":""},"",{"$f":"IF(C82=\"\",\"\",SUM(IF('A1'!J$30:J$79=\"HOT\",IF('A1'!K$30:K$79>=A81,IF('A1'!L$30:L$79<=A83,1*'A1'!H$30:H$79,0),0),0),IF('A1'!J$30:J$79=\"COLD\",IF('A1'!K$30:K$79<=A83,IF('A1'!L$30:L$79>=A81,-1*'A1'!H$30:H$79,0),0),0)))","v":""},"","",null,"",{"$f":"E82","v":""},{"$f":"IF(A82=\"\",\"\",J$5+SUM(I$6:I81))","v":""},null,{"$f":"E82","v":""},{"$f":"IF(A82=\"\",\"\",IF(L82=\"▼\",((M$5)+(SUM(L$6:L81))),(-(M$5+SUM(L$6:L81)))))","v":""}]
[{"$f":"IF(B82=\"\",\"\",(LARGE('A1'!$K$30:$L$79,(1+SUM(COUNTIF('A1'!$K$30:$L$79,A$5:A82))-(B82*COUNTIF('A1'!$K$30:$L$79,A$6))))))","v":""},{"$f":"IF(B81=\"\",\"\",IF((SUM(IF(FREQUENCY('A1'!$K$30:$L$79,'A1'!$K$30:$L$79)>0,1)))>(B81+1),(B81+1),\"\"))","v":""},"",{"$f":"IF(C83=\"\",\"\",SUM(IF('A1'!J$30:J$79=\"HOT\",IF('A1'!K$30:K$79>=A82,IF('A1'!L$30:L$79<=A84,1*'A1'!H$30:H$79,0),0),0),IF('A1'!J$30:J$79=\"COLD\",IF('A1'!K$30:K$79<=A84,IF('A1'!L$30:L$79>=A82,-1*'A1'!H$30:H$79,0),0),0)))","v":""},"","",null,"",{"$f":"IF(A83=\"\",\"\",\"▼\")","v":""},{"$f":"IF(A83=\"\",\"\",J$5+SUM(I$6:I82))","v":""},null,{"$f":"IF(L82=\"\",\"\",IF((M$5+SUM(L$6:L82))>=0,\"▼\",\"▲\"))","v":""},{"$f":"IF(A83=\"\",\"\",IF(L83=\"▼\",((M$5)+(SUM(L$6:L82))),(-(M$5+SUM(L$6:L82)))))","v":""}]
[{"$f":"IF(B83=\"\",\"\",(LARGE('A1'!$K$30:$L$79,(1+SUM(COUNTIF('A1'!$K$30:$L$79,A$5:A83))-(B83*COUNTIF('A1'!$K$30:$L$79,A$6))))))","v":""},{"$f":"IF(B82=\"\",\"\",IF((SUM(IF(FREQUENCY('A1'!$K$30:$L$79,'A1'!$K$30:$L$79)>0,1)))>(B82+1),(B82+1),\"\"))","v":""},"",{"$f":"IF(C84=\"\",\"\",SUM(IF('A1'!J$30:J$79=\"HOT\",IF('A1'!K$30:K$79>=A83,IF('A1'!L$30:L$79<=A85,1*'A1'!H$30:H$79,0),0),0),IF('A1'!J$30:J$79=\"COLD\",IF('A1'!K$30:K$79<=A85,IF('A1'!L$30:L$79>=A83,-1*'A1'!H$30:H$79,0),0),0)))","v":""},"","",null,"",{"$f":"E84","v":""},{"$f":"IF(A84=\"\",\"\",J$5+SUM(I$6:I83))","v":""},null,{"$f":"E84","v":""},{"$f":"IF(A84=\"\",\"\",IF(L84=\"▼\",((M$5)+(SUM(L$6:L83))),(-(M$5+SUM(L$6:L83)))))","v":""}]
[{"$f":"IF(B84=\"\",\"\",(LARGE('A1'!$K$30:$L$79,(1+SUM(COUNTIF('A1'!$K$30:$L$79,A$5:A84))-(B84*COUNTIF('A1'!$K$30:$L$79,A$6))))))","v":""},{"$f":"IF(B83=\"\",\"\",IF((SUM(IF(FREQUENCY('A1'!$K$30:$L$79,'A1'!$K$30:$L$79)>0,1)))>(B83+1),(B83+1),\"\"))","v":""},"",{"$f":"IF(C85=\"\",\"\",SUM(IF('A1'!J$30:J$79=\"HOT\",IF('A1'!K$30:K$79>=A84,IF('A1'!L$30:L$79<=A86,1*'A1'!H$30:H$79,0),0),0),IF('A1'!J$30:J$79=\"COLD\",IF('A1'!K$30:K$79<=A86,IF('A1'!L$30:L$79>=A84,-1*'A1'!H$30:H$79,0),0),0)))","v":""},"","",null,"",{"$f":"IF(A85=\"\",\"\",\"▼\")","v":""},{"$f":"IF(A85=\"\",\"\",J$5+SUM(I$6:I84))","v":""},null,{"$f":"IF(L84=\"\",\"\",IF((M$5+SUM(L$6:L84))>=0,\"▼\",\"▲\"))","v":""},{"$f":"IF(A85=\"\",\"\",IF(L85=\"▼\",((M$5)+(SUM(L$6:L84))),(-(M$5+SUM(L$6:L84)))))","v":""}]
[{"$f":"IF(B85=\"\",\"\",(LARGE('A1'!$K$30:$L$79,(1+SUM(COUNTIF('A1'!$K$30:$L$79,A$5:A85))-(B85*COUNTIF('A1'!$K$30:$L$79,A$6))))))","v":""},{"$f":"IF(B84=\"\",\"\",IF((SUM(IF(FREQUENCY('A1'!$K$30:$L$79,'A1'!$K$30:$L$79)>0,1)))>(B84+1),(B84+1),\"\"))","v":""},"",{"$f":"IF(C86=\"\",\"\",SUM(IF('A1'!J$30:J$79=\"HOT\",IF('A1'!K$30:K$79>=A85,IF('A1'!L$30:L$79<=A87,1*'A1'!H$30:H$79,0),0),0),IF('A1'!J$30:J$79=\"COLD\",IF('A1'!K$30:K$79<=A87,IF('A1'!L$30:L$79>=A85,-1*'A1'!H$30:H$79,0),0),0)))","v":""},"","",null,"",{"$f":"E86","v":""},{"$f":"IF(A86=\"\",\"\",J$5+SUM(I$6:I85))","v":""},null,{"$f":"E86","v":""},{"$f":"IF(A86=\"\",\"\",IF(L86=\"▼\",((M$5)+(SUM(L$6:L85))),(-(M$5+SUM(L$6:L85)))))","v":""}]
[{"$f":"IF(B86=\"\",\"\",(LARGE('A1'!$K$30:$L$79,(1+SUM(COUNTIF('A1'!$K$30:$L$79,A$5:A86))-(B86*COUNTIF('A1'!$K$30:$L$79,A$6))))))","v":""},{"$f":"IF(B85=\"\",\"\",IF((SUM(IF(FREQUENCY('A1'!$K$30:$L$79,'A1'!$K$30:$L$79)>0,1)))>(B85+1),(B85+1),\"\"))","v":""},"",{"$f":"IF(C87=\"\",\"\",SUM(IF('A1'!J$30:J$79=\"HOT\",IF('A1'!K$30:K$79>=A86,IF('A1'!L$30:L$79<=A88,1*'A1'!H$30:H$79,0),0),0),IF('A1'!J$30:J$79=\"COLD\",IF('A1'!K$30:K$79<=A88,IF('A1'!L$30:L$79>=A86,-1*'A1'!H$30:H$79,0),0),0)))","v":""},"","",null,"",{"$f":"IF(A87=\"\",\"\",\"▼\")","v":""},{"$f":"IF(A87=\"\",\"\",J$5+SUM(I$6:I86))","v":""},null,{"$f":"IF(L86=\"\",\"\",IF((M$5+SUM(L$6:L86))>=0,\"▼\",\"▲\"))","v":""},{"$f":"IF(A87=\"\",\"\",IF(L87=\"▼\",((M$5)+(SUM(L$6:L86))),(-(M$5+SUM(L$6:L86)))))","v":""}]
[{"$f":"IF(B87=\"\",\"\",(LARGE('A1'!$K$30:$L$79,(1+SUM(COUNTIF('A1'!$K$30:$L$79,A$5:A87))-(B87*COUNTIF('A1'!$K$30:$L$79,A$6))))))","v":""},{"$f":"IF(B86=\"\",\"\",IF((SUM(IF(FREQUENCY('A1'!$K$30:$L$79,'A1'!$K$30:$L$79)>0,1)))>(B86+1),(B86+1),\"\"))","v":""},"",{"$f":"IF(C88=\"\",\"\",SUM(IF('A1'!J$30:J$79=\"HOT\",IF('A1'!K$30:K$79>=A87,IF('A1'!L$30:L$79<=A89,1*'A1'!H$30:H$79,0),0),0),IF('A1'!J$30:J$79=\"COLD\",IF('A1'!K$30:K$79<=A89,IF('A1'!L$30:L$79>=A87,-1*'A1'!H$30:H$79,0),0),0)))","v":""},"","",null,"",{"$f":"E88","v":""},{"$f":"IF(A88=\"\",\"\",J$5+SUM(I$6:I87))","v":""},null,{"$f":"E88","v":""},{"$f":"IF(A88=\"\",\"\",IF(L88=\"▼\",((M$5)+(SUM(L$6:L87))),(-(M$5+SUM(L$6:L87)))))","v":""}]
[{"$f":"IF(B88=\"\",\"\",(LARGE('A1'!$K$30:$L$79,(1+SUM(COUNTIF('A1'!$K$30:$L$79,A$5:A88))-(B88*COUNTIF('A1'!$K$30:$L$79,A$6))))))","v":""},{"$f":"IF(B87=\"\",\"\",IF((SUM(IF(FREQUENCY('A1'!$K$30:$L$79,'A1'!$K$30:$L$79)>0,1)))>(B87+1),(B87+1),\"\"))","v":""},"",{"$f":"IF(C89=\"\",\"\",SUM(IF('A1'!J$30:J$79=\"HOT\",IF('A1'!K$30:K$79>=A88,IF('A1'!L$30:L$79<=A90,1*'A1'!H$30:H$79,0),0),0),IF('A1'!J$30:J$79=\"COLD\",IF('A1'!K$30:K$79<=A90,IF('A1'!L$30:L$79>=A88,-1*'A1'!H$30:H$79,0),0),0)))","v":""},"","",null,"",{"$f":"IF(A89=\"\",\"\",\"▼\")","v":""},{"$f":"IF(A89=\"\",\"\",J$5+SUM(I$6:I88))","v":""},null,{"$f":"IF(L88=\"\",\"\",IF((M$5+SUM(L$6:L88))>=0,\"▼\",\"▲\"))","v":""},{"$f":"IF(A89=\"\",\"\",IF(L89=\"▼\",((M$5)+(SUM(L$6:L88))),(-(M$5+SUM(L$6:L88)))))","v":""}]
[{"$f":"IF(B89=\"\",\"\",(LARGE('A1'!$K$30:$L$79,(1+SUM(COUNTIF('A1'!$K$30:$L$79,A$5:A89))-(B89*COUNTIF('A1'!$K$30:$L$79,A$6))))))","v":""},{"$f":"IF(B88=\"\",\"\",IF((SUM(IF(FREQUENCY('A1'!$K$30:$L$79,'A1'!$K$30:$L$79)>0,1)))>(B88+1),(B88+1),\"\"))","v":""},"",{"$f":"IF(C90=\"\",\"\",SUM(IF('A1'!J$30:J$79=\"HOT\",IF('A1'!K$30:K$79>=A89,IF('A1'!L$30:L$79<=A91,1*'A1'!H$30:H$79,0),0),0),IF('A1'!J$30:J$79=\"COLD\",IF('A1'!K$30:K$79<=A91,IF('A1'!L$30:L$79>=A89,-1*'A1'!H$30:H$79,0),0),0)))","v":""},"","",null,"",{"$f":"E90","v":""},{"$f":"IF(A90=\"\",\"\",J$5+SUM(I$6:I89))","v":""},null,{"$f":"E90","v":""},{"$f":"IF(A90=\"\",\"\",IF(L90=\"▼\",((M$5)+(SUM(L$6:L89))),(-(M$5+SUM(L$6:L89)))))","v":""}]
[{"$f":"IF(B90=\"\",\"\",(LARGE('A1'!$K$30:$L$79,(1+SUM(COUNTIF('A1'!$K$30:$L$79,A$5:A90))-(B90*COUNTIF('A1'!$K$30:$L$79,A$6))))))","v":""},{"$f":"IF(B89=\"\",\"\",IF((SUM(IF(FREQUENCY('A1'!$K$30:$L$79,'A1'!$K$30:$L$79)>0,1)))>(B89+1),(B89+1),\"\"))","v":""},"",{"$f":"IF(C91=\"\",\"\",SUM(IF('A1'!J$30:J$79=\"HOT\",IF('A1'!K$30:K$79>=A90,IF('A1'!L$30:L$79<=A92,1*'A1'!H$30:H$79,0),0),0),IF('A1'!J$30:J$79=\"COLD\",IF('A1'!K$30:K$79<=A92,IF('A1'!L$30:L$79>=A90,-1*'A1'!H$30:H$79,0),0),0)))","v":""},"","",null,"",{"$f":"IF(A91=\"\",\"\",\"▼\")","v":""},{"$f":"IF(A91=\"\",\"\",J$5+SUM(I$6:I90))","v":""},null,{"$f":"IF(L90=\"\",\"\",IF((M$5+SUM(L$6:L90))>=0,\"▼\",\"▲\"))","v":""},{"$f":"IF(A91=\"\",\"\",IF(L91=\"▼\",((M$5)+(SUM(L$6:L90))),(-(M$5+SUM(L$6:L90)))))","v":""}]
[{"$f":"IF(B91=\"\",\"\",(LARGE('A1'!$K$30:$L$79,(1+SUM(COUNTIF('A1'!$K$30:$L$79,A$5:A91))-(B91*COUNTIF('A1'!$K$30:$L$79,A$6))))))","v":""},{"$f":"IF(B90=\"\",\"\",IF((SUM(IF(FREQUENCY('A1'!$K$30:$L$79,'A1'!$K$30:$L$79)>0,1)))>(B90+1),(B90+1),\"\"))","v":""},"",{"$f":"IF(C92=\"\",\"\",SUM(IF('A1'!J$30:J$79=\"HOT\",IF('A1'!K$30:K$79>=A91,IF('A1'!L$30:L$79<=A93,1*'A1'!H$30:H$79,0),0),0),IF('A1'!J$30:J$79=\"COLD\",IF('A1'!K$30:K$79<=A93,IF('A1'!L$30:L$79>=A91,-1*'A1'!H$30:H$79,0),0),0)))","v":""},"","",null,"",{"$f":"E92","v":""},{"$f":"IF(A92=\"\",\"\",J$5+SUM(I$6:I91))","v":""},null,{"$f":"E92","v":""},{"$f":"IF(A92=\"\",\"\",IF(L92=\"▼\",((M$5)+(SUM(L$6:L91))),(-(M$5+SUM(L$6:L91)))))","v":""}]
[{"$f":"IF(B92=\"\",\"\",(LARGE('A1'!$K$30:$L$79,(1+SUM(COUNTIF('A1'!$K$30:$L$79,A$5:A92))-(B92*COUNTIF('A1'!$K$30:$L$79,A$6))))))","v":""},{"$f":"IF(B91=\"\",\"\",IF((SUM(IF(FREQUENCY('A1'!$K$30:$L$79,'A1'!$K$30:$L$79)>0,1)))>(B91+1),(B91+1),\"\"))","v":""},"",{"$f":"IF(C93=\"\",\"\",SUM(IF('A1'!J$30:J$79=\"HOT\",IF('A1'!K$30:K$79>=A92,IF('A1'!L$30:L$79<=A94,1*'A1'!H$30:H$79,0),0),0),IF('A1'!J$30:J$79=\"COLD\",IF('A1'!K$30:K$79<=A94,IF('A1'!L$30:L$79>=A92,-1*'A1'!H$30:H$79,0),0),0)))","v":""},"","",null,"",{"$f":"IF(A93=\"\",\"\",\"▼\")","v":""},{"$f":"IF(A93=\"\",\"\",J$5+SUM(I$6:I92))","v":""},null,{"$f":"IF(L92=\"\",\"\",IF((M$5+SUM(L$6:L92))>=0,\"▼\",\"▲\"))","v":""},{"$f":"IF(A93=\"\",\"\",IF(L93=\"▼\",((M$5)+(SUM(L$6:L92))),(-(M$5+SUM(L$6:L92)))))","v":""}]
[{"$f":"IF(B93=\"\",\"\",(LARGE('A1'!$K$30:$L$79,(1+SUM(COUNTIF('A1'!$K$30:$L$79,A$5:A93))-(B93*COUNTIF('A1'!$K$30:$L$79,A$6))))))","v":""},{"$f":"IF(B92=\"\",\"\",IF((SUM(IF(FREQUENCY('A1'!$K$30:$L$79,'A1'!$K$30:$L$79)>0,1)))>(B92+1),(B92+1),\"\"))","v":""},"",{"$f":"IF(C94=\"\",\"\",SUM(IF('A1'!J$30:J$79=\"HOT\",IF('A1'!K$30:K$79>=A93,IF('A1'!L$30:L$79<=A95,1*'A1'!H$30:H$79,0),0),0),IF('A1'!J$30:J$79=\"COLD\",IF('A1'!K$30:K$79<=A95,IF('A1'!L$30:L$79>=A93,-1*'A1'!H$30:H$79,0),0),0)))","v":""},"","",null,"",{"$f":"E94","v":""},{"$f":"IF(A94=\"\",\"\",J$5+SUM(I$6:I93))","v":""},null,{"$f":"E94","v":""},{"$f":"IF(A94=\"\",\"\",IF(L94=\"▼\",((M$5)+(SUM(L$6:L93))),(-(M$5+SUM(L$6:L93)))))","v":""}]
[{"$f":"IF(B94=\"\",\"\",(LARGE('A1'!$K$30:$L$79,(1+SUM(COUNTIF('A1'!$K$30:$L$79,A$5:A94))-(B94*COUNTIF('A1'!$K$30:$L$79,A$6))))))","v":""},{"$f":"IF(B93=\"\",\"\",IF((SUM(IF(FREQUENCY('A1'!$K$30:$L$79,'A1'!$K$30:$L$79)>0,1)))>(B93+1),(B93+1),\"\"))","v":""},"",{"$f":"IF(C95=\"\",\"\",SUM(IF('A1'!J$30:J$79=\"HOT\",IF('A1'!K$30:K$79>=A94,IF('A1'!L$30:L$79<=A96,1*'A1'!H$30:H$79,0),0),0),IF('A1'!J$30:J$79=\"COLD\",IF('A1'!K$30:K$79<=A96,IF('A1'!L$30:L$79>=A94,-1*'A1'!H$30:H$79,0),0),0)))","v":""},"","",null,"",{"$f":"IF(A95=\"\",\"\",\"▼\")","v":""},{"$f":"IF(A95=\"\",\"\",J$5+SUM(I$6:I94))","v":""},null,{"$f":"IF(L94=\"\",\"\",IF((M$5+SUM(L$6:L94))>=0,\"▼\",\"▲\"))","v":""},{"$f":"IF(A95=\"\",\"\",IF(L95=\"▼\",((M$5)+(SUM(L$6:L94))),(-(M$5+SUM(L$6:L94)))))","v":""}]
[{"$f":"IF(B95=\"\",\"\",(LARGE('A1'!$K$30:$L$79,(1+SUM(COUNTIF('A1'!$K$30:$L$79,A$5:A95))-(B95*COUNTIF('A1'!$K$30:$L$79,A$6))))))","v":""},{"$f":"IF(B94=\"\",\"\",IF((SUM(IF(FREQUENCY('A1'!$K$30:$L$79,'A1'!$K$30:$L$79)>0,1)))>(B94+1),(B94+1),\"\"))","v":""},"",{"$f":"IF(C96=\"\",\"\",SUM(IF('A1'!J$30:J$79=\"HOT\",IF('A1'!K$30:K$79>=A95,IF('A1'!L$30:L$79<=A97,1*'A1'!H$30:H$79,0),0),0),IF('A1'!J$30:J$79=\"COLD\",IF('A1'!K$30:K$79<=A97,IF('A1'!L$30:L$79>=A95,-1*'A1'!H$30:H$79,0),0),0)))","v":""},"","",null,"",{"$f":"E96","v":""},{"$f":"IF(A96=\"\",\"\",J$5+SUM(I$6:I95))","v":""},null,{"$f":"E96","v":""},{"$f":"IF(A96=\"\",\"\",IF(L96=\"▼\",((M$5)+(SUM(L$6:L95))),(-(M$5+SUM(L$6:L95)))))","v":""}]
[{"$f":"IF(B96=\"\",\"\",(LARGE('A1'!$K$30:$L$79,(1+SUM(COUNTIF('A1'!$K$30:$L$79,A$5:A96))-(B96*COUNTIF('A1'!$K$30:$L$79,A$6))))))","v":""},{"$f":"IF(B95=\"\",\"\",IF((SUM(IF(FREQUENCY('A1'!$K$30:$L$79,'A1'!$K$30:$L$79)>0,1)))>(B95+1),(B95+1),\"\"))","v":""},"",{"$f":"IF(C97=\"\",\"\",SUM(IF('A1'!J$30:J$79=\"HOT\",IF('A1'!K$30:K$79>=A96,IF('A1'!L$30:L$79<=A98,1*'A1'!H$30:H$79,0),0),0),IF('A1'!J$30:J$79=\"COLD\",IF('A1'!K$30:K$79<=A98,IF('A1'!L$30:L$79>=A96,-1*'A1'!H$30:H$79,0),0),0)))","v":""},"","",null,"",{"$f":"IF(A97=\"\",\"\",\"▼\")","v":""},{"$f":"IF(A97=\"\",\"\",J$5+SUM(I$6:I96))","v":""},null,{"$f":"IF(L96=\"\",\"\",IF((M$5+SUM(L$6:L96))>=0,\"▼\",\"▲\"))","v":""},{"$f":"IF(A97=\"\",\"\",IF(L97=\"▼\",((M$5)+(SUM(L$6:L96))),(-(M$5+SUM(L$6:L96)))))","v":""}]
[{"$f":"IF(B97=\"\",\"\",(LARGE('A1'!$K$30:$L$79,(1+SUM(COUNTIF('A1'!$K$30:$L$79,A$5:A97))-(B97*COUNTIF('A1'!$K$30:$L$79,A$6))))))","v":""},{"$f":"IF(B96=\"\",\"\",IF((SUM(IF(FREQUENCY('A1'!$K$30:$L$79,'A1'!$K$30:$L$79)>0,1)))>(B96+1),(B96+1),\"\"))","v":""},"",{"$f":"IF(C98=\"\",\"\",SUM(IF('A1'!J$30:J$79=\"HOT\",IF('A1'!K$30:K$79>=A97,IF('A1'!L$30:L$79<=A99,1*'A1'!H$30:H$79,0),0),0),IF('A1'!J$30:J$79=\"COLD\",IF('A1'!K$30:K$79<=A99,IF('A1'!L$30:L$79>=A97,-1*'A1'!H$30:H$79,0),0),0)))","v":""},"","",null,"",{"$f":"E98","v":""},{"$f":"IF(A98=\"\",\"\",J$5+SUM(I$6:I97))","v":""},null,{"$f":"E98","v":""},{"$f":"IF(A98=\"\",\"\",IF(L98=\"▼\",((M$5)+(SUM(L$6:L97))),(-(M$5+SUM(L$6:L97)))))","v":""}]
[{"$f":"IF(B98=\"\",\"\",(LARGE('A1'!$K$30:$L$79,(1+SUM(COUNTIF('A1'!$K$30:$L$79,A$5:A98))-(B98*COUNTIF('A1'!$K$30:$L$79,A$6))))))","v":""},{"$f":"IF(B97=\"\",\"\",IF((SUM(IF(FREQUENCY('A1'!$K$30:$L$79,'A1'!$K$30:$L$79)>0,1)))>(B97+1),(B97+1),\"\"))","v":""},"",{"$f":"IF(C99=\"\",\"\",SUM(IF('A1'!J$30:J$79=\"HOT\",IF('A1'!K$30:K$79>=A98,IF('A1'!L$30:L$79<=A100,1*'A1'!H$30:H$79,0),0),0),IF('A1'!J$30:J$79=\"COLD\",IF('A1'!K$30:K$79<=A100,IF('A1'!L$30:L$79>=A98,-1*'A1'!H$30:H$79,0),0),0)))","v":""},"","",null,"",{"$f":"IF(A99=\"\",\"\",\"▼\")","v":""},{"$f":"IF(A99=\"\",\"\",J$5+SUM(I$6:I98))","v":""},null,{"$f":"IF(L98=\"\",\"\",IF((M$5+SUM(L$6:L98))>=0,\"▼\",\"▲\"))","v":""},{"$f":"IF(A99=\"\",\"\",IF(L99=\"▼\",((M$5)+(SUM(L$6:L98))),(-(M$5+SUM(L$6:L98)))))","v":""}]
[{"$f":"IF(B99=\"\",\"\",(LARGE('A1'!$K$30:$L$79,(1+SUM(COUNTIF('A1'!$K$30:$L$79,A$5:A99))-(B99*COUNTIF('A1'!$K$30:$L$79,A$6))))))","v":""},{"$f":"IF(B98=\"\",\"\",IF((SUM(IF(FREQUENCY('A1'!$K$30:$L$79,'A1'!$K$30:$L$79)>0,1)))>(B98+1),(B98+1),\"\"))","v":""},"",{"$f":"IF(C100=\"\",\"\",SUM(IF('A1'!J$30:J$79=\"HOT\",IF('A1'!K$30:K$79>=A99,IF('A1'!L$30:L$79<=A101,1*'A1'!H$30:H$79,0),0),0),IF('A1'!J$30:J$79=\"COLD\",IF('A1'!K$30:K$79<=A101,IF('A1'!L$30:L$79>=A99,-1*'A1'!H$30:H$79,0),0),0)))","v":""},"","",null,"",{"$f":"E100","v":""},{"$f":"IF(A100=\"\",\"\",J$5+SUM(I$6:I99))","v":""},null,{"$f":"E100","v":""},{"$f":"IF(A100=\"\",\"\",IF(L100=\"▼\",((M$5)+(SUM(L$6:L99))),(-(M$5+SUM(L$6:L99)))))","v":""}]
[{"$f":"IF(B100=\"\",\"\",(LARGE('A1'!$K$30:$L$79,(1+SUM(COUNTIF('A1'!$K$30:$L$79,A$5:A100))-(B100*COUNTIF('A1'!$K$30:$L$79,A$6))))))","v":""},{"$f":"IF(B99=\"\",\"\",IF((SUM(IF(FREQUENCY('A1'!$K$30:$L$79,'A1'!$K$30:$L$79)>0,1)))>(B99+1),(B99+1),\"\"))","v":""},"",{"$f":"IF(C101=\"\",\"\",SUM(IF('A1'!J$30:J$79=\"HOT\",IF('A1'!K$30:K$79>=A100,IF('A1'!L$30:L$79<=A102,1*'A1'!H$30:H$79,0),0),0),IF('A1'!J$30:J$79=\"COLD\",IF('A1'!K$30:K$79<=A102,IF('A1'!L$30:L$79>=A100,-1*'A1'!H$30:H$79,0),0),0)))","v":""},"","",null,"",{"$f":"IF(A101=\"\",\"\",\"▼\")","v":""},{"$f":"IF(A101=\"\",\"\",J$5+SUM(I$6:I100))","v":""},null,{"$f":"IF(L100=\"\",\"\",IF((M$5+SUM(L$6:L100))>=0,\"▼\",\"▲\"))","v":""},{"$f":"IF(A101=\"\",\"\",IF(L101=\"▼\",((M$5)+(SUM(L$6:L100))),(-(M$5+SUM(L$6:L100)))))","v":""}]
[{"$f":"IF(B101=\"\",\"\",(LARGE('A1'!$K$30:$L$79,(1+SUM(COUNTIF('A1'!$K$30:$L$79,A$5:A101))-(B101*COUNTIF('A1'!$K$30:$L$79,A$6))))))","v":""},{"$f":"IF(B100=\"\",\"\",IF((SUM(IF(FREQUENCY('A1'!$K$30:$L$79,'A1'!$K$30:$L$79)>0,1)))>(B100+1),(B100+1),\"\"))","v":""},"",{"$f":"IF(C102=\"\",\"\",SUM(IF('A1'!J$30:J$79=\"HOT\",IF('A1'!K$30:K$79>=A101,IF('A1'!L$30:L$79<=A103,1*'A1'!H$30:H$79,0),0),0),IF('A1'!J$30:J$79=\"COLD\",IF('A1'!K$30:K$79<=A103,IF('A1'!L$30:L$79>=A101,-1*'A1'!H$30:H$79,0),0),0)))","v":""},"","",null,"",{"$f":"E102","v":""},{"$f":"IF(A102=\"\",\"\",J$5+SUM(I$6:I101))","v":""},null,{"$f":"E102","v":""},{"$f":"IF(A102=\"\",\"\",IF(L102=\"▼\",((M$5)+(SUM(L$6:L101))),(-(M$5+SUM(L$6:L101)))))","v":""}]
[{"$f":"IF(B102=\"\",\"\",(LARGE('A1'!$K$30:$L$79,(1+SUM(COUNTIF('A1'!$K$30:$L$79,A$5:A102))-(B102*COUNTIF('A1'!$K$30:$L$79,A$6))))))","v":""},{"$f":"IF(B101=\"\",\"\",IF((SUM(IF(FREQUENCY('A1'!$K$30:$L$79,'A1'!$K$30:$L$79)>0,1)))>(B101+1),(B101+1),\"\"))","v":""},"",{"$f":"IF(C103=\"\",\"\",SUM(IF('A1'!J$30:J$79=\"HOT\",IF('A1'!K$30:K$79>=A102,IF('A1'!L$30:L$79<=A104,1*'A1'!H$30:H$79,0),0),0),IF('A1'!J$30:J$79=\"COLD\",IF('A1'!K$30:K$79<=A104,IF('A1'!L$30:L$79>=A102,-1*'A1'!H$30:H$79,0),0),0)))","v":""},"","",null,"",{"$f":"IF(A103=\"\",\"\",\"▼\")","v":""},{"$f":"IF(A103=\"\",\"\",J$5+SUM(I$6:I102))","v":""},null,{"$f":"IF(L102=\"\",\"\",IF((M$5+SUM(L$6:L102))>=0,\"▼\",\"▲\"))","v":""},{"$f":"IF(A103=\"\",\"\",IF(L103=\"▼\",((M$5)+(SUM(L$6:L102))),(-(M$5+SUM(L$6:L102)))))","v":""}]
[{"$f":"IF(B103=\"\",\"\",(LARGE('A1'!$K$30:$L$79,(1+SUM(COUNTIF('A1'!$K$30:$L$79,A$5:A103))-(B103*COUNTIF('A1'!$K$30:$L$79,A$6))))))","v":""},{"$f":"IF(B102=\"\",\"\",IF((SUM(IF(FREQUENCY('A1'!$K$30:$L$79,'A1'!$K$30:$L$79)>0,1)))>(B102+1),(B102+1),\"\"))","v":""},"",{"$f":"IF(C104=\"\",\"\",SUM(IF('A1'!J$30:J$79=\"HOT\",IF('A1'!K$30:K$79>=A103,IF('A1'!L$30:L$79<=A105,1*'A1'!H$30:H$79,0),0),0),IF('A1'!J$30:J$79=\"COLD\",IF('A1'!K$30:K$79<=A105,IF('A1'!L$30:L$79>=A103,-1*'A1'!H$30:H$79,0),0),0)))","v":""},"","",null,"",{"$f":"E104","v":""},{"$f":"IF(A104=\"\",\"\",J$5+SUM(I$6:I103))","v":""},null,{"$f":"E104","v":""},{"$f":"IF(A104=\"\",\"\",IF(L104=\"▼\",((M$5)+(SUM(L$6:L103))),(-(M$5+SUM(L$6:L103)))))","v":""}]
[{"$f":"IF(B104=\"\",\"\",(LARGE('A1'!$K$30:$L$79,(1+SUM(COUNTIF('A1'!$K$30:$L$79,A$5:A104))-(B104*COUNTIF('A1'!$K$30:$L$79,A$6))))))","v":""},{"$f":"IF(B103=\"\",\"\",IF((SUM(IF(FREQUENCY('A1'!$K$30:$L$79,'A1'!$K$30:$L$79)>0,1)))>(B103+1),(B103+1),\"\"))","v":""},"",{"$f":"IF(C105=\"\",\"\",SUM(IF('A1'!J$30:J$79=\"HOT\",IF('A1'!K$30:K$79>=A104,IF('A1'!L$30:L$79<=A106,1*'A1'!H$30:H$79,0),0),0),IF('A1'!J$30:J$79=\"COLD\",IF('A1'!K$30:K$79<=A106,IF('A1'!L$30:L$79>=A104,-1*'A1'!H$30:H$79,0),0),0)))","v":""},"","",null,"",{"$f":"IF(A105=\"\",\"\",\"▼\")","v":""},{"$f":"IF(A105=\"\",\"\",J$5+SUM(I$6:I104))","v":""},null,{"$f":"IF(L104=\"\",\"\",IF((M$5+SUM(L$6:L104))>=0,\"▼\",\"▲\"))","v":""},{"$f":"IF(A105=\"\",\"\",IF(L105=\"▼\",((M$5)+(SUM(L$6:L104))),(-(M$5+SUM(L$6:L104)))))","v":""}]
[{"$f":"IF(B105=\"\",\"\",(LARGE('A1'!$K$30:$L$79,(1+SUM(COUNTIF('A1'!$K$30:$L$79,A$5:A105))-(B105*COUNTIF('A1'!$K$30:$L$79,A$6))))))","v":""},{"$f":"IF(B104=\"\",\"\",IF((SUM(IF(FREQUENCY('A1'!$K$30:$L$79,'A1'!$K$30:$L$79)>0,1)))>(B104+1),(B104+1),\"\"))","v":""},"",{"$f":"IF(C106=\"\",\"\",SUM(IF('A1'!J$30:J$79=\"HOT\",IF('A1'!K$30:K$79>=A105,IF('A1'!L$30:L$79<=A107,1*'A1'!H$30:H$79,0),0),0),IF('A1'!J$30:J$79=\"COLD\",IF('A1'!K$30:K$79<=A107,IF('A1'!L$30:L$79>=A105,-1*'A1'!H$30:H$79,0),0),0)))","v":""},"","",null,"",{"$f":"E106","v":""},{"$f":"IF(A106=\"\",\"\",J$5+SUM(I$6:I105))","v":""},null,{"$f":"E106","v":""},{"$f":"IF(A106=\"\",\"\",IF(L106=\"▼\",((M$5)+(SUM(L$6:L105))),(-(M$5+SUM(L$6:L105)))))","v":""}]
[{"$f":"IF(B106=\"\",\"\",(LARGE('A1'!$K$30:$L$79,(1+SUM(COUNTIF('A1'!$K$30:$L$79,A$5:A106))-(B106*COUNTIF('A1'!$K$30:$L$79,A$6))))))","v":""},{"$f":"IF(B105=\"\",\"\",IF((SUM(IF(FREQUENCY('A1'!$K$30:$L$79,'A1'!$K$30:$L$79)>0,1)))>(B105+1),(B105+1),\"\"))","v":""},"",{"$f":"IF(C107=\"\",\"\",SUM(IF('A1'!J$30:J$79=\"HOT\",IF('A1'!K$30:K$79>=A106,IF('A1'!L$30:L$79<=A108,1*'A1'!H$30:H$79,0),0),0),IF('A1'!J$30:J$79=\"COLD\",IF('A1'!K$30:K$79<=A108,IF('A1'!L$30:L$79>=A106,-1*'A1'!H$30:H$79,0),0),0)))","v":""},"","",null,"",{"$f":"IF(A107=\"\",\"\",\"▼\")","v":""},{"$f":"IF(A107=\"\",\"\",J$5+SUM(I$6:I106))","v":""},null,{"$f":"IF(L106=\"\",\"\",IF((M$5+SUM(L$6:L106))>=0,\"▼\",\"▲\"))","v":""},{"$f":"IF(A107=\"\",\"\",IF(L107=\"▼\",((M$5)+(SUM(L$6:L106))),(-(M$5+SUM(L$6:L106)))))","v":""}]
[{"$f":"IF(B107=\"\",\"\",(LARGE('A1'!$K$30:$L$79,(1+SUM(COUNTIF('A1'!$K$30:$L$79,A$5:A107))-(B107*COUNTIF('A1'!$K$30:$L$79,A$6))))))","v":""},{"$f":"IF(B106=\"\",\"\",IF((SUM(IF(FREQUENCY('A1'!$K$30:$L$79,'A1'!$K$30:$L$79)>0,1)))>(B106+1),(B106+1),\"\"))","v":""},"",{"$f":"IF(C108=\"\",\"\",SUM(IF('A1'!J$30:J$79=\"HOT\",IF('A1'!K$30:K$79>=A107,IF('A1'!L$30:L$79<=A109,1*'A1'!H$30:H$79,0),0),0),IF('A1'!J$30:J$79=\"COLD\",IF('A1'!K$30:K$79<=A109,IF('A1'!L$30:L$79>=A107,-1*'A1'!H$30:H$79,0),0),0)))","v":""},"","",null,"",{"$f":"E108","v":""},{"$f":"IF(A108=\"\",\"\",J$5+SUM(I$6:I107))","v":""},null,{"$f":"E108","v":""},{"$f":"IF(A108=\"\",\"\",IF(L108=\"▼\",((M$5)+(SUM(L$6:L107))),(-(M$5+SUM(L$6:L107)))))","v":""}]
[{"$f":"IF(B108=\"\",\"\",(LARGE('A1'!$K$30:$L$79,(1+SUM(COUNTIF('A1'!$K$30:$L$79,A$5:A108))-(B108*COUNTIF('A1'!$K$30:$L$79,A$6))))))","v":""},{"$f":"IF(B107=\"\",\"\",IF((SUM(IF(FREQUENCY('A1'!$K$30:$L$79,'A1'!$K$30:$L$79)>0,1)))>(B107+1),(B107+1),\"\"))","v":""},"",{"$f":"IF(C109=\"\",\"\",SUM(IF('A1'!J$30:J$79=\"HOT\",IF('A1'!K$30:K$79>=A108,IF('A1'!L$30:L$79<=A110,1*'A1'!H$30:H$79,0),0),0),IF('A1'!J$30:J$79=\"COLD\",IF('A1'!K$30:K$79<=A110,IF('A1'!L$30:L$79>=A108,-1*'A1'!H$30:H$79,0),0),0)))","v":""},"","",null,"",{"$f":"IF(A109=\"\",\"\",\"▼\")","v":""},{"$f":"IF(A109=\"\",\"\",J$5+SUM(I$6:I108))","v":""},null,{"$f":"IF(L108=\"\",\"\",IF((M$5+SUM(L$6:L108))>=0,\"▼\",\"▲\"))","v":""},{"$f":"IF(A109=\"\",\"\",IF(L109=\"▼\",((M$5)+(SUM(L$6:L108))),(-(M$5+SUM(L$6:L108)))))","v":""}]
[{"$f":"IF(B109=\"\",\"\",(LARGE('A1'!$K$30:$L$79,(1+SUM(COUNTIF('A1'!$K$30:$L$79,A$5:A109))-(B109*COUNTIF('A1'!$K$30:$L$79,A$6))))))","v":""},{"$f":"IF(B108=\"\",\"\",IF((SUM(IF(FREQUENCY('A1'!$K$30:$L$79,'A1'!$K$30:$L$79)>0,1)))>(B108+1),(B108+1),\"\"))","v":""},"",{"$f":"IF(C110=\"\",\"\",SUM(IF('A1'!J$30:J$79=\"HOT\",IF('A1'!K$30:K$79>=A109,IF('A1'!L$30:L$79<=A111,1*'A1'!H$30:H$79,0),0),0),IF('A1'!J$30:J$79=\"COLD\",IF('A1'!K$30:K$79<=A111,IF('A1'!L$30:L$79>=A109,-1*'A1'!H$30:H$79,0),0),0)))","v":""},"","",null,"",{"$f":"E110","v":""},{"$f":"IF(A110=\"\",\"\",J$5+SUM(I$6:I109))","v":""},null,{"$f":"E110","v":""},{"$f":"IF(A110=\"\",\"\",IF(L110=\"▼\",((M$5)+(SUM(L$6:L109))),(-(M$5+SUM(L$6:L109)))))","v":""}]
[{"$f":"IF(B110=\"\",\"\",(LARGE('A1'!$K$30:$L$79,(1+SUM(COUNTIF('A1'!$K$30:$L$79,A$5:A110))-(B110*COUNTIF('A1'!$K$30:$L$79,A$6))))))","v":""},{"$f":"IF(B109=\"\",\"\",IF((SUM(IF(FREQUENCY('A1'!$K$30:$L$79,'A1'!$K$30:$L$79)>0,1)))>(B109+1),(B109+1),\"\"))","v":""},"",{"$f":"IF(C111=\"\",\"\",SUM(IF('A1'!J$30:J$79=\"HOT\",IF('A1'!K$30:K$79>=A110,IF('A1'!L$30:L$79<=A112,1*'A1'!H$30:H$79,0),0),0),IF('A1'!J$30:J$79=\"COLD\",IF('A1'!K$30:K$79<=A112,IF('A1'!L$30:L$79>=A110,-1*'A1'!H$30:H$79,0),0),0)))","v":""},"","",null,"",{"$f":"IF(A111=\"\",\"\",\"▼\")","v":""},{"$f":"IF(A111=\"\",\"\",J$5+SUM(I$6:I110))","v":""},null,{"$f":"IF(L110=\"\",\"\",IF((M$5+SUM(L$6:L110))>=0,\"▼\",\"▲\"))","v":""},{"$f":"IF(A111=\"\",\"\",IF(L111=\"▼\",((M$5)+(SUM(L$6:L110))),(-(M$5+SUM(L$6:L110)))))","v":""}]
[{"$f":"IF(B111=\"\",\"\",(LARGE('A1'!$K$30:$L$79,(1+SUM(COUNTIF('A1'!$K$30:$L$79,A$5:A111))-(B111*COUNTIF('A1'!$K$30:$L$79,A$6))))))","v":""},{"$f":"IF(B110=\"\",\"\",IF((SUM(IF(FREQUENCY('A1'!$K$30:$L$79,'A1'!$K$30:$L$79)>0,1)))>(B110+1),(B110+1),\"\"))","v":""},"",{"$f":"IF(C112=\"\",\"\",SUM(IF('A1'!J$30:J$79=\"HOT\",IF('A1'!K$30:K$79>=A111,IF('A1'!L$30:L$79<=A113,1*'A1'!H$30:H$79,0),0),0),IF('A1'!J$30:J$79=\"COLD\",IF('A1'!K$30:K$79<=A113,IF('A1'!L$30:L$79>=A111,-1*'A1'!H$30:H$79,0),0),0)))","v":""},"","",null,"",{"$f":"E112","v":""},{"$f":"IF(A112=\"\",\"\",J$5+SUM(I$6:I111))","v":""},null,{"$f":"E112","v":""},{"$f":"IF(A112=\"\",\"\",IF(L112=\"▼\",((M$5)+(SUM(L$6:L111))),(-(M$5+SUM(L$6:L111)))))","v":""}]
[{"$f":"IF(B112=\"\",\"\",(LARGE('A1'!$K$30:$L$79,(1+SUM(COUNTIF('A1'!$K$30:$L$79,A$5:A112))-(B112*COUNTIF('A1'!$K$30:$L$79,A$6))))))","v":""},{"$f":"IF(B111=\"\",\"\",IF((SUM(IF(FREQUENCY('A1'!$K$30:$L$79,'A1'!$K$30:$L$79)>0,1)))>(B111+1),(B111+1),\"\"))","v":""},"",{"$f":"IF(C113=\"\",\"\",SUM(IF('A1'!J$30:J$79=\"HOT\",IF('A1'!K$30:K$79>=A112,IF('A1'!L$30:L$79<=A114,1*'A1'!H$30:H$79,0),0),0),IF('A1'!J$30:J$79=\"COLD\",IF('A1'!K$30:K$79<=A114,IF('A1'!L$30:L$79>=A112,-1*'A1'!H$30:H$79,0),0),0)))","v":""},"","",null,"",{"$f":"IF(A113=\"\",\"\",\"▼\")","v":""},{"$f":"IF(A113=\"\",\"\",J$5+SUM(I$6:I112))","v":""},null,{"$f":"IF(L112=\"\",\"\",IF((M$5+SUM(L$6:L112))>=0,\"▼\",\"▲\"))","v":""},{"$f":"IF(A113=\"\",\"\",IF(L113=\"▼\",((M$5)+(SUM(L$6:L112))),(-(M$5+SUM(L$6:L112)))))","v":""}]
[{"$f":"IF(B113=\"\",\"\",(LARGE('A1'!$K$30:$L$79,(1+SUM(COUNTIF('A1'!$K$30:$L$79,A$5:A113))-(B113*COUNTIF('A1'!$K$30:$L$79,A$6))))))","v":""},{"$f":"IF(B112=\"\",\"\",IF((SUM(IF(FREQUENCY('A1'!$K$30:$L$79,'A1'!$K$30:$L$79)>0,1)))>(B112+1),(B112+1),\"\"))","v":""},"",{"$f":"IF(C114=\"\",\"\",SUM(IF('A1'!J$30:J$79=\"HOT\",IF('A1'!K$30:K$79>=A113,IF('A1'!L$30:L$79<=A115,1*'A1'!H$30:H$79,0),0),0),IF('A1'!J$30:J$79=\"COLD\",IF('A1'!K$30:K$79<=A115,IF('A1'!L$30:L$79>=A113,-1*'A1'!H$30:H$79,0),0),0)))","v":""},"","",null,"",{"$f":"E114","v":""},{"$f":"IF(A114=\"\",\"\",J$5+SUM(I$6:I113))","v":""},null,{"$f":"E114","v":""},{"$f":"IF(A114=\"\",\"\",IF(L114=\"▼\",((M$5)+(SUM(L$6:L113))),(-(M$5+SUM(L$6:L113)))))","v":""}]
[{"$f":"IF(B114=\"\",\"\",(LARGE('A1'!$K$30:$L$79,(1+SUM(COUNTIF('A1'!$K$30:$L$79,A$5:A114))-(B114*COUNTIF('A1'!$K$30:$L$79,A$6))))))","v":""},{"$f":"IF(B113=\"\",\"\",IF((SUM(IF(FREQUENCY('A1'!$K$30:$L$79,'A1'!$K$30:$L$79)>0,1)))>(B113+1),(B113+1),\"\"))","v":""},"",{"$f":"IF(C115=\"\",\"\",SUM(IF('A1'!J$30:J$79=\"HOT\",IF('A1'!K$30:K$79>=A114,IF('A1'!L$30:L$79<=A116,1*'A1'!H$30:H$79,0),0),0),IF('A1'!J$30:J$79=\"COLD\",IF('A1'!K$30:K$79<=A116,IF('A1'!L$30:L$79>=A114,-1*'A1'!H$30:H$79,0),0),0)))","v":""},"","",null,"",{"$f":"IF(A115=\"\",\"\",\"▼\")","v":""},{"$f":"IF(A115=\"\",\"\",J$5+SUM(I$6:I114))","v":""},null,{"$f":"IF(L114=\"\",\"\",IF((M$5+SUM(L$6:L114))>=0,\"▼\",\"▲\"))","v":""},{"$f":"IF(A115=\"\",\"\",IF(L115=\"▼\",((M$5)+(SUM(L$6:L114))),(-(M$5+SUM(L$6:L114)))))","v":""}]
[{"$f":"IF(B115=\"\",\"\",(LARGE('A1'!$K$30:$L$79,(1+SUM(COUNTIF('A1'!$K$30:$L$79,A$5:A115))-(B115*COUNTIF('A1'!$K$30:$L$79,A$6))))))","v":""},{"$f":"IF(B114=\"\",\"\",IF((SUM(IF(FREQUENCY('A1'!$K$30:$L$79,'A1'!$K$30:$L$79)>0,1)))>(B114+1),(B114+1),\"\"))","v":""},"",{"$f":"IF(C116=\"\",\"\",SUM(IF('A1'!J$30:J$79=\"HOT\",IF('A1'!K$30:K$79>=A115,IF('A1'!L$30:L$79<=A117,1*'A1'!H$30:H$79,0),0),0),IF('A1'!J$30:J$79=\"COLD\",IF('A1'!K$30:K$79<=A117,IF('A1'!L$30:L$79>=A115,-1*'A1'!H$30:H$79,0),0),0)))","v":""},"","",null,"",{"$f":"E116","v":""},{"$f":"IF(A116=\"\",\"\",J$5+SUM(I$6:I115))","v":""},null,{"$f":"E116","v":""},{"$f":"IF(A116=\"\",\"\",IF(L116=\"▼\",((M$5)+(SUM(L$6:L115))),(-(M$5+SUM(L$6:L115)))))","v":""}]
[{"$f":"IF(B116=\"\",\"\",(LARGE('A1'!$K$30:$L$79,(1+SUM(COUNTIF('A1'!$K$30:$L$79,A$5:A116))-(B116*COUNTIF('A1'!$K$30:$L$79,A$6))))))","v":""},{"$f":"IF(B115=\"\",\"\",IF((SUM(IF(FREQUENCY('A1'!$K$30:$L$79,'A1'!$K$30:$L$79)>0,1)))>(B115+1),(B115+1),\"\"))","v":""},"",{"$f":"IF(C117=\"\",\"\",SUM(IF('A1'!J$30:J$79=\"HOT\",IF('A1'!K$30:K$79>=A116,IF('A1'!L$30:L$79<=A118,1*'A1'!H$30:H$79,0),0),0),IF('A1'!J$30:J$79=\"COLD\",IF('A1'!K$30:K$79<=A118,IF('A1'!L$30:L$79>=A116,-1*'A1'!H$30:H$79,0),0),0)))","v":""},"","",null,"",{"$f":"IF(A117=\"\",\"\",\"▼\")","v":""},{"$f":"IF(A117=\"\",\"\",J$5+SUM(I$6:I116))","v":""},null,{"$f":"IF(L116=\"\",\"\",IF((M$5+SUM(L$6:L116))>=0,\"▼\",\"▲\"))","v":""},{"$f":"IF(A117=\"\",\"\",IF(L117=\"▼\",((M$5)+(SUM(L$6:L116))),(-(M$5+SUM(L$6:L116)))))","v":""}]
[{"$f":"IF(B117=\"\",\"\",(LARGE('A1'!$K$30:$L$79,(1+SUM(COUNTIF('A1'!$K$30:$L$79,A$5:A117))-(B117*COUNTIF('A1'!$K$30:$L$79,A$6))))))","v":""},{"$f":"IF(B116=\"\",\"\",IF((SUM(IF(FREQUENCY('A1'!$K$30:$L$79,'A1'!$K$30:$L$79)>0,1)))>(B116+1),(B116+1),\"\"))","v":""},"",{"$f":"IF(C118=\"\",\"\",SUM(IF('A1'!J$30:J$79=\"HOT\",IF('A1'!K$30:K$79>=A117,IF('A1'!L$30:L$79<=A119,1*'A1'!H$30:H$79,0),0),0),IF('A1'!J$30:J$79=\"COLD\",IF('A1'!K$30:K$79<=A119,IF('A1'!L$30:L$79>=A117,-1*'A1'!H$30:H$79,0),0),0)))","v":""},"","",null,"",{"$f":"E118","v":""},{"$f":"IF(A118=\"\",\"\",J$5+SUM(I$6:I117))","v":""},null,{"$f":"E118","v":""},{"$f":"IF(A118=\"\",\"\",IF(L118=\"▼\",((M$5)+(SUM(L$6:L117))),(-(M$5+SUM(L$6:L117)))))","v":""}]
[{"$f":"IF(B118=\"\",\"\",(LARGE('A1'!$K$30:$L$79,(1+SUM(COUNTIF('A1'!$K$30:$L$79,A$5:A118))-(B118*COUNTIF('A1'!$K$30:$L$79,A$6))))))","v":""},{"$f":"IF(B117=\"\",\"\",IF((SUM(IF(FREQUENCY('A1'!$K$30:$L$79,'A1'!$K$30:$L$79)>0,1)))>(B117+1),(B117+1),\"\"))","v":""},"",{"$f":"IF(C119=\"\",\"\",SUM(IF('A1'!J$30:J$79=\"HOT\",IF('A1'!K$30:K$79>=A118,IF('A1'!L$30:L$79<=A120,1*'A1'!H$30:H$79,0),0),0),IF('A1'!J$30:J$79=\"COLD\",IF('A1'!K$30:K$79<=A120,IF('A1'!L$30:L$79>=A118,-1*'A1'!H$30:H$79,0),0),0)))","v":""},"","",null,"",{"$f":"IF(A119=\"\",\"\",\"▼\")","v":""},{"$f":"IF(A119=\"\",\"\",J$5+SUM(I$6:I118))","v":""},null,{"$f":"IF(L118=\"\",\"\",IF((M$5+SUM(L$6:L118))>=0,\"▼\",\"▲\"))","v":""},{"$f":"IF(A119=\"\",\"\",IF(L119=\"▼\",((M$5)+(SUM(L$6:L118))),(-(M$5+SUM(L$6:L118)))))","v":""}]
[{"$f":"IF(B119=\"\",\"\",(LARGE('A1'!$K$30:$L$79,(1+SUM(COUNTIF('A1'!$K$30:$L$79,A$5:A119))-(B119*COUNTIF('A1'!$K$30:$L$79,A$6))))))","v":""},{"$f":"IF(B118=\"\",\"\",IF((SUM(IF(FREQUENCY('A1'!$K$30:$L$79,'A1'!$K$30:$L$79)>0,1)))>(B118+1),(B118+1),\"\"))","v":""},"",{"$f":"IF(C120=\"\",\"\",SUM(IF('A1'!J$30:J$79=\"HOT\",IF('A1'!K$30:K$79>=A119,IF('A1'!L$30:L$79<=A121,1*'A1'!H$30:H$79,0),0),0),IF('A1'!J$30:J$79=\"COLD\",IF('A1'!K$30:K$79<=A121,IF('A1'!L$30:L$79>=A119,-1*'A1'!H$30:H$79,0),0),0)))","v":""},"","",null,"",{"$f":"E120","v":""},{"$f":"IF(A120=\"\",\"\",J$5+SUM(I$6:I119))","v":""},null,{"$f":"E120","v":""},{"$f":"IF(A120=\"\",\"\",IF(L120=\"▼\",((M$5)+(SUM(L$6:L119))),(-(M$5+SUM(L$6:L119)))))","v":""}]
[{"$f":"IF(B120=\"\",\"\",(LARGE('A1'!$K$30:$L$79,(1+SUM(COUNTIF('A1'!$K$30:$L$79,A$5:A120))-(B120*COUNTIF('A1'!$K$30:$L$79,A$6))))))","v":""},{"$f":"IF(B119=\"\",\"\",IF((SUM(IF(FREQUENCY('A1'!$K$30:$L$79,'A1'!$K$30:$L$79)>0,1)))>(B119+1),(B119+1),\"\"))","v":""},"",{"$f":"IF(C121=\"\",\"\",SUM(IF('A1'!J$30:J$79=\"HOT\",IF('A1'!K$30:K$79>=A120,IF('A1'!L$30:L$79<=A122,1*'A1'!H$30:H$79,0),0),0),IF('A1'!J$30:J$79=\"COLD\",IF('A1'!K$30:K$79<=A122,IF('A1'!L$30:L$79>=A120,-1*'A1'!H$30:H$79,0),0),0)))","v":""},"","",null,"",{"$f":"IF(A121=\"\",\"\",\"▼\")","v":""},{"$f":"IF(A121=\"\",\"\",J$5+SUM(I$6:I120))","v":""},null,{"$f":"IF(L120=\"\",\"\",IF((M$5+SUM(L$6:L120))>=0,\"▼\",\"▲\"))","v":""},{"$f":"IF(A121=\"\",\"\",IF(L121=\"▼\",((M$5)+(SUM(L$6:L120))),(-(M$5+SUM(L$6:L120)))))","v":""}]
[{"$f":"IF(B121=\"\",\"\",(LARGE('A1'!$K$30:$L$79,(1+SUM(COUNTIF('A1'!$K$30:$L$79,A$5:A121))-(B121*COUNTIF('A1'!$K$30:$L$79,A$6))))))","v":""},{"$f":"IF(B120=\"\",\"\",IF((SUM(IF(FREQUENCY('A1'!$K$30:$L$79,'A1'!$K$30:$L$79)>0,1)))>(B120+1),(B120+1),\"\"))","v":""},"",{"$f":"IF(C122=\"\",\"\",SUM(IF('A1'!J$30:J$79=\"HOT\",IF('A1'!K$30:K$79>=A121,IF('A1'!L$30:L$79<=A123,1*'A1'!H$30:H$79,0),0),0),IF('A1'!J$30:J$79=\"COLD\",IF('A1'!K$30:K$79<=A123,IF('A1'!L$30:L$79>=A121,-1*'A1'!H$30:H$79,0),0),0)))","v":""},"","",null,"",{"$f":"E122","v":""},{"$f":"IF(A122=\"\",\"\",J$5+SUM(I$6:I121))","v":""},null,{"$f":"E122","v":""},{"$f":"IF(A122=\"\",\"\",IF(L122=\"▼\",((M$5)+(SUM(L$6:L121))),(-(M$5+SUM(L$6:L121)))))","v":""}]
[{"$f":"IF(B122=\"\",\"\",(LARGE('A1'!$K$30:$L$79,(1+SUM(COUNTIF('A1'!$K$30:$L$79,A$5:A122))-(B122*COUNTIF('A1'!$K$30:$L$79,A$6))))))","v":""},{"$f":"IF(B121=\"\",\"\",IF((SUM(IF(FREQUENCY('A1'!$K$30:$L$79,'A1'!$K$30:$L$79)>0,1)))>(B121+1),(B121+1),\"\"))","v":""},"",{"$f":"IF(C123=\"\",\"\",SUM(IF('A1'!J$30:J$79=\"HOT\",IF('A1'!K$30:K$79>=A122,IF('A1'!L$30:L$79<=A124,1*'A1'!H$30:H$79,0),0),0),IF('A1'!J$30:J$79=\"COLD\",IF('A1'!K$30:K$79<=A124,IF('A1'!L$30:L$79>=A122,-1*'A1'!H$30:H$79,0),0),0)))","v":""},"","",null,"",{"$f":"IF(A123=\"\",\"\",\"▼\")","v":""},{"$f":"IF(A123=\"\",\"\",J$5+SUM(I$6:I122))","v":""},null,{"$f":"IF(L122=\"\",\"\",IF((M$5+SUM(L$6:L122))>=0,\"▼\",\"▲\"))","v":""},{"$f":"IF(A123=\"\",\"\",IF(L123=\"▼\",((M$5)+(SUM(L$6:L122))),(-(M$5+SUM(L$6:L122)))))","v":""}]
[{"$f":"IF(B123=\"\",\"\",(LARGE('A1'!$K$30:$L$79,(1+SUM(COUNTIF('A1'!$K$30:$L$79,A$5:A123))-(B123*COUNTIF('A1'!$K$30:$L$79,A$6))))))","v":""},{"$f":"IF(B122=\"\",\"\",IF((SUM(IF(FREQUENCY('A1'!$K$30:$L$79,'A1'!$K$30:$L$79)>0,1)))>(B122+1),(B122+1),\"\"))","v":""},"",{"$f":"IF(C124=\"\",\"\",SUM(IF('A1'!J$30:J$79=\"HOT\",IF('A1'!K$30:K$79>=A123,IF('A1'!L$30:L$79<=A125,1*'A1'!H$30:H$79,0),0),0),IF('A1'!J$30:J$79=\"COLD\",IF('A1'!K$30:K$79<=A125,IF('A1'!L$30:L$79>=A123,-1*'A1'!H$30:H$79,0),0),0)))","v":""},"","",null,"",{"$f":"E124","v":""},{"$f":"IF(A124=\"\",\"\",J$5+SUM(I$6:I123))","v":""},null,{"$f":"E124","v":""},{"$f":"IF(A124=\"\",\"\",IF(L124=\"▼\",((M$5)+(SUM(L$6:L123))),(-(M$5+SUM(L$6:L123)))))","v":""}]
[{"$f":"IF(B124=\"\",\"\",(LARGE('A1'!$K$30:$L$79,(1+SUM(COUNTIF('A1'!$K$30:$L$79,A$5:A124))-(B124*COUNTIF('A1'!$K$30:$L$79,A$6))))))","v":""},{"$f":"IF(B123=\"\",\"\",IF((SUM(IF(FREQUENCY('A1'!$K$30:$L$79,'A1'!$K$30:$L$79)>0,1)))>(B123+1),(B123+1),\"\"))","v":""},"",{"$f":"IF(C125=\"\",\"\",SUM(IF('A1'!J$30:J$79=\"HOT\",IF('A1'!K$30:K$79>=A124,IF('A1'!L$30:L$79<=A126,1*'A1'!H$30:H$79,0),0),0),IF('A1'!J$30:J$79=\"COLD\",IF('A1'!K$30:K$79<=A126,IF('A1'!L$30:L$79>=A124,-1*'A1'!H$30:H$79,0),0),0)))","v":""},"","",null,"",{"$f":"IF(A125=\"\",\"\",\"▼\")","v":""},{"$f":"IF(A125=\"\",\"\",J$5+SUM(I$6:I124))","v":""},null,{"$f":"IF(L124=\"\",\"\",IF((M$5+SUM(L$6:L124))>=0,\"▼\",\"▲\"))","v":""},{"$f":"IF(A125=\"\",\"\",IF(L125=\"▼\",((M$5)+(SUM(L$6:L124))),(-(M$5+SUM(L$6:L124)))))","v":""}]
[{"$f":"IF(B125=\"\",\"\",(LARGE('A1'!$K$30:$L$79,(1+SUM(COUNTIF('A1'!$K$30:$L$79,A$5:A125))-(B125*COUNTIF('A1'!$K$30:$L$79,A$6))))))","v":""},{"$f":"IF(B124=\"\",\"\",IF((SUM(IF(FREQUENCY('A1'!$K$30:$L$79,'A1'!$K$30:$L$79)>0,1)))>(B124+1),(B124+1),\"\"))","v":""},"",{"$f":"IF(C126=\"\",\"\",SUM(IF('A1'!J$30:J$79=\"HOT\",IF('A1'!K$30:K$79>=A125,IF('A1'!L$30:L$79<=A127,1*'A1'!H$30:H$79,0),0),0),IF('A1'!J$30:J$79=\"COLD\",IF('A1'!K$30:K$79<=A127,IF('A1'!L$30:L$79>=A125,-1*'A1'!H$30:H$79,0),0),0)))","v":""},"","",null,"",{"$f":"E126","v":""},{"$f":"IF(A126=\"\",\"\",J$5+SUM(I$6:I125))","v":""},null,{"$f":"E126","v":""},{"$f":"IF(A126=\"\",\"\",IF(L126=\"▼\",((M$5)+(SUM(L$6:L125))),(-(M$5+SUM(L$6:L125)))))","v":""}]
[{"$f":"IF(B126=\"\",\"\",(LARGE('A1'!$K$30:$L$79,(1+SUM(COUNTIF('A1'!$K$30:$L$79,A$5:A126))-(B126*COUNTIF('A1'!$K$30:$L$79,A$6))))))","v":""},{"$f":"IF(B125=\"\",\"\",IF((SUM(IF(FREQUENCY('A1'!$K$30:$L$79,'A1'!$K$30:$L$79)>0,1)))>(B125+1),(B125+1),\"\"))","v":""},"",{"$f":"IF(C127=\"\",\"\",SUM(IF('A1'!J$30:J$79=\"HOT\",IF('A1'!K$30:K$79>=A126,IF('A1'!L$30:L$79<=A128,1*'A1'!H$30:H$79,0),0),0),IF('A1'!J$30:J$79=\"COLD\",IF('A1'!K$30:K$79<=A128,IF('A1'!L$30:L$79>=A126,-1*'A1'!H$30:H$79,0),0),0)))","v":""},"","",null,"",{"$f":"IF(A127=\"\",\"\",\"▼\")","v":""},{"$f":"IF(A127=\"\",\"\",J$5+SUM(I$6:I126))","v":""},null,{"$f":"IF(L126=\"\",\"\",IF((M$5+SUM(L$6:L126))>=0,\"▼\",\"▲\"))","v":""},{"$f":"IF(A127=\"\",\"\",IF(L127=\"▼\",((M$5)+(SUM(L$6:L126))),(-(M$5+SUM(L$6:L126)))))","v":""}]
[{"$f":"IF(B127=\"\",\"\",(LARGE('A1'!$K$30:$L$79,(1+SUM(COUNTIF('A1'!$K$30:$L$79,A$5:A127))-(B127*COUNTIF('A1'!$K$30:$L$79,A$6))))))","v":""},{"$f":"IF(B126=\"\",\"\",IF((SUM(IF(FREQUENCY('A1'!$K$30:$L$79,'A1'!$K$30:$L$79)>0,1)))>(B126+1),(B126+1),\"\"))","v":""},"",{"$f":"IF(C128=\"\",\"\",SUM(IF('A1'!J$30:J$79=\"HOT\",IF('A1'!K$30:K$79>=A127,IF('A1'!L$30:L$79<=A129,1*'A1'!H$30:H$79,0),0),0),IF('A1'!J$30:J$79=\"COLD\",IF('A1'!K$30:K$79<=A129,IF('A1'!L$30:L$79>=A127,-1*'A1'!H$30:H$79,0),0),0)))","v":""},"","",null,"",{"$f":"E128","v":""},{"$f":"IF(A128=\"\",\"\",J$5+SUM(I$6:I127))","v":""},null,{"$f":"E128","v":""},{"$f":"IF(A128=\"\",\"\",IF(L128=\"▼\",((M$5)+(SUM(L$6:L127))),(-(M$5+SUM(L$6:L127)))))","v":""}]
[{"$f":"IF(B128=\"\",\"\",(LARGE('A1'!$K$30:$L$79,(1+SUM(COUNTIF('A1'!$K$30:$L$79,A$5:A128))-(B128*COUNTIF('A1'!$K$30:$L$79,A$6))))))","v":""},{"$f":"IF(B127=\"\",\"\",IF((SUM(IF(FREQUENCY('A1'!$K$30:$L$79,'A1'!$K$30:$L$79)>0,1)))>(B127+1),(B127+1),\"\"))","v":""},"",{"$f":"IF(C129=\"\",\"\",SUM(IF('A1'!J$30:J$79=\"HOT\",IF('A1'!K$30:K$79>=A128,IF('A1'!L$30:L$79<=A130,1*'A1'!H$30:H$79,0),0),0),IF('A1'!J$30:J$79=\"COLD\",IF('A1'!K$30:K$79<=A130,IF('A1'!L$30:L$79>=A128,-1*'A1'!H$30:H$79,0),0),0)))","v":""},"","",null,"",{"$f":"IF(A129=\"\",\"\",\"▼\")","v":""},{"$f":"IF(A129=\"\",\"\",J$5+SUM(I$6:I128))","v":""},null,{"$f":"IF(L128=\"\",\"\",IF((M$5+SUM(L$6:L128))>=0,\"▼\",\"▲\"))","v":""},{"$f":"IF(A129=\"\",\"\",IF(L129=\"▼\",((M$5)+(SUM(L$6:L128))),(-(M$5+SUM(L$6:L128)))))","v":""}]
[{"$f":"IF(B129=\"\",\"\",(LARGE('A1'!$K$30:$L$79,(1+SUM(COUNTIF('A1'!$K$30:$L$79,A$5:A129))-(B129*COUNTIF('A1'!$K$30:$L$79,A$6))))))","v":""},{"$f":"IF(B128=\"\",\"\",IF((SUM(IF(FREQUENCY('A1'!$K$30:$L$79,'A1'!$K$30:$L$79)>0,1)))>(B128+1),(B128+1),\"\"))","v":""},"",{"$f":"IF(C130=\"\",\"\",SUM(IF('A1'!J$30:J$79=\"HOT\",IF('A1'!K$30:K$79>=A129,IF('A1'!L$30:L$79<=A131,1*'A1'!H$30:H$79,0),0),0),IF('A1'!J$30:J$79=\"COLD\",IF('A1'!K$30:K$79<=A131,IF('A1'!L$30:L$79>=A129,-1*'A1'!H$30:H$79,0),0),0)))","v":""},"","",null,"",{"$f":"E130","v":""},{"$f":"IF(A130=\"\",\"\",J$5+SUM(I$6:I129))","v":""},null,{"$f":"E130","v":""},{"$f":"IF(A130=\"\",\"\",IF(L130=\"▼\",((M$5)+(SUM(L$6:L129))),(-(M$5+SUM(L$6:L129)))))","v":""}]
[{"$f":"IF(B130=\"\",\"\",(LARGE('A1'!$K$30:$L$79,(1+SUM(COUNTIF('A1'!$K$30:$L$79,A$5:A130))-(B130*COUNTIF('A1'!$K$30:$L$79,A$6))))))","v":""},{"$f":"IF(B129=\"\",\"\",IF((SUM(IF(FREQUENCY('A1'!$K$30:$L$79,'A1'!$K$30:$L$79)>0,1)))>(B129+1),(B129+1),\"\"))","v":""},"",{"$f":"IF(C131=\"\",\"\",SUM(IF('A1'!J$30:J$79=\"HOT\",IF('A1'!K$30:K$79>=A130,IF('A1'!L$30:L$79<=A132,1*'A1'!H$30:H$79,0),0),0),IF('A1'!J$30:J$79=\"COLD\",IF('A1'!K$30:K$79<=A132,IF('A1'!L$30:L$79>=A130,-1*'A1'!H$30:H$79,0),0),0)))","v":""},"","",null,"",{"$f":"IF(A131=\"\",\"\",\"▼\")","v":""},{"$f":"IF(A131=\"\",\"\",J$5+SUM(I$6:I130))","v":""},null,{"$f":"IF(L130=\"\",\"\",IF((M$5+SUM(L$6:L130))>=0,\"▼\",\"▲\"))","v":""},{"$f":"IF(A131=\"\",\"\",IF(L131=\"▼\",((M$5)+(SUM(L$6:L130))),(-(M$5+SUM(L$6:L130)))))","v":""}]
[{"$f":"IF(B131=\"\",\"\",(LARGE('A1'!$K$30:$L$79,(1+SUM(COUNTIF('A1'!$K$30:$L$79,A$5:A131))-(B131*COUNTIF('A1'!$K$30:$L$79,A$6))))))","v":""},{"$f":"IF(B130=\"\",\"\",IF((SUM(IF(FREQUENCY('A1'!$K$30:$L$79,'A1'!$K$30:$L$79)>0,1)))>(B130+1),(B130+1),\"\"))","v":""},"",{"$f":"IF(C132=\"\",\"\",SUM(IF('A1'!J$30:J$79=\"HOT\",IF('A1'!K$30:K$79>=A131,IF('A1'!L$30:L$79<=A133,1*'A1'!H$30:H$79,0),0),0),IF('A1'!J$30:J$79=\"COLD\",IF('A1'!K$30:K$79<=A133,IF('A1'!L$30:L$79>=A131,-1*'A1'!H$30:H$79,0),0),0)))","v":""},"","",null,"",{"$f":"E132","v":""},{"$f":"IF(A132=\"\",\"\",J$5+SUM(I$6:I131))","v":""},null,{"$f":"E132","v":""},{"$f":"IF(A132=\"\",\"\",IF(L132=\"▼\",((M$5)+(SUM(L$6:L131))),(-(M$5+SUM(L$6:L131)))))","v":""}]
[{"$f":"IF(B132=\"\",\"\",(LARGE('A1'!$K$30:$L$79,(1+SUM(COUNTIF('A1'!$K$30:$L$79,A$5:A132))-(B132*COUNTIF('A1'!$K$30:$L$79,A$6))))))","v":""},{"$f":"IF(B131=\"\",\"\",IF((SUM(IF(FREQUENCY('A1'!$K$30:$L$79,'A1'!$K$30:$L$79)>0,1)))>(B131+1),(B131+1),\"\"))","v":""},"",{"$f":"IF(C133=\"\",\"\",SUM(IF('A1'!J$30:J$79=\"HOT\",IF('A1'!K$30:K$79>=A132,IF('A1'!L$30:L$79<=A134,1*'A1'!H$30:H$79,0),0),0),IF('A1'!J$30:J$79=\"COLD\",IF('A1'!K$30:K$79<=A134,IF('A1'!L$30:L$79>=A132,-1*'A1'!H$30:H$79,0),0),0)))","v":""},"","",null,"",{"$f":"IF(A133=\"\",\"\",\"▼\")","v":""},{"$f":"IF(A133=\"\",\"\",J$5+SUM(I$6:I132))","v":""},null,{"$f":"IF(L132=\"\",\"\",IF((M$5+SUM(L$6:L132))>=0,\"▼\",\"▲\"))","v":""},{"$f":"IF(A133=\"\",\"\",IF(L133=\"▼\",((M$5)+(SUM(L$6:L132))),(-(M$5+SUM(L$6:L132)))))","v":""}]
[{"$f":"IF(B133=\"\",\"\",(LARGE('A1'!$K$30:$L$79,(1+SUM(COUNTIF('A1'!$K$30:$L$79,A$5:A133))-(B133*COUNTIF('A1'!$K$30:$L$79,A$6))))))","v":""},{"$f":"IF(B132=\"\",\"\",IF((SUM(IF(FREQUENCY('A1'!$K$30:$L$79,'A1'!$K$30:$L$79)>0,1)))>(B132+1),(B132+1),\"\"))","v":""},"",{"$f":"IF(C134=\"\",\"\",SUM(IF('A1'!J$30:J$79=\"HOT\",IF('A1'!K$30:K$79>=A133,IF('A1'!L$30:L$79<=A135,1*'A1'!H$30:H$79,0),0),0),IF('A1'!J$30:J$79=\"COLD\",IF('A1'!K$30:K$79<=A135,IF('A1'!L$30:L$79>=A133,-1*'A1'!H$30:H$79,0),0),0)))","v":""},"","",null,"",{"$f":"E134","v":""},{"$f":"IF(A134=\"\",\"\",J$5+SUM(I$6:I133))","v":""},null,{"$f":"E134","v":""},{"$f":"IF(A134=\"\",\"\",IF(L134=\"▼\",((M$5)+(SUM(L$6:L133))),(-(M$5+SUM(L$6:L133)))))","v":""}]
[{"$f":"IF(B134=\"\",\"\",(LARGE('A1'!$K$30:$L$79,(1+SUM(COUNTIF('A1'!$K$30:$L$79,A$5:A134))-(B134*COUNTIF('A1'!$K$30:$L$79,A$6))))))","v":""},{"$f":"IF(B133=\"\",\"\",IF((SUM(IF(FREQUENCY('A1'!$K$30:$L$79,'A1'!$K$30:$L$79)>0,1)))>(B133+1),(B133+1),\"\"))","v":""},"",{"$f":"IF(C135=\"\",\"\",SUM(IF('A1'!J$30:J$79=\"HOT\",IF('A1'!K$30:K$79>=A134,IF('A1'!L$30:L$79<=A136,1*'A1'!H$30:H$79,0),0),0),IF('A1'!J$30:J$79=\"COLD\",IF('A1'!K$30:K$79<=A136,IF('A1'!L$30:L$79>=A134,-1*'A1'!H$30:H$79,0),0),0)))","v":""},"",{"$f":"IF(E135=\"\",\"\",IF(E135<1,\"demand\",\"surplus\"))","v":""},null,"",{"$f":"IF(A135=\"\",\"\",\"▼\")","v":""},{"$f":"IF(A135=\"\",\"\",J$5+SUM(I$6:I134))","v":""},null,{"$f":"IF(L134=\"\",\"\",IF((M$5+SUM(L$6:L134))>=0,\"▼\",\"▲\"))","v":""},{"$f":"IF(A135=\"\",\"\",IF(L135=\"▼\",((M$5)+(SUM(L$6:L134))),(-(M$5+SUM(L$6:L134)))))","v":""}]
[{"$f":"IF(B135=\"\",\"\",(LARGE('A1'!$K$30:$L$79,(1+SUM(COUNTIF('A1'!$K$30:$L$79,A$5:A135))-(B135*COUNTIF('A1'!$K$30:$L$79,A$6))))))","v":""},{"$f":"IF(B134=\"\",\"\",IF((SUM(IF(FREQUENCY('A1'!$K$30:$L$79,'A1'!$K$30:$L$79)>0,1)))>(B134+1),(B134+1),\"\"))","v":""},"",{"$f":"IF(C136=\"\",\"\",SUM(IF('A1'!J$30:J$79=\"HOT\",IF('A1'!K$30:K$79>=A135,IF('A1'!L$30:L$79<=A137,1*'A1'!H$30:H$79,0),0),0),IF('A1'!J$30:J$79=\"COLD\",IF('A1'!K$30:K$79<=A137,IF('A1'!L$30:L$79>=A135,-1*'A1'!H$30:H$79,0),0),0)))","v":""},"","",null,"",{"$f":"E136","v":""},{"$f":"IF(A136=\"\",\"\",J$5+SUM(I$6:I135))","v":""},null,{"$f":"E136","v":""},{"$f":"IF(A136=\"\",\"\",IF(L136=\"▼\",((M$5)+(SUM(L$6:L135))),(-(M$5+SUM(L$6:L135)))))","v":""}]
[{"$f":"IF(B136=\"\",\"\",(LARGE('A1'!$K$30:$L$79,(1+SUM(COUNTIF('A1'!$K$30:$L$79,A$5:A136))-(B136*COUNTIF('A1'!$K$30:$L$79,A$6))))))","v":""},{"$f":"IF(B135=\"\",\"\",IF((SUM(IF(FREQUENCY('A1'!$K$30:$L$79,'A1'!$K$30:$L$79)>0,1)))>(B135+1),(B135+1),\"\"))","v":""},"",{"$f":"IF(C137=\"\",\"\",SUM(IF('A1'!J$30:J$79=\"HOT\",IF('A1'!K$30:K$79>=A136,IF('A1'!L$30:L$79<=A138,1*'A1'!H$30:H$79,0),0),0),IF('A1'!J$30:J$79=\"COLD\",IF('A1'!K$30:K$79<=A138,IF('A1'!L$30:L$79>=A136,-1*'A1'!H$30:H$79,0),0),0)))","v":""},"","",null,"",{"$f":"IF(A137=\"\",\"\",\"▼\")","v":""},{"$f":"IF(A137=\"\",\"\",J$5+SUM(I$6:I136))","v":""},null,{"$f":"IF(L136=\"\",\"\",IF((M$5+SUM(L$6:L136))>=0,\"▼\",\"▲\"))","v":""},{"$f":"IF(A137=\"\",\"\",IF(L137=\"▼\",((M$5)+(SUM(L$6:L136))),(-(M$5+SUM(L$6:L136)))))","v":""}]
[{"$f":"IF(B137=\"\",\"\",(LARGE('A1'!$K$30:$L$79,(1+SUM(COUNTIF('A1'!$K$30:$L$79,A$5:A137))-(B137*COUNTIF('A1'!$K$30:$L$79,A$6))))))","v":""},{"$f":"IF(B136=\"\",\"\",IF((SUM(IF(FREQUENCY('A1'!$K$30:$L$79,'A1'!$K$30:$L$79)>0,1)))>(B136+1),(B136+1),\"\"))","v":""},"",{"$f":"IF(C138=\"\",\"\",SUM(IF('A1'!J$30:J$79=\"HOT\",IF('A1'!K$30:K$79>=A137,IF('A1'!L$30:L$79<=A139,1*'A1'!H$30:H$79,0),0),0),IF('A1'!J$30:J$79=\"COLD\",IF('A1'!K$30:K$79<=A139,IF('A1'!L$30:L$79>=A137,-1*'A1'!H$30:H$79,0),0),0)))","v":""},"","",null,"",{"$f":"E138","v":""},{"$f":"IF(A138=\"\",\"\",J$5+SUM(I$6:I137))","v":""},null,{"$f":"E138","v":""},{"$f":"IF(A138=\"\",\"\",IF(L138=\"▼\",((M$5)+(SUM(L$6:L137))),(-(M$5+SUM(L$6:L137)))))","v":""}]
[{"$f":"IF(B138=\"\",\"\",(LARGE('A1'!$K$30:$L$79,(1+SUM(COUNTIF('A1'!$K$30:$L$79,A$5:A138))-(B138*COUNTIF('A1'!$K$30:$L$79,A$6))))))","v":""},{"$f":"IF(B137=\"\",\"\",IF((SUM(IF(FREQUENCY('A1'!$K$30:$L$79,'A1'!$K$30:$L$79)>0,1)))>(B137+1),(B137+1),\"\"))","v":""},"",{"$f":"IF(C139=\"\",\"\",SUM(IF('A1'!J$30:J$79=\"HOT\",IF('A1'!K$30:K$79>=A138,IF('A1'!L$30:L$79<=A140,1*'A1'!H$30:H$79,0),0),0),IF('A1'!J$30:J$79=\"COLD\",IF('A1'!K$30:K$79<=A140,IF('A1'!L$30:L$79>=A138,-1*'A1'!H$30:H$79,0),0),0)))","v":""},"","",null,"",{"$f":"IF(A139=\"\",\"\",\"▼\")","v":""},{"$f":"IF(A139=\"\",\"\",J$5+SUM(I$6:I138))","v":""},null,{"$f":"IF(L138=\"\",\"\",IF((M$5+SUM(L$6:L138))>=0,\"▼\",\"▲\"))","v":""},{"$f":"IF(A139=\"\",\"\",IF(L139=\"▼\",((M$5)+(SUM(L$6:L138))),(-(M$5+SUM(L$6:L138)))))","v":""}]
[{"$f":"IF(B139=\"\",\"\",(LARGE('A1'!$K$30:$L$79,(1+SUM(COUNTIF('A1'!$K$30:$L$79,A$5:A139))-(B139*COUNTIF('A1'!$K$30:$L$79,A$6))))))","v":""},{"$f":"IF(B138=\"\",\"\",IF((SUM(IF(FREQUENCY('A1'!$K$30:$L$79,'A1'!$K$30:$L$79)>0,1)))>(B138+1),(B138+1),\"\"))","v":""},"",{"$f":"IF(C140=\"\",\"\",SUM(IF('A1'!J$30:J$79=\"HOT\",IF('A1'!K$30:K$79>=A139,IF('A1'!L$30:L$79<=A141,1*'A1'!H$30:H$79,0),0),0),IF('A1'!J$30:J$79=\"COLD\",IF('A1'!K$30:K$79<=A141,IF('A1'!L$30:L$79>=A139,-1*'A1'!H$30:H$79,0),0),0)))","v":""},"","",null,"",{"$f":"E140","v":""},{"$f":"IF(A140=\"\",\"\",J$5+SUM(I$6:I139))","v":""},null,{"$f":"E140","v":""},{"$f":"IF(A140=\"\",\"\",IF(L140=\"▼\",((M$5)+(SUM(L$6:L139))),(-(M$5+SUM(L$6:L139)))))","v":""}]
[{"$f":"IF(B140=\"\",\"\",(LARGE('A1'!$K$30:$L$79,(1+SUM(COUNTIF('A1'!$K$30:$L$79,A$5:A140))-(B140*COUNTIF('A1'!$K$30:$L$79,A$6))))))","v":""},{"$f":"IF(B139=\"\",\"\",IF((SUM(IF(FREQUENCY('A1'!$K$30:$L$79,'A1'!$K$30:$L$79)>0,1)))>(B139+1),(B139+1),\"\"))","v":""},"",{"$f":"IF(C141=\"\",\"\",SUM(IF('A1'!J$30:J$79=\"HOT\",IF('A1'!K$30:K$79>=A140,IF('A1'!L$30:L$79<=A142,1*'A1'!H$30:H$79,0),0),0),IF('A1'!J$30:J$79=\"COLD\",IF('A1'!K$30:K$79<=A142,IF('A1'!L$30:L$79>=A140,-1*'A1'!H$30:H$79,0),0),0)))","v":""},"","",null,"",{"$f":"IF(A141=\"\",\"\",\"▼\")","v":""},{"$f":"IF(A141=\"\",\"\",J$5+SUM(I$6:I140))","v":""},null,{"$f":"IF(L140=\"\",\"\",IF((M$5+SUM(L$6:L140))>=0,\"▼\",\"▲\"))","v":""},{"$f":"IF(A141=\"\",\"\",IF(L141=\"▼\",((M$5)+(SUM(L$6:L140))),(-(M$5+SUM(L$6:L140)))))","v":""}]
[{"$f":"IF(B141=\"\",\"\",(LARGE('A1'!$K$30:$L$79,(1+SUM(COUNTIF('A1'!$K$30:$L$79,A$5:A141))-(B141*COUNTIF('A1'!$K$30:$L$79,A$6))))))","v":""},{"$f":"IF(B140=\"\",\"\",IF((SUM(IF(FREQUENCY('A1'!$K$30:$L$79,'A1'!$K$30:$L$79)>0,1)))>(B140+1),(B140+1),\"\"))","v":""},"",{"$f":"IF(C142=\"\",\"\",SUM(IF('A1'!J$30:J$79=\"HOT\",IF('A1'!K$30:K$79>=A141,IF('A1'!L$30:L$79<=A143,1*'A1'!H$30:H$79,0),0),0),IF('A1'!J$30:J$79=\"COLD\",IF('A1'!K$30:K$79<=A143,IF('A1'!L$30:L$79>=A141,-1*'A1'!H$30:H$79,0),0),0)))","v":""},"","",null,"",{"$f":"E142","v":""},{"$f":"IF(A142=\"\",\"\",J$5+SUM(I$6:I141))","v":""},null,{"$f":"E142","v":""},{"$f":"IF(A142=\"\",\"\",IF(L142=\"▼\",((M$5)+(SUM(L$6:L141))),(-(M$5+SUM(L$6:L141)))))","v":""}]
[{"$f":"IF(B142=\"\",\"\",(LARGE('A1'!$K$30:$L$79,(1+SUM(COUNTIF('A1'!$K$30:$L$79,A$5:A142))-(B142*COUNTIF('A1'!$K$30:$L$79,A$6))))))","v":""},{"$f":"IF(B141=\"\",\"\",IF((SUM(IF(FREQUENCY('A1'!$K$30:$L$79,'A1'!$K$30:$L$79)>0,1)))>(B141+1),(B141+1),\"\"))","v":""},"",{"$f":"IF(C143=\"\",\"\",SUM(IF('A1'!J$30:J$79=\"HOT\",IF('A1'!K$30:K$79>=A142,IF('A1'!L$30:L$79<=A144,1*'A1'!H$30:H$79,0),0),0),IF('A1'!J$30:J$79=\"COLD\",IF('A1'!K$30:K$79<=A144,IF('A1'!L$30:L$79>=A142,-1*'A1'!H$30:H$79,0),0),0)))","v":""},{"$f":"IF(D143=\"\",\"\",D143*C143)","v":""},"",null,"",{"$f":"IF(A143=\"\",\"\",\"▼\")","v":""},{"$f":"IF(A143=\"\",\"\",J$5+SUM(I$6:I142))","v":""},null,{"$f":"IF(L142=\"\",\"\",IF((M$5+SUM(L$6:L142))>=0,\"▼\",\"▲\"))","v":""},{"$f":"IF(A143=\"\",\"\",IF(L143=\"▼\",((M$5)+(SUM(L$6:L142))),(-(M$5+SUM(L$6:L142)))))","v":""}]
[{"$f":"IF(B143=\"\",\"\",(LARGE('A1'!$K$30:$L$79,(1+SUM(COUNTIF('A1'!$K$30:$L$79,A$5:A143))-(B143*COUNTIF('A1'!$K$30:$L$79,A$6))))))","v":""},{"$f":"IF(B142=\"\",\"\",IF((SUM(IF(FREQUENCY('A1'!$K$30:$L$79,'A1'!$K$30:$L$79)>0,1)))>(B142+1),(B142+1),\"\"))","v":""},"",{"$f":"IF(C144=\"\",\"\",SUM(IF('A1'!J$30:J$79=\"HOT\",IF('A1'!K$30:K$79>=A143,IF('A1'!L$30:L$79<=A145,1*'A1'!H$30:H$79,0),0),0),IF('A1'!J$30:J$79=\"COLD\",IF('A1'!K$30:K$79<=A145,IF('A1'!L$30:L$79>=A143,-1*'A1'!H$30:H$79,0),0),0)))","v":""},"","",null,"",{"$f":"E144","v":""},{"$f":"IF(A144=\"\",\"\",J$5+SUM(I$6:I143))","v":""},null,{"$f":"E144","v":""},{"$f":"IF(A144=\"\",\"\",IF(L144=\"▼\",((M$5)+(SUM(L$6:L143))),(-(M$5+SUM(L$6:L143)))))","v":""}]
[{"$f":"IF(B144=\"\",\"\",(LARGE('A1'!$K$30:$L$79,(1+SUM(COUNTIF('A1'!$K$30:$L$79,A$5:A144))-(B144*COUNTIF('A1'!$K$30:$L$79,A$6))))))","v":""},{"$f":"IF(B143=\"\",\"\",IF((SUM(IF(FREQUENCY('A1'!$K$30:$L$79,'A1'!$K$30:$L$79)>0,1)))>(B143+1),(B143+1),\"\"))","v":""},"",{"$f":"IF(C145=\"\",\"\",SUM(IF('A1'!J$30:J$79=\"HOT\",IF('A1'!K$30:K$79>=A144,IF('A1'!L$30:L$79<=A146,1*'A1'!H$30:H$79,0),0),0),IF('A1'!J$30:J$79=\"COLD\",IF('A1'!K$30:K$79<=A146,IF('A1'!L$30:L$79>=A144,-1*'A1'!H$30:H$79,0),0),0)))","v":""},"","",null,"",{"$f":"IF(A145=\"\",\"\",\"▼\")","v":""},{"$f":"IF(A145=\"\",\"\",J$5+SUM(I$6:I144))","v":""},null,{"$f":"IF(L144=\"\",\"\",IF((M$5+SUM(L$6:L144))>=0,\"▼\",\"▲\"))","v":""},{"$f":"IF(A145=\"\",\"\",IF(L145=\"▼\",((M$5)+(SUM(L$6:L144))),(-(M$5+SUM(L$6:L144)))))","v":""}]
[{"$f":"IF(B145=\"\",\"\",(LARGE('A1'!$K$30:$L$79,(1+SUM(COUNTIF('A1'!$K$30:$L$79,A$5:A145))-(B145*COUNTIF('A1'!$K$30:$L$79,A$6))))))","v":""},{"$f":"IF(B144=\"\",\"\",IF((SUM(IF(FREQUENCY('A1'!$K$30:$L$79,'A1'!$K$30:$L$79)>0,1)))>(B144+1),(B144+1),\"\"))","v":""},"",{"$f":"IF(C146=\"\",\"\",SUM(IF('A1'!J$30:J$79=\"HOT\",IF('A1'!K$30:K$79>=A145,IF('A1'!L$30:L$79<=A147,1*'A1'!H$30:H$79,0),0),0),IF('A1'!J$30:J$79=\"COLD\",IF('A1'!K$30:K$79<=A147,IF('A1'!L$30:L$79>=A145,-1*'A1'!H$30:H$79,0),0),0)))","v":""},"","",null,"",{"$f":"E146","v":""},{"$f":"IF(A146=\"\",\"\",J$5+SUM(I$6:I145))","v":""},null,{"$f":"E146","v":""},{"$f":"IF(A146=\"\",\"\",IF(L146=\"▼\",((M$5)+(SUM(L$6:L145))),(-(M$5+SUM(L$6:L145)))))","v":""}]
[{"$f":"IF(B146=\"\",\"\",(LARGE('A1'!$K$30:$L$79,(1+SUM(COUNTIF('A1'!$K$30:$L$79,A$5:A146))-(B146*COUNTIF('A1'!$K$30:$L$79,A$6))))))","v":""},{"$f":"IF(B145=\"\",\"\",IF((SUM(IF(FREQUENCY('A1'!$K$30:$L$79,'A1'!$K$30:$L$79)>0,1)))>(B145+1),(B145+1),\"\"))","v":""},"",{"$f":"IF(C147=\"\",\"\",SUM(IF('A1'!J$30:J$79=\"HOT\",IF('A1'!K$30:K$79>=A146,IF('A1'!L$30:L$79<=A148,1*'A1'!H$30:H$79,0),0),0),IF('A1'!J$30:J$79=\"COLD\",IF('A1'!K$30:K$79<=A148,IF('A1'!L$30:L$79>=A146,-1*'A1'!H$30:H$79,0),0),0)))","v":""},"","",null,"",{"$f":"IF(A147=\"\",\"\",\"▼\")","v":""},{"$f":"IF(A147=\"\",\"\",J$5+SUM(I$6:I146))","v":""},null,{"$f":"IF(L146=\"\",\"\",IF((M$5+SUM(L$6:L146))>=0,\"▼\",\"▲\"))","v":""},{"$f":"IF(A147=\"\",\"\",IF(L147=\"▼\",((M$5)+(SUM(L$6:L146))),(-(M$5+SUM(L$6:L146)))))","v":""}]
[{"$f":"IF(B147=\"\",\"\",(LARGE('A1'!$K$30:$L$79,(1+SUM(COUNTIF('A1'!$K$30:$L$79,A$5:A147))-(B147*COUNTIF('A1'!$K$30:$L$79,A$6))))))","v":""},{"$f":"IF(B146=\"\",\"\",IF((SUM(IF(FREQUENCY('A1'!$K$30:$L$79,'A1'!$K$30:$L$79)>0,1)))>(B146+1),(B146+1),\"\"))","v":""},"",{"$f":"IF(C148=\"\",\"\",SUM(IF('A1'!J$30:J$79=\"HOT\",IF('A1'!K$30:K$79>=A147,IF('A1'!L$30:L$79<=A149,1*'A1'!H$30:H$79,0),0),0),IF('A1'!J$30:J$79=\"COLD\",IF('A1'!K$30:K$79<=A149,IF('A1'!L$30:L$79>=A147,-1*'A1'!H$30:H$79,0),0),0)))","v":""},"","",null,"",{"$f":"E148","v":""},{"$f":"IF(A148=\"\",\"\",J$5+SUM(I$6:I147))","v":""},null,{"$f":"E148","v":""},{"$f":"IF(A148=\"\",\"\",IF(L148=\"▼\",((M$5)+(SUM(L$6:L147))),(-(M$5+SUM(L$6:L147)))))","v":""}]
[{"$f":"IF(B148=\"\",\"\",(LARGE('A1'!$K$30:$L$79,(1+SUM(COUNTIF('A1'!$K$30:$L$79,A$5:A148))-(B148*COUNTIF('A1'!$K$30:$L$79,A$6))))))","v":""},{"$f":"IF(B147=\"\",\"\",IF((SUM(IF(FREQUENCY('A1'!$K$30:$L$79,'A1'!$K$30:$L$79)>0,1)))>(B147+1),(B147+1),\"\"))","v":""},"",{"$f":"IF(C149=\"\",\"\",SUM(IF('A1'!J$30:J$79=\"HOT\",IF('A1'!K$30:K$79>=A148,IF('A1'!L$30:L$79<=A150,1*'A1'!H$30:H$79,0),0),0),IF('A1'!J$30:J$79=\"COLD\",IF('A1'!K$30:K$79<=A150,IF('A1'!L$30:L$79>=A148,-1*'A1'!H$30:H$79,0),0),0)))","v":""},"","",null,"",{"$f":"IF(A149=\"\",\"\",\"▼\")","v":""},{"$f":"IF(A149=\"\",\"\",J$5+SUM(I$6:I148))","v":""},null,{"$f":"IF(L148=\"\",\"\",IF((M$5+SUM(L$6:L148))>=0,\"▼\",\"▲\"))","v":""},{"$f":"IF(A149=\"\",\"\",IF(L149=\"▼\",((M$5)+(SUM(L$6:L148))),(-(M$5+SUM(L$6:L148)))))","v":""}]
[{"$f":"IF(B149=\"\",\"\",(LARGE('A1'!$K$30:$L$79,(1+SUM(COUNTIF('A1'!$K$30:$L$79,A$5:A149))-(B149*COUNTIF('A1'!$K$30:$L$79,A$6))))))","v":""},{"$f":"IF(B148=\"\",\"\",IF((SUM(IF(FREQUENCY('A1'!$K$30:$L$79,'A1'!$K$30:$L$79)>0,1)))>(B148+1),(B148+1),\"\"))","v":""},"",{"$f":"IF(C150=\"\",\"\",SUM(IF('A1'!J$30:J$79=\"HOT\",IF('A1'!K$30:K$79>=A149,IF('A1'!L$30:L$79<=A151,1*'A1'!H$30:H$79,0),0),0),IF('A1'!J$30:J$79=\"COLD\",IF('A1'!K$30:K$79<=A151,IF('A1'!L$30:L$79>=A149,-1*'A1'!H$30:H$79,0),0),0)))","v":""},"","",null,"",{"$f":"E150","v":""},{"$f":"IF(A150=\"\",\"\",J$5+SUM(I$6:I149))","v":""},null,{"$f":"E150","v":""},{"$f":"IF(A150=\"\",\"\",IF(L150=\"▼\",((M$5)+(SUM(L$6:L149))),(-(M$5+SUM(L$6:L149)))))","v":""}]
[{"$f":"IF(B150=\"\",\"\",(LARGE('A1'!$K$30:$L$79,(1+SUM(COUNTIF('A1'!$K$30:$L$79,A$5:A150))-(B150*COUNTIF('A1'!$K$30:$L$79,A$6))))))","v":""},{"$f":"IF(B149=\"\",\"\",IF((SUM(IF(FREQUENCY('A1'!$K$30:$L$79,'A1'!$K$30:$L$79)>0,1)))>(B149+1),(B149+1),\"\"))","v":""},"",{"$f":"IF(C151=\"\",\"\",SUM(IF('A1'!J$30:J$79=\"HOT\",IF('A1'!K$30:K$79>=A150,IF('A1'!L$30:L$79<=A152,1*'A1'!H$30:H$79,0),0),0),IF('A1'!J$30:J$79=\"COLD\",IF('A1'!K$30:K$79<=A152,IF('A1'!L$30:L$79>=A150,-1*'A1'!H$30:H$79,0),0),0)))","v":""},"","",null,"",{"$f":"IF(A151=\"\",\"\",\"▼\")","v":""},{"$f":"IF(A151=\"\",\"\",J$5+SUM(I$6:I150))","v":""},null,{"$f":"IF(L150=\"\",\"\",IF((M$5+SUM(L$6:L150))>=0,\"▼\",\"▲\"))","v":""},{"$f":"IF(A151=\"\",\"\",IF(L151=\"▼\",((M$5)+(SUM(L$6:L150))),(-(M$5+SUM(L$6:L150)))))","v":""}]
[{"$f":"IF(B151=\"\",\"\",(LARGE('A1'!$K$30:$L$79,(1+SUM(COUNTIF('A1'!$K$30:$L$79,A$5:A151))-(B151*COUNTIF('A1'!$K$30:$L$79,A$6))))))","v":""},{"$f":"IF(B150=\"\",\"\",IF((SUM(IF(FREQUENCY('A1'!$K$30:$L$79,'A1'!$K$30:$L$79)>0,1)))>(B150+1),(B150+1),\"\"))","v":""},"",{"$f":"IF(C152=\"\",\"\",SUM(IF('A1'!J$30:J$79=\"HOT\",IF('A1'!K$30:K$79>=A151,IF('A1'!L$30:L$79<=A153,1*'A1'!H$30:H$79,0),0),0),IF('A1'!J$30:J$79=\"COLD\",IF('A1'!K$30:K$79<=A153,IF('A1'!L$30:L$79>=A151,-1*'A1'!H$30:H$79,0),0),0)))","v":""},"","",null,"",{"$f":"E152","v":""},{"$f":"IF(A152=\"\",\"\",J$5+SUM(I$6:I151))","v":""},null,{"$f":"E152","v":""},{"$f":"IF(A152=\"\",\"\",IF(L152=\"▼\",((M$5)+(SUM(L$6:L151))),(-(M$5+SUM(L$6:L151)))))","v":""}]
[{"$f":"IF(B152=\"\",\"\",(LARGE('A1'!$K$30:$L$79,(1+SUM(COUNTIF('A1'!$K$30:$L$79,A$5:A152))-(B152*COUNTIF('A1'!$K$30:$L$79,A$6))))))","v":""},{"$f":"IF(B151=\"\",\"\",IF((SUM(IF(FREQUENCY('A1'!$K$30:$L$79,'A1'!$K$30:$L$79)>0,1)))>(B151+1),(B151+1),\"\"))","v":""},"",{"$f":"IF(C153=\"\",\"\",SUM(IF('A1'!J$30:J$79=\"HOT\",IF('A1'!K$30:K$79>=A152,IF('A1'!L$30:L$79<=A154,1*'A1'!H$30:H$79,0),0),0),IF('A1'!J$30:J$79=\"COLD\",IF('A1'!K$30:K$79<=A154,IF('A1'!L$30:L$79>=A152,-1*'A1'!H$30:H$79,0),0),0)))","v":""},"","",null,"",{"$f":"IF(A153=\"\",\"\",\"▼\")","v":""},{"$f":"IF(A153=\"\",\"\",J$5+SUM(I$6:I152))","v":""},null,{"$f":"IF(L152=\"\",\"\",IF((M$5+SUM(L$6:L152))>=0,\"▼\",\"▲\"))","v":""},{"$f":"IF(A153=\"\",\"\",IF(L153=\"▼\",((M$5)+(SUM(L$6:L152))),(-(M$5+SUM(L$6:L152)))))","v":""}]
[{"$f":"IF(B153=\"\",\"\",(LARGE('A1'!$K$30:$L$79,(1+SUM(COUNTIF('A1'!$K$30:$L$79,A$5:A153))-(B153*COUNTIF('A1'!$K$30:$L$79,A$6))))))","v":""},{"$f":"IF(B152=\"\",\"\",IF((SUM(IF(FREQUENCY('A1'!$K$30:$L$79,'A1'!$K$30:$L$79)>0,1)))>(B152+1),(B152+1),\"\"))","v":""},"",{"$f":"IF(C154=\"\",\"\",SUM(IF('A1'!J$30:J$79=\"HOT\",IF('A1'!K$30:K$79>=A153,IF('A1'!L$30:L$79<=A155,1*'A1'!H$30:H$79,0),0),0),IF('A1'!J$30:J$79=\"COLD\",IF('A1'!K$30:K$79<=A155,IF('A1'!L$30:L$79>=A153,-1*'A1'!H$30:H$79,0),0),0)))","v":""},"","",null,"",{"$f":"E154","v":""},{"$f":"IF(A154=\"\",\"\",J$5+SUM(I$6:I153))","v":""},null,{"$f":"E154","v":""},{"$f":"IF(A154=\"\",\"\",IF(L154=\"▼\",((M$5)+(SUM(L$6:L153))),(-(M$5+SUM(L$6:L153)))))","v":""}]
[{"$f":"IF(B154=\"\",\"\",(LARGE('A1'!$K$30:$L$79,(1+SUM(COUNTIF('A1'!$K$30:$L$79,A$5:A154))-(B154*COUNTIF('A1'!$K$30:$L$79,A$6))))))","v":""},{"$f":"IF(B153=\"\",\"\",IF((SUM(IF(FREQUENCY('A1'!$K$30:$L$79,'A1'!$K$30:$L$79)>0,1)))>(B153+1),(B153+1),\"\"))","v":""},"",{"$f":"IF(C155=\"\",\"\",SUM(IF('A1'!J$30:J$79=\"HOT\",IF('A1'!K$30:K$79>=A154,IF('A1'!L$30:L$79<=A156,1*'A1'!H$30:H$79,0),0),0),IF('A1'!J$30:J$79=\"COLD\",IF('A1'!K$30:K$79<=A156,IF('A1'!L$30:L$79>=A154,-1*'A1'!H$30:H$79,0),0),0)))","v":""},"","",null,"",{"$f":"IF(A155=\"\",\"\",\"▼\")","v":""},{"$f":"IF(A155=\"\",\"\",J$5+SUM(I$6:I154))","v":""},null,{"$f":"IF(L154=\"\",\"\",IF((M$5+SUM(L$6:L154))>=0,\"▼\",\"▲\"))","v":""},{"$f":"IF(A155=\"\",\"\",IF(L155=\"▼\",((M$5)+(SUM(L$6:L154))),(-(M$5+SUM(L$6:L154)))))","v":""}]
[{"$f":"IF(B155=\"\",\"\",(LARGE('A1'!$K$30:$L$79,(1+SUM(COUNTIF('A1'!$K$30:$L$79,A$5:A155))-(B155*COUNTIF('A1'!$K$30:$L$79,A$6))))))","v":""},{"$f":"IF(B154=\"\",\"\",IF((SUM(IF(FREQUENCY('A1'!$K$30:$L$79,'A1'!$K$30:$L$79)>0,1)))>(B154+1),(B154+1),\"\"))","v":""},"",{"$f":"IF(C156=\"\",\"\",SUM(IF('A1'!J$30:J$79=\"HOT\",IF('A1'!K$30:K$79>=A155,IF('A1'!L$30:L$79<=A157,1*'A1'!H$30:H$79,0),0),0),IF('A1'!J$30:J$79=\"COLD\",IF('A1'!K$30:K$79<=A157,IF('A1'!L$30:L$79>=A155,-1*'A1'!H$30:H$79,0),0),0)))","v":""},"","",null,"",{"$f":"E156","v":""},{"$f":"IF(A156=\"\",\"\",J$5+SUM(I$6:I155))","v":""},null,{"$f":"E156","v":""},{"$f":"IF(A156=\"\",\"\",IF(L156=\"▼\",((M$5)+(SUM(L$6:L155))),(-(M$5+SUM(L$6:L155)))))","v":""}]
[{"$f":"IF(B156=\"\",\"\",(LARGE('A1'!$K$30:$L$79,(1+SUM(COUNTIF('A1'!$K$30:$L$79,A$5:A156))-(B156*COUNTIF('A1'!$K$30:$L$79,A$6))))))","v":""},{"$f":"IF(B155=\"\",\"\",IF((SUM(IF(FREQUENCY('A1'!$K$30:$L$79,'A1'!$K$30:$L$79)>0,1)))>(B155+1),(B155+1),\"\"))","v":""},"",{"$f":"IF(C157=\"\",\"\",SUM(IF('A1'!J$30:J$79=\"HOT\",IF('A1'!K$30:K$79>=A156,IF('A1'!L$30:L$79<=A158,1*'A1'!H$30:H$79,0),0),0),IF('A1'!J$30:J$79=\"COLD\",IF('A1'!K$30:K$79<=A158,IF('A1'!L$30:L$79>=A156,-1*'A1'!H$30:H$79,0),0),0)))","v":""},"","",null,"",{"$f":"IF(A157=\"\",\"\",\"▼\")","v":""},{"$f":"IF(A157=\"\",\"\",J$5+SUM(I$6:I156))","v":""},null,{"$f":"IF(L156=\"\",\"\",IF((M$5+SUM(L$6:L156))>=0,\"▼\",\"▲\"))","v":""},{"$f":"IF(A157=\"\",\"\",IF(L157=\"▼\",((M$5)+(SUM(L$6:L156))),(-(M$5+SUM(L$6:L156)))))","v":""}]
[{"$f":"IF(B157=\"\",\"\",(LARGE('A1'!$K$30:$L$79,(1+SUM(COUNTIF('A1'!$K$30:$L$79,A$5:A157))-(B157*COUNTIF('A1'!$K$30:$L$79,A$6))))))","v":""},{"$f":"IF(B156=\"\",\"\",IF((SUM(IF(FREQUENCY('A1'!$K$30:$L$79,'A1'!$K$30:$L$79)>0,1)))>(B156+1),(B156+1),\"\"))","v":""},"",{"$f":"IF(C158=\"\",\"\",SUM(IF('A1'!J$30:J$79=\"HOT\",IF('A1'!K$30:K$79>=A157,IF('A1'!L$30:L$79<=A159,1*'A1'!H$30:H$79,0),0),0),IF('A1'!J$30:J$79=\"COLD\",IF('A1'!K$30:K$79<=A159,IF('A1'!L$30:L$79>=A157,-1*'A1'!H$30:H$79,0),0),0)))","v":""},"","",null,"",{"$f":"E158","v":""},{"$f":"IF(A158=\"\",\"\",J$5+SUM(I$6:I157))","v":""},null,{"$f":"E158","v":""},{"$f":"IF(A158=\"\",\"\",IF(L158=\"▼\",((M$5)+(SUM(L$6:L157))),(-(M$5+SUM(L$6:L157)))))","v":""}]
[{"$f":"IF(B158=\"\",\"\",(LARGE('A1'!$K$30:$L$79,(1+SUM(COUNTIF('A1'!$K$30:$L$79,A$5:A158))-(B158*COUNTIF('A1'!$K$30:$L$79,A$6))))))","v":""},{"$f":"IF(B157=\"\",\"\",IF((SUM(IF(FREQUENCY('A1'!$K$30:$L$79,'A1'!$K$30:$L$79)>0,1)))>(B157+1),(B157+1),\"\"))","v":""},"",{"$f":"IF(C159=\"\",\"\",SUM(IF('A1'!J$30:J$79=\"HOT\",IF('A1'!K$30:K$79>=A158,IF('A1'!L$30:L$79<=A160,1*'A1'!H$30:H$79,0),0),0),IF('A1'!J$30:J$79=\"COLD\",IF('A1'!K$30:K$79<=A160,IF('A1'!L$30:L$79>=A158,-1*'A1'!H$30:H$79,0),0),0)))","v":""},"","",null,"",{"$f":"IF(A159=\"\",\"\",\"▼\")","v":""},{"$f":"IF(A159=\"\",\"\",J$5+SUM(I$6:I158))","v":""},null,{"$f":"IF(L158=\"\",\"\",IF((M$5+SUM(L$6:L158))>=0,\"▼\",\"▲\"))","v":""},{"$f":"IF(A159=\"\",\"\",IF(L159=\"▼\",((M$5)+(SUM(L$6:L158))),(-(M$5+SUM(L$6:L158)))))","v":""}]
[{"$f":"IF(B159=\"\",\"\",(LARGE('A1'!$K$30:$L$79,(1+SUM(COUNTIF('A1'!$K$30:$L$79,A$5:A159))-(B159*COUNTIF('A1'!$K$30:$L$79,A$6))))))","v":""},{"$f":"IF(B158=\"\",\"\",IF((SUM(IF(FREQUENCY('A1'!$K$30:$L$79,'A1'!$K$30:$L$79)>0,1)))>(B158+1),(B158+1),\"\"))","v":""},"",{"$f":"IF(C160=\"\",\"\",SUM(IF('A1'!J$30:J$79=\"HOT\",IF('A1'!K$30:K$79>=A159,IF('A1'!L$30:L$79<=A161,1*'A1'!H$30:H$79,0),0),0),IF('A1'!J$30:J$79=\"COLD\",IF('A1'!K$30:K$79<=A161,IF('A1'!L$30:L$79>=A159,-1*'A1'!H$30:H$79,0),0),0)))","v":""},"","",null,"",{"$f":"E160","v":""},{"$f":"IF(A160=\"\",\"\",J$5+SUM(I$6:I159))","v":""},null,{"$f":"E160","v":""},{"$f":"IF(A160=\"\",\"\",IF(L160=\"▼\",((M$5)+(SUM(L$6:L159))),(-(M$5+SUM(L$6:L159)))))","v":""}]
[{"$f":"IF(B160=\"\",\"\",(LARGE('A1'!$K$30:$L$79,(1+SUM(COUNTIF('A1'!$K$30:$L$79,A$5:A160))-(B160*COUNTIF('A1'!$K$30:$L$79,A$6))))))","v":""},{"$f":"IF(B159=\"\",\"\",IF((SUM(IF(FREQUENCY('A1'!$K$30:$L$79,'A1'!$K$30:$L$79)>0,1)))>(B159+1),(B159+1),\"\"))","v":""},"",{"$f":"IF(C161=\"\",\"\",SUM(IF('A1'!J$30:J$79=\"HOT\",IF('A1'!K$30:K$79>=A160,IF('A1'!L$30:L$79<=A162,1*'A1'!H$30:H$79,0),0),0),IF('A1'!J$30:J$79=\"COLD\",IF('A1'!K$30:K$79<=A162,IF('A1'!L$30:L$79>=A160,-1*'A1'!H$30:H$79,0),0),0)))","v":""},"","",null,"",{"$f":"IF(A161=\"\",\"\",\"▼\")","v":""},{"$f":"IF(A161=\"\",\"\",J$5+SUM(I$6:I160))","v":""},null,{"$f":"IF(L160=\"\",\"\",IF((M$5+SUM(L$6:L160))>=0,\"▼\",\"▲\"))","v":""},{"$f":"IF(A161=\"\",\"\",IF(L161=\"▼\",((M$5)+(SUM(L$6:L160))),(-(M$5+SUM(L$6:L160)))))","v":""}]
[{"$f":"IF(B161=\"\",\"\",(LARGE('A1'!$K$30:$L$79,(1+SUM(COUNTIF('A1'!$K$30:$L$79,A$5:A161))-(B161*COUNTIF('A1'!$K$30:$L$79,A$6))))))","v":""},{"$f":"IF(B160=\"\",\"\",IF((SUM(IF(FREQUENCY('A1'!$K$30:$L$79,'A1'!$K$30:$L$79)>0,1)))>(B160+1),(B160+1),\"\"))","v":""},"",{"$f":"IF(C162=\"\",\"\",SUM(IF('A1'!J$30:J$79=\"HOT\",IF('A1'!K$30:K$79>=A161,IF('A1'!L$30:L$79<=A163,1*'A1'!H$30:H$79,0),0),0),IF('A1'!J$30:J$79=\"COLD\",IF('A1'!K$30:K$79<=A163,IF('A1'!L$30:L$79>=A161,-1*'A1'!H$30:H$79,0),0),0)))","v":""},"","",null,"",{"$f":"E162","v":""},{"$f":"IF(A162=\"\",\"\",J$5+SUM(I$6:I161))","v":""},null,{"$f":"E162","v":""},{"$f":"IF(A162=\"\",\"\",IF(L162=\"▼\",((M$5)+(SUM(L$6:L161))),(-(M$5+SUM(L$6:L161)))))","v":""}]
[{"$f":"IF(B162=\"\",\"\",(LARGE('A1'!$K$30:$L$79,(1+SUM(COUNTIF('A1'!$K$30:$L$79,A$5:A162))-(B162*COUNTIF('A1'!$K$30:$L$79,A$6))))))","v":""},{"$f":"IF(B161=\"\",\"\",IF((SUM(IF(FREQUENCY('A1'!$K$30:$L$79,'A1'!$K$30:$L$79)>0,1)))>(B161+1),(B161+1),\"\"))","v":""},"",{"$f":"IF(C163=\"\",\"\",SUM(IF('A1'!J$30:J$79=\"HOT\",IF('A1'!K$30:K$79>=A162,IF('A1'!L$30:L$79<=A164,1*'A1'!H$30:H$79,0),0),0),IF('A1'!J$30:J$79=\"COLD\",IF('A1'!K$30:K$79<=A164,IF('A1'!L$30:L$79>=A162,-1*'A1'!H$30:H$79,0),0),0)))","v":""},"","",null,"",{"$f":"IF(A163=\"\",\"\",\"▼\")","v":""},{"$f":"IF(A163=\"\",\"\",J$5+SUM(I$6:I162))","v":""},null,{"$f":"IF(L162=\"\",\"\",IF((M$5+SUM(L$6:L162))>=0,\"▼\",\"▲\"))","v":""},{"$f":"IF(A163=\"\",\"\",IF(L163=\"▼\",((M$5)+(SUM(L$6:L162))),(-(M$5+SUM(L$6:L162)))))","v":""}]
[{"$f":"IF(B163=\"\",\"\",(LARGE('A1'!$K$30:$L$79,(1+SUM(COUNTIF('A1'!$K$30:$L$79,A$5:A163))-(B163*COUNTIF('A1'!$K$30:$L$79,A$6))))))","v":""},{"$f":"IF(B162=\"\",\"\",IF((SUM(IF(FREQUENCY('A1'!$K$30:$L$79,'A1'!$K$30:$L$79)>0,1)))>(B162+1),(B162+1),\"\"))","v":""},"",{"$f":"IF(C164=\"\",\"\",SUM(IF('A1'!J$30:J$79=\"HOT\",IF('A1'!K$30:K$79>=A163,IF('A1'!L$30:L$79<=A165,1*'A1'!H$30:H$79,0),0),0),IF('A1'!J$30:J$79=\"COLD\",IF('A1'!K$30:K$79<=A165,IF('A1'!L$30:L$79>=A163,-1*'A1'!H$30:H$79,0),0),0)))","v":""},"","",null,"",{"$f":"E164","v":""},{"$f":"IF(A164=\"\",\"\",J$5+SUM(I$6:I163))","v":""},null,{"$f":"E164","v":""},{"$f":"IF(A164=\"\",\"\",IF(L164=\"▼\",((M$5)+(SUM(L$6:L163))),(-(M$5+SUM(L$6:L163)))))","v":""}]
[{"$f":"IF(B164=\"\",\"\",(LARGE('A1'!$K$30:$L$79,(1+SUM(COUNTIF('A1'!$K$30:$L$79,A$5:A164))-(B164*COUNTIF('A1'!$K$30:$L$79,A$6))))))","v":""},{"$f":"IF(B163=\"\",\"\",IF((SUM(IF(FREQUENCY('A1'!$K$30:$L$79,'A1'!$K$30:$L$79)>0,1)))>(B163+1),(B163+1),\"\"))","v":""},"",{"$f":"IF(C165=\"\",\"\",SUM(IF('A1'!J$30:J$79=\"HOT\",IF('A1'!K$30:K$79>=A164,IF('A1'!L$30:L$79<=A166,1*'A1'!H$30:H$79,0),0),0),IF('A1'!J$30:J$79=\"COLD\",IF('A1'!K$30:K$79<=A166,IF('A1'!L$30:L$79>=A164,-1*'A1'!H$30:H$79,0),0),0)))","v":""},"","",null,"",{"$f":"IF(A165=\"\",\"\",\"▼\")","v":""},{"$f":"IF(A165=\"\",\"\",J$5+SUM(I$6:I164))","v":""},null,{"$f":"IF(L164=\"\",\"\",IF((M$5+SUM(L$6:L164))>=0,\"▼\",\"▲\"))","v":""},{"$f":"IF(A165=\"\",\"\",IF(L165=\"▼\",((M$5)+(SUM(L$6:L164))),(-(M$5+SUM(L$6:L164)))))","v":""}]
[{"$f":"IF(B165=\"\",\"\",(LARGE('A1'!$K$30:$L$79,(1+SUM(COUNTIF('A1'!$K$30:$L$79,A$5:A165))-(B165*COUNTIF('A1'!$K$30:$L$79,A$6))))))","v":""},{"$f":"IF(B164=\"\",\"\",IF((SUM(IF(FREQUENCY('A1'!$K$30:$L$79,'A1'!$K$30:$L$79)>0,1)))>(B164+1),(B164+1),\"\"))","v":""},"",{"$f":"IF(C166=\"\",\"\",SUM(IF('A1'!J$30:J$79=\"HOT\",IF('A1'!K$30:K$79>=A165,IF('A1'!L$30:L$79<=A167,1*'A1'!H$30:H$79,0),0),0),IF('A1'!J$30:J$79=\"COLD\",IF('A1'!K$30:K$79<=A167,IF('A1'!L$30:L$79>=A165,-1*'A1'!H$30:H$79,0),0),0)))","v":""},"","",null,"",{"$f":"E166","v":""},{"$f":"IF(A166=\"\",\"\",J$5+SUM(I$6:I165))","v":""},null,{"$f":"E166","v":""},{"$f":"IF(A166=\"\",\"\",IF(L166=\"▼\",((M$5)+(SUM(L$6:L165))),(-(M$5+SUM(L$6:L165)))))","v":""}]
[{"$f":"IF(B166=\"\",\"\",(LARGE('A1'!$K$30:$L$79,(1+SUM(COUNTIF('A1'!$K$30:$L$79,A$5:A166))-(B166*COUNTIF('A1'!$K$30:$L$79,A$6))))))","v":""},{"$f":"IF(B165=\"\",\"\",IF((SUM(IF(FREQUENCY('A1'!$K$30:$L$79,'A1'!$K$30:$L$79)>0,1)))>(B165+1),(B165+1),\"\"))","v":""},"",{"$f":"IF(C167=\"\",\"\",SUM(IF('A1'!J$30:J$79=\"HOT\",IF('A1'!K$30:K$79>=A166,IF('A1'!L$30:L$79<=A168,1*'A1'!H$30:H$79,0),0),0),IF('A1'!J$30:J$79=\"COLD\",IF('A1'!K$30:K$79<=A168,IF('A1'!L$30:L$79>=A166,-1*'A1'!H$30:H$79,0),0),0)))","v":""},"","",null,"",{"$f":"IF(A167=\"\",\"\",\"▼\")","v":""},{"$f":"IF(A167=\"\",\"\",J$5+SUM(I$6:I166))","v":""},null,{"$f":"IF(L166=\"\",\"\",IF((M$5+SUM(L$6:L166))>=0,\"▼\",\"▲\"))","v":""},{"$f":"IF(A167=\"\",\"\",IF(L167=\"▼\",((M$5)+(SUM(L$6:L166))),(-(M$5+SUM(L$6:L166)))))","v":""}]
[{"$f":"IF(B167=\"\",\"\",(LARGE('A1'!$K$30:$L$79,(1+SUM(COUNTIF('A1'!$K$30:$L$79,A$5:A167))-(B167*COUNTIF('A1'!$K$30:$L$79,A$6))))))","v":""},{"$f":"IF(B166=\"\",\"\",IF((SUM(IF(FREQUENCY('A1'!$K$30:$L$79,'A1'!$K$30:$L$79)>0,1)))>(B166+1),(B166+1),\"\"))","v":""},"",{"$f":"IF(C168=\"\",\"\",SUM(IF('A1'!J$30:J$79=\"HOT\",IF('A1'!K$30:K$79>=A167,IF('A1'!L$30:L$79<=A169,1*'A1'!H$30:H$79,0),0),0),IF('A1'!J$30:J$79=\"COLD\",IF('A1'!K$30:K$79<=A169,IF('A1'!L$30:L$79>=A167,-1*'A1'!H$30:H$79,0),0),0)))","v":""},"","",null,"",{"$f":"E168","v":""},{"$f":"IF(A168=\"\",\"\",J$5+SUM(I$6:I167))","v":""},null,{"$f":"E168","v":""},{"$f":"IF(A168=\"\",\"\",IF(L168=\"▼\",((M$5)+(SUM(L$6:L167))),(-(M$5+SUM(L$6:L167)))))","v":""}]
[{"$f":"IF(B168=\"\",\"\",(LARGE('A1'!$K$30:$L$79,(1+SUM(COUNTIF('A1'!$K$30:$L$79,A$5:A168))-(B168*COUNTIF('A1'!$K$30:$L$79,A$6))))))","v":""},{"$f":"IF(B167=\"\",\"\",IF((SUM(IF(FREQUENCY('A1'!$K$30:$L$79,'A1'!$K$30:$L$79)>0,1)))>(B167+1),(B167+1),\"\"))","v":""},"",{"$f":"IF(C169=\"\",\"\",SUM(IF('A1'!J$30:J$79=\"HOT\",IF('A1'!K$30:K$79>=A168,IF('A1'!L$30:L$79<=A170,1*'A1'!H$30:H$79,0),0),0),IF('A1'!J$30:J$79=\"COLD\",IF('A1'!K$30:K$79<=A170,IF('A1'!L$30:L$79>=A168,-1*'A1'!H$30:H$79,0),0),0)))","v":""},"","",null,"",{"$f":"IF(A169=\"\",\"\",\"▼\")","v":""},{"$f":"IF(A169=\"\",\"\",J$5+SUM(I$6:I168))","v":""},null,{"$f":"IF(L168=\"\",\"\",IF((M$5+SUM(L$6:L168))>=0,\"▼\",\"▲\"))","v":""},{"$f":"IF(A169=\"\",\"\",IF(L169=\"▼\",((M$5)+(SUM(L$6:L168))),(-(M$5+SUM(L$6:L168)))))","v":""}]
[{"$f":"IF(B169=\"\",\"\",(LARGE('A1'!$K$30:$L$79,(1+SUM(COUNTIF('A1'!$K$30:$L$79,A$5:A169))-(B169*COUNTIF('A1'!$K$30:$L$79,A$6))))))","v":""},{"$f":"IF(B168=\"\",\"\",IF((SUM(IF(FREQUENCY('A1'!$K$30:$L$79,'A1'!$K$30:$L$79)>0,1)))>(B168+1),(B168+1),\"\"))","v":""},"",{"$f":"IF(C170=\"\",\"\",SUM(IF('A1'!J$30:J$79=\"HOT\",IF('A1'!K$30:K$79>=A169,IF('A1'!L$30:L$79<=A171,1*'A1'!H$30:H$79,0),0),0),IF('A1'!J$30:J$79=\"COLD\",IF('A1'!K$30:K$79<=A171,IF('A1'!L$30:L$79>=A169,-1*'A1'!H$30:H$79,0),0),0)))","v":""},"","",null,"",{"$f":"E170","v":""},{"$f":"IF(A170=\"\",\"\",J$5+SUM(I$6:I169))","v":""},null,{"$f":"E170","v":""},{"$f":"IF(A170=\"\",\"\",IF(L170=\"▼\",((M$5)+(SUM(L$6:L169))),(-(M$5+SUM(L$6:L169)))))","v":""}]
[{"$f":"IF(B170=\"\",\"\",(LARGE('A1'!$K$30:$L$79,(1+SUM(COUNTIF('A1'!$K$30:$L$79,A$5:A170))-(B170*COUNTIF('A1'!$K$30:$L$79,A$6))))))","v":""},{"$f":"IF(B169=\"\",\"\",IF((SUM(IF(FREQUENCY('A1'!$K$30:$L$79,'A1'!$K$30:$L$79)>0,1)))>(B169+1),(B169+1),\"\"))","v":""},"",{"$f":"IF(C171=\"\",\"\",SUM(IF('A1'!J$30:J$79=\"HOT\",IF('A1'!K$30:K$79>=A170,IF('A1'!L$30:L$79<=A172,1*'A1'!H$30:H$79,0),0),0),IF('A1'!J$30:J$79=\"COLD\",IF('A1'!K$30:K$79<=A172,IF('A1'!L$30:L$79>=A170,-1*'A1'!H$30:H$79,0),0),0)))","v":""},"","",null,"",{"$f":"IF(A171=\"\",\"\",\"▼\")","v":""},{"$f":"IF(A171=\"\",\"\",J$5+SUM(I$6:I170))","v":""},null,{"$f":"IF(L170=\"\",\"\",IF((M$5+SUM(L$6:L170))>=0,\"▼\",\"▲\"))","v":""},{"$f":"IF(A171=\"\",\"\",IF(L171=\"▼\",((M$5)+(SUM(L$6:L170))),(-(M$5+SUM(L$6:L170)))))","v":""}]
[{"$f":"IF(B171=\"\",\"\",(LARGE('A1'!$K$30:$L$79,(1+SUM(COUNTIF('A1'!$K$30:$L$79,A$5:A171))-(B171*COUNTIF('A1'!$K$30:$L$79,A$6))))))","v":""},{"$f":"IF(B170=\"\",\"\",IF((SUM(IF(FREQUENCY('A1'!$K$30:$L$79,'A1'!$K$30:$L$79)>0,1)))>(B170+1),(B170+1),\"\"))","v":""},"",{"$f":"IF(C172=\"\",\"\",SUM(IF('A1'!J$30:J$79=\"HOT\",IF('A1'!K$30:K$79>=A171,IF('A1'!L$30:L$79<=A173,1*'A1'!H$30:H$79,0),0),0),IF('A1'!J$30:J$79=\"COLD\",IF('A1'!K$30:K$79<=A173,IF('A1'!L$30:L$79>=A171,-1*'A1'!H$30:H$79,0),0),0)))","v":""},"","",null,"",{"$f":"E172","v":""},{"$f":"IF(A172=\"\",\"\",J$5+SUM(I$6:I171))","v":""},null,{"$f":"E172","v":""},{"$f":"IF(A172=\"\",\"\",IF(L172=\"▼\",((M$5)+(SUM(L$6:L171))),(-(M$5+SUM(L$6:L171)))))","v":""}]
[{"$f":"IF(B172=\"\",\"\",(LARGE('A1'!$K$30:$L$79,(1+SUM(COUNTIF('A1'!$K$30:$L$79,A$5:A172))-(B172*COUNTIF('A1'!$K$30:$L$79,A$6))))))","v":""},{"$f":"IF(B171=\"\",\"\",IF((SUM(IF(FREQUENCY('A1'!$K$30:$L$79,'A1'!$K$30:$L$79)>0,1)))>(B171+1),(B171+1),\"\"))","v":""},"",{"$f":"IF(C173=\"\",\"\",SUM(IF('A1'!J$30:J$79=\"HOT\",IF('A1'!K$30:K$79>=A172,IF('A1'!L$30:L$79<=A174,1*'A1'!H$30:H$79,0),0),0),IF('A1'!J$30:J$79=\"COLD\",IF('A1'!K$30:K$79<=A174,IF('A1'!L$30:L$79>=A172,-1*'A1'!H$30:H$79,0),0),0)))","v":""},"","",null,"",{"$f":"IF(A173=\"\",\"\",\"▼\")","v":""},{"$f":"IF(A173=\"\",\"\",J$5+SUM(I$6:I172))","v":""},null,{"$f":"IF(L172=\"\",\"\",IF((M$5+SUM(L$6:L172))>=0,\"▼\",\"▲\"))","v":""},{"$f":"IF(A173=\"\",\"\",IF(L173=\"▼\",((M$5)+(SUM(L$6:L172))),(-(M$5+SUM(L$6:L172)))))","v":""}]
[{"$f":"IF(B173=\"\",\"\",(LARGE('A1'!$K$30:$L$79,(1+SUM(COUNTIF('A1'!$K$30:$L$79,A$5:A173))-(B173*COUNTIF('A1'!$K$30:$L$79,A$6))))))","v":""},{"$f":"IF(B172=\"\",\"\",IF((SUM(IF(FREQUENCY('A1'!$K$30:$L$79,'A1'!$K$30:$L$79)>0,1)))>(B172+1),(B172+1),\"\"))","v":""},"",{"$f":"IF(C174=\"\",\"\",SUM(IF('A1'!J$30:J$79=\"HOT\",IF('A1'!K$30:K$79>=A173,IF('A1'!L$30:L$79<=A175,1*'A1'!H$30:H$79,0),0),0),IF('A1'!J$30:J$79=\"COLD\",IF('A1'!K$30:K$79<=A175,IF('A1'!L$30:L$79>=A173,-1*'A1'!H$30:H$79,0),0),0)))","v":""},"","",null,"",{"$f":"E174","v":""},{"$f":"IF(A174=\"\",\"\",J$5+SUM(I$6:I173))","v":""},null,{"$f":"E174","v":""},{"$f":"IF(A174=\"\",\"\",IF(L174=\"▼\",((M$5)+(SUM(L$6:L173))),(-(M$5+SUM(L$6:L173)))))","v":""}]
[{"$f":"IF(B174=\"\",\"\",(LARGE('A1'!$K$30:$L$79,(1+SUM(COUNTIF('A1'!$K$30:$L$79,A$5:A174))-(B174*COUNTIF('A1'!$K$30:$L$79,A$6))))))","v":""},{"$f":"IF(B173=\"\",\"\",IF((SUM(IF(FREQUENCY('A1'!$K$30:$L$79,'A1'!$K$30:$L$79)>0,1)))>(B173+1),(B173+1),\"\"))","v":""},"",{"$f":"IF(C175=\"\",\"\",SUM(IF('A1'!J$30:J$79=\"HOT\",IF('A1'!K$30:K$79>=A174,IF('A1'!L$30:L$79<=A176,1*'A1'!H$30:H$79,0),0),0),IF('A1'!J$30:J$79=\"COLD\",IF('A1'!K$30:K$79<=A176,IF('A1'!L$30:L$79>=A174,-1*'A1'!H$30:H$79,0),0),0)))","v":""},"","",null,"",{"$f":"IF(A175=\"\",\"\",\"▼\")","v":""},{"$f":"IF(A175=\"\",\"\",J$5+SUM(I$6:I174))","v":""},null,{"$f":"IF(L174=\"\",\"\",IF((M$5+SUM(L$6:L174))>=0,\"▼\",\"▲\"))","v":""},{"$f":"IF(A175=\"\",\"\",IF(L175=\"▼\",((M$5)+(SUM(L$6:L174))),(-(M$5+SUM(L$6:L174)))))","v":""}]
[{"$f":"IF(B175=\"\",\"\",(LARGE('A1'!$K$30:$L$79,(1+SUM(COUNTIF('A1'!$K$30:$L$79,A$5:A175))-(B175*COUNTIF('A1'!$K$30:$L$79,A$6))))))","v":""},{"$f":"IF(B174=\"\",\"\",IF((SUM(IF(FREQUENCY('A1'!$K$30:$L$79,'A1'!$K$30:$L$79)>0,1)))>(B174+1),(B174+1),\"\"))","v":""},"",{"$f":"IF(C176=\"\",\"\",SUM(IF('A1'!J$30:J$79=\"HOT\",IF('A1'!K$30:K$79>=A175,IF('A1'!L$30:L$79<=A177,1*'A1'!H$30:H$79,0),0),0),IF('A1'!J$30:J$79=\"COLD\",IF('A1'!K$30:K$79<=A177,IF('A1'!L$30:L$79>=A175,-1*'A1'!H$30:H$79,0),0),0)))","v":""},"","",null,"",{"$f":"E176","v":""},{"$f":"IF(A176=\"\",\"\",J$5+SUM(I$6:I175))","v":""},null,{"$f":"E176","v":""},{"$f":"IF(A176=\"\",\"\",IF(L176=\"▼\",((M$5)+(SUM(L$6:L175))),(-(M$5+SUM(L$6:L175)))))","v":""}]
[{"$f":"IF(B176=\"\",\"\",(LARGE('A1'!$K$30:$L$79,(1+SUM(COUNTIF('A1'!$K$30:$L$79,A$5:A176))-(B176*COUNTIF('A1'!$K$30:$L$79,A$6))))))","v":""},{"$f":"IF(B175=\"\",\"\",IF((SUM(IF(FREQUENCY('A1'!$K$30:$L$79,'A1'!$K$30:$L$79)>0,1)))>(B175+1),(B175+1),\"\"))","v":""},"",{"$f":"IF(C177=\"\",\"\",SUM(IF('A1'!J$30:J$79=\"HOT\",IF('A1'!K$30:K$79>=A176,IF('A1'!L$30:L$79<=A178,1*'A1'!H$30:H$79,0),0),0),IF('A1'!J$30:J$79=\"COLD\",IF('A1'!K$30:K$79<=A178,IF('A1'!L$30:L$79>=A176,-1*'A1'!H$30:H$79,0),0),0)))","v":""},"","",null,"",{"$f":"IF(A177=\"\",\"\",\"▼\")","v":""},{"$f":"IF(A177=\"\",\"\",J$5+SUM(I$6:I176))","v":""},null,{"$f":"IF(L176=\"\",\"\",IF((M$5+SUM(L$6:L176))>=0,\"▼\",\"▲\"))","v":""},{"$f":"IF(A177=\"\",\"\",IF(L177=\"▼\",((M$5)+(SUM(L$6:L176))),(-(M$5+SUM(L$6:L176)))))","v":""}]
[{"$f":"IF(B177=\"\",\"\",(LARGE('A1'!$K$30:$L$79,(1+SUM(COUNTIF('A1'!$K$30:$L$79,A$5:A177))-(B177*COUNTIF('A1'!$K$30:$L$79,A$6))))))","v":""},{"$f":"IF(B176=\"\",\"\",IF((SUM(IF(FREQUENCY('A1'!$K$30:$L$79,'A1'!$K$30:$L$79)>0,1)))>(B176+1),(B176+1),\"\"))","v":""},"",{"$f":"IF(C178=\"\",\"\",SUM(IF('A1'!J$30:J$79=\"HOT\",IF('A1'!K$30:K$79>=A177,IF('A1'!L$30:L$79<=A179,1*'A1'!H$30:H$79,0),0),0),IF('A1'!J$30:J$79=\"COLD\",IF('A1'!K$30:K$79<=A179,IF('A1'!L$30:L$79>=A177,-1*'A1'!H$30:H$79,0),0),0)))","v":""},"","",null,"",{"$f":"E178","v":""},{"$f":"IF(A178=\"\",\"\",J$5+SUM(I$6:I177))","v":""},null,{"$f":"E178","v":""},{"$f":"IF(A178=\"\",\"\",IF(L178=\"▼\",((M$5)+(SUM(L$6:L177))),(-(M$5+SUM(L$6:L177)))))","v":""}]
[{"$f":"IF(B178=\"\",\"\",(LARGE('A1'!$K$30:$L$79,(1+SUM(COUNTIF('A1'!$K$30:$L$79,A$5:A178))-(B178*COUNTIF('A1'!$K$30:$L$79,A$6))))))","v":""},{"$f":"IF(B177=\"\",\"\",IF((SUM(IF(FREQUENCY('A1'!$K$30:$L$79,'A1'!$K$30:$L$79)>0,1)))>(B177+1),(B177+1),\"\"))","v":""},"",{"$f":"IF(C179=\"\",\"\",SUM(IF('A1'!J$30:J$79=\"HOT\",IF('A1'!K$30:K$79>=A178,IF('A1'!L$30:L$79<=A180,1*'A1'!H$30:H$79,0),0),0),IF('A1'!J$30:J$79=\"COLD\",IF('A1'!K$30:K$79<=A180,IF('A1'!L$30:L$79>=A178,-1*'A1'!H$30:H$79,0),0),0)))","v":""},"","",null,"",{"$f":"IF(A179=\"\",\"\",\"▼\")","v":""},{"$f":"IF(A179=\"\",\"\",J$5+SUM(I$6:I178))","v":""},null,{"$f":"IF(L178=\"\",\"\",IF((M$5+SUM(L$6:L178))>=0,\"▼\",\"▲\"))","v":""},{"$f":"IF(A179=\"\",\"\",IF(L179=\"▼\",((M$5)+(SUM(L$6:L178))),(-(M$5+SUM(L$6:L178)))))","v":""}]
[{"$f":"IF(B179=\"\",\"\",(LARGE('A1'!$K$30:$L$79,(1+SUM(COUNTIF('A1'!$K$30:$L$79,A$5:A179))-(B179*COUNTIF('A1'!$K$30:$L$79,A$6))))))","v":""},{"$f":"IF(B178=\"\",\"\",IF((SUM(IF(FREQUENCY('A1'!$K$30:$L$79,'A1'!$K$30:$L$79)>0,1)))>(B178+1),(B178+1),\"\"))","v":""},"",{"$f":"IF(C180=\"\",\"\",SUM(IF('A1'!J$30:J$79=\"HOT\",IF('A1'!K$30:K$79>=A179,IF('A1'!L$30:L$79<=A181,1*'A1'!H$30:H$79,0),0),0),IF('A1'!J$30:J$79=\"COLD\",IF('A1'!K$30:K$79<=A181,IF('A1'!L$30:L$79>=A179,-1*'A1'!H$30:H$79,0),0),0)))","v":""},"","",null,"",{"$f":"E180","v":""},{"$f":"IF(A180=\"\",\"\",J$5+SUM(I$6:I179))","v":""},null,{"$f":"E180","v":""},{"$f":"IF(A180=\"\",\"\",IF(L180=\"▼\",((M$5)+(SUM(L$6:L179))),(-(M$5+SUM(L$6:L179)))))","v":""}]
[{"$f":"IF(B180=\"\",\"\",(LARGE('A1'!$K$30:$L$79,(1+SUM(COUNTIF('A1'!$K$30:$L$79,A$5:A180))-(B180*COUNTIF('A1'!$K$30:$L$79,A$6))))))","v":""},{"$f":"IF(B179=\"\",\"\",IF((SUM(IF(FREQUENCY('A1'!$K$30:$L$79,'A1'!$K$30:$L$79)>0,1)))>(B179+1),(B179+1),\"\"))","v":""},"",{"$f":"IF(C181=\"\",\"\",SUM(IF('A1'!J$30:J$79=\"HOT\",IF('A1'!K$30:K$79>=A180,IF('A1'!L$30:L$79<=A182,1*'A1'!H$30:H$79,0),0),0),IF('A1'!J$30:J$79=\"COLD\",IF('A1'!K$30:K$79<=A182,IF('A1'!L$30:L$79>=A180,-1*'A1'!H$30:H$79,0),0),0)))","v":""},"","",null,"",{"$f":"IF(A181=\"\",\"\",\"▼\")","v":""},{"$f":"IF(A181=\"\",\"\",J$5+SUM(I$6:I180))","v":""},null,{"$f":"IF(L180=\"\",\"\",IF((M$5+SUM(L$6:L180))>=0,\"▼\",\"▲\"))","v":""},{"$f":"IF(A181=\"\",\"\",IF(L181=\"▼\",((M$5)+(SUM(L$6:L180))),(-(M$5+SUM(L$6:L180)))))","v":""}]
[{"$f":"IF(B181=\"\",\"\",(LARGE('A1'!$K$30:$L$79,(1+SUM(COUNTIF('A1'!$K$30:$L$79,A$5:A181))-(B181*COUNTIF('A1'!$K$30:$L$79,A$6))))))","v":""},{"$f":"IF(B180=\"\",\"\",IF((SUM(IF(FREQUENCY('A1'!$K$30:$L$79,'A1'!$K$30:$L$79)>0,1)))>(B180+1),(B180+1),\"\"))","v":""},"",{"$f":"IF(C182=\"\",\"\",SUM(IF('A1'!J$30:J$79=\"HOT\",IF('A1'!K$30:K$79>=A181,IF('A1'!L$30:L$79<=A183,1*'A1'!H$30:H$79,0),0),0),IF('A1'!J$30:J$79=\"COLD\",IF('A1'!K$30:K$79<=A183,IF('A1'!L$30:L$79>=A181,-1*'A1'!H$30:H$79,0),0),0)))","v":""},"","",null,"",{"$f":"E182","v":""},{"$f":"IF(A182=\"\",\"\",J$5+SUM(I$6:I181))","v":""},null,{"$f":"E182","v":""},{"$f":"IF(A182=\"\",\"\",IF(L182=\"▼\",((M$5)+(SUM(L$6:L181))),(-(M$5+SUM(L$6:L181)))))","v":""}]
[{"$f":"IF(B182=\"\",\"\",(LARGE('A1'!$K$30:$L$79,(1+SUM(COUNTIF('A1'!$K$30:$L$79,A$5:A182))-(B182*COUNTIF('A1'!$K$30:$L$79,A$6))))))","v":""},{"$f":"IF(B181=\"\",\"\",IF((SUM(IF(FREQUENCY('A1'!$K$30:$L$79,'A1'!$K$30:$L$79)>0,1)))>(B181+1),(B181+1),\"\"))","v":""},"",{"$f":"IF(C183=\"\",\"\",SUM(IF('A1'!J$30:J$79=\"HOT\",IF('A1'!K$30:K$79>=A182,IF('A1'!L$30:L$79<=A184,1*'A1'!H$30:H$79,0),0),0),IF('A1'!J$30:J$79=\"COLD\",IF('A1'!K$30:K$79<=A184,IF('A1'!L$30:L$79>=A182,-1*'A1'!H$30:H$79,0),0),0)))","v":""},"","",null,"",{"$f":"IF(A183=\"\",\"\",\"▼\")","v":""},{"$f":"IF(A183=\"\",\"\",J$5+SUM(I$6:I182))","v":""},null,{"$f":"IF(L182=\"\",\"\",IF((M$5+SUM(L$6:L182))>=0,\"▼\",\"▲\"))","v":""},{"$f":"IF(A183=\"\",\"\",IF(L183=\"▼\",((M$5)+(SUM(L$6:L182))),(-(M$5+SUM(L$6:L182)))))","v":""}]
[{"$f":"IF(B183=\"\",\"\",(LARGE('A1'!$K$30:$L$79,(1+SUM(COUNTIF('A1'!$K$30:$L$79,A$5:A183))-(B183*COUNTIF('A1'!$K$30:$L$79,A$6))))))","v":""},{"$f":"IF(B182=\"\",\"\",IF((SUM(IF(FREQUENCY('A1'!$K$30:$L$79,'A1'!$K$30:$L$79)>0,1)))>(B182+1),(B182+1),\"\"))","v":""},"",{"$f":"IF(C184=\"\",\"\",SUM(IF('A1'!J$30:J$79=\"HOT\",IF('A1'!K$30:K$79>=A183,IF('A1'!L$30:L$79<=A185,1*'A1'!H$30:H$79,0),0),0),IF('A1'!J$30:J$79=\"COLD\",IF('A1'!K$30:K$79<=A185,IF('A1'!L$30:L$79>=A183,-1*'A1'!H$30:H$79,0),0),0)))","v":""},"","",null,"",{"$f":"E184","v":""},{"$f":"IF(A184=\"\",\"\",J$5+SUM(I$6:I183))","v":""},null,{"$f":"E184","v":""},{"$f":"IF(A184=\"\",\"\",IF(L184=\"▼\",((M$5)+(SUM(L$6:L183))),(-(M$5+SUM(L$6:L183)))))","v":""}]
[{"$f":"IF(B184=\"\",\"\",(LARGE('A1'!$K$30:$L$79,(1+SUM(COUNTIF('A1'!$K$30:$L$79,A$5:A184))-(B184*COUNTIF('A1'!$K$30:$L$79,A$6))))))","v":""},{"$f":"IF(B183=\"\",\"\",IF((SUM(IF(FREQUENCY('A1'!$K$30:$L$79,'A1'!$K$30:$L$79)>0,1)))>(B183+1),(B183+1),\"\"))","v":""},"",{"$f":"IF(C185=\"\",\"\",SUM(IF('A1'!J$30:J$79=\"HOT\",IF('A1'!K$30:K$79>=A184,IF('A1'!L$30:L$79<=A186,1*'A1'!H$30:H$79,0),0),0),IF('A1'!J$30:J$79=\"COLD\",IF('A1'!K$30:K$79<=A186,IF('A1'!L$30:L$79>=A184,-1*'A1'!H$30:H$79,0),0),0)))","v":""},"","",null,"",{"$f":"IF(A185=\"\",\"\",\"▼\")","v":""},{"$f":"IF(A185=\"\",\"\",J$5+SUM(I$6:I184))","v":""},null,{"$f":"IF(L184=\"\",\"\",IF((M$5+SUM(L$6:L184))>=0,\"▼\",\"▲\"))","v":""},{"$f":"IF(A185=\"\",\"\",IF(L185=\"▼\",((M$5)+(SUM(L$6:L184))),(-(M$5+SUM(L$6:L184)))))","v":""}]
[{"$f":"IF(B185=\"\",\"\",(LARGE('A1'!$K$30:$L$79,(1+SUM(COUNTIF('A1'!$K$30:$L$79,A$5:A185))-(B185*COUNTIF('A1'!$K$30:$L$79,A$6))))))","v":""},{"$f":"IF(B184=\"\",\"\",IF((SUM(IF(FREQUENCY('A1'!$K$30:$L$79,'A1'!$K$30:$L$79)>0,1)))>(B184+1),(B184+1),\"\"))","v":""},"",{"$f":"IF(C186=\"\",\"\",SUM(IF('A1'!J$30:J$79=\"HOT\",IF('A1'!K$30:K$79>=A185,IF('A1'!L$30:L$79<=A187,1*'A1'!H$30:H$79,0),0),0),IF('A1'!J$30:J$79=\"COLD\",IF('A1'!K$30:K$79<=A187,IF('A1'!L$30:L$79>=A185,-1*'A1'!H$30:H$79,0),0),0)))","v":""},"","",null,"",{"$f":"E186","v":""},{"$f":"IF(A186=\"\",\"\",J$5+SUM(I$6:I185))","v":""},null,{"$f":"E186","v":""},{"$f":"IF(A186=\"\",\"\",IF(L186=\"▼\",((M$5)+(SUM(L$6:L185))),(-(M$5+SUM(L$6:L185)))))","v":""}]
[{"$f":"IF(B186=\"\",\"\",(LARGE('A1'!$K$30:$L$79,(1+SUM(COUNTIF('A1'!$K$30:$L$79,A$5:A186))-(B186*COUNTIF('A1'!$K$30:$L$79,A$6))))))","v":""},{"$f":"IF(B185=\"\",\"\",IF((SUM(IF(FREQUENCY('A1'!$K$30:$L$79,'A1'!$K$30:$L$79)>0,1)))>(B185+1),(B185+1),\"\"))","v":""},"",{"$f":"IF(C187=\"\",\"\",SUM(IF('A1'!J$30:J$79=\"HOT\",IF('A1'!K$30:K$79>=A186,IF('A1'!L$30:L$79<=A188,1*'A1'!H$30:H$79,0),0),0),IF('A1'!J$30:J$79=\"COLD\",IF('A1'!K$30:K$79<=A188,IF('A1'!L$30:L$79>=A186,-1*'A1'!H$30:H$79,0),0),0)))","v":""},"","",null,"",{"$f":"IF(A187=\"\",\"\",\"▼\")","v":""},{"$f":"IF(A187=\"\",\"\",J$5+SUM(I$6:I186))","v":""},null,{"$f":"IF(L186=\"\",\"\",IF((M$5+SUM(L$6:L186))>=0,\"▼\",\"▲\"))","v":""},{"$f":"IF(A187=\"\",\"\",IF(L187=\"▼\",((M$5)+(SUM(L$6:L186))),(-(M$5+SUM(L$6:L186)))))","v":""}]
[{"$f":"IF(B187=\"\",\"\",(LARGE('A1'!$K$30:$L$79,(1+SUM(COUNTIF('A1'!$K$30:$L$79,A$5:A187))-(B187*COUNTIF('A1'!$K$30:$L$79,A$6))))))","v":""},{"$f":"IF(B186=\"\",\"\",IF((SUM(IF(FREQUENCY('A1'!$K$30:$L$79,'A1'!$K$30:$L$79)>0,1)))>(B186+1),(B186+1),\"\"))","v":""},"",{"$f":"IF(C188=\"\",\"\",SUM(IF('A1'!J$30:J$79=\"HOT\",IF('A1'!K$30:K$79>=A187,IF('A1'!L$30:L$79<=A189,1*'A1'!H$30:H$79,0),0),0),IF('A1'!J$30:J$79=\"COLD\",IF('A1'!K$30:K$79<=A189,IF('A1'!L$30:L$79>=A187,-1*'A1'!H$30:H$79,0),0),0)))","v":""},"","",null,"",{"$f":"E188","v":""},{"$f":"IF(A188=\"\",\"\",J$5+SUM(I$6:I187))","v":""},null,{"$f":"E188","v":""},{"$f":"IF(A188=\"\",\"\",IF(L188=\"▼\",((M$5)+(SUM(L$6:L187))),(-(M$5+SUM(L$6:L187)))))","v":""}]
[{"$f":"IF(B188=\"\",\"\",(LARGE('A1'!$K$30:$L$79,(1+SUM(COUNTIF('A1'!$K$30:$L$79,A$5:A188))-(B188*COUNTIF('A1'!$K$30:$L$79,A$6))))))","v":""},{"$f":"IF(B187=\"\",\"\",IF((SUM(IF(FREQUENCY('A1'!$K$30:$L$79,'A1'!$K$30:$L$79)>0,1)))>(B187+1),(B187+1),\"\"))","v":""},"",{"$f":"IF(C189=\"\",\"\",SUM(IF('A1'!J$30:J$79=\"HOT\",IF('A1'!K$30:K$79>=A188,IF('A1'!L$30:L$79<=A190,1*'A1'!H$30:H$79,0),0),0),IF('A1'!J$30:J$79=\"COLD\",IF('A1'!K$30:K$79<=A190,IF('A1'!L$30:L$79>=A188,-1*'A1'!H$30:H$79,0),0),0)))","v":""},"","",null,"",{"$f":"IF(A189=\"\",\"\",\"▼\")","v":""},{"$f":"IF(A189=\"\",\"\",J$5+SUM(I$6:I188))","v":""},null,{"$f":"IF(L188=\"\",\"\",IF((M$5+SUM(L$6:L188))>=0,\"▼\",\"▲\"))","v":""},{"$f":"IF(A189=\"\",\"\",IF(L189=\"▼\",((M$5)+(SUM(L$6:L188))),(-(M$5+SUM(L$6:L188)))))","v":""}]
[{"$f":"IF(B189=\"\",\"\",(LARGE('A1'!$K$30:$L$79,(1+SUM(COUNTIF('A1'!$K$30:$L$79,A$5:A189))-(B189*COUNTIF('A1'!$K$30:$L$79,A$6))))))","v":""},{"$f":"IF(B188=\"\",\"\",IF((SUM(IF(FREQUENCY('A1'!$K$30:$L$79,'A1'!$K$30:$L$79)>0,1)))>(B188+1),(B188+1),\"\"))","v":""},"",{"$f":"IF(C190=\"\",\"\",SUM(IF('A1'!J$30:J$79=\"HOT\",IF('A1'!K$30:K$79>=A189,IF('A1'!L$30:L$79<=A191,1*'A1'!H$30:H$79,0),0),0),IF('A1'!J$30:J$79=\"COLD\",IF('A1'!K$30:K$79<=A191,IF('A1'!L$30:L$79>=A189,-1*'A1'!H$30:H$79,0),0),0)))","v":""},"","",null,"",{"$f":"E190","v":""},{"$f":"IF(A190=\"\",\"\",J$5+SUM(I$6:I189))","v":""},null,{"$f":"E190","v":""},{"$f":"IF(A190=\"\",\"\",IF(L190=\"▼\",((M$5)+(SUM(L$6:L189))),(-(M$5+SUM(L$6:L189)))))","v":""}]
[{"$f":"IF(B190=\"\",\"\",(LARGE('A1'!$K$30:$L$79,(1+SUM(COUNTIF('A1'!$K$30:$L$79,A$5:A190))-(B190*COUNTIF('A1'!$K$30:$L$79,A$6))))))","v":""},{"$f":"IF(B189=\"\",\"\",IF((SUM(IF(FREQUENCY('A1'!$K$30:$L$79,'A1'!$K$30:$L$79)>0,1)))>(B189+1),(B189+1),\"\"))","v":""},"",{"$f":"IF(C191=\"\",\"\",SUM(IF('A1'!J$30:J$79=\"HOT\",IF('A1'!K$30:K$79>=A190,IF('A1'!L$30:L$79<=A192,1*'A1'!H$30:H$79,0),0),0),IF('A1'!J$30:J$79=\"COLD\",IF('A1'!K$30:K$79<=A192,IF('A1'!L$30:L$79>=A190,-1*'A1'!H$30:H$79,0),0),0)))","v":""},"","",null,"",{"$f":"IF(A191=\"\",\"\",\"▼\")","v":""},{"$f":"IF(A191=\"\",\"\",J$5+SUM(I$6:I190))","v":""},null,{"$f":"IF(L190=\"\",\"\",IF((M$5+SUM(L$6:L190))>=0,\"▼\",\"▲\"))","v":""},{"$f":"IF(A191=\"\",\"\",IF(L191=\"▼\",((M$5)+(SUM(L$6:L190))),(-(M$5+SUM(L$6:L190)))))","v":""}]
[{"$f":"IF(B191=\"\",\"\",(LARGE('A1'!$K$30:$L$79,(1+SUM(COUNTIF('A1'!$K$30:$L$79,A$5:A191))-(B191*COUNTIF('A1'!$K$30:$L$79,A$6))))))","v":""},{"$f":"IF(B190=\"\",\"\",IF((SUM(IF(FREQUENCY('A1'!$K$30:$L$79,'A1'!$K$30:$L$79)>0,1)))>(B190+1),(B190+1),\"\"))","v":""},"",{"$f":"IF(C192=\"\",\"\",SUM(IF('A1'!J$30:J$79=\"HOT\",IF('A1'!K$30:K$79>=A191,IF('A1'!L$30:L$79<=A193,1*'A1'!H$30:H$79,0),0),0),IF('A1'!J$30:J$79=\"COLD\",IF('A1'!K$30:K$79<=A193,IF('A1'!L$30:L$79>=A191,-1*'A1'!H$30:H$79,0),0),0)))","v":""},"","",null,"",{"$f":"E192","v":""},{"$f":"IF(A192=\"\",\"\",J$5+SUM(I$6:I191))","v":""},null,{"$f":"E192","v":""},{"$f":"IF(A192=\"\",\"\",IF(L192=\"▼\",((M$5)+(SUM(L$6:L191))),(-(M$5+SUM(L$6:L191)))))","v":""}]
[{"$f":"IF(B192=\"\",\"\",(LARGE('A1'!$K$30:$L$79,(1+SUM(COUNTIF('A1'!$K$30:$L$79,A$5:A192))-(B192*COUNTIF('A1'!$K$30:$L$79,A$6))))))","v":""},{"$f":"IF(B191=\"\",\"\",IF((SUM(IF(FREQUENCY('A1'!$K$30:$L$79,'A1'!$K$30:$L$79)>0,1)))>(B191+1),(B191+1),\"\"))","v":""},"",{"$f":"IF(C193=\"\",\"\",SUM(IF('A1'!J$30:J$79=\"HOT\",IF('A1'!K$30:K$79>=A192,IF('A1'!L$30:L$79<=A194,1*'A1'!H$30:H$79,0),0),0),IF('A1'!J$30:J$79=\"COLD\",IF('A1'!K$30:K$79<=A194,IF('A1'!L$30:L$79>=A192,-1*'A1'!H$30:H$79,0),0),0)))","v":""},"","",null,"",{"$f":"IF(A193=\"\",\"\",\"▼\")","v":""},{"$f":"IF(A193=\"\",\"\",J$5+SUM(I$6:I192))","v":""},null,{"$f":"IF(L192=\"\",\"\",IF((M$5+SUM(L$6:L192))>=0,\"▼\",\"▲\"))","v":""},{"$f":"IF(A193=\"\",\"\",IF(L193=\"▼\",((M$5)+(SUM(L$6:L192))),(-(M$5+SUM(L$6:L192)))))","v":""}]
[{"$f":"IF(B193=\"\",\"\",(LARGE('A1'!$K$30:$L$79,(1+SUM(COUNTIF('A1'!$K$30:$L$79,A$5:A193))-(B193*COUNTIF('A1'!$K$30:$L$79,A$6))))))","v":""},{"$f":"IF(B192=\"\",\"\",IF((SUM(IF(FREQUENCY('A1'!$K$30:$L$79,'A1'!$K$30:$L$79)>0,1)))>(B192+1),(B192+1),\"\"))","v":""},"",{"$f":"IF(C194=\"\",\"\",SUM(IF('A1'!J$30:J$79=\"HOT\",IF('A1'!K$30:K$79>=A193,IF('A1'!L$30:L$79<=A195,1*'A1'!H$30:H$79,0),0),0),IF('A1'!J$30:J$79=\"COLD\",IF('A1'!K$30:K$79<=A195,IF('A1'!L$30:L$79>=A193,-1*'A1'!H$30:H$79,0),0),0)))","v":""},"","",null,"",{"$f":"E194","v":""},{"$f":"IF(A194=\"\",\"\",J$5+SUM(I$6:I193))","v":""},null,{"$f":"E194","v":""},{"$f":"IF(A194=\"\",\"\",IF(L194=\"▼\",((M$5)+(SUM(L$6:L193))),(-(M$5+SUM(L$6:L193)))))","v":""}]
[{"$f":"IF(B194=\"\",\"\",(LARGE('A1'!$K$30:$L$79,(1+SUM(COUNTIF('A1'!$K$30:$L$79,A$5:A194))-(B194*COUNTIF('A1'!$K$30:$L$79,A$6))))))","v":""},{"$f":"IF(B193=\"\",\"\",IF((SUM(IF(FREQUENCY('A1'!$K$30:$L$79,'A1'!$K$30:$L$79)>0,1)))>(B193+1),(B193+1),\"\"))","v":""},"",{"$f":"IF(C195=\"\",\"\",SUM(IF('A1'!J$30:J$79=\"HOT\",IF('A1'!K$30:K$79>=A194,IF('A1'!L$30:L$79<=A196,1*'A1'!H$30:H$79,0),0),0),IF('A1'!J$30:J$79=\"COLD\",IF('A1'!K$30:K$79<=A196,IF('A1'!L$30:L$79>=A194,-1*'A1'!H$30:H$79,0),0),0)))","v":""},"","",null,"",{"$f":"IF(A195=\"\",\"\",\"▼\")","v":""},{"$f":"IF(A195=\"\",\"\",J$5+SUM(I$6:I194))","v":""},null,{"$f":"IF(L194=\"\",\"\",IF((M$5+SUM(L$6:L194))>=0,\"▼\",\"▲\"))","v":""},{"$f":"IF(A195=\"\",\"\",IF(L195=\"▼\",((M$5)+(SUM(L$6:L194))),(-(M$5+SUM(L$6:L194)))))","v":""}]
[{"$f":"IF(B195=\"\",\"\",(LARGE('A1'!$K$30:$L$79,(1+SUM(COUNTIF('A1'!$K$30:$L$79,A$5:A195))-(B195*COUNTIF('A1'!$K$30:$L$79,A$6))))))","v":""},{"$f":"IF(B194=\"\",\"\",IF((SUM(IF(FREQUENCY('A1'!$K$30:$L$79,'A1'!$K$30:$L$79)>0,1)))>(B194+1),(B194+1),\"\"))","v":""},"",{"$f":"IF(C196=\"\",\"\",SUM(IF('A1'!J$30:J$79=\"HOT\",IF('A1'!K$30:K$79>=A195,IF('A1'!L$30:L$79<=A197,1*'A1'!H$30:H$79,0),0),0),IF('A1'!J$30:J$79=\"COLD\",IF('A1'!K$30:K$79<=A197,IF('A1'!L$30:L$79>=A195,-1*'A1'!H$30:H$79,0),0),0)))","v":""},"","",null,"",{"$f":"E196","v":""},{"$f":"IF(A196=\"\",\"\",J$5+SUM(I$6:I195))","v":""},null,{"$f":"E196","v":""},{"$f":"IF(A196=\"\",\"\",IF(L196=\"▼\",((M$5)+(SUM(L$6:L195))),(-(M$5+SUM(L$6:L195)))))","v":""}]
[{"$f":"IF(B196=\"\",\"\",(LARGE('A1'!$K$30:$L$79,(1+SUM(COUNTIF('A1'!$K$30:$L$79,A$5:A196))-(B196*COUNTIF('A1'!$K$30:$L$79,A$6))))))","v":""},{"$f":"IF(B195=\"\",\"\",IF((SUM(IF(FREQUENCY('A1'!$K$30:$L$79,'A1'!$K$30:$L$79)>0,1)))>(B195+1),(B195+1),\"\"))","v":""},"",{"$f":"IF(C197=\"\",\"\",SUM(IF('A1'!J$30:J$79=\"HOT\",IF('A1'!K$30:K$79>=A196,IF('A1'!L$30:L$79<=A198,1*'A1'!H$30:H$79,0),0),0),IF('A1'!J$30:J$79=\"COLD\",IF('A1'!K$30:K$79<=A198,IF('A1'!L$30:L$79>=A196,-1*'A1'!H$30:H$79,0),0),0)))","v":""},"","",null,"",{"$f":"IF(A197=\"\",\"\",\"▼\")","v":""},{"$f":"IF(A197=\"\",\"\",J$5+SUM(I$6:I196))","v":""},null,{"$f":"IF(L196=\"\",\"\",IF((M$5+SUM(L$6:L196))>=0,\"▼\",\"▲\"))","v":""},{"$f":"IF(A197=\"\",\"\",IF(L197=\"▼\",((M$5)+(SUM(L$6:L196))),(-(M$5+SUM(L$6:L196)))))","v":""}]
[{"$f":"IF(B197=\"\",\"\",(LARGE('A1'!$K$30:$L$79,(1+SUM(COUNTIF('A1'!$K$30:$L$79,A$5:A197))-(B197*COUNTIF('A1'!$K$30:$L$79,A$6))))))","v":""},{"$f":"IF(B196=\"\",\"\",IF((SUM(IF(FREQUENCY('A1'!$K$30:$L$79,'A1'!$K$30:$L$79)>0,1)))>(B196+1),(B196+1),\"\"))","v":""},"",{"$f":"IF(C198=\"\",\"\",SUM(IF('A1'!J$30:J$79=\"HOT\",IF('A1'!K$30:K$79>=A197,IF('A1'!L$30:L$79<=A199,1*'A1'!H$30:H$79,0),0),0),IF('A1'!J$30:J$79=\"COLD\",IF('A1'!K$30:K$79<=A199,IF('A1'!L$30:L$79>=A197,-1*'A1'!H$30:H$79,0),0),0)))","v":""},"","",null,"",{"$f":"E198","v":""},{"$f":"IF(A198=\"\",\"\",J$5+SUM(I$6:I197))","v":""},null,{"$f":"E198","v":""},{"$f":"IF(A198=\"\",\"\",IF(L198=\"▼\",((M$5)+(SUM(L$6:L197))),(-(M$5+SUM(L$6:L197)))))","v":""}]
[{"$f":"IF(B198=\"\",\"\",(LARGE('A1'!$K$30:$L$79,(1+SUM(COUNTIF('A1'!$K$30:$L$79,A$5:A198))-(B198*COUNTIF('A1'!$K$30:$L$79,A$6))))))","v":""},{"$f":"IF(B197=\"\",\"\",IF((SUM(IF(FREQUENCY('A1'!$K$30:$L$79,'A1'!$K$30:$L$79)>0,1)))>(B197+1),(B197+1),\"\"))","v":""},"",{"$f":"IF(C199=\"\",\"\",SUM(IF('A1'!J$30:J$79=\"HOT\",IF('A1'!K$30:K$79>=A198,IF('A1'!L$30:L$79<=A200,1*'A1'!H$30:H$79,0),0),0),IF('A1'!J$30:J$79=\"COLD\",IF('A1'!K$30:K$79<=A200,IF('A1'!L$30:L$79>=A198,-1*'A1'!H$30:H$79,0),0),0)))","v":""},"",{"$f":"IF(E199=\"\",\"\",IF(E199<1,\"demand\",\"surplus\"))","v":""},null,"",{"$f":"IF(A199=\"\",\"\",\"▼\")","v":""},{"$f":"IF(A199=\"\",\"\",J$5+SUM(I$6:I198))","v":""},null,{"$f":"IF(L198=\"\",\"\",IF((M$5+SUM(L$6:L198))>=0,\"▼\",\"▲\"))","v":""},{"$f":"IF(A199=\"\",\"\",IF(L199=\"▼\",((M$5)+(SUM(L$6:L198))),(-(M$5+SUM(L$6:L198)))))","v":""}]
[{"$f":"IF(B199=\"\",\"\",(LARGE('A1'!$K$30:$L$79,(1+SUM(COUNTIF('A1'!$K$30:$L$79,A$5:A199))-(B199*COUNTIF('A1'!$K$30:$L$79,A$6))))))","v":""},{"$f":"IF(B198=\"\",\"\",IF((SUM(IF(FREQUENCY('A1'!$K$30:$L$79,'A1'!$K$30:$L$79)>0,1)))>(B198+1),(B198+1),\"\"))","v":""},"",{"$f":"IF(C200=\"\",\"\",SUM(IF('A1'!J$30:J$79=\"HOT\",IF('A1'!K$30:K$79>=A199,IF('A1'!L$30:L$79<=A201,1*'A1'!H$30:H$79,0),0),0),IF('A1'!J$30:J$79=\"COLD\",IF('A1'!K$30:K$79<=A201,IF('A1'!L$30:L$79>=A199,-1*'A1'!H$30:H$79,0),0),0)))","v":""},"",{"$f":"IF(E200=\"\",\"\",IF(E200<1,\"demand\",\"surplus\"))","v":""},null,"",{"$f":"E200","v":""},{"$f":"IF(A200=\"\",\"\",J$5+SUM(I$6:I199))","v":""},null,{"$f":"E200","v":""},{"$f":"IF(A200=\"\",\"\",IF(L200=\"▼\",((M$5)+(SUM(L$6:L199))),(-(M$5+SUM(L$6:L199)))))","v":""}]
[{"$f":"IF(B200=\"\",\"\",(LARGE('A1'!$K$30:$L$79,(1+SUM(COUNTIF('A1'!$K$30:$L$79,A$5:A200))-(B200*COUNTIF('A1'!$K$30:$L$79,A$6))))))","v":""},{"$f":"IF(B199=\"\",\"\",IF((SUM(IF(FREQUENCY('A1'!$K$30:$L$79,'A1'!$K$30:$L$79)>0,1)))>(B199+1),(B199+1),\"\"))","v":""},"",{"$f":"IF(C201=\"\",\"\",SUM(IF('A1'!J$30:J$79=\"HOT\",IF('A1'!K$30:K$79>=A200,IF('A1'!L$30:L$79<=A202,1*'A1'!H$30:H$79,0),0),0),IF('A1'!J$30:J$79=\"COLD\",IF('A1'!K$30:K$79<=A202,IF('A1'!L$30:L$79>=A200,-1*'A1'!H$30:H$79,0),0),0)))","v":""},"",{"$f":"IF(E201=\"\",\"\",IF(E201<1,\"demand\",\"surplus\"))","v":""},null,"",{"$f":"IF(A201=\"\",\"\",\"▼\")","v":""},{"$f":"IF(A201=\"\",\"\",J$5+SUM(I$6:I200))","v":""},null,{"$f":"IF(L200=\"\",\"\",IF((M$5+SUM(L$6:L200))>=0,\"▼\",\"▲\"))","v":""},{"$f":"IF(A201=\"\",\"\",IF(L201=\"▼\",((M$5)+(SUM(L$6:L200))),(-(M$5+SUM(L$6:L200)))))","v":""}]
[{"$f":"IF(B201=\"\",\"\",(LARGE('A1'!$K$30:$L$79,(1+SUM(COUNTIF('A1'!$K$30:$L$79,A$5:A201))-(B201*COUNTIF('A1'!$K$30:$L$79,A$6))))))","v":""},{"$f":"IF(B200=\"\",\"\",IF((SUM(IF(FREQUENCY('A1'!$K$30:$L$79,'A1'!$K$30:$L$79)>0,1)))>(B200+1),(B200+1),\"\"))","v":""},"",{"$f":"IF(C202=\"\",\"\",SUM(IF('A1'!J$30:J$79=\"HOT\",IF('A1'!K$30:K$79>=A201,IF('A1'!L$30:L$79<=A203,1*'A1'!H$30:H$79,0),0),0),IF('A1'!J$30:J$79=\"COLD\",IF('A1'!K$30:K$79<=A203,IF('A1'!L$30:L$79>=A201,-1*'A1'!H$30:H$79,0),0),0)))","v":""},"",{"$f":"IF(E202=\"\",\"\",IF(E202<1,\"demand\",\"surplus\"))","v":""},null,"",{"$f":"E202","v":""},{"$f":"IF(A202=\"\",\"\",J$5+SUM(I$6:I201))","v":""},null,{"$f":"E202","v":""},{"$f":"IF(A202=\"\",\"\",IF(L202=\"▼\",((M$5)+(SUM(L$6:L201))),(-(M$5+SUM(L$6:L201)))))","v":""}]
[{"$f":"IF(B202=\"\",\"\",(LARGE('A1'!$K$30:$L$79,(1+SUM(COUNTIF('A1'!$K$30:$L$79,A$5:A202))-(B202*COUNTIF('A1'!$K$30:$L$79,A$6))))))","v":""},null,null,null,null,null,null,"",{"$f":"IF(A203=\"\",\"\",\"▼\")","v":""},{"$f":"IF(A203=\"\",\"\",J$5+SUM(I$6:I202))","v":""},null,{"$f":"IF(L202=\"\",\"\",IF((M$5+SUM(L$6:L202))>=0,\"▼\",\"▲\"))","v":""},{"$f":"IF(A203=\"\",\"\",IF(L203=\"▼\",((M$5)+(SUM(L$6:L202))),(-(M$5+SUM(L$6:L202)))))","v":""}]

{"sheet":"CC","index":3,"n_rows":33,"n_cols":2,"rows_kept":33,"cut":false,"hidden":false,"merged":[]}
[]
[]
[]
[]
[]
[]
[]
[]
[]
[]
[]
[]
[]
[]
[]
[]
[]
[]
[]
[]
[]
[]
[]
[]
[]
[]
[]
[]
[]
[{"$f":"IF(INPUT!$F$12='A1'!$P$3,A31,IF(INPUT!$F$12='A1'!$P$4,A32,A33))","v":"Heat Flow (kW)"},{"$f":"IF(INPUT!$F$12='A1'!$P$5,B32,B31)","v":"Actual Temperature (°C)"}]
["Heat Flow (kW)","Actual Temperature (°C)"]
["Heat Flow(MJ/h)","Actual Temperature (°F)"]
["Heat Flow (Mbtu(IT)/hr)"]

{"sheet":"SCC","index":4,"n_rows":33,"n_cols":2,"rows_kept":33,"cut":false,"hidden":false,"merged":[]}
[]
[]
[]
[]
[]
[]
[]
[]
[]
[]
[]
[]
[]
[]
[]
[]
[]
[]
[]
[]
[]
[]
[]
[]
[]
[]
[]
[]
[]
[{"$f":"IF(INPUT!$F$12='A1'!$P$3,A31,IF(INPUT!$F$12='A1'!$P$4,A32,A33))","v":"Heat Flow (kW)"},{"$f":"IF(INPUT!$F$12='A1'!$P$5,B32,B31)","v":"Shifted Temperature (°C)"}]
["Heat Flow (kW)","Shifted Temperature (°C)"]
["Heat Flow(MJ/h)","Shifted Temperature (°F)"]
["Heat Flow (Mbtu(IT)/hr)"]

{"sheet":"GCC","index":5,"n_rows":33,"n_cols":2,"rows_kept":33,"cut":false,"hidden":false,"merged":[]}
[]
[]
[]
[]
[]
[]
[]
[]
[]
[]
[]
[]
[]
[]
[]
[]
[]
[]
[]
[]
[]
[]
[]
[]
[]
[]
[]
[]
[]
[{"$f":"IF(INPUT!$F$12='A1'!$P$3,A31,IF(INPUT!$F$12='A1'!$P$4,A32,A33))","v":"Net Heat Flow (kW)"},{"$f":"IF(INPUT!$F$12='A1'!$P$5,B32,B31)","v":"Shifted Temperature (°C)"}]
["Net Heat Flow (kW)","Shifted Temperature (°C)"]
["Net Heat Flow(MJ/h)","Shifted Temperature (°F)"]
["Net Heat Flow (Mbtu(IT)/hr)"]

{"sheet":"GRID","index":6,"n_rows":54,"n_cols":203,"rows_kept":54,"cut":false,"hidden":false,"merged":[[0,5,0,6],[0,0,0,3]]}
["Grid Diagram"]
[null,null,null,"Interval",null,{"$f":"IF((SUM(IF(FREQUENCY('A1'!$K$30:$L$103,'A1'!$K$30:$L$103)>0,1)))>1,1,\"\")","v":1},{"$f":"IF(E2=\"\",\"\",IF((SUM(IF(FREQUENCY('A1'!$K$30:$L$103,'A1'!$K$30:$L$103)>0,1)))>(E2+1),(E2+1),\"\"))","v":""},{"$f":"IF(F2=\"\",\"\",IF((SUM(IF(FREQUENCY('A1'!$K$30:$L$103,'A1'!$K$30:$L$103)>0,1)))>(F2+1),(F2+1),\"\"))","v":2},{"$f":"IF(G2=\"\",\"\",IF((SUM(IF(FREQUENCY('A1'!$K$30:$L$103,'A1'!$K$30:$L$103)>0,1)))>(G2+1),(G2+1),\"\"))","v":""},{"$f":"IF(H2=\"\",\"\",IF((SUM(IF(FREQUENCY('A1'!$K$30:$L$103,'A1'!$K$30:$L$103)>0,1)))>(H2+1),(H2+1),\"\"))","v":3},{"$f":"IF(I2=\"\",\"\",IF((SUM(IF(FREQUENCY('A1'!$K$30:$L$103,'A1'!$K$30:$L$103)>0,1)))>(I2+1),(I2+1),\"\"))","v":""},{"$f":"IF(J2=\"\",\"\",IF((SUM(IF(FREQUENCY('A1'!$K$30:$L$103,'A1'!$K$30:$L$103)>0,1)))>(J2+1),(J2+1),\"\"))","v":4},{"$f":"IF(K2=\"\",\"\",IF((SUM(IF(FREQUENCY('A1'!$K$30:$L$103,'A1'!$K$30:$L$103)>0,1)))>(K2+1),(K2+1),\"\"))","v":""},{"$f":"IF(L2=\"\",\"\",IF((SUM(IF(FREQUENCY('A1'!$K$30:$L$103,'A1'!$K$30:$L$103)>0,1)))>(L2+1),(L2+1),\"\"))","v":5},{"$f":"IF(M2=\"\",\"\",IF((SUM(IF(FREQUENCY('A1'!$K$30:$L$103,'A1'!$K$30:$L$103)>0,1)))>(M2+1),(M2+1),\"\"))","v":""},{"$f":"IF(N2=\"\",\"\",IF((SUM(IF(FREQUENCY('A1'!$K$30:$L$103,'A1'!$K$30:$L$103)>0,1)))>(N2+1),(N2+1),\"\"))","v":6},{"$f":"IF(O2=\"\",\"\",IF((SUM(IF(FREQUENCY('A1'!$K$30:$L$103,'A1'!$K$30:$L$103)>0,1)))>(O2+1),(O2+1),\"\"))","v":""},{"$f":"IF(P2=\"\",\"\",IF((SUM(IF(FREQUENCY('A1'!$K$30:$L$103,'A1'!$K$30:$L$103)>0,1)))>(P2+1),(P2+1),\"\"))","v":7},{"$f":"IF(Q2=\"\",\"\",IF((SUM(IF(FREQUENCY('A1'!$K$30:$L$103,'A1'!$K$30:$L$103)>0,1)))>(Q2+1),(Q2+1),\"\"))","v":""},{"$f":"IF(R2=\"\",\"\",IF((SUM(IF(FREQUENCY('A1'!$K$30:$L$103,'A1'!$K$30:$L$103)>0,1)))>(R2+1),(R2+1),\"\"))","v":8},{"$f":"IF(S2=\"\",\"\",IF((SUM(IF(FREQUENCY('A1'!$K$30:$L$103,'A1'!$K$30:$L$103)>0,1)))>(S2+1),(S2+1),\"\"))","v":""},{"$f":"IF(T2=\"\",\"\",IF((SUM(IF(FREQUENCY('A1'!$K$30:$L$103,'A1'!$K$30:$L$103)>0,1)))>(T2+1),(T2+1),\"\"))","v":""},{"$f":"IF(U2=\"\",\"\",IF((SUM(IF(FREQUENCY('A1'!$K$30:$L$103,'A1'!$K$30:$L$103)>0,1)))>(U2+1),(U2+1),\"\"))","v":""},{"$f":"IF(V2=\"\",\"\",IF((SUM(IF(FREQUENCY('A1'!$K$30:$L$103,'A1'!$K$30:$L$103)>0,1)))>(V2+1),(V2+1),\"\"))","v":""},{"$f":"IF(W2=\"\",\"\",IF((SUM(IF(FREQUENCY('A1'!$K$30:$L$103,'A1'!$K$30:$L$103)>0,1)))>(W2+1),(W2+1),\"\"))","v":""},{"$f":"IF(X2=\"\",\"\",IF((SUM(IF(FREQUENCY('A1'!$K$30:$L$103,'A1'!$K$30:$L$103)>0,1)))>(X2+1),(X2+1),\"\"))","v":""},{"$f":"IF(Y2=\"\",\"\",IF((SUM(IF(FREQUENCY('A1'!$K$30:$L$103,'A1'!$K$30:$L$103)>0,1)))>(Y2+1),(Y2+1),\"\"))","v":""},{"$f":"IF(Z2=\"\",\"\",IF((SUM(IF(FREQUENCY('A1'!$K$30:$L$103,'A1'!$K$30:$L$103)>0,1)))>(Z2+1),(Z2+1),\"\"))","v":""},{"$f":"IF(AA2=\"\",\"\",IF((SUM(IF(FREQUENCY('A1'!$K$30:$L$103,'A1'!$K$30:$L$103)>0,1)))>(AA2+1),(AA2+1),\"\"))","v":""},{"$f":"IF(AB2=\"\",\"\",IF((SUM(IF(FREQUENCY('A1'!$K$30:$L$103,'A1'!$K$30:$L$103)>0,1)))>(AB2+1),(AB2+1),\"\"))","v":""},{"$f":"IF(AC2=\"\",\"\",IF((SUM(IF(FREQUENCY('A1'!$K$30:$L$103,'A1'!$K$30:$L$103)>0,1)))>(AC2+1),(AC2+1),\"\"))","v":""},{"$f":"IF(AD2=\"\",\"\",IF((SUM(IF(FREQUENCY('A1'!$K$30:$L$103,'A1'!$K$30:$L$103)>0,1)))>(AD2+1),(AD2+1),\"\"))","v":""},{"$f":"IF(AE2=\"\",\"\",IF((SUM(IF(FREQUENCY('A1'!$K$30:$L$103,'A1'!$K$30:$L$103)>0,1)))>(AE2+1),(AE2+1),\"\"))","v":""},{"$f":"IF(AF2=\"\",\"\",IF((SUM(IF(FREQUENCY('A1'!$K$30:$L$103,'A1'!$K$30:$L$103)>0,1)))>(AF2+1),(AF2+1),\"\"))","v":""},{"$f":"IF(AG2=\"\",\"\",IF((SUM(IF(FREQUENCY('A1'!$K$30:$L$103,'A1'!$K$30:$L$103)>0,1)))>(AG2+1),(AG2+1),\"\"))","v":""},{"$f":"IF(AH2=\"\",\"\",IF((SUM(IF(FREQUENCY('A1'!$K$30:$L$103,'A1'!$K$30:$L$103)>0,1)))>(AH2+1),(AH2+1),\"\"))","v":""},{"$f":"IF(AI2=\"\",\"\",IF((SUM(IF(FREQUENCY('A1'!$K$30:$L$103,'A1'!$K$30:$L$103)>0,1)))>(AI2+1),(AI2+1),\"\"))","v":""},{"$f":"IF(AJ2=\"\",\"\",IF((SUM(IF(FREQUENCY('A1'!$K$30:$L$103,'A1'!$K$30:$L$103)>0,1)))>(AJ2+1),(AJ2+1),\"\"))","v":""},{"$f":"IF(AK2=\"\",\"\",IF((SUM(IF(FREQUENCY('A1'!$K$30:$L$103,'A1'!$K$30:$L$103)>0,1)))>(AK2+1),(AK2+1),\"\"))","v":""},{"$f":"IF(AL2=\"\",\"\",IF((SUM(IF(FREQUENCY('A1'!$K$30:$L$103,'A1'!$K$30:$L$103)>0,1)))>(AL2+1),(AL2+1),\"\"))","v":""},{"$f":"IF(AM2=\"\",\"\",IF((SUM(IF(FREQUENCY('A1'!$K$30:$L$103,'A1'!$K$30:$L$103)>0,1)))>(AM2+1),(AM2+1),\"\"))","v":""},{"$f":"IF(AN2=\"\",\"\",IF((SUM(IF(FREQUENCY('A1'!$K$30:$L$103,'A1'!$K$30:$L$103)>0,1)))>(AN2+1),(AN2+1),\"\"))","v":""},{"$f":"IF(AO2=\"\",\"\",IF((SUM(IF(FREQUENCY('A1'!$K$30:$L$103,'A1'!$K$30:$L$103)>0,1)))>(AO2+1),(AO2+1),\"\"))","v":""},{"$f":"IF(AP2=\"\",\"\",IF((SUM(IF(FREQUENCY('A1'!$K$30:$L$103,'A1'!$K$30:$L$103)>0,1)))>(AP2+1),(AP2+1),\"\"))","v":""},{"$f":"IF(AQ2=\"\",\"\",IF((SUM(IF(FREQUENCY('A1'!$K$30:$L$103,'A1'!$K$30:$L$103)>0,1)))>(AQ2+1),(AQ2+1),\"\"))","v":""},{"$f":"IF(AR2=\"\",\"\",IF((SUM(IF(FREQUENCY('A1'!$K$30:$L$103,'A1'!$K$30:$L$103)>0,1)))>(AR2+1),(AR2+1),\"\"))","v":""},{"$f":"IF(AS2=\"\",\"\",IF((SUM(IF(FREQUENCY('A1'!$K$30:$L$103,'A1'!$K$30:$L$103)>0,1)))>(AS2+1),(AS2+1),\"\"))","v":""},{"$f":"IF(AT2=\"\",\"\",IF((SUM(IF(FREQUENCY('A1'!$K$30:$L$103,'A1'!$K$30:$L$103)>0,1)))>(AT2+1),(AT2+1),\"\"))","v":""},{"$f":"IF(AU2=\"\",\"\",IF((SUM(IF(FREQUENCY('A1'!$K$30:$L$103,'A1'!$K$30:$L$103)>0,1)))>(AU2+1),(AU2+1),\"\"))","v":""},{"$f":"IF(AV2=\"\",\"\",IF((SUM(IF(FREQUENCY('A1'!$K$30:$L$103,'A1'!$K$30:$L$103)>0,1)))>(AV2+1),(AV2+1),\"\"))","v":""},{"$f":"IF(AW2=\"\",\"\",IF((SUM(IF(FREQUENCY('A1'!$K$30:$L$103,'A1'!$K$30:$L$103)>0,1)))>(AW2+1),(AW2+1),\"\"))","v":""},{"$f":"IF(AX2=\"\",\"\",IF((SUM(IF(FREQUENCY('A1'!$K$30:$L$103,'A1'!$K$30:$L$103)>0,1)))>(AX2+1),(AX2+1),\"\"))","v":""},{"$f":"IF(AY2=\"\",\"\",IF((SUM(IF(FREQUENCY('A1'!$K$30:$L$103,'A1'!$K$30:$L$103)>0,1)))>(AY2+1),(AY2+1),\"\"))","v":""},{"$f":"IF(AZ2=\"\",\"\",IF((SUM(IF(FREQUENCY('A1'!$K$30:$L$103,'A1'!$K$30:$L$103)>0,1)))>(AZ2+1),(AZ2+1),\"\"))","v":""},{"$f":"IF(BA2=\"\",\"\",IF((SUM(IF(FREQUENCY('A1'!$K$30:$L$103,'A1'!$K$30:$L$103)>0,1)))>(BA2+1),(BA2+1),\"\"))","v":""},{"$f":"IF(BB2=\"\",\"\",IF((SUM(IF(FREQUENCY('A1'!$K$30:$L$103,'A1'!$K$30:$L$103)>0,1)))>(BB2+1),(BB2+1),\"\"))","v":""},{"$f":"IF(BC2=\"\",\"\",IF((SUM(IF(FREQUENCY('A1'!$K$30:$L$103,'A1'!$K$30:$L$103)>0,1)))>(BC2+1),(BC2+1),\"\"))","v":""},{"$f":"IF(BD2=\"\",\"\",IF((SUM(IF(FREQUENCY('A1'!$K$30:$L$103,'A1'!$K$30:$L$103)>0,1)))>(BD2+1),(BD2+1),\"\"))","v":""},{"$f":"IF(BE2=\"\",\"\",IF((SUM(IF(FREQUENCY('A1'!$K$30:$L$103,'A1'!$K$30:$L$103)>0,1)))>(BE2+1),(BE2+1),\"\"))","v":""},{"$f":"IF(BF2=\"\",\"\",IF((SUM(IF(FREQUENCY('A1'!$K$30:$L$103,'A1'!$K$30:$L$103)>0,1)))>(BF2+1),(BF2+1),\"\"))","v":""},{"$f":"IF(BG2=\"\",\"\",IF((SUM(IF(FREQUENCY('A1'!$K$30:$L$103,'A1'!$K$30:$L$103)>0,1)))>(BG2+1),(BG2+1),\"\"))","v":""},{"$f":"IF(BH2=\"\",\"\",IF((SUM(IF(FREQUENCY('A1'!$K$30:$L$103,'A1'!$K$30:$L$103)>0,1)))>(BH2+1),(BH2+1),\"\"))","v":""},{"$f":"IF(BI2=\"\",\"\",IF((SUM(IF(FREQUENCY('A1'!$K$30:$L$103,'A1'!$K$30:$L$103)>0,1)))>(BI2+1),(BI2+1),\"\"))","v":""},{"$f":"IF(BJ2=\"\",\"\",IF((SUM(IF(FREQUENCY('A1'!$K$30:$L$103,'A1'!$K$30:$L$103)>0,1)))>(BJ2+1),(BJ2+1),\"\"))","v":""},{"$f":"IF(BK2=\"\",\"\",IF((SUM(IF(FREQUENCY('A1'!$K$30:$L$103,'A1'!$K$30:$L$103)>0,1)))>(BK2+1),(BK2+1),\"\"))","v":""},{"$f":"IF(BL2=\"\",\"\",IF((SUM(IF(FREQUENCY('A1'!$K$30:$L$103,'A1'!$K$30:$L$103)>0,1)))>(BL2+1),(BL2+1),\"\"))","v":""},{"$f":"IF(BM2=\"\",\"\",IF((SUM(IF(FREQUENCY('A1'!$K$30:$L$103,'A1'!$K$30:$L$103)>0,1)))>(BM2+1),(BM2+1),\"\"))","v":""},{"$f":"IF(BN2=\"\",\"\",IF((SUM(IF(FREQUENCY('A1'!$K$30:$L$103,'A1'!$K$30:$L$103)>0,1)))>(BN2+1),(BN2+1),\"\"))","v":""},{"$f":"IF(BO2=\"\",\"\",IF((SUM(IF(FREQUENCY('A1'!$K$30:$L$103,'A1'!$K$30:$L$103)>0,1)))>(BO2+1),(BO2+1),\"\"))","v":""},{"$f":"IF(BP2=\"\",\"\",IF((SUM(IF(FREQUENCY('A1'!$K$30:$L$103,'A1'!$K$30:$L$103)>0,1)))>(BP2+1),(BP2+1),\"\"))","v":""},{"$f":"IF(BQ2=\"\",\"\",IF((SUM(IF(FREQUENCY('A1'!$K$30:$L$103,'A1'!$K$30:$L$103)>0,1)))>(BQ2+1),(BQ2+1),\"\"))","v":""},{"$f":"IF(BR2=\"\",\"\",IF((SUM(IF(FREQUENCY('A1'!$K$30:$L$103,'A1'!$K$30:$L$103)>0,1)))>(BR2+1),(BR2+1),\"\"))","v":""},{"$f":"IF(BS2=\"\",\"\",IF((SUM(IF(FREQUENCY('A1'!$K$30:$L$103,'A1'!$K$30:$L$103)>0,1)))>(BS2+1),(BS2+1),\"\"))","v":""},{"$f":"IF(BT2=\"\",\"\",IF((SUM(IF(FREQUENCY('A1'!$K$30:$L$103,'A1'!$K$30:$L$103)>0,1)))>(BT2+1),(BT2+1),\"\"))","v":""},{"$f":"IF(BU2=\"\",\"\",IF((SUM(IF(FREQUENCY('A1'!$K$30:$L$103,'A1'!$K$30:$L$103)>0,1)))>(BU2+1),(BU2+1),\"\"))","v":""},{"$f":"IF(BV2=\"\",\"\",IF((SUM(IF(FREQUENCY('A1'!$K$30:$L$103,'A1'!$K$30:$L$103)>0,1)))>(BV2+1),(BV2+1),\"\"))","v":""},{"$f":"IF(BW2=\"\",\"\",IF((SUM(IF(FREQUENCY('A1'!$K$30:$L$103,'A1'!$K$30:$L$103)>0,1)))>(BW2+1),(BW2+1),\"\"))","v":""},{"$f":"IF(BX2=\"\",\"\",IF((SUM(IF(FREQUENCY('A1'!$K$30:$L$103,'A1'!$K$30:$L$103)>0,1)))>(BX2+1),(BX2+1),\"\"))","v":""},{"$f":"IF(BY2=\"\",\"\",IF((SUM(IF(FREQUENCY('A1'!$K$30:$L$103,'A1'!$K$30:$L$103)>0,1)))>(BY2+1),(BY2+1),\"\"))","v":""},{"$f":"IF(BZ2=\"\",\"\",IF((SUM(IF(FREQUENCY('A1'!$K$30:$L$103,'A1'!$K$30:$L$103)>0,1)))>(BZ2+1),(BZ2+1),\"\"))","v":""},{"$f":"IF(CA2=\"\",\"\",IF((SUM(IF(FREQUENCY('A1'!$K$30:$L$103,'A1'!$K$30:$L$103)>0,1)))>(CA2+1),(CA2+1),\"\"))","v":""},{"$f":"IF(CB2=\"\",\"\",IF((SUM(IF(FREQUENCY('A1'!$K$30:$L$103,'A1'!$K$30:$L$103)>0,1)))>(CB2+1),(CB2+1),\"\"))","v":""},{"$f":"IF(CC2=\"\",\"\",IF((SUM(IF(FREQUENCY('A1'!$K$30:$L$103,'A1'!$K$30:$L$103)>0,1)))>(CC2+1),(CC2+1),\"\"))","v":""},{"$f":"IF(CD2=\"\",\"\",IF((SUM(IF(FREQUENCY('A1'!$K$30:$L$103,'A1'!$K$30:$L$103)>0,1)))>(CD2+1),(CD2+1),\"\"))","v":""},{"$f":"IF(CE2=\"\",\"\",IF((SUM(IF(FREQUENCY('A1'!$K$30:$L$103,'A1'!$K$30:$L$103)>0,1)))>(CE2+1),(CE2+1),\"\"))","v":""},{"$f":"IF(CF2=\"\",\"\",IF((SUM(IF(FREQUENCY('A1'!$K$30:$L$103,'A1'!$K$30:$L$103)>0,1)))>(CF2+1),(CF2+1),\"\"))","v":""},{"$f":"IF(CG2=\"\",\"\",IF((SUM(IF(FREQUENCY('A1'!$K$30:$L$103,'A1'!$K$30:$L$103)>0,1)))>(CG2+1),(CG2+1),\"\"))","v":""},{"$f":"IF(CH2=\"\",\"\",IF((SUM(IF(FREQUENCY('A1'!$K$30:$L$103,'A1'!$K$30:$L$103)>0,1)))>(CH2+1),(CH2+1),\"\"))","v":""},{"$f":"IF(CI2=\"\",\"\",IF((SUM(IF(FREQUENCY('A1'!$K$30:$L$103,'A1'!$K$30:$L$103)>0,1)))>(CI2+1),(CI2+1),\"\"))","v":""},{"$f":"IF(CJ2=\"\",\"\",IF((SUM(IF(FREQUENCY('A1'!$K$30:$L$103,'A1'!$K$30:$L$103)>0,1)))>(CJ2+1),(CJ2+1),\"\"))","v":""},{"$f":"IF(CK2=\"\",\"\",IF((SUM(IF(FREQUENCY('A1'!$K$30:$L$103,'A1'!$K$30:$L$103)>0,1)))>(CK2+1),(CK2+1),\"\"))","v":""},{"$f":"IF(CL2=\"\",\"\",IF((SUM(IF(FREQUENCY('A1'!$K$30:$L$103,'A1'!$K$30:$L$103)>0,1)))>(CL2+1),(CL2+1),\"\"))","v":""},{"$f":"IF(CM2=\"\",\"\",IF((SUM(IF(FREQUENCY('A1'!$K$30:$L$103,'A1'!$K$30:$L$103)>0,1)))>(CM2+1),(CM2+1),\"\"))","v":""},{"$f":"IF(CN2=\"\",\"\",IF((SUM(IF(FREQUENCY('A1'!$K$30:$L$103,'A1'!$K$30:$L$103)>0,1)))>(CN2+1),(CN2+1),\"\"))","v":""},{"$f":"IF(CO2=\"\",\"\",IF((SUM(IF(FREQUENCY('A1'!$K$30:$L$103,'A1'!$K$30:$L$103)>0,1)))>(CO2+1),(CO2+1),\"\"))","v":""},{"$f":"IF(CP2=\"\",\"\",IF((SUM(IF(FREQUENCY('A1'!$K$30:$L$103,'A1'!$K$30:$L$103)>0,1)))>(CP2+1),(CP2+1),\"\"))","v":""},{"$f":"IF(CQ2=\"\",\"\",IF((SUM(IF(FREQUENCY('A1'!$K$30:$L$103,'A1'!$K$30:$L$103)>0,1)))>(CQ2+1),(CQ2+1),\"\"))","v":""},{"$f":"IF(CR2=\"\",\"\",IF((SUM(IF(FREQUENCY('A1'!$K$30:$L$103,'A1'!$K$30:$L$103)>0,1)))>(CR2+1),(CR2+1),\"\"))","v":""},{"$f":"IF(CS2=\"\",\"\",IF((SUM(IF(FREQUENCY('A1'!$K$30:$L$103,'A1'!$K$30:$L$103)>0,1)))>(CS2+1),(CS2+1),\"\"))","v":""},{"$f":"IF(CT2=\"\",\"\",IF((SUM(IF(FREQUENCY('A1'!$K$30:$L$103,'A1'!$K$30:$L$103)>0,1)))>(CT2+1),(CT2+1),\"\"))","v":""},{"$f":"IF(CU2=\"\",\"\",IF((SUM(IF(FREQUENCY('A1'!$K$30:$L$103,'A1'!$K$30:$L$103)>0,1)))>(CU2+1),(CU2+1),\"\"))","v":""},{"$f":"IF(CV2=\"\",\"\",IF((SUM(IF(FREQUENCY('A1'!$K$30:$L$103,'A1'!$K$30:$L$103)>0,1)))>(CV2+1),(CV2+1),\"\"))","v":""},{"$f":"IF(CW2=\"\",\"\",IF((SUM(IF(FREQUENCY('A1'!$K$30:$L$103,'A1'!$K$30:$L$103)>0,1)))>(CW2+1),(CW2+1),\"\"))","v":""},{"$f":"IF(CX2=\"\",\"\",IF((SUM(IF(FREQUENCY('A1'!$K$30:$L$103,'A1'!$K$30:$L$103)>0,1)))>(CX2+1),(CX2+1),\"\"))","v":""},{"$f":"IF(CY2=\"\",\"\",IF((SUM(IF(FREQUENCY('A1'!$K$30:$L$103,'A1'!$K$30:$L$103)>0,1)))>(CY2+1),(CY2+1),\"\"))","v":""},{"$f":"IF(CZ2=\"\",\"\",IF((SUM(IF(FREQUENCY('A1'!$K$30:$L$103,'A1'!$K$30:$L$103)>0,1)))>(CZ2+1),(CZ2+1),\"\"))","v":""},{"$f":"IF(DA2=\"\",\"\",IF((SUM(IF(FREQUENCY('A1'!$K$30:$L$103,'A1'!$K$30:$L$103)>0,1)))>(DA2+1),(DA2+1),\"\"))","v":""},{"$f":"IF(DB2=\"\",\"\",IF((SUM(IF(FREQUENCY('A1'!$K$30:$L$103,'A1'!$K$30:$L$103)>0,1)))>(DB2+1),(DB2+1),\"\"))","v":""},{"$f":"IF(DC2=\"\",\"\",IF((SUM(IF(FREQUENCY('A1'!$K$30:$L$103,'A1'!$K$30:$L$103)>0,1)))>(DC2+1),(DC2+1),\"\"))","v":""},{"$f":"IF(DD2=\"\",\"\",IF((SUM(IF(FREQUENCY('A1'!$K$30:$L$103,'A1'!$K$30:$L$103)>0,1)))>(DD2+1),(DD2+1),\"\"))","v":""},{"$f":"IF(DE2=\"\",\"\",IF((SUM(IF(FREQUENCY('A1'!$K$30:$L$103,'A1'!$K$30:$L$103)>0,1)))>(DE2+1),(DE2+1),\"\"))","v":""},{"$f":"IF(DF2=\"\",\"\",IF((SUM(IF(FREQUENCY('A1'!$K$30:$L$103,'A1'!$K$30:$L$103)>0,1)))>(DF2+1),(DF2+1),\"\"))","v":""},{"$f":"IF(DG2=\"\",\"\",IF((SUM(IF(FREQUENCY('A1'!$K$30:$L$103,'A1'!$K$30:$L$103)>0,1)))>(DG2+1),(DG2+1),\"\"))","v":""},{"$f":"IF(DH2=\"\",\"\",IF((SUM(IF(FREQUENCY('A1'!$K$30:$L$103,'A1'!$K$30:$L$103)>0,1)))>(DH2+1),(DH2+1),\"\"))","v":""},{"$f":"IF(DI2=\"\",\"\",IF((SUM(IF(FREQUENCY('A1'!$K$30:$L$103,'A1'!$K$30:$L$103)>0,1)))>(DI2+1),(DI2+1),\"\"))","v":""},{"$f":"IF(DJ2=\"\",\"\",IF((SUM(IF(FREQUENCY('A1'!$K$30:$L$103,'A1'!$K$30:$L$103)>0,1)))>(DJ2+1),(DJ2+1),\"\"))","v":""},{"$f":"IF(DK2=\"\",\"\",IF((SUM(IF(FREQUENCY('A1'!$K$30:$L$103,'A1'!$K$30:$L$103)>0,1)))>(DK2+1),(DK2+1),\"\"))","v":""},{"$f":"IF(DL2=\"\",\"\",IF((SUM(IF(FREQUENCY('A1'!$K$30:$L$103,'A1'!$K$30:$L$103)>0,1)))>(DL2+1),(DL2+1),\"\"))","v":""},{"$f":"IF(DM2=\"\",\"\",IF((SUM(IF(FREQUENCY('A1'!$K$30:$L$103,'A1'!$K$30:$L$103)>0,1)))>(DM2+1),(DM2+1),\"\"))","v":""},{"$f":"IF(DN2=\"\",\"\",IF((SUM(IF(FREQUENCY('A1'!$K$30:$L$103,'A1'!$K$30:$L$103)>0,1)))>(DN2+1),(DN2+1),\"\"))","v":""},{"$f":"IF(DO2=\"\",\"\",IF((SUM(IF(FREQUENCY('A1'!$K$30:$L$103,'A1'!$K$30:$L$103)>0,1)))>(DO2+1),(DO2+1),\"\"))","v":""},{"$f":"IF(DP2=\"\",\"\",IF((SUM(IF(FREQUENCY('A1'!$K$30:$L$103,'A1'!$K$30:$L$103)>0,1)))>(DP2+1),(DP2+1),\"\"))","v":""},{"$f":"IF(DQ2=\"\",\"\",IF((SUM(IF(FREQUENCY('A1'!$K$30:$L$103,'A1'!$K$30:$L$103)>0,1)))>(DQ2+1),(DQ2+1),\"\"))","v":""},{"$f":"IF(DR2=\"\",\"\",IF((SUM(IF(FREQUENCY('A1'!$K$30:$L$103,'A1'!$K$30:$L$103)>0,1)))>(DR2+1),(DR2+1),\"\"))","v":""},{"$f":"IF(DS2=\"\",\"\",IF((SUM(IF(FREQUENCY('A1'!$K$30:$L$103,'A1'!$K$30:$L$103)>0,1)))>(DS2+1),(DS2+1),\"\"))","v":""},{"$f":"IF(DT2=\"\",\"\",IF((SUM(IF(FREQUENCY('A1'!$K$30:$L$103,'A1'!$K$30:$L$103)>0,1)))>(DT2+1),(DT2+1),\"\"))","v":""},{"$f":"IF(DU2=\"\",\"\",IF((SUM(IF(FREQUENCY('A1'!$K$30:$L$103,'A1'!$K$30:$L$103)>0,1)))>(DU2+1),(DU2+1),\"\"))","v":""},{"$f":"IF(DV2=\"\",\"\",IF((SUM(IF(FREQUENCY('A1'!$K$30:$L$103,'A1'!$K$30:$L$103)>0,1)))>(DV2+1),(DV2+1),\"\"))","v":""},{"$f":"IF(DW2=\"\",\"\",IF((SUM(IF(FREQUENCY('A1'!$K$30:$L$103,'A1'!$K$30:$L$103)>0,1)))>(DW2+1),(DW2+1),\"\"))","v":""},{"$f":"IF(DX2=\"\",\"\",IF((SUM(IF(FREQUENCY('A1'!$K$30:$L$103,'A1'!$K$30:$L$103)>0,1)))>(DX2+1),(DX2+1),\"\"))","v":""},{"$f":"IF(DY2=\"\",\"\",IF((SUM(IF(FREQUENCY('A1'!$K$30:$L$103,'A1'!$K$30:$L$103)>0,1)))>(DY2+1),(DY2+1),\"\"))","v":""},{"$f":"IF(DZ2=\"\",\"\",IF((SUM(IF(FREQUENCY('A1'!$K$30:$L$103,'A1'!$K$30:$L$103)>0,1)))>(DZ2+1),(DZ2+1),\"\"))","v":""},{"$f":"IF(EA2=\"\",\"\",IF((SUM(IF(FREQUENCY('A1'!$K$30:$L$103,'A1'!$K$30:$L$103)>0,1)))>(EA2+1),(EA2+1),\"\"))","v":""},{"$f":"IF(EB2=\"\",\"\",IF((SUM(IF(FREQUENCY('A1'!$K$30:$L$103,'A1'!$K$30:$L$103)>0,1)))>(EB2+1),(EB2+1),\"\"))","v":""},{"$f":"IF(EC2=\"\",\"\",IF((SUM(IF(FREQUENCY('A1'!$K$30:$L$103,'A1'!$K$30:$L$103)>0,1)))>(EC2+1),(EC2+1),\"\"))","v":""},{"$f":"IF(ED2=\"\",\"\",IF((SUM(IF(FREQUENCY('A1'!$K$30:$L$103,'A1'!$K$30:$L$103)>0,1)))>(ED2+1),(ED2+1),\"\"))","v":""},{"$f":"IF(EE2=\"\",\"\",IF((SUM(IF(FREQUENCY('A1'!$K$30:$L$103,'A1'!$K$30:$L$103)>0,1)))>(EE2+1),(EE2+1),\"\"))","v":""},{"$f":"IF(EF2=\"\",\"\",IF((SUM(IF(FREQUENCY('A1'!$K$30:$L$103,'A1'!$K$30:$L$103)>0,1)))>(EF2+1),(EF2+1),\"\"))","v":""},{"$f":"IF(EG2=\"\",\"\",IF((SUM(IF(FREQUENCY('A1'!$K$30:$L$103,'A1'!$K$30:$L$103)>0,1)))>(EG2+1),(EG2+1),\"\"))","v":""},{"$f":"IF(EH2=\"\",\"\",IF((SUM(IF(FREQUENCY('A1'!$K$30:$L$103,'A1'!$K$30:$L$103)>0,1)))>(EH2+1),(EH2+1),\"\"))","v":""},{"$f":"IF(EI2=\"\",\"\",IF((SUM(IF(FREQUENCY('A1'!$K$30:$L$103,'A1'!$K$30:$L$103)>0,1)))>(EI2+1),(EI2+1),\"\"))","v":""},{"$f":"IF(EJ2=\"\",\"\",IF((SUM(IF(FREQUENCY('A1'!$K$30:$L$103,'A1'!$K$30:$L$103)>0,1)))>(EJ2+1),(EJ2+1),\"\"))","v":""},{"$f":"IF(EK2=\"\",\"\",IF((SUM(IF(FREQUENCY('A1'!$K$30:$L$103,'A1'!$K$30:$L$103)>0,1)))>(EK2+1),(EK2+1),\"\"))","v":""},{"$f":"IF(EL2=\"\",\"\",IF((SUM(IF(FREQUENCY('A1'!$K$30:$L$103,'A1'!$K$30:$L$103)>0,1)))>(EL2+1),(EL2+1),\"\"))","v":""},{"$f":"IF(EM2=\"\",\"\",IF((SUM(IF(FREQUENCY('A1'!$K$30:$L$103,'A1'!$K$30:$L$103)>0,1)))>(EM2+1),(EM2+1),\"\"))","v":""},{"$f":"IF(EN2=\"\",\"\",IF((SUM(IF(FREQUENCY('A1'!$K$30:$L$103,'A1'!$K$30:$L$103)>0,1)))>(EN2+1),(EN2+1),\"\"))","v":""},{"$f":"IF(EO2=\"\",\"\",IF((SUM(IF(FREQUENCY('A1'!$K$30:$L$103,'A1'!$K$30:$L$103)>0,1)))>(EO2+1),(EO2+1),\"\"))","v":""},{"$f":"IF(EP2=\"\",\"\",IF((SUM(IF(FREQUENCY('A1'!$K$30:$L$103,'A1'!$K$30:$L$103)>0,1)))>(EP2+1),(EP2+1),\"\"))","v":""},{"$f":"IF(EQ2=\"\",\"\",IF((SUM(IF(FREQUENCY('A1'!$K$30:$L$103,'A1'!$K$30:$L$103)>0,1)))>(EQ2+1),(EQ2+1),\"\"))","v":""},{"$f":"IF(ER2=\"\",\"\",IF((SUM(IF(FREQUENCY('A1'!$K$30:$L$103,'A1'!$K$30:$L$103)>0,1)))>(ER2+1),(ER2+1),\"\"))","v":""},{"$f":"IF(ES2=\"\",\"\",IF((SUM(IF(FREQUENCY('A1'!$K$30:$L$103,'A1'!$K$30:$L$103)>0,1)))>(ES2+1),(ES2+1),\"\"))","v":""},{"$f":"IF(ET2=\"\",\"\",IF((SUM(IF(FREQUENCY('A1'!$K$30:$L$103,'A1'!$K$30:$L$103)>0,1)))>(ET2+1),(ET2+1),\"\"))","v":""},{"$f":"IF(EU2=\"\",\"\",IF((SUM(IF(FREQUENCY('A1'!$K$30:$L$103,'A1'!$K$30:$L$103)>0,1)))>(EU2+1),(EU2+1),\"\"))","v":""},{"$f":"IF(EV2=\"\",\"\",IF((SUM(IF(FREQUENCY('A1'!$K$30:$L$103,'A1'!$K$30:$L$103)>0,1)))>(EV2+1),(EV2+1),\"\"))","v":""},{"$f":"IF(EW2=\"\",\"\",IF((SUM(IF(FREQUENCY('A1'!$K$30:$L$103,'A1'!$K$30:$L$103)>0,1)))>(EW2+1),(EW2+1),\"\"))","v":""},{"$f":"IF(EX2=\"\",\"\",IF((SUM(IF(FREQUENCY('A1'!$K$30:$L$103,'A1'!$K$30:$L$103)>0,1)))>(EX2+1),(EX2+1),\"\"))","v":""},{"$f":"IF(EY2=\"\",\"\",IF((SUM(IF(FREQUENCY('A1'!$K$30:$L$103,'A1'!$K$30:$L$103)>0,1)))>(EY2+1),(EY2+1),\"\"))","v":""},{"$f":"IF(EZ2=\"\",\"\",IF((SUM(IF(FREQUENCY('A1'!$K$30:$L$103,'A1'!$K$30:$L$103)>0,1)))>(EZ2+1),(EZ2+1),\"\"))","v":""},{"$f":"IF(FA2=\"\",\"\",IF((SUM(IF(FREQUENCY('A1'!$K$30:$L$103,'A1'!$K$30:$L$103)>0,1)))>(FA2+1),(FA2+1),\"\"))","v":""},{"$f":"IF(FB2=\"\",\"\",IF((SUM(IF(FREQUENCY('A1'!$K$30:$L$103,'A1'!$K$30:$L$103)>0,1)))>(FB2+1),(FB2+1),\"\"))","v":""},{"$f":"IF(FC2=\"\",\"\",IF((SUM(IF(FREQUENCY('A1'!$K$30:$L$103,'A1'!$K$30:$L$103)>0,1)))>(FC2+1),(FC2+1),\"\"))","v":""},{"$f":"IF(FD2=\"\",\"\",IF((SUM(IF(FREQUENCY('A1'!$K$30:$L$103,'A1'!$K$30:$L$103)>0,1)))>(FD2+1),(FD2+1),\"\"))","v":""},{"$f":"IF(FE2=\"\",\"\",IF((SUM(IF(FREQUENCY('A1'!$K$30:$L$103,'A1'!$K$30:$L$103)>0,1)))>(FE2+1),(FE2+1),\"\"))","v":""},{"$f":"IF(FF2=\"\",\"\",IF((SUM(IF(FREQUENCY('A1'!$K$30:$L$103,'A1'!$K$30:$L$103)>0,1)))>(FF2+1),(FF2+1),\"\"))","v":""},{"$f":"IF(FG2=\"\",\"\",IF((SUM(IF(FREQUENCY('A1'!$K$30:$L$103,'A1'!$K$30:$L$103)>0,1)))>(FG2+1),(FG2+1),\"\"))","v":""},{"$f":"IF(FH2=\"\",\"\",IF((SUM(IF(FREQUENCY('A1'!$K$30:$L$103,'A1'!$K$30:$L$103)>0,1)))>(FH2+1),(FH2+1),\"\"))","v":""},{"$f":"IF(FI2=\"\",\"\",IF((SUM(IF(FREQUENCY('A1'!$K$30:$L$103,'A1'!$K$30:$L$103)>0,1)))>(FI2+1),(FI2+1),\"\"))","v":""},{"$f":"IF(FJ2=\"\",\"\",IF((SUM(IF(FREQUENCY('A1'!$K$30:$L$103,'A1'!$K$30:$L$103)>0,1)))>(FJ2+1),(FJ2+1),\"\"))","v":""},{"$f":"IF(FK2=\"\",\"\",IF((SUM(IF(FREQUENCY('A1'!$K$30:$L$103,'A1'!$K$30:$L$103)>0,1)))>(FK2+1),(FK2+1),\"\"))","v":""},{"$f":"IF(FL2=\"\",\"\",IF((SUM(IF(FREQUENCY('A1'!$K$30:$L$103,'A1'!$K$30:$L$103)>0,1)))>(FL2+1),(FL2+1),\"\"))","v":""},{"$f":"IF(FM2=\"\",\"\",IF((SUM(IF(FREQUENCY('A1'!$K$30:$L$103,'A1'!$K$30:$L$103)>0,1)))>(FM2+1),(FM2+1),\"\"))","v":""},{"$f":"IF(FN2=\"\",\"\",IF((SUM(IF(FREQUENCY('A1'!$K$30:$L$103,'A1'!$K$30:$L$103)>0,1)))>(FN2+1),(FN2+1),\"\"))","v":""},{"$f":"IF(FO2=\"\",\"\",IF((SUM(IF(FREQUENCY('A1'!$K$30:$L$103,'A1'!$K$30:$L$103)>0,1)))>(FO2+1),(FO2+1),\"\"))","v":""},{"$f":"IF(FP2=\"\",\"\",IF((SUM(IF(FREQUENCY('A1'!$K$30:$L$103,'A1'!$K$30:$L$103)>0,1)))>(FP2+1),(FP2+1),\"\"))","v":""},{"$f":"IF(FQ2=\"\",\"\",IF((SUM(IF(FREQUENCY('A1'!$K$30:$L$103,'A1'!$K$30:$L$103)>0,1)))>(FQ2+1),(FQ2+1),\"\"))","v":""},{"$f":"IF(FR2=\"\",\"\",IF((SUM(IF(FREQUENCY('A1'!$K$30:$L$103,'A1'!$K$30:$L$103)>0,1)))>(FR2+1),(FR2+1),\"\"))","v":""},{"$f":"IF(FS2=\"\",\"\",IF((SUM(IF(FREQUENCY('A1'!$K$30:$L$103,'A1'!$K$30:$L$103)>0,1)))>(FS2+1),(FS2+1),\"\"))","v":""},{"$f":"IF(FT2=\"\",\"\",IF((SUM(IF(FREQUENCY('A1'!$K$30:$L$103,'A1'!$K$30:$L$103)>0,1)))>(FT2+1),(FT2+1),\"\"))","v":""},{"$f":"IF(FU2=\"\",\"\",IF((SUM(IF(FREQUENCY('A1'!$K$30:$L$103,'A1'!$K$30:$L$103)>0,1)))>(FU2+1),(FU2+1),\"\"))","v":""},{"$f":"IF(FV2=\"\",\"\",IF((SUM(IF(FREQUENCY('A1'!$K$30:$L$103,'A1'!$K$30:$L$103)>0,1)))>(FV2+1),(FV2+1),\"\"))","v":""},{"$f":"IF(FW2=\"\",\"\",IF((SUM(IF(FREQUENCY('A1'!$K$30:$L$103,'A1'!$K$30:$L$103)>0,1)))>(FW2+1),(FW2+1),\"\"))","v":""},{"$f":"IF(FX2=\"\",\"\",IF((SUM(IF(FREQUENCY('A1'!$K$30:$L$103,'A1'!$K$30:$L$103)>0,1)))>(FX2+1),(FX2+1),\"\"))","v":""},{"$f":"IF(FY2=\"\",\"\",IF((SUM(IF(FREQUENCY('A1'!$K$30:$L$103,'A1'!$K$30:$L$103)>0,1)))>(FY2+1),(FY2+1),\"\"))","v":""},{"$f":"IF(FZ2=\"\",\"\",IF((SUM(IF(FREQUENCY('A1'!$K$30:$L$103,'A1'!$K$30:$L$103)>0,1)))>(FZ2+1),(FZ2+1),\"\"))","v":""},{"$f":"IF(GA2=\"\",\"\",IF((SUM(IF(FREQUENCY('A1'!$K$30:$L$103,'A1'!$K$30:$L$103)>0,1)))>(GA2+1),(GA2+1),\"\"))","v":""},{"$f":"IF(GB2=\"\",\"\",IF((SUM(IF(FREQUENCY('A1'!$K$30:$L$103,'A1'!$K$30:$L$103)>0,1)))>(GB2+1),(GB2+1),\"\"))","v":""},{"$f":"IF(GC2=\"\",\"\",IF((SUM(IF(FREQUENCY('A1'!$K$30:$L$103,'A1'!$K$30:$L$103)>0,1)))>(GC2+1),(GC2+1),\"\"))","v":""},{"$f":"IF(GD2=\"\",\"\",IF((SUM(IF(FREQUENCY('A1'!$K$30:$L$103,'A1'!$K$30:$L$103)>0,1)))>(GD2+1),(GD2+1),\"\"))","v":""},{"$f":"IF(GE2=\"\",\"\",IF((SUM(IF(FREQUENCY('A1'!$K$30:$L$103,'A1'!$K$30:$L$103)>0,1)))>(GE2+1),(GE2+1),\"\"))","v":""},{"$f":"IF(GF2=\"\",\"\",IF((SUM(IF(FREQUENCY('A1'!$K$30:$L$103,'A1'!$K$30:$L$103)>0,1)))>(GF2+1),(GF2+1),\"\"))","v":""},{"$f":"IF(GG2=\"\",\"\",IF((SUM(IF(FREQUENCY('A1'!$K$30:$L$103,'A1'!$K$30:$L$103)>0,1)))>(GG2+1),(GG2+1),\"\"))","v":""},{"$f":"IF(GH2=\"\",\"\",IF((SUM(IF(FREQUENCY('A1'!$K$30:$L$103,'A1'!$K$30:$L$103)>0,1)))>(GH2+1),(GH2+1),\"\"))","v":""},{"$f":"IF(GI2=\"\",\"\",IF((SUM(IF(FREQUENCY('A1'!$K$30:$L$103,'A1'!$K$30:$L$103)>0,1)))>(GI2+1),(GI2+1),\"\"))","v":""},{"$f":"IF(GJ2=\"\",\"\",IF((SUM(IF(FREQUENCY('A1'!$K$30:$L$103,'A1'!$K$30:$L$103)>0,1)))>(GJ2+1),(GJ2+1),\"\"))","v":""},{"$f":"IF(GK2=\"\",\"\",IF((SUM(IF(FREQUENCY('A1'!$K$30:$L$103,'A1'!$K$30:$L$103)>0,1)))>(GK2+1),(GK2+1),\"\"))","v":""},{"$f":"IF(GL2=\"\",\"\",IF((SUM(IF(FREQUENCY('A1'!$K$30:$L$103,'A1'!$K$30:$L$103)>0,1)))>(GL2+1),(GL2+1),\"\"))","v":""},{"$f":"IF(GM2=\"\",\"\",IF((SUM(IF(FREQUENCY('A1'!$K$30:$L$103,'A1'!$K$30:$L$103)>0,1)))>(GM2+1),(GM2+1),\"\"))","v":""},{"$f":"IF(GN2=\"\",\"\",IF((SUM(IF(FREQUENCY('A1'!$K$30:$L$103,'A1'!$K$30:$L$103)>0,1)))>(GN2+1),(GN2+1),\"\"))","v":""},{"$f":"IF(GO2=\"\",\"\",IF((SUM(IF(FREQUENCY('A1'!$K$30:$L$103,'A1'!$K$30:$L$103)>0,1)))>(GO2+1),(GO2+1),\"\"))","v":""},{"$f":"IF(GP2=\"\",\"\",IF((SUM(IF(FREQUENCY('A1'!$K$30:$L$103,'A1'!$K$30:$L$103)>0,1)))>(GP2+1),(GP2+1),\"\"))","v":""},{"$f":"IF(GQ2=\"\",\"\",IF((SUM(IF(FREQUENCY('A1'!$K$30:$L$103,'A1'!$K$30:$L$103)>0,1)))>(GQ2+1),(GQ2+1),\"\"))","v":""},{"$f":"IF(GR2=\"\",\"\",IF((SUM(IF(FREQUENCY('A1'!$K$30:$L$103,'A1'!$K$30:$L$103)>0,1)))>(GR2+1),(GR2+1),\"\"))","v":""},{"$f":"IF(GS2=\"\",\"\",IF((SUM(IF(FREQUENCY('A1'!$K$30:$L$103,'A1'!$K$30:$L$103)>0,1)))>(GS2+1),(GS2+1),\"\"))","v":""}]
[null,null,null,null,{"$f":"IF(TRANSPOSE(PT!H5:H203)=\"\",\"\",\"PINCH\")","v":""},"","","","","","","","PINCH","","","","","","","","","","","","","","","","","","","","","","","","","","","","","","","","","","","","","","","","","","","","","","","","","","","","","","","","","","","","","","","","","","","","","","","","","","","","","","","","","","","","","","","","","","","","","","","","","","","","","","","","","","","","","","","","","","","","","","","","","","","","","","","","","","","","","","","","","","","","","","","","","","","","","","","","","","","","","","","","","","","","","","","","","","","","","","","","","","","","","","","","","","","","","",""]
["Stream Name",{"$f":"SCC!$A$30","v":"Heat Flow (kW)"},{"$f":"\"mCp (\"&'A1'!H29&\")\"","v":"mCp (kW/K)"},{"$f":"\"Shifted Temp (\"&'A1'!T3&\")\"","v":"Shifted Temp (°C)"},{"$f":"IF(F2=\"\",\"\",(LARGE('A1'!$K$30:$L$105,F2)))","v":260},{"$f":"IF(G2=\"\",\"\",(LARGE('A1'!$K$30:$L$105,G2)))","v":""},{"$f":"IF(F2=\"\",\"\",(LARGE('A1'!$K$30:$L$105,(1+SUM(COUNTIF('A1'!$K$30:$L$105,$E$4:F4))-(F2*COUNTIF('A1'!$K$30:$L$105,$F$4))))))","v":230},{"$f":"IF(G2=\"\",\"\",(LARGE('A1'!$K$30:$L$105,(1+SUM(COUNTIF('A1'!$K$30:$L$105,$E$4:G4))-(G2*COUNTIF('A1'!$K$30:$L$105,$F$4))))))","v":""},{"$f":"IF(H2=\"\",\"\",(LARGE('A1'!$K$30:$L$105,(1+SUM(COUNTIF('A1'!$K$30:$L$105,$E$4:H4))-(H2*COUNTIF('A1'!$K$30:$L$105,$F$4))))))","v":210},{"$f":"IF(I2=\"\",\"\",(LARGE('A1'!$K$30:$L$105,(1+SUM(COUNTIF('A1'!$K$30:$L$105,$E$4:I4))-(I2*COUNTIF('A1'!$K$30:$L$105,$F$4))))))","v":""},{"$f":"IF(J2=\"\",\"\",(LARGE('A1'!$K$30:$L$105,(1+SUM(COUNTIF('A1'!$K$30:$L$105,$E$4:J4))-(J2*COUNTIF('A1'!$K$30:$L$105,$F$4))))))","v":190},{"$f":"IF(K2=\"\",\"\",(LARGE('A1'!$K$30:$L$105,(1+SUM(COUNTIF('A1'!$K$30:$L$105,$E$4:K4))-(K2*COUNTIF('A1'!$K$30:$L$105,$F$4))))))","v":""},{"$f":"IF(L2=\"\",\"\",(LARGE('A1'!$K$30:$L$105,(1+SUM(COUNTIF('A1'!$K$30:$L$105,$E$4:L4))-(L2*COUNTIF('A1'!$K$30:$L$105,$F$4))))))","v":110},{"$f":"IF(M2=\"\",\"\",(LARGE('A1'!$K$30:$L$105,(1+SUM(COUNTIF('A1'!$K$30:$L$105,$E$4:M4))-(M2*COUNTIF('A1'!$K$30:$L$105,$F$4))))))","v":""},{"$f":"IF(N2=\"\",\"\",(LARGE('A1'!$K$30:$L$105,(1+SUM(COUNTIF('A1'!$K$30:$L$105,$E$4:N4))-(N2*COUNTIF('A1'!$K$30:$L$105,$F$4))))))","v":109},{"$f":"IF(O2=\"\",\"\",(LARGE('A1'!$K$30:$L$105,(1+SUM(COUNTIF('A1'!$K$30:$L$105,$E$4:O4))-(O2*COUNTIF('A1'!$K$30:$L$105,$F$4))))))","v":""},{"$f":"IF(P2=\"\",\"\",(LARGE('A1'!$K$30:$L$105,(1+SUM(COUNTIF('A1'!$K$30:$L$105,$E$4:P4))-(P2*COUNTIF('A1'!$K$30:$L$105,$F$4))))))","v":90},{"$f":"IF(Q2=\"\",\"\",(LARGE('A1'!$K$30:$L$105,(1+SUM(COUNTIF('A1'!$K$30:$L$105,$E$4:Q4))-(Q2*COUNTIF('A1'!$K$30:$L$105,$F$4))))))","v":""},{"$f":"IF(R2=\"\",\"\",(LARGE('A1'!$K$30:$L$105,(1+SUM(COUNTIF('A1'!$K$30:$L$105,$E$4:R4))-(R2*COUNTIF('A1'!$K$30:$L$105,$F$4))))))","v":60},{"$f":"IF(S2=\"\",\"\",(LARGE('A1'!$K$30:$L$105,(1+SUM(COUNTIF('A1'!$K$30:$L$105,$E$4:S4))-(S2*COUNTIF('A1'!$K$30:$L$105,$F$4))))))","v":""},{"$f":"IF(T2=\"\",\"\",(LARGE('A1'!$K$30:$L$105,(1+SUM(COUNTIF('A1'!$K$30:$L$105,$E$4:T4))-(T2*COUNTIF('A1'!$K$30:$L$105,$F$4))))))","v":40},{"$f":"IF(U2=\"\",\"\",(LARGE('A1'!$K$30:$L$105,(1+SUM(COUNTIF('A1'!$K$30:$L$105,$E$4:U4))-(U2*COUNTIF('A1'!$K$30:$L$105,$F$4))))))","v":""},{"$f":"IF(V2=\"\",\"\",(LARGE('A1'!$K$30:$L$105,(1+SUM(COUNTIF('A1'!$K$30:$L$105,$E$4:V4))-(V2*COUNTIF('A1'!$K$30:$L$105,$F$4))))))","v":""},{"$f":"IF(W2=\"\",\"\",(LARGE('A1'!$K$30:$L$105,(1+SUM(COUNTIF('A1'!$K$30:$L$105,$E$4:W4))-(W2*COUNTIF('A1'!$K$30:$L$105,$F$4))))))","v":""},{"$f":"IF(X2=\"\",\"\",(LARGE('A1'!$K$30:$L$105,(1+SUM(COUNTIF('A1'!$K$30:$L$105,$E$4:X4))-(X2*COUNTIF('A1'!$K$30:$L$105,$F$4))))))","v":""},{"$f":"IF(Y2=\"\",\"\",(LARGE('A1'!$K$30:$L$105,(1+SUM(COUNTIF('A1'!$K$30:$L$105,$E$4:Y4))-(Y2*COUNTIF('A1'!$K$30:$L$105,$F$4))))))","v":""},{"$f":"IF(Z2=\"\",\"\",(LARGE('A1'!$K$30:$L$105,(1+SUM(COUNTIF('A1'!$K$30:$L$105,$E$4:Z4))-(Z2*COUNTIF('A1'!$K$30:$L$105,$F$4))))))","v":""},{"$f":"IF(AA2=\"\",\"\",(LARGE('A1'!$K$30:$L$105,(1+SUM(COUNTIF('A1'!$K$30:$L$105,$E$4:AA4))-(AA2*COUNTIF('A1'!$K$30:$L$105,$F$4))))))","v":""},{"$f":"IF(AB2=\"\",\"\",(LARGE('A1'!$K$30:$L$105,(1+SUM(COUNTIF('A1'!$K$30:$L$105,$E$4:AB4))-(AB2*COUNTIF('A1'!$K$30:$L$105,$F$4))))))","v":""},{"$f":"IF(AC2=\"\",\"\",(LARGE('A1'!$K$30:$L$105,(1+SUM(COUNTIF('A1'!$K$30:$L$105,$E$4:AC4))-(AC2*COUNTIF('A1'!$K$30:$L$105,$F$4))))))","v":""},{"$f":"IF(AD2=\"\",\"\",(LARGE('A1'!$K$30:$L$105,(1+SUM(COUNTIF('A1'!$K$30:$L$105,$E$4:AD4))-(AD2*COUNTIF('A1'!$K$30:$L$105,$F$4))))))","v":""},{"$f":"IF(AE2=\"\",\"\",(LARGE('A1'!$K$30:$L$105,(1+SUM(COUNTIF('A1'!$K$30:$L$105,$E$4:AE4))-(AE2*COUNTIF('A1'!$K$30:$L$105,$F$4))))))","v":""},{"$f":"IF(AF2=\"\",\"\",(LARGE('A1'!$K$30:$L$105,(1+SUM(COUNTIF('A1'!$K$30:$L$105,$E$4:AF4))-(AF2*COUNTIF('A1'!$K$30:$L$105,$F$4))))))","v":""},{"$f":"IF(AG2=\"\",\"\",(LARGE('A1'!$K$30:$L$105,(1+SUM(COUNTIF('A1'!$K$30:$L$105,$E$4:AG4))-(AG2*COUNTIF('A1'!$K$30:$L$105,$F$4))))))","v":""},{"$f":"IF(AH2=\"\",\"\",(LARGE('A1'!$K$30:$L$105,(1+SUM(COUNTIF('A1'!$K$30:$L$105,$E$4:AH4))-(AH2*COUNTIF('A1'!$K$30:$L$105,$F$4))))))","v":""},{"$f":"IF(AI2=\"\",\"\",(LARGE('A1'!$K$30:$L$105,(1+SUM(COUNTIF('A1'!$K$30:$L$105,$E$4:AI4))-(AI2*COUNTIF('A1'!$K$30:$L$105,$F$4))))))","v":""},{"$f":"IF(AJ2=\"\",\"\",(LARGE('A1'!$K$30:$L$105,(1+SUM(COUNTIF('A1'!$K$30:$L$105,$E$4:AJ4))-(AJ2*COUNTIF('A1'!$K$30:$L$105,$F$4))))))","v":""},{"$f":"IF(AK2=\"\",\"\",(LARGE('A1'!$K$30:$L$105,(1+SUM(COUNTIF('A1'!$K$30:$L$105,$E$4:AK4))-(AK2*COUNTIF('A1'!$K$30:$L$105,$F$4))))))","v":""},{"$f":"IF(AL2=\"\",\"\",(LARGE('A1'!$K$30:$L$105,(1+SUM(COUNTIF('A1'!$K$30:$L$105,$E$4:AL4))-(AL2*COUNTIF('A1'!$K$30:$L$105,$F$4))))))","v":""},{"$f":"IF(AM2=\"\",\"\",(LARGE('A1'!$K$30:$L$105,(1+SUM(COUNTIF('A1'!$K$30:$L$105,$E$4:AM4))-(AM2*COUNTIF('A1'!$K$30:$L$105,$F$4))))))","v":""},{"$f":"IF(AN2=\"\",\"\",(LARGE('A1'!$K$30:$L$105,(1+SUM(COUNTIF('A1'!$K$30:$L$105,$E$4:AN4))-(AN2*COUNTIF('A1'!$K$30:$L$105,$F$4))))))","v":""},{"$f":"IF(AO2=\"\",\"\",(LARGE('A1'!$K$30:$L$105,(1+SUM(COUNTIF('A1'!$K$30:$L$105,$E$4:AO4))-(AO2*COUNTIF('A1'!$K$30:$L$105,$F$4))))))","v":""},{"$f":"IF(AP2=\"\",\"\",(LARGE('A1'!$K$30:$L$105,(1+SUM(COUNTIF('A1'!$K$30:$L$105,$E$4:AP4))-(AP2*COUNTIF('A1'!$K$30:$L$105,$F$4))))))","v":""},{"$f":"IF(AQ2=\"\",\"\",(LARGE('A1'!$K$30:$L$105,(1+SUM(COUNTIF('A1'!$K$30:$L$105,$E$4:AQ4))-(AQ2*COUNTIF('A1'!$K$30:$L$105,$F$4))))))","v":""},{"$f":"IF(AR2=\"\",\"\",(LARGE('A1'!$K$30:$L$105,(1+SUM(COUNTIF('A1'!$K$30:$L$105,$E$4:AR4))-(AR2*COUNTIF('A1'!$K$30:$L$105,$F$4))))))","v":""},{"$f":"IF(AS2=\"\",\"\",(LARGE('A1'!$K$30:$L$105,(1+SUM(COUNTIF('A1'!$K$30:$L$105,$E$4:AS4))-(AS2*COUNTIF('A1'!$K$30:$L$105,$F$4))))))","v":""},{"$f":"IF(AT2=\"\",\"\",(LARGE('A1'!$K$30:$L$105,(1+SUM(COUNTIF('A1'!$K$30:$L$105,$E$4:AT4))-(AT2*COUNTIF('A1'!$K$30:$L$105,$F$4))))))","v":""},{"$f":"IF(AU2=\"\",\"\",(LARGE('A1'!$K$30:$L$105,(1+SUM(COUNTIF('A1'!$K$30:$L$105,$E$4:AU4))-(AU2*COUNTIF('A1'!$K$30:$L$105,$F$4))))))","v":""},{"$f":"IF(AV2=\"\",\"\",(LARGE('A1'!$K$30:$L$105,(1+SUM(COUNTIF('A1'!$K$30:$L$105,$E$4:AV4))-(AV2*COUNTIF('A1'!$K$30:$L$105,$F$4))))))","v":""},{"$f":"IF(AW2=\"\",\"\",(LARGE('A1'!$K$30:$L$105,(1+SUM(COUNTIF('A1'!$K$30:$L$105,$E$4:AW4))-(AW2*COUNTIF('A1'!$K$30:$L$105,$F$4))))))","v":""},{"$f":"IF(AX2=\"\",\"\",(LARGE('A1'!$K$30:$L$105,(1+SUM(COUNTIF('A1'!$K$30:$L$105,$E$4:AX4))-(AX2*COUNTIF('A1'!$K$30:$L$105,$F$4))))))","v":""},{"$f":"IF(AY2=\"\",\"\",(LARGE('A1'!$K$30:$L$105,(1+SUM(COUNTIF('A1'!$K$30:$L$105,$E$4:AY4))-(AY2*COUNTIF('A1'!$K$30:$L$105,$F$4))))))","v":""},{"$f":"IF(AZ2=\"\",\"\",(LARGE('A1'!$K$30:$L$105,(1+SUM(COUNTIF('A1'!$K$30:$L$105,$E$4:AZ4))-(AZ2*COUNTIF('A1'!$K$30:$L$105,$F$4))))))","v":""},{"$f":"IF(BA2=\"\",\"\",(LARGE('A1'!$K$30:$L$105,(1+SUM(COUNTIF('A1'!$K$30:$L$105,$E$4:BA4))-(BA2*COUNTIF('A1'!$K$30:$L$105,$F$4))))))","v":""},{"$f":"IF(BB2=\"\",\"\",(LARGE('A1'!$K$30:$L$105,(1+SUM(COUNTIF('A1'!$K$30:$L$105,$E$4:BB4))-(BB2*COUNTIF('A1'!$K$30:$L$105,$F$4))))))","v":""},{"$f":"IF(BC2=\"\",\"\",(LARGE('A1'!$K$30:$L$105,(1+SUM(COUNTIF('A1'!$K$30:$L$105,$E$4:BC4))-(BC2*COUNTIF('A1'!$K$30:$L$105,$F$4))))))","v":""},{"$f":"IF(BD2=\"\",\"\",(LARGE('A1'!$K$30:$L$105,(1+SUM(COUNTIF('A1'!$K$30:$L$105,$E$4:BD4))-(BD2*COUNTIF('A1'!$K$30:$L$105,$F$4))))))","v":""},{"$f":"IF(BE2=\"\",\"\",(LARGE('A1'!$K$30:$L$105,(1+SUM(COUNTIF('A1'!$K$30:$L$105,$E$4:BE4))-(BE2*COUNTIF('A1'!$K$30:$L$105,$F$4))))))","v":""},{"$f":"IF(BF2=\"\",\"\",(LARGE('A1'!$K$30:$L$105,(1+SUM(COUNTIF('A1'!$K$30:$L$105,$E$4:BF4))-(BF2*COUNTIF('A1'!$K$30:$L$105,$F$4))))))","v":""},{"$f":"IF(BG2=\"\",\"\",(LARGE('A1'!$K$30:$L$105,(1+SUM(COUNTIF('A1'!$K$30:$L$105,$E$4:BG4))-(BG2*COUNTIF('A1'!$K$30:$L$105,$F$4))))))","v":""},{"$f":"IF(BH2=\"\",\"\",(LARGE('A1'!$K$30:$L$105,(1+SUM(COUNTIF('A1'!$K$30:$L$105,$E$4:BH4))-(BH2*COUNTIF('A1'!$K$30:$L$105,$F$4))))))","v":""},{"$f":"IF(BI2=\"\",\"\",(LARGE('A1'!$K$30:$L$105,(1+SUM(COUNTIF('A1'!$K$30:$L$105,$E$4:BI4))-(BI2*COUNTIF('A1'!$K$30:$L$105,$F$4))))))","v":""},{"$f":"IF(BJ2=\"\",\"\",(LARGE('A1'!$K$30:$L$105,(1+SUM(COUNTIF('A1'!$K$30:$L$105,$E$4:BJ4))-(BJ2*COUNTIF('A1'!$K$30:$L$105,$F$4))))))","v":""},{"$f":"IF(BK2=\"\",\"\",(LARGE('A1'!$K$30:$L$105,(1+SUM(COUNTIF('A1'!$K$30:$L$105,$E$4:BK4))-(BK2*COUNTIF('A1'!$K$30:$L$105,$F$4))))))","v":""},{"$f":"IF(BL2=\"\",\"\",(LARGE('A1'!$K$30:$L$105,(1+SUM(COUNTIF('A1'!$K$30:$L$105,$E$4:BL4))-(BL2*COUNTIF('A1'!$K$30:$L$105,$F$4))))))","v":""},{"$f":"IF(BM2=\"\",\"\",(LARGE('A1'!$K$30:$L$105,(1+SUM(COUNTIF('A1'!$K$30:$L$105,$E$4:BM4))-(BM2*COUNTIF('A1'!$K$30:$L$105,$F$4))))))","v":""},{"$f":"IF(BN2=\"\",\"\",(LARGE('A1'!$K$30:$L$105,(1+SUM(COUNTIF('A1'!$K$30:$L$105,$E$4:BN4))-(BN2*COUNTIF('A1'!$K$30:$L$105,$F$4))))))","v":""},{"$f":"IF(BO2=\"\",\"\",(LARGE('A1'!$K$30:$L$105,(1+SUM(COUNTIF('A1'!$K$30:$L$105,$E$4:BO4))-(BO2*COUNTIF('A1'!$K$30:$L$105,$F$4))))))","v":""},{"$f":"IF(BP2=\"\",\"\",(LARGE('A1'!$K$30:$L$105,(1+SUM(COUNTIF('A1'!$K$30:$L$105,$E$4:BP4))-(BP2*COUNTIF('A1'!$K$30:$L$105,$F$4))))))","v":""},{"$f":"IF(BQ2=\"\",\"\",(LARGE('A1'!$K$30:$L$105,(1+SUM(COUNTIF('A1'!$K$30:$L$105,$E$4:BQ4))-(BQ2*COUNTIF('A1'!$K$30:$L$105,$F$4))))))","v":""},{"$f":"IF(BR2=\"\",\"\",(LARGE('A1'!$K$30:$L$105,(1+SUM(COUNTIF('A1'!$K$30:$L$105,$E$4:BR4))-(BR2*COUNTIF('A1'!$K$30:$L$105,$F$4))))))","v":""},{"$f":"IF(BS2=\"\",\"\",(LARGE('A1'!$K$30:$L$105,(1+SUM(COUNTIF('A1'!$K$30:$L$105,$E$4:BS4))-(BS2*COUNTIF('A1'!$K$30:$L$105,$F$4))))))","v":""},{"$f":"IF(BT2=\"\",\"\",(LARGE('A1'!$K$30:$L$105,(1+SUM(COUNTIF('A1'!$K$30:$L$105,$E$4:BT4))-(BT2*COUNTIF('A1'!$K$30:$L$105,$F$4))))))","v":""},{"$f":"IF(BU2=\"\",\"\",(LARGE('A1'!$K$30:$L$105,(1+SUM(COUNTIF('A1'!$K$30:$L$105,$E$4:BU4))-(BU2*COUNTIF('A1'!$K$30:$L$105,$F$4))))))","v":""},{"$f":"IF(BV2=\"\",\"\",(LARGE('A1'!$K$30:$L$105,(1+SUM(COUNTIF('A1'!$K$30:$L$105,$E$4:BV4))-(BV2*COUNTIF('A1'!$K$30:$L$105,$F$4))))))","v":""},{"$f":"IF(BW2=\"\",\"\",(LARGE('A1'!$K$30:$L$105,(1+SUM(COUNTIF('A1'!$K$30:$L$105,$E$4:BW4))-(BW2*COUNTIF('A1'!$K$30:$L$105,$F$4))))))","v":""},{"$f":"IF(BX2=\"\",\"\",(LARGE('A1'!$K$30:$L$105,(1+SUM(COUNTIF('A1'!$K$30:$L$105,$E$4:BX4))-(BX2*COUNTIF('A1'!$K$30:$L$105,$F$4))))))","v":""},{"$f":"IF(BY2=\"\",\"\",(LARGE('A1'!$K$30:$L$105,(1+SUM(COUNTIF('A1'!$K$30:$L$105,$E$4:BY4))-(BY2*COUNTIF('A1'!$K$30:$L$105,$F$4))))))","v":""},{"$f":"IF(BZ2=\"\",\"\",(LARGE('A1'!$K$30:$L$105,(1+SUM(COUNTIF('A1'!$K$30:$L$105,$E$4:BZ4))-(BZ2*COUNTIF('A1'!$K$30:$L$105,$F$4))))))","v":""},{"$f":"IF(CA2=\"\",\"\",(LARGE('A1'!$K$30:$L$105,(1+SUM(COUNTIF('A1'!$K$30:$L$105,$E$4:CA4))-(CA2*COUNTIF('A1'!$K$30:$L$105,$F$4))))))","v":""},{"$f":"IF(CB2=\"\",\"\",(LARGE('A1'!$K$30:$L$105,(1+SUM(COUNTIF('A1'!$K$30:$L$105,$E$4:CB4))-(CB2*COUNTIF('A1'!$K$30:$L$105,$F$4))))))","v":""},{"$f":"IF(CC2=\"\",\"\",(LARGE('A1'!$K$30:$L$105,(1+SUM(COUNTIF('A1'!$K$30:$L$105,$E$4:CC4))-(CC2*COUNTIF('A1'!$K$30:$L$105,$F$4))))))","v":""},{"$f":"IF(CD2=\"\",\"\",(LARGE('A1'!$K$30:$L$105,(1+SUM(COUNTIF('A1'!$K$30:$L$105,$E$4:CD4))-(CD2*COUNTIF('A1'!$K$30:$L$105,$F$4))))))","v":""},{"$f":"IF(CE2=\"\",\"\",(LARGE('A1'!$K$30:$L$105,(1+SUM(COUNTIF('A1'!$K$30:$L$105,$E$4:CE4))-(CE2*COUNTIF('A1'!$K$30:$L$105,$F$4))))))","v":""},{"$f":"IF(CF2=\"\",\"\",(LARGE('A1'!$K$30:$L$105,(1+SUM(COUNTIF('A1'!$K$30:$L$105,$E$4:CF4))-(CF2*COUNTIF('A1'!$K$30:$L$105,$F$4))))))","v":""},{"$f":"IF(CG2=\"\",\"\",(LARGE('A1'!$K$30:$L$105,(1+SUM(COUNTIF('A1'!$K$30:$L$105,$E$4:CG4))-(CG2*COUNTIF('A1'!$K$30:$L$105,$F$4))))))","v":""},{"$f":"IF(CH2=\"\",\"\",(LARGE('A1'!$K$30:$L$105,(1+SUM(COUNTIF('A1'!$K$30:$L$105,$E$4:CH4))-(CH2*COUNTIF('A1'!$K$30:$L$105,$F$4))))))","v":""},{"$f":"IF(CI2=\"\",\"\",(LARGE('A1'!$K$30:$L$105,(1+SUM(COUNTIF('A1'!$K$30:$L$105,$E$4:CI4))-(CI2*COUNTIF('A1'!$K$30:$L$105,$F$4))))))","v":""},{"$f":"IF(CJ2=\"\",\"\",(LARGE('A1'!$K$30:$L$105,(1+SUM(COUNTIF('A1'!$K$30:$L$105,$E$4:CJ4))-(CJ2*COUNTIF('A1'!$K$30:$L$105,$F$4))))))","v":""},{"$f":"IF(CK2=\"\",\"\",(LARGE('A1'!$K$30:$L$105,(1+SUM(COUNTIF('A1'!$K$30:$L$105,$E$4:CK4))-(CK2*COUNTIF('A1'!$K$30:$L$105,$F$4))))))","v":""},{"$f":"IF(CL2=\"\",\"\",(LARGE('A1'!$K$30:$L$105,(1+SUM(COUNTIF('A1'!$K$30:$L$105,$E$4:CL4))-(CL2*COUNTIF('A1'!$K$30:$L$105,$F$4))))))","v":""},{"$f":"IF(CM2=\"\",\"\",(LARGE('A1'!$K$30:$L$105,(1+SUM(COUNTIF('A1'!$K$30:$L$105,$E$4:CM4))-(CM2*COUNTIF('A1'!$K$30:$L$105,$F$4))))))","v":""},{"$f":"IF(CN2=\"\",\"\",(LARGE('A1'!$K$30:$L$105,(1+SUM(COUNTIF('A1'!$K$30:$L$105,$E$4:CN4))-(CN2*COUNTIF('A1'!$K$30:$L$105,$F$4))))))","v":""},{"$f":"IF(CO2=\"\",\"\",(LARGE('A1'!$K$30:$L$105,(1+SUM(COUNTIF('A1'!$K$30:$L$105,$E$4:CO4))-(CO2*COUNTIF('A1'!$K$30:$L$105,$F$4))))))","v":""},{"$f":"IF(CP2=\"\",\"\",(LARGE('A1'!$K$30:$L$105,(1+SUM(COUNTIF('A1'!$K$30:$L$105,$E$4:CP4))-(CP2*COUNTIF('A1'!$K$30:$L$105,$F$4))))))","v":""},{"$f":"IF(CQ2=\"\",\"\",(LARGE('A1'!$K$30:$L$105,(1+SUM(COUNTIF('A1'!$K$30:$L$105,$E$4:CQ4))-(CQ2*COUNTIF('A1'!$K$30:$L$105,$F$4))))))","v":""},{"$f":"IF(CR2=\"\",\"\",(LARGE('A1'!$K$30:$L$105,(1+SUM(COUNTIF('A1'!$K$30:$L$105,$E$4:CR4))-(CR2*COUNTIF('A1'!$K$30:$L$105,$F$4))))))","v":""},{"$f":"IF(CS2=\"\",\"\",(LARGE('A1'!$K$30:$L$105,(1+SUM(COUNTIF('A1'!$K$30:$L$105,$E$4:CS4))-(CS2*COUNTIF('A1'!$K$30:$L$105,$F$4))))))","v":""},{"$f":"IF(CT2=\"\",\"\",(LARGE('A1'!$K$30:$L$105,(1+SUM(COUNTIF('A1'!$K$30:$L$105,$E$4:CT4))-(CT2*COUNTIF('A1'!$K$30:$L$105,$F$4))))))","v":""},{"$f":"IF(CU2=\"\",\"\",(LARGE('A1'!$K$30:$L$105,(1+SUM(COUNTIF('A1'!$K$30:$L$105,$E$4:CU4))-(CU2*COUNTIF('A1'!$K$30:$L$105,$F$4))))))","v":""},{"$f":"IF(CV2=\"\",\"\",(LARGE('A1'!$K$30:$L$105,(1+SUM(COUNTIF('A1'!$K$30:$L$105,$E$4:CV4))-(CV2*COUNTIF('A1'!$K$30:$L$105,$F$4))))))","v":""},{"$f":"IF(CW2=\"\",\"\",(LARGE('A1'!$K$30:$L$105,(1+SUM(COUNTIF('A1'!$K$30:$L$105,$E$4:CW4))-(CW2*COUNTIF('A1'!$K$30:$L$105,$F$4))))))","v":""},{"$f":"IF(CX2=\"\",\"\",(LARGE('A1'!$K$30:$L$105,(1+SUM(COUNTIF('A1'!$K$30:$L$105,$E$4:CX4))-(CX2*COUNTIF('A1'!$K$30:$L$105,$F$4))))))","v":""},{"$f":"IF(CY2=\"\",\"\",(LARGE('A1'!$K$30:$L$105,(1+SUM(COUNTIF('A1'!$K$30:$L$105,$E$4:CY4))-(CY2*COUNTIF('A1'!$K$30:$L$105,$F$4))))))","v":""},{"$f":"IF(CZ2=\"\",\"\",(LARGE('A1'!$K$30:$L$105,(1+SUM(COUNTIF('A1'!$K$30:$L$105,$E$4:CZ4))-(CZ2*COUNTIF('A1'!$K$30:$L$105,$F$4))))))","v":""},{"$f":"IF(DA2=\"\",\"\",(LARGE('A1'!$K$30:$L$105,(1+SUM(COUNTIF('A1'!$K$30:$L$105,$E$4:DA4))-(DA2*COUNTIF('A1'!$K$30:$L$105,$F$4))))))","v":""},{"$f":"IF(DB2=\"\",\"\",(LARGE('A1'!$K$30:$L$105,(1+SUM(COUNTIF('A1'!$K$30:$L$105,$E$4:DB4))-(DB2*COUNTIF('A1'!$K$30:$L$105,$F$4))))))","v":""},{"$f":"IF(DC2=\"\",\"\",(LARGE('A1'!$K$30:$L$105,(1+SUM(COUNTIF('A1'!$K$30:$L$105,$E$4:DC4))-(DC2*COUNTIF('A1'!$K$30:$L$105,$F$4))))))","v":""},{"$f":"IF(DD2=\"\",\"\",(LARGE('A1'!$K$30:$L$105,(1+SUM(COUNTIF('A1'!$K$30:$L$105,$E$4:DD4))-(DD2*COUNTIF('A1'!$K$30:$L$105,$F$4))))))","v":""},{"$f":"IF(DE2=\"\",\"\",(LARGE('A1'!$K$30:$L$105,(1+SUM(COUNTIF('A1'!$K$30:$L$105,$E$4:DE4))-(DE2*COUNTIF('A1'!$K$30:$L$105,$F$4))))))","v":""},{"$f":"IF(DF2=\"\",\"\",(LARGE('A1'!$K$30:$L$105,(1+SUM(COUNTIF('A1'!$K$30:$L$105,$E$4:DF4))-(DF2*COUNTIF('A1'!$K$30:$L$105,$F$4))))))","v":""},{"$f":"IF(DG2=\"\",\"\",(LARGE('A1'!$K$30:$L$105,(1+SUM(COUNTIF('A1'!$K$30:$L$105,$E$4:DG4))-(DG2*COUNTIF('A1'!$K$30:$L$105,$F$4))))))","v":""},{"$f":"IF(DH2=\"\",\"\",(LARGE('A1'!$K$30:$L$105,(1+SUM(COUNTIF('A1'!$K$30:$L$105,$E$4:DH4))-(DH2*COUNTIF('A1'!$K$30:$L$105,$F$4))))))","v":""},{"$f":"IF(DI2=\"\",\"\",(LARGE('A1'!$K$30:$L$105,(1+SUM(COUNTIF('A1'!$K$30:$L$105,$E$4:DI4))-(DI2*COUNTIF('A1'!$K$30:$L$105,$F$4))))))","v":""},{"$f":"IF(DJ2=\"\",\"\",(LARGE('A1'!$K$30:$L$105,(1+SUM(COUNTIF('A1'!$K$30:$L$105,$E$4:DJ4))-(DJ2*COUNTIF('A1'!$K$30:$L$105,$F$4))))))","v":""},{"$f":"IF(DK2=\"\",\"\",(LARGE('A1'!$K$30:$L$105,(1+SUM(COUNTIF('A1'!$K$30:$L$105,$E$4:DK4))-(DK2*COUNTIF('A1'!$K$30:$L$105,$F$4))))))","v":""},{"$f":"IF(DL2=\"\",\"\",(LARGE('A1'!$K$30:$L$105,(1+SUM(COUNTIF('A1'!$K$30:$L$105,$E$4:DL4))-(DL2*COUNTIF('A1'!$K$30:$L$105,$F$4))))))","v":""},{"$f":"IF(DM2=\"\",\"\",(LARGE('A1'!$K$30:$L$105,(1+SUM(COUNTIF('A1'!$K$30:$L$105,$E$4:DM4))-(DM2*COUNTIF('A1'!$K$30:$L$105,$F$4))))))","v":""},{"$f":"IF(DN2=\"\",\"\",(LARGE('A1'!$K$30:$L$105,(1+SUM(COUNTIF('A1'!$K$30:$L$105,$E$4:DN4))-(DN2*COUNTIF('A1'!$K$30:$L$105,$F$4))))))","v":""},{"$f":"IF(DO2=\"\",\"\",(LARGE('A1'!$K$30:$L$105,(1+SUM(COUNTIF('A1'!$K$30:$L$105,$E$4:DO4))-(DO2*COUNTIF('A1'!$K$30:$L$105,$F$4))))))","v":""},{"$f":"IF(DP2=\"\",\"\",(LARGE('A1'!$K$30:$L$105,(1+SUM(COUNTIF('A1'!$K$30:$L$105,$E$4:DP4))-(DP2*COUNTIF('A1'!$K$30:$L$105,$F$4))))))","v":""},{"$f":"IF(DQ2=\"\",\"\",(LARGE('A1'!$K$30:$L$105,(1+SUM(COUNTIF('A1'!$K$30:$L$105,$E$4:DQ4))-(DQ2*COUNTIF('A1'!$K$30:$L$105,$F$4))))))","v":""},{"$f":"IF(DR2=\"\",\"\",(LARGE('A1'!$K$30:$L$105,(1+SUM(COUNTIF('A1'!$K$30:$L$105,$E$4:DR4))-(DR2*COUNTIF('A1'!$K$30:$L$105,$F$4))))))","v":""},{"$f":"IF(DS2=\"\",\"\",(LARGE('A1'!$K$30:$L$105,(1+SUM(COUNTIF('A1'!$K$30:$L$105,$E$4:DS4))-(DS2*COUNTIF('A1'!$K$30:$L$105,$F$4))))))","v":""},{"$f":"IF(DT2=\"\",\"\",(LARGE('A1'!$K$30:$L$105,(1+SUM(COUNTIF('A1'!$K$30:$L$105,$E$4:DT4))-(DT2*COUNTIF('A1'!$K$30:$L$105,$F$4))))))","v":""},{"$f":"IF(DU2=\"\",\"\",(LARGE('A1'!$K$30:$L$105,(1+SUM(COUNTIF('A1'!$K$30:$L$105,$E$4:DU4))-(DU2*COUNTIF('A1'!$K$30:$L$105,$F$4))))))","v":""},{"$f":"IF(DV2=\"\",\"\",(LARGE('A1'!$K$30:$L$105,(1+SUM(COUNTIF('A1'!$K$30:$L$105,$E$4:DV4))-(DV2*COUNTIF('A1'!$K$30:$L$105,$F$4))))))","v":""},{"$f":"IF(DW2=\"\",\"\",(LARGE('A1'!$K$30:$L$105,(1+SUM(COUNTIF('A1'!$K$30:$L$105,$E$4:DW4))-(DW2*COUNTIF('A1'!$K$30:$L$105,$F$4))))))","v":""},{"$f":"IF(DX2=\"\",\"\",(LARGE('A1'!$K$30:$L$105,(1+SUM(COUNTIF('A1'!$K$30:$L$105,$E$4:DX4))-(DX2*COUNTIF('A1'!$K$30:$L$105,$F$4))))))","v":""},{"$f":"IF(DY2=\"\",\"\",(LARGE('A1'!$K$30:$L$105,(1+SUM(COUNTIF('A1'!$K$30:$L$105,$E$4:DY4))-(DY2*COUNTIF('A1'!$K$30:$L$105,$F$4))))))","v":""},{"$f":"IF(DZ2=\"\",\"\",(LARGE('A1'!$K$30:$L$105,(1+SUM(COUNTIF('A1'!$K$30:$L$105,$E$4:DZ4))-(DZ2*COUNTIF('A1'!$K$30:$L$105,$F$4))))))","v":""},{"$f":"IF(EA2=\"\",\"\",(LARGE('A1'!$K$30:$L$105,(1+SUM(COUNTIF('A1'!$K$30:$L$105,$E$4:EA4))-(EA2*COUNTIF('A1'!$K$30:$L$105,$F$4))))))","v":""},{"$f":"IF(EB2=\"\",\"\",(LARGE('A1'!$K$30:$L$105,(1+SUM(COUNTIF('A1'!$K$30:$L$105,$E$4:EB4))-(EB2*COUNTIF('A1'!$K$30:$L$105,$F$4))))))","v":""},{"$f":"IF(EC2=\"\",\"\",(LARGE('A1'!$K$30:$L$105,(1+SUM(COUNTIF('A1'!$K$30:$L$105,$E$4:EC4))-(EC2*COUNTIF('A1'!$K$30:$L$105,$F$4))))))","v":""},{"$f":"IF(ED2=\"\",\"\",(LARGE('A1'!$K$30:$L$105,(1+SUM(COUNTIF('A1'!$K$30:$L$105,$E$4:ED4))-(ED2*COUNTIF('A1'!$K$30:$L$105,$F$4))))))","v":""},{"$f":"IF(EE2=\"\",\"\",(LARGE('A1'!$K$30:$L$105,(1+SUM(COUNTIF('A1'!$K$30:$L$105,$E$4:EE4))-(EE2*COUNTIF('A1'!$K$30:$L$105,$F$4))))))","v":""},{"$f":"IF(EF2=\"\",\"\",(LARGE('A1'!$K$30:$L$105,(1+SUM(COUNTIF('A1'!$K$30:$L$105,$E$4:EF4))-(EF2*COUNTIF('A1'!$K$30:$L$105,$F$4))))))","v":""},{"$f":"IF(EG2=\"\",\"\",(LARGE('A1'!$K$30:$L$105,(1+SUM(COUNTIF('A1'!$K$30:$L$105,$E$4:EG4))-(EG2*COUNTIF('A1'!$K$30:$L$105,$F$4))))))","v":""},{"$f":"IF(EH2=\"\",\"\",(LARGE('A1'!$K$30:$L$105,(1+SUM(COUNTIF('A1'!$K$30:$L$105,$E$4:EH4))-(EH2*COUNTIF('A1'!$K$30:$L$105,$F$4))))))","v":""},{"$f":"IF(EI2=\"\",\"\",(LARGE('A1'!$K$30:$L$105,(1+SUM(COUNTIF('A1'!$K$30:$L$105,$E$4:EI4))-(EI2*COUNTIF('A1'!$K$30:$L$105,$F$4))))))","v":""},{"$f":"IF(EJ2=\"\",\"\",(LARGE('A1'!$K$30:$L$105,(1+SUM(COUNTIF('A1'!$K$30:$L$105,$E$4:EJ4))-(EJ2*COUNTIF('A1'!$K$30:$L$105,$F$4))))))","v":""},{"$f":"IF(EK2=\"\",\"\",(LARGE('A1'!$K$30:$L$105,(1+SUM(COUNTIF('A1'!$K$30:$L$105,$E$4:EK4))-(EK2*COUNTIF('A1'!$K$30:$L$105,$F$4))))))","v":""},{"$f":"IF(EL2=\"\",\"\",(LARGE('A1'!$K$30:$L$105,(1+SUM(COUNTIF('A1'!$K$30:$L$105,$E$4:EL4))-(EL2*COUNTIF('A1'!$K$30:$L$105,$F$4))))))","v":""},{"$f":"IF(EM2=\"\",\"\",(LARGE('A1'!$K$30:$L$105,(1+SUM(COUNTIF('A1'!$K$30:$L$105,$E$4:EM4))-(EM2*COUNTIF('A1'!$K$30:$L$105,$F$4))))))","v":""},{"$f":"IF(EN2=\"\",\"\",(LARGE('A1'!$K$30:$L$105,(1+SUM(COUNTIF('A1'!$K$30:$L$105,$E$4:EN4))-(EN2*COUNTIF('A1'!$K$30:$L$105,$F$4))))))","v":""},{"$f":"IF(EO2=\"\",\"\",(LARGE('A1'!$K$30:$L$105,(1+SUM(COUNTIF('A1'!$K$30:$L$105,$E$4:EO4))-(EO2*COUNTIF('A1'!$K$30:$L$105,$F$4))))))","v":""},{"$f":"IF(EP2=\"\",\"\",(LARGE('A1'!$K$30:$L$105,(1+SUM(COUNTIF('A1'!$K$30:$L$105,$E$4:EP4))-(EP2*COUNTIF('A1'!$K$30:$L$105,$F$4))))))","v":""},{"$f":"IF(EQ2=\"\",\"\",(LARGE('A1'!$K$30:$L$105,(1+SUM(COUNTIF('A1'!$K$30:$L$105,$E$4:EQ4))-(EQ2*COUNTIF('A1'!$K$30:$L$105,$F$4))))))","v":""},{"$f":"IF(ER2=\"\",\"\",(LARGE('A1'!$K$30:$L$105,(1+SUM(COUNTIF('A1'!$K$30:$L$105,$E$4:ER4))-(ER2*COUNTIF('A1'!$K$30:$L$105,$F$4))))))","v":""},{"$f":"IF(ES2=\"\",\"\",(LARGE('A1'!$K$30:$L$105,(1+SUM(COUNTIF('A1'!$K$30:$L$105,$E$4:ES4))-(ES2*COUNTIF('A1'!$K$30:$L$105,$F$4))))))","v":""},{"$f":"IF(ET2=\"\",\"\",(LARGE('A1'!$K$30:$L$105,(1+SUM(COUNTIF('A1'!$K$30:$L$105,$E$4:ET4))-(ET2*COUNTIF('A1'!$K$30:$L$105,$F$4))))))","v":""},{"$f":"IF(EU2=\"\",\"\",(LARGE('A1'!$K$30:$L$105,(1+SUM(COUNTIF('A1'!$K$30:$L$105,$E$4:EU4))-(EU2*COUNTIF('A1'!$K$30:$L$105,$F$4))))))","v":""},{"$f":"IF(EV2=\"\",\"\",(LARGE('A1'!$K$30:$L$105,(1+SUM(COUNTIF('A1'!$K$30:$L$105,$E$4:EV4))-(EV2*COUNTIF('A1'!$K$30:$L$105,$F$4))))))","v":""},{"$f":"IF(EW2=\"\",\"\",(LARGE('A1'!$K$30:$L$105,(1+SUM(COUNTIF('A1'!$K$30:$L$105,$E$4:EW4))-(EW2*COUNTIF('A1'!$K$30:$L$105,$F$4))))))","v":""},{"$f":"IF(EX2=\"\",\"\",(LARGE('A1'!$K$30:$L$105,(1+SUM(COUNTIF('A1'!$K$30:$L$105,$E$4:EX4))-(EX2*COUNTIF('A1'!$K$30:$L$105,$F$4))))))","v":""},{"$f":"IF(EY2=\"\",\"\",(LARGE('A1'!$K$30:$L$105,(1+SUM(COUNTIF('A1'!$K$30:$L$105,$E$4:EY4))-(EY2*COUNTIF('A1'!$K$30:$L$105,$F$4))))))","v":""},{"$f":"IF(EZ2=\"\",\"\",(LARGE('A1'!$K$30:$L$105,(1+SUM(COUNTIF('A1'!$K$30:$L$105,$E$4:EZ4))-(EZ2*COUNTIF('A1'!$K$30:$L$105,$F$4))))))","v":""},{"$f":"IF(FA2=\"\",\"\",(LARGE('A1'!$K$30:$L$105,(1+SUM(COUNTIF('A1'!$K$30:$L$105,$E$4:FA4))-(FA2*COUNTIF('A1'!$K$30:$L$105,$F$4))))))","v":""},{"$f":"IF(FB2=\"\",\"\",(LARGE('A1'!$K$30:$L$105,(1+SUM(COUNTIF('A1'!$K$30:$L$105,$E$4:FB4))-(FB2*COUNTIF('A1'!$K$30:$L$105,$F$4))))))","v":""},{"$f":"IF(FC2=\"\",\"\",(LARGE('A1'!$K$30:$L$105,(1+SUM(COUNTIF('A1'!$K$30:$L$105,$E$4:FC4))-(FC2*COUNTIF('A1'!$K$30:$L$105,$F$4))))))","v":""},{"$f":"IF(FD2=\"\",\"\",(LARGE('A1'!$K$30:$L$105,(1+SUM(COUNTIF('A1'!$K$30:$L$105,$E$4:FD4))-(FD2*COUNTIF('A1'!$K$30:$L$105,$F$4))))))","v":""},{"$f":"IF(FE2=\"\",\"\",(LARGE('A1'!$K$30:$L$105,(1+SUM(COUNTIF('A1'!$K$30:$L$105,$E$4:FE4))-(FE2*COUNTIF('A1'!$K$30:$L$105,$F$4))))))","v":""},{"$f":"IF(FF2=\"\",\"\",(LARGE('A1'!$K$30:$L$105,(1+SUM(COUNTIF('A1'!$K$30:$L$105,$E$4:FF4))-(FF2*COUNTIF('A1'!$K$30:$L$105,$F$4))))))","v":""},{"$f":"IF(FG2=\"\",\"\",(LARGE('A1'!$K$30:$L$105,(1+SUM(COUNTIF('A1'!$K$30:$L$105,$E$4:FG4))-(FG2*COUNTIF('A1'!$K$30:$L$105,$F$4))))))","v":""},{"$f":"IF(FH2=\"\",\"\",(LARGE('A1'!$K$30:$L$105,(1+SUM(COUNTIF('A1'!$K$30:$L$105,$E$4:FH4))-(FH2*COUNTIF('A1'!$K$30:$L$105,$F$4))))))","v":""},{"$f":"IF(FI2=\"\",\"\",(LARGE('A1'!$K$30:$L$105,(1+SUM(COUNTIF('A1'!$K$30:$L$105,$E$4:FI4))-(FI2*COUNTIF('A1'!$K$30:$L$105,$F$4))))))","v":""},{"$f":"IF(FJ2=\"\",\"\",(LARGE('A1'!$K$30:$L$105,(1+SUM(COUNTIF('A1'!$K$30:$L$105,$E$4:FJ4))-(FJ2*COUNTIF('A1'!$K$30:$L$105,$F$4))))))","v":""},{"$f":"IF(FK2=\"\",\"\",(LARGE('A1'!$K$30:$L$105,(1+SUM(COUNTIF('A1'!$K$30:$L$105,$E$4:FK4))-(FK2*COUNTIF('A1'!$K$30:$L$105,$F$4))))))","v":""},{"$f":"IF(FL2=\"\",\"\",(LARGE('A1'!$K$30:$L$105,(1+SUM(COUNTIF('A1'!$K$30:$L$105,$E$4:FL4))-(FL2*COUNTIF('A1'!$K$30:$L$105,$F$4))))))","v":""},{"$f":"IF(FM2=\"\",\"\",(LARGE('A1'!$K$30:$L$105,(1+SUM(COUNTIF('A1'!$K$30:$L$105,$E$4:FM4))-(FM2*COUNTIF('A1'!$K$30:$L$105,$F$4))))))","v":""},{"$f":"IF(FN2=\"\",\"\",(LARGE('A1'!$K$30:$L$105,(1+SUM(COUNTIF('A1'!$K$30:$L$105,$E$4:FN4))-(FN2*COUNTIF('A1'!$K$30:$L$105,$F$4))))))","v":""},{"$f":"IF(FO2=\"\",\"\",(LARGE('A1'!$K$30:$L$105,(1+SUM(COUNTIF('A1'!$K$30:$L$105,$E$4:FO4))-(FO2*COUNTIF('A1'!$K$30:$L$105,$F$4))))))","v":""},{"$f":"IF(FP2=\"\",\"\",(LARGE('A1'!$K$30:$L$105,(1+SUM(COUNTIF('A1'!$K$30:$L$105,$E$4:FP4))-(FP2*COUNTIF('A1'!$K$30:$L$105,$F$4))))))","v":""},{"$f":"IF(FQ2=\"\",\"\",(LARGE('A1'!$K$30:$L$105,(1+SUM(COUNTIF('A1'!$K$30:$L$105,$E$4:FQ4))-(FQ2*COUNTIF('A1'!$K$30:$L$105,$F$4))))))","v":""},{"$f":"IF(FR2=\"\",\"\",(LARGE('A1'!$K$30:$L$105,(1+SUM(COUNTIF('A1'!$K$30:$L$105,$E$4:FR4))-(FR2*COUNTIF('A1'!$K$30:$L$105,$F$4))))))","v":""},{"$f":"IF(FS2=\"\",\"\",(LARGE('A1'!$K$30:$L$105,(1+SUM(COUNTIF('A1'!$K$30:$L$105,$E$4:FS4))-(FS2*COUNTIF('A1'!$K$30:$L$105,$F$4))))))","v":""},{"$f":"IF(FT2=\"\",\"\",(LARGE('A1'!$K$30:$L$105,(1+SUM(COUNTIF('A1'!$K$30:$L$105,$E$4:FT4))-(FT2*COUNTIF('A1'!$K$30:$L$105,$F$4))))))","v":""},{"$f":"IF(FU2=\"\",\"\",(LARGE('A1'!$K$30:$L$105,(1+SUM(COUNTIF('A1'!$K$30:$L$105,$E$4:FU4))-(FU2*COUNTIF('A1'!$K$30:$L$105,$F$4))))))","v":""},{"$f":"IF(FV2=\"\",\"\",(LARGE('A1'!$K$30:$L$105,(1+SUM(COUNTIF('A1'!$K$30:$L$105,$E$4:FV4))-(FV2*COUNTIF('A1'!$K$30:$L$105,$F$4))))))","v":""},{"$f":"IF(FW2=\"\",\"\",(LARGE('A1'!$K$30:$L$105,(1+SUM(COUNTIF('A1'!$K$30:$L$105,$E$4:FW4))-(FW2*COUNTIF('A1'!$K$30:$L$105,$F$4))))))","v":""},{"$f":"IF(FX2=\"\",\"\",(LARGE('A1'!$K$30:$L$105,(1+SUM(COUNTIF('A1'!$K$30:$L$105,$E$4:FX4))-(FX2*COUNTIF('A1'!$K$30:$L$105,$F$4))))))","v":""},{"$f":"IF(FY2=\"\",\"\",(LARGE('A1'!$K$30:$L$105,(1+SUM(COUNTIF('A1'!$K$30:$L$105,$E$4:FY4))-(FY2*COUNTIF('A1'!$K$30:$L$105,$F$4))))))","v":""},{"$f":"IF(FZ2=\"\",\"\",(LARGE('A1'!$K$30:$L$105,(1+SUM(COUNTIF('A1'!$K$30:$L$105,$E$4:FZ4))-(FZ2*COUNTIF('A1'!$K$30:$L$105,$F$4))))))","v":""},{"$f":"IF(GA2=\"\",\"\",(LARGE('A1'!$K$30:$L$105,(1+SUM(COUNTIF('A1'!$K$30:$L$105,$E$4:GA4))-(GA2*COUNTIF('A1'!$K$30:$L$105,$F$4))))))","v":""},{"$f":"IF(GB2=\"\",\"\",(LARGE('A1'!$K$30:$L$105,(1+SUM(COUNTIF('A1'!$K$30:$L$105,$E$4:GB4))-(GB2*COUNTIF('A1'!$K$30:$L$105,$F$4))))))","v":""},{"$f":"IF(GC2=\"\",\"\",(LARGE('A1'!$K$30:$L$105,(1+SUM(COUNTIF('A1'!$K$30:$L$105,$E$4:GC4))-(GC2*COUNTIF('A1'!$K$30:$L$105,$F$4))))))","v":""},{"$f":"IF(GD2=\"\",\"\",(LARGE('A1'!$K$30:$L$105,(1+SUM(COUNTIF('A1'!$K$30:$L$105,$E$4:GD4))-(GD2*COUNTIF('A1'!$K$30:$L$105,$F$4))))))","v":""},{"$f":"IF(GE2=\"\",\"\",(LARGE('A1'!$K$30:$L$105,(1+SUM(COUNTIF('A1'!$K$30:$L$105,$E$4:GE4))-(GE2*COUNTIF('A1'!$K$30:$L$105,$F$4))))))","v":""},{"$f":"IF(GF2=\"\",\"\",(LARGE('A1'!$K$30:$L$105,(1+SUM(COUNTIF('A1'!$K$30:$L$105,$E$4:GF4))-(GF2*COUNTIF('A1'!$K$30:$L$105,$F$4))))))","v":""},{"$f":"IF(GG2=\"\",\"\",(LARGE('A1'!$K$30:$L$105,(1+SUM(COUNTIF('A1'!$K$30:$L$105,$E$4:GG4))-(GG2*COUNTIF('A1'!$K$30:$L$105,$F$4))))))","v":""},{"$f":"IF(GH2=\"\",\"\",(LARGE('A1'!$K$30:$L$105,(1+SUM(COUNTIF('A1'!$K$30:$L$105,$E$4:GH4))-(GH2*COUNTIF('A1'!$K$30:$L$105,$F$4))))))","v":""},{"$f":"IF(GI2=\"\",\"\",(LARGE('A1'!$K$30:$L$105,(1+SUM(COUNTIF('A1'!$K$30:$L$105,$E$4:GI4))-(GI2*COUNTIF('A1'!$K$30:$L$105,$F$4))))))","v":""},{"$f":"IF(GJ2=\"\",\"\",(LARGE('A1'!$K$30:$L$105,(1+SUM(COUNTIF('A1'!$K$30:$L$105,$E$4:GJ4))-(GJ2*COUNTIF('A1'!$K$30:$L$105,$F$4))))))","v":""},{"$f":"IF(GK2=\"\",\"\",(LARGE('A1'!$K$30:$L$105,(1+SUM(COUNTIF('A1'!$K$30:$L$105,$E$4:GK4))-(GK2*COUNTIF('A1'!$K$30:$L$105,$F$4))))))","v":""},{"$f":"IF(GL2=\"\",\"\",(LARGE('A1'!$K$30:$L$105,(1+SUM(COUNTIF('A1'!$K$30:$L$105,$E$4:GL4))-(GL2*COUNTIF('A1'!$K$30:$L$105,$F$4))))))","v":""},{"$f":"IF(GM2=\"\",\"\",(LARGE('A1'!$K$30:$L$105,(1+SUM(COUNTIF('A1'!$K$30:$L$105,$E$4:GM4))-(GM2*COUNTIF('A1'!$K$30:$L$105,$F$4))))))","v":""},{"$f":"IF(GN2=\"\",\"\",(LARGE('A1'!$K$30:$L$105,(1+SUM(COUNTIF('A1'!$K$30:$L$105,$E$4:GN4))-(GN2*COUNTIF('A1'!$K$30:$L$105,$F$4))))))","v":""},{"$f":"IF(GO2=\"\",\"\",(LARGE('A1'!$K$30:$L$105,(1+SUM(COUNTIF('A1'!$K$30:$L$105,$E$4:GO4))-(GO2*COUNTIF('A1'!$K$30:$L$105,$F$4))))))","v":""},{"$f":"IF(GP2=\"\",\"\",(LARGE('A1'!$K$30:$L$105,(1+SUM(COUNTIF('A1'!$K$30:$L$105,$E$4:GP4))-(GP2*COUNTIF('A1'!$K$30:$L$105,$F$4))))))","v":""},{"$f":"IF(GQ2=\"\",\"\",(LARGE('A1'!$K$30:$L$105,(1+SUM(COUNTIF('A1'!$K$30:$L$105,$E$4:GQ4))-(GQ2*COUNTIF('A1'!$K$30:$L$105,$F$4))))))","v":""},{"$f":"IF(GR2=\"\",\"\",(LARGE('A1'!$K$30:$L$105,(1+SUM(COUNTIF('A1'!$K$30:$L$105,$E$4:GR4))-(GR2*COUNTIF('A1'!$K$30:$L$105,$F$4))))))","v":""},{"$f":"IF(GS2=\"\",\"\",(LARGE('A1'!$K$30:$L$105,(1+SUM(COUNTIF('A1'!$K$30:$L$105,$E$4:GS4))-(GS2*COUNTIF('A1'!$K$30:$L$105,$F$4))))))","v":""},{"$f":"IF(GT2=\"\",\"\",(LARGE('A1'!$K$30:$L$105,(1+SUM(COUNTIF('A1'!$K$30:$L$105,$E$4:GT4))-(GT2*COUNTIF('A1'!$K$30:$L$105,$F$4))))))","v":""}]
[{"$f":"IF(('A1'!A30:A79)=\"\",\"\",('A1'!A30:A79))","v":1},{"$f":"IF(('A1'!I30:I79)=\"\",\"\",('A1'!I30:I79))","v":450},{"$f":"IF(('A1'!H30:H79)=\"\",\"\",('A1'!H30:H79))","v":3},{"$f":"IF(('A1'!J30:J79)=\"\",\"\",('A1'!J30:J79))","v":"HOT"},{"$f":"IF($D$5:$D$54=\"\",\"\",IF($D$5:$D$54=\"HOT\",IF(('A1'!$K$30:$K$80)=E$4,\"●\",IF(TRANSPOSE('A1'!$L$30:$L$80)=E$4,\"▼\",IF(D$5:D$54=\"|\",\"|\",\"\"))),IF(('A1'!$K$30:$K$80)=E$4,\"●\",IF(('A1'!$L$30:$L$80)=E$4,\"▲\",IF(D$5:D$54=\"|\",\"|\",\"\")))))","v":""},{"$f":"IF($D$5:$D$54=\"\",\"\",IF($D$5:$D$54=\"HOT\",IF(E$5:E$54=\"●\",\"|\",IF(E$5:E$54=\"|\",\"|\",\"\")),IF(E$5:E$54=\"▲\",\"|\",IF(E$5:E$54=\"|\",\"|\",\"\"))))","v":""},{"$f":"IF($D$5:$D$54=\"\",\"\",IF($D$5:$D$54=\"HOT\",IF(('A1'!$K$30:$K$80)=G$4,\"●\",IF(('A1'!$L$30:$L$80)=G$4,\"▼\",IF(F$5:F$54=\"|\",\"|\",\"\"))),IF(('A1'!$K$30:$K$80)=G$4,\"●\",IF(('A1'!$L$30:$L$80)=G$4,\"▲\",IF(F$5:F$54=\"|\",\"|\",\"\")))))","v":""},{"$f":"IF($D$5:$D$54=\"\",\"\",IF($D$5:$D$54=\"HOT\",IF(G$5:G$54=\"●\",\"|\",IF(G$5:G$54=\"|\",\"|\",\"\")),IF(G$5:G$54=\"▲\",\"|\",IF(G$5:G$54=\"|\",\"|\",\"\"))))","v":""},{"$f":"IF($D$5:$D$54=\"\",\"\",IF($D$5:$D$54=\"HOT\",IF(('A1'!$K$30:$K$80)=I$4,\"●\",IF(('A1'!$L$30:$L$80)=I$4,\"▼\",IF(H$5:H$54=\"|\",\"|\",\"\"))),IF(('A1'!$K$30:$K$80)=I$4,\"●\",IF(('A1'!$L$30:$L$80)=I$4,\"▲\",IF(H$5:H$54=\"|\",\"|\",\"\")))))","v":""},{"$f":"IF($D$5:$D$54=\"\",\"\",IF($D$5:$D$54=\"HOT\",IF(I$5:I$54=\"●\",\"|\",IF(I$5:I$54=\"|\",\"|\",\"\")),IF(I$5:I$54=\"▲\",\"|\",IF(I$5:I$54=\"|\",\"|\",\"\"))))","v":""},{"$f":"IF($D$5:$D$54=\"\",\"\",IF($D$5:$D$54=\"HOT\",IF(('A1'!$K$30:$K$80)=K$4,\"●\",IF(('A1'!$L$30:$L$80)=K$4,\"▼\",IF(J$5:J$54=\"|\",\"|\",\"\"))),IF(('A1'!$K$30:$K$80)=K$4,\"●\",IF(('A1'!$L$30:$L$80)=K$4,\"▲\",IF(J$5:J$54=\"|\",\"|\",\"\")))))","v":"●"},{"$f":"IF($D$5:$D$54=\"\",\"\",IF($D$5:$D$54=\"HOT\",IF(K$5:K$54=\"●\",\"|\",IF(K$5:K$54=\"|\",\"|\",\"\")),IF(K$5:K$54=\"▲\",\"|\",IF(K$5:K$54=\"|\",\"|\",\"\"))))","v":"|"},{"$f":"IF($D$5:$D$54=\"\",\"\",IF($D$5:$D$54=\"HOT\",IF(('A1'!$K$30:$K$80)=M$4,\"●\",IF(('A1'!$L$30:$L$80)=M$4,\"▼\",IF(L$5:L$54=\"|\",\"|\",\"\"))),IF(('A1'!$K$30:$K$80)=M$4,\"●\",IF(('A1'!$L$30:$L$80)=M$4,\"▲\",IF(L$5:L$54=\"|\",\"|\",\"\")))))","v":"|"},{"$f":"IF($D$5:$D$54=\"\",\"\",IF($D$5:$D$54=\"HOT\",IF(M$5:M$54=\"●\",\"|\",IF(M$5:M$54=\"|\",\"|\",\"\")),IF(M$5:M$54=\"▲\",\"|\",IF(M$5:M$54=\"|\",\"|\",\"\"))))","v":"|"},{"$f":"IF($D$5:$D$54=\"\",\"\",IF($D$5:$D$54=\"HOT\",IF(('A1'!$K$30:$K$80)=O$4,\"●\",IF(('A1'!$L$30:$L$80)=O$4,\"▼\",IF(N$5:N$54=\"|\",\"|\",\"\"))),IF(('A1'!$K$30:$K$80)=O$4,\"●\",IF(('A1'!$L$30:$L$80)=O$4,\"▲\",IF(N$5:N$54=\"|\",\"|\",\"\")))))","v":"|"},{"$f":"IF($D$5:$D$54=\"\",\"\",IF($D$5:$D$54=\"HOT\",IF(O$5:O$54=\"●\",\"|\",IF(O$5:O$54=\"|\",\"|\",\"\")),IF(O$5:O$54=\"▲\",\"|\",IF(O$5:O$54=\"|\",\"|\",\"\"))))","v":"|"},{"$f":"IF($D$5:$D$54=\"\",\"\",IF($D$5:$D$54=\"HOT\",IF(('A1'!$K$30:$K$80)=Q$4,\"●\",IF(('A1'!$L$30:$L$80)=Q$4,\"▼\",IF(P$5:P$54=\"|\",\"|\",\"\"))),IF(('A1'!$K$30:$K$80)=Q$4,\"●\",IF(('A1'!$L$30:$L$80)=Q$4,\"▲\",IF(P$5:P$54=\"|\",\"|\",\"\")))))","v":"|"},{"$f":"IF($D$5:$D$54=\"\",\"\",IF($D$5:$D$54=\"HOT\",IF(Q$5:Q$54=\"●\",\"|\",IF(Q$5:Q$54=\"|\",\"|\",\"\")),IF(Q$5:Q$54=\"▲\",\"|\",IF(Q$5:Q$54=\"|\",\"|\",\"\"))))","v":"|"},{"$f":"IF($D$5:$D$54=\"\",\"\",IF($D$5:$D$54=\"HOT\",IF(('A1'!$K$30:$K$80)=S$4,\"●\",IF(('A1'!$L$30:$L$80)=S$4,\"▼\",IF(R$5:R$54=\"|\",\"|\",\"\"))),IF(('A1'!$K$30:$K$80)=S$4,\"●\",IF(('A1'!$L$30:$L$80)=S$4,\"▲\",IF(R$5:R$54=\"|\",\"|\",\"\")))))","v":"|"},{"$f":"IF($D$5:$D$54=\"\",\"\",IF($D$5:$D$54=\"HOT\",IF(S$5:S$54=\"●\",\"|\",IF(S$5:S$54=\"|\",\"|\",\"\")),IF(S$5:S$54=\"▲\",\"|\",IF(S$5:S$54=\"|\",\"|\",\"\"))))","v":"|"},{"$f":"IF($D$5:$D$54=\"\",\"\",IF($D$5:$D$54=\"HOT\",IF(('A1'!$K$30:$K$80)=U$4,\"●\",IF(('A1'!$L$30:$L$80)=U$4,\"▼\",IF(T$5:T$54=\"|\",\"|\",\"\"))),IF(('A1'!$K$30:$K$80)=U$4,\"●\",IF(('A1'!$L$30:$L$80)=U$4,\"▲\",IF(T$5:T$54=\"|\",\"|\",\"\")))))","v":"▼"},{"$f":"IF($D$5:$D$54=\"\",\"\",IF($D$5:$D$54=\"HOT\",IF(U$5:U$54=\"●\",\"|\",IF(U$5:U$54=\"|\",\"|\",\"\")),IF(U$5:U$54=\"▲\",\"|\",IF(U$5:U$54=\"|\",\"|\",\"\"))))","v":""},{"$f":"IF($D$5:$D$54=\"\",\"\",IF($D$5:$D$54=\"HOT\",IF(('A1'!$K$30:$K$80)=W$4,\"●\",IF(('A1'!$L$30:$L$80)=W$4,\"▼\",IF(V$5:V$54=\"|\",\"|\",\"\"))),IF(('A1'!$K$30:$K$80)=W$4,\"●\",IF(('A1'!$L$30:$L$80)=W$4,\"▲\",IF(V$5:V$54=\"|\",\"|\",\"\")))))","v":""},{"$f":"IF($D$5:$D$54=\"\",\"\",IF($D$5:$D$54=\"HOT\",IF(W$5:W$54=\"●\",\"|\",IF(W$5:W$54=\"|\",\"|\",\"\")),IF(W$5:W$54=\"▲\",\"|\",IF(W$5:W$54=\"|\",\"|\",\"\"))))","v":""},{"$f":"IF($D$5:$D$54=\"\",\"\",IF($D$5:$D$54=\"HOT\",IF(('A1'!$K$30:$K$80)=Y$4,\"●\",IF(('A1'!$L$30:$L$80)=Y$4,\"▼\",IF(X$5:X$54=\"|\",\"|\",\"\"))),IF(('A1'!$K$30:$K$80)=Y$4,\"●\",IF(('A1'!$L$30:$L$80)=Y$4,\"▲\",IF(X$5:X$54=\"|\",\"|\",\"\")))))","v":""},{"$f":"IF($D$5:$D$54=\"\",\"\",IF($D$5:$D$54=\"HOT\",IF(Y$5:Y$54=\"●\",\"|\",IF(Y$5:Y$54=\"|\",\"|\",\"\")),IF(Y$5:Y$54=\"▲\",\"|\",IF(Y$5:Y$54=\"|\",\"|\",\"\"))))","v":""},{"$f":"IF($D$5:$D$54=\"\",\"\",IF($D$5:$D$54=\"HOT\",IF(('A1'!$K$30:$K$80)=AA$4,\"●\",IF(('A1'!$L$30:$L$80)=AA$4,\"▼\",IF(Z$5:Z$54=\"|\",\"|\",\"\"))),IF(('A1'!$K$30:$K$80)=AA$4,\"●\",IF(('A1'!$L$30:$L$80)=AA$4,\"▲\",IF(Z$5:Z$54=\"|\",\"|\",\"\")))))","v":""},{"$f":"IF($D$5:$D$54=\"\",\"\",IF($D$5:$D$54=\"HOT\",IF(AA$5:AA$54=\"●\",\"|\",IF(AA$5:AA$54=\"|\",\"|\",\"\")),IF(AA$5:AA$54=\"▲\",\"|\",IF(AA$5:AA$54=\"|\",\"|\",\"\"))))","v":""},{"$f":"IF($D$5:$D$54=\"\",\"\",IF($D$5:$D$54=\"HOT\",IF(('A1'!$K$30:$K$80)=AC$4,\"●\",IF(('A1'!$L$30:$L$80)=AC$4,\"▼\",IF(AB$5:AB$54=\"|\",\"|\",\"\"))),IF(('A1'!$K$30:$K$80)=AC$4,\"●\",IF(('A1'!$L$30:$L$80)=AC$4,\"▲\",IF(AB$5:AB$54=\"|\",\"|\",\"\")))))","v":""},{"$f":"IF($D$5:$D$54=\"\",\"\",IF($D$5:$D$54=\"HOT\",IF(AC$5:AC$54=\"●\",\"|\",IF(AC$5:AC$54=\"|\",\"|\",\"\")),IF(AC$5:AC$54=\"▲\",\"|\",IF(AC$5:AC$54=\"|\",\"|\",\"\"))))","v":""},{"$f":"IF($D$5:$D$54=\"\",\"\",IF($D$5:$D$54=\"HOT\",IF(('A1'!$K$30:$K$80)=AE$4,\"●\",IF(('A1'!$L$30:$L$80)=AE$4,\"▼\",IF(AD$5:AD$54=\"|\",\"|\",\"\"))),IF(('A1'!$K$30:$K$80)=AE$4,\"●\",IF(('A1'!$L$30:$L$80)=AE$4,\"▲\",IF(AD$5:AD$54=\"|\",\"|\",\"\")))))","v":""},{"$f":"IF($D$5:$D$54=\"\",\"\",IF($D$5:$D$54=\"HOT\",IF(AE$5:AE$54=\"●\",\"|\",IF(AE$5:AE$54=\"|\",\"|\",\"\")),IF(AE$5:AE$54=\"▲\",\"|\",IF(AE$5:AE$54=\"|\",\"|\",\"\"))))","v":""},{"$f":"IF($D$5:$D$54=\"\",\"\",IF($D$5:$D$54=\"HOT\",IF(('A1'!$K$30:$K$80)=AG$4,\"●\",IF(('A1'!$L$30:$L$80)=AG$4,\"▼\",IF(AF$5:AF$54=\"|\",\"|\",\"\"))),IF(('A1'!$K$30:$K$80)=AG$4,\"●\",IF(('A1'!$L$30:$L$80)=AG$4,\"▲\",IF(AF$5:AF$54=\"|\",\"|\",\"\")))))","v":""},{"$f":"IF($D$5:$D$54=\"\",\"\",IF($D$5:$D$54=\"HOT\",IF(AG$5:AG$54=\"●\",\"|\",IF(AG$5:AG$54=\"|\",\"|\",\"\")),IF(AG$5:AG$54=\"▲\",\"|\",IF(AG$5:AG$54=\"|\",\"|\",\"\"))))","v":""},{"$f":"IF($D$5:$D$54=\"\",\"\",IF($D$5:$D$54=\"HOT\",IF(('A1'!$K$30:$K$80)=AI$4,\"●\",IF(('A1'!$L$30:$L$80)=AI$4,\"▼\",IF(AH$5:AH$54=\"|\",\"|\",\"\"))),IF(('A1'!$K$30:$K$80)=AI$4,\"●\",IF(('A1'!$L$30:$L$80)=AI$4,\"▲\",IF(AH$5:AH$54=\"|\",\"|\",\"\")))))","v":""},{"$f":"IF($D$5:$D$54=\"\",\"\",IF($D$5:$D$54=\"HOT\",IF(AI$5:AI$54=\"●\",\"|\",IF(AI$5:AI$54=\"|\",\"|\",\"\")),IF(AI$5:AI$54=\"▲\",\"|\",IF(AI$5:AI$54=\"|\",\"|\",\"\"))))","v":""},{"$f":"IF($D$5:$D$54=\"\",\"\",IF($D$5:$D$54=\"HOT\",IF(('A1'!$K$30:$K$80)=AK$4,\"●\",IF(('A1'!$L$30:$L$80)=AK$4,\"▼\",IF(AJ$5:AJ$54=\"|\",\"|\",\"\"))),IF(('A1'!$K$30:$K$80)=AK$4,\"●\",IF(('A1'!$L$30:$L$80)=AK$4,\"▲\",IF(AJ$5:AJ$54=\"|\",\"|\",\"\")))))","v":""},{"$f":"IF($D$5:$D$54=\"\",\"\",IF($D$5:$D$54=\"HOT\",IF(AK$5:AK$54=\"●\",\"|\",IF(AK$5:AK$54=\"|\",\"|\",\"\")),IF(AK$5:AK$54=\"▲\",\"|\",IF(AK$5:AK$54=\"|\",\"|\",\"\"))))","v":""},{"$f":"IF($D$5:$D$54=\"\",\"\",IF($D$5:$D$54=\"HOT\",IF(('A1'!$K$30:$K$80)=AM$4,\"●\",IF(('A1'!$L$30:$L$80)=AM$4,\"▼\",IF(AL$5:AL$54=\"|\",\"|\",\"\"))),IF(('A1'!$K$30:$K$80)=AM$4,\"●\",IF(('A1'!$L$30:$L$80)=AM$4,\"▲\",IF(AL$5:AL$54=\"|\",\"|\",\"\")))))","v":""},{"$f":"IF($D$5:$D$54=\"\",\"\",IF($D$5:$D$54=\"HOT\",IF(AM$5:AM$54=\"●\",\"|\",IF(AM$5:AM$54=\"|\",\"|\",\"\")),IF(AM$5:AM$54=\"▲\",\"|\",IF(AM$5:AM$54=\"|\",\"|\",\"\"))))","v":""},{"$f":"IF($D$5:$D$54=\"\",\"\",IF($D$5:$D$54=\"HOT\",IF(('A1'!$K$30:$K$80)=AO$4,\"●\",IF(('A1'!$L$30:$L$80)=AO$4,\"▼\",IF(AN$5:AN$54=\"|\",\"|\",\"\"))),IF(('A1'!$K$30:$K$80)=AO$4,\"●\",IF(('A1'!$L$30:$L$80)=AO$4,\"▲\",IF(AN$5:AN$54=\"|\",\"|\",\"\")))))","v":""},{"$f":"IF($D$5:$D$54=\"\",\"\",IF($D$5:$D$54=\"HOT\",IF(AO$5:AO$54=\"●\",\"|\",IF(AO$5:AO$54=\"|\",\"|\",\"\")),IF(AO$5:AO$54=\"▲\",\"|\",IF(AO$5:AO$54=\"|\",\"|\",\"\"))))","v":""},{"$f":"IF($D$5:$D$54=\"\",\"\",IF($D$5:$D$54=\"HOT\",IF(('A1'!$K$30:$K$80)=AQ$4,\"●\",IF(('A1'!$L$30:$L$80)=AQ$4,\"▼\",IF(AP$5:AP$54=\"|\",\"|\",\"\"))),IF(('A1'!$K$30:$K$80)=AQ$4,\"●\",IF(('A1'!$L$30:$L$80)=AQ$4,\"▲\",IF(AP$5:AP$54=\"|\",\"|\",\"\")))))","v":""},{"$f":"IF($D$5:$D$54=\"\",\"\",IF($D$5:$D$54=\"HOT\",IF(AQ$5:AQ$54=\"●\",\"|\",IF(AQ$5:AQ$54=\"|\",\"|\",\"\")),IF(AQ$5:AQ$54=\"▲\",\"|\",IF(AQ$5:AQ$54=\"|\",\"|\",\"\"))))","v":""},{"$f":"IF($D$5:$D$54=\"\",\"\",IF($D$5:$D$54=\"HOT\",IF(('A1'!$K$30:$K$80)=AS$4,\"●\",IF(('A1'!$L$30:$L$80)=AS$4,\"▼\",IF(AR$5:AR$54=\"|\",\"|\",\"\"))),IF(('A1'!$K$30:$K$80)=AS$4,\"●\",IF(('A1'!$L$30:$L$80)=AS$4,\"▲\",IF(AR$5:AR$54=\"|\",\"|\",\"\")))))","v":""},{"$f":"IF($D$5:$D$54=\"\",\"\",IF($D$5:$D$54=\"HOT\",IF(AS$5:AS$54=\"●\",\"|\",IF(AS$5:AS$54=\"|\",\"|\",\"\")),IF(AS$5:AS$54=\"▲\",\"|\",IF(AS$5:AS$54=\"|\",\"|\",\"\"))))","v":""},{"$f":"IF($D$5:$D$54=\"\",\"\",IF($D$5:$D$54=\"HOT\",IF(('A1'!$K$30:$K$80)=AU$4,\"●\",IF(('A1'!$L$30:$L$80)=AU$4,\"▼\",IF(AT$5:AT$54=\"|\",\"|\",\"\"))),IF(('A1'!$K$30:$K$80)=AU$4,\"●\",IF(('A1'!$L$30:$L$80)=AU$4,\"▲\",IF(AT$5:AT$54=\"|\",\"|\",\"\")))))","v":""},{"$f":"IF($D$5:$D$54=\"\",\"\",IF($D$5:$D$54=\"HOT\",IF(AU$5:AU$54=\"●\",\"|\",IF(AU$5:AU$54=\"|\",\"|\",\"\")),IF(AU$5:AU$54=\"▲\",\"|\",IF(AU$5:AU$54=\"|\",\"|\",\"\"))))","v":""},{"$f":"IF($D$5:$D$54=\"\",\"\",IF($D$5:$D$54=\"HOT\",IF(('A1'!$K$30:$K$80)=AW$4,\"●\",IF(('A1'!$L$30:$L$80)=AW$4,\"▼\",IF(AV$5:AV$54=\"|\",\"|\",\"\"))),IF(('A1'!$K$30:$K$80)=AW$4,\"●\",IF(('A1'!$L$30:$L$80)=AW$4,\"▲\",IF(AV$5:AV$54=\"|\",\"|\",\"\")))))","v":""},{"$f":"IF($D$5:$D$54=\"\",\"\",IF($D$5:$D$54=\"HOT\",IF(AW$5:AW$54=\"●\",\"|\",IF(AW$5:AW$54=\"|\",\"|\",\"\")),IF(AW$5:AW$54=\"▲\",\"|\",IF(AW$5:AW$54=\"|\",\"|\",\"\"))))","v":""},{"$f":"IF($D$5:$D$54=\"\",\"\",IF($D$5:$D$54=\"HOT\",IF(('A1'!$K$30:$K$80)=AY$4,\"●\",IF(('A1'!$L$30:$L$80)=AY$4,\"▼\",IF(AX$5:AX$54=\"|\",\"|\",\"\"))),IF(('A1'!$K$30:$K$80)=AY$4,\"●\",IF(('A1'!$L$30:$L$80)=AY$4,\"▲\",IF(AX$5:AX$54=\"|\",\"|\",\"\")))))","v":""},{"$f":"IF($D$5:$D$54=\"\",\"\",IF($D$5:$D$54=\"HOT\",IF(AY$5:AY$54=\"●\",\"|\",IF(AY$5:AY$54=\"|\",\"|\",\"\")),IF(AY$5:AY$54=\"▲\",\"|\",IF(AY$5:AY$54=\"|\",\"|\",\"\"))))","v":""},{"$f":"IF($D$5:$D$54=\"\",\"\",IF($D$5:$D$54=\"HOT\",IF(('A1'!$K$30:$K$80)=BA$4,\"●\",IF(('A1'!$L$30:$L$80)=BA$4,\"▼\",IF(AZ$5:AZ$54=\"|\",\"|\",\"\"))),IF(('A1'!$K$30:$K$80)=BA$4,\"●\",IF(('A1'!$L$30:$L$80)=BA$4,\"▲\",IF(AZ$5:AZ$54=\"|\",\"|\",\"\")))))","v":""},{"$f":"IF($D$5:$D$54=\"\",\"\",IF($D$5:$D$54=\"HOT\",IF(BA$5:BA$54=\"●\",\"|\",IF(BA$5:BA$54=\"|\",\"|\",\"\")),IF(BA$5:BA$54=\"▲\",\"|\",IF(BA$5:BA$54=\"|\",\"|\",\"\"))))","v":""},{"$f":"IF($D$5:$D$54=\"\",\"\",IF($D$5:$D$54=\"HOT\",IF(('A1'!$K$30:$K$80)=BC$4,\"●\",IF(('A1'!$L$30:$L$80)=BC$4,\"▼\",IF(BB$5:BB$54=\"|\",\"|\",\"\"))),IF(('A1'!$K$30:$K$80)=BC$4,\"●\",IF(('A1'!$L$30:$L$80)=BC$4,\"▲\",IF(BB$5:BB$54=\"|\",\"|\",\"\")))))","v":""},{"$f":"IF($D$5:$D$54=\"\",\"\",IF($D$5:$D$54=\"HOT\",IF(BC$5:BC$54=\"●\",\"|\",IF(BC$5:BC$54=\"|\",\"|\",\"\")),IF(BC$5:BC$54=\"▲\",\"|\",IF(BC$5:BC$54=\"|\",\"|\",\"\"))))","v":""},{"$f":"IF($D$5:$D$54=\"\",\"\",IF($D$5:$D$54=\"HOT\",IF(('A1'!$K$30:$K$80)=BE$4,\"●\",IF(('A1'!$L$30:$L$80)=BE$4,\"▼\",IF(BD$5:BD$54=\"|\",\"|\",\"\"))),IF(('A1'!$K$30:$K$80)=BE$4,\"●\",IF(('A1'!$L$30:$L$80)=BE$4,\"▲\",IF(BD$5:BD$54=\"|\",\"|\",\"\")))))","v":""},{"$f":"IF($D$5:$D$54=\"\",\"\",IF($D$5:$D$54=\"HOT\",IF(BE$5:BE$54=\"●\",\"|\",IF(BE$5:BE$54=\"|\",\"|\",\"\")),IF(BE$5:BE$54=\"▲\",\"|\",IF(BE$5:BE$54=\"|\",\"|\",\"\"))))","v":""},{"$f":"IF($D$5:$D$54=\"\",\"\",IF($D$5:$D$54=\"HOT\",IF(('A1'!$K$30:$K$80)=BG$4,\"●\",IF(('A1'!$L$30:$L$80)=BG$4,\"▼\",IF(BF$5:BF$54=\"|\",\"|\",\"\"))),IF(('A1'!$K$30:$K$80)=BG$4,\"●\",IF(('A1'!$L$30:$L$80)=BG$4,\"▲\",IF(BF$5:BF$54=\"|\",\"|\",\"\")))))","v":""},{"$f":"IF($D$5:$D$54=\"\",\"\",IF($D$5:$D$54=\"HOT\",IF(BG$5:BG$54=\"●\",\"|\",IF(BG$5:BG$54=\"|\",\"|\",\"\")),IF(BG$5:BG$54=\"▲\",\"|\",IF(BG$5:BG$54=\"|\",\"|\",\"\"))))","v":""},{"$f":"IF($D$5:$D$54=\"\",\"\",IF($D$5:$D$54=\"HOT\",IF(('A1'!$K$30:$K$80)=BI$4,\"●\",IF(('A1'!$L$30:$L$80)=BI$4,\"▼\",IF(BH$5:BH$54=\"|\",\"|\",\"\"))),IF(('A1'!$K$30:$K$80)=BI$4,\"●\",IF(('A1'!$L$30:$L$80)=BI$4,\"▲\",IF(BH$5:BH$54=\"|\",\"|\",\"\")))))","v":""},{"$f":"IF($D$5:$D$54=\"\",\"\",IF($D$5:$D$54=\"HOT\",IF(BI$5:BI$54=\"●\",\"|\",IF(BI$5:BI$54=\"|\",\"|\",\"\")),IF(BI$5:BI$54=\"▲\",\"|\",IF(BI$5:BI$54=\"|\",\"|\",\"\"))))","v":""},{"$f":"IF($D$5:$D$54=\"\",\"\",IF($D$5:$D$54=\"HOT\",IF(('A1'!$K$30:$K$80)=BK$4,\"●\",IF(('A1'!$L$30:$L$80)=BK$4,\"▼\",IF(BJ$5:BJ$54=\"|\",\"|\",\"\"))),IF(('A1'!$K$30:$K$80)=BK$4,\"●\",IF(('A1'!$L$30:$L$80)=BK$4,\"▲\",IF(BJ$5:BJ$54=\"|\",\"|\",\"\")))))","v":""},{"$f":"IF($D$5:$D$54=\"\",\"\",IF($D$5:$D$54=\"HOT\",IF(BK$5:BK$54=\"●\",\"|\",IF(BK$5:BK$54=\"|\",\"|\",\"\")),IF(BK$5:BK$54=\"▲\",\"|\",IF(BK$5:BK$54=\"|\",\"|\",\"\"))))","v":""},{"$f":"IF($D$5:$D$54=\"\",\"\",IF($D$5:$D$54=\"HOT\",IF(('A1'!$K$30:$K$80)=BM$4,\"●\",IF(('A1'!$L$30:$L$80)=BM$4,\"▼\",IF(BL$5:BL$54=\"|\",\"|\",\"\"))),IF(('A1'!$K$30:$K$80)=BM$4,\"●\",IF(('A1'!$L$30:$L$80)=BM$4,\"▲\",IF(BL$5:BL$54=\"|\",\"|\",\"\")))))","v":""},{"$f":"IF($D$5:$D$54=\"\",\"\",IF($D$5:$D$54=\"HOT\",IF(BM$5:BM$54=\"●\",\"|\",IF(BM$5:BM$54=\"|\",\"|\",\"\")),IF(BM$5:BM$54=\"▲\",\"|\",IF(BM$5:BM$54=\"|\",\"|\",\"\"))))","v":""},{"$f":"IF($D$5:$D$54=\"\",\"\",IF($D$5:$D$54=\"HOT\",IF(('A1'!$K$30:$K$80)=BO$4,\"●\",IF(('A1'!$L$30:$L$80)=BO$4,\"▼\",IF(BN$5:BN$54=\"|\",\"|\",\"\"))),IF(('A1'!$K$30:$K$80)=BO$4,\"●\",IF(('A1'!$L$30:$L$80)=BO$4,\"▲\",IF(BN$5:BN$54=\"|\",\"|\",\"\")))))","v":""},{"$f":"IF($D$5:$D$54=\"\",\"\",IF($D$5:$D$54=\"HOT\",IF(BO$5:BO$54=\"●\",\"|\",IF(BO$5:BO$54=\"|\",\"|\",\"\")),IF(BO$5:BO$54=\"▲\",\"|\",IF(BO$5:BO$54=\"|\",\"|\",\"\"))))","v":""},{"$f":"IF($D$5:$D$54=\"\",\"\",IF($D$5:$D$54=\"HOT\",IF(('A1'!$K$30:$K$80)=BQ$4,\"●\",IF(('A1'!$L$30:$L$80)=BQ$4,\"▼\",IF(BP$5:BP$54=\"|\",\"|\",\"\"))),IF(('A1'!$K$30:$K$80)=BQ$4,\"●\",IF(('A1'!$L$30:$L$80)=BQ$4,\"▲\",IF(BP$5:BP$54=\"|\",\"|\",\"\")))))","v":""},{"$f":"IF($D$5:$D$54=\"\",\"\",IF($D$5:$D$54=\"HOT\",IF(BQ$5:BQ$54=\"●\",\"|\",IF(BQ$5:BQ$54=\"|\",\"|\",\"\")),IF(BQ$5:BQ$54=\"▲\",\"|\",IF(BQ$5:BQ$54=\"|\",\"|\",\"\"))))","v":""},{"$f":"IF($D$5:$D$54=\"\",\"\",IF($D$5:$D$54=\"HOT\",IF(('A1'!$K$30:$K$80)=BS$4,\"●\",IF(('A1'!$L$30:$L$80)=BS$4,\"▼\",IF(BR$5:BR$54=\"|\",\"|\",\"\"))),IF(('A1'!$K$30:$K$80)=BS$4,\"●\",IF(('A1'!$L$30:$L$80)=BS$4,\"▲\",IF(BR$5:BR$54=\"|\",\"|\",\"\")))))","v":""},{"$f":"IF($D$5:$D$54=\"\",\"\",IF($D$5:$D$54=\"HOT\",IF(BS$5:BS$54=\"●\",\"|\",IF(BS$5:BS$54=\"|\",\"|\",\"\")),IF(BS$5:BS$54=\"▲\",\"|\",IF(BS$5:BS$54=\"|\",\"|\",\"\"))))","v":""},{"$f":"IF($D$5:$D$54=\"\",\"\",IF($D$5:$D$54=\"HOT\",IF(('A1'!$K$30:$K$80)=BU$4,\"●\",IF(('A1'!$L$30:$L$80)=BU$4,\"▼\",IF(BT$5:BT$54=\"|\",\"|\",\"\"))),IF(('A1'!$K$30:$K$80)=BU$4,\"●\",IF(('A1'!$L$30:$L$80)=BU$4,\"▲\",IF(BT$5:BT$54=\"|\",\"|\",\"\")))))","v":""},{"$f":"IF($D$5:$D$54=\"\",\"\",IF($D$5:$D$54=\"HOT\",IF(BU$5:BU$54=\"●\",\"|\",IF(BU$5:BU$54=\"|\",\"|\",\"\")),IF(BU$5:BU$54=\"▲\",\"|\",IF(BU$5:BU$54=\"|\",\"|\",\"\"))))","v":""},{"$f":"IF($D$5:$D$54=\"\",\"\",IF($D$5:$D$54=\"HOT\",IF(('A1'!$K$30:$K$80)=BW$4,\"●\",IF(('A1'!$L$30:$L$80)=BW$4,\"▼\",IF(BV$5:BV$54=\"|\",\"|\",\"\"))),IF(('A1'!$K$30:$K$80)=BW$4,\"●\",IF(('A1'!$L$30:$L$80)=BW$4,\"▲\",IF(BV$5:BV$54=\"|\",\"|\",\"\")))))","v":""},{"$f":"IF($D$5:$D$54=\"\",\"\",IF($D$5:$D$54=\"HOT\",IF(BW$5:BW$54=\"●\",\"|\",IF(BW$5:BW$54=\"|\",\"|\",\"\")),IF(BW$5:BW$54=\"▲\",\"|\",IF(BW$5:BW$54=\"|\",\"|\",\"\"))))","v":""},{"$f":"IF($D$5:$D$54=\"\",\"\",IF($D$5:$D$54=\"HOT\",IF(('A1'!$K$30:$K$80)=BY$4,\"●\",IF(('A1'!$L$30:$L$80)=BY$4,\"▼\",IF(BX$5:BX$54=\"|\",\"|\",\"\"))),IF(('A1'!$K$30:$K$80)=BY$4,\"●\",IF(('A1'!$L$30:$L$80)=BY$4,\"▲\",IF(BX$5:BX$54=\"|\",\"|\",\"\")))))","v":""},{"$f":"IF($D$5:$D$54=\"\",\"\",IF($D$5:$D$54=\"HOT\",IF(BY$5:BY$54=\"●\",\"|\",IF(BY$5:BY$54=\"|\",\"|\",\"\")),IF(BY$5:BY$54=\"▲\",\"|\",IF(BY$5:BY$54=\"|\",\"|\",\"\"))))","v":""},{"$f":"IF($D$5:$D$54=\"\",\"\",IF($D$5:$D$54=\"HOT\",IF(('A1'!$K$30:$K$80)=CA$4,\"●\",IF(('A1'!$L$30:$L$80)=CA$4,\"▼\",IF(BZ$5:BZ$54=\"|\",\"|\",\"\"))),IF(('A1'!$K$30:$K$80)=CA$4,\"●\",IF(('A1'!$L$30:$L$80)=CA$4,\"▲\",IF(BZ$5:BZ$54=\"|\",\"|\",\"\")))))","v":""},{"$f":"IF($D$5:$D$54=\"\",\"\",IF($D$5:$D$54=\"HOT\",IF(CA$5:CA$54=\"●\",\"|\",IF(CA$5:CA$54=\"|\",\"|\",\"\")),IF(CA$5:CA$54=\"▲\",\"|\",IF(CA$5:CA$54=\"|\",\"|\",\"\"))))","v":""},{"$f":"IF($D$5:$D$54=\"\",\"\",IF($D$5:$D$54=\"HOT\",IF(('A1'!$K$30:$K$80)=CC$4,\"●\",IF(('A1'!$L$30:$L$80)=CC$4,\"▼\",IF(CB$5:CB$54=\"|\",\"|\",\"\"))),IF(('A1'!$K$30:$K$80)=CC$4,\"●\",IF(('A1'!$L$30:$L$80)=CC$4,\"▲\",IF(CB$5:CB$54=\"|\",\"|\",\"\")))))","v":""},{"$f":"IF($D$5:$D$54=\"\",\"\",IF($D$5:$D$54=\"HOT\",IF(CC$5:CC$54=\"●\",\"|\",IF(CC$5:CC$54=\"|\",\"|\",\"\")),IF(CC$5:CC$54=\"▲\",\"|\",IF(CC$5:CC$54=\"|\",\"|\",\"\"))))","v":""},{"$f":"IF($D$5:$D$54=\"\",\"\",IF($D$5:$D$54=\"HOT\",IF(('A1'!$K$30:$K$80)=CE$4,\"●\",IF(('A1'!$L$30:$L$80)=CE$4,\"▼\",IF(CD$5:CD$54=\"|\",\"|\",\"\"))),IF(('A1'!$K$30:$K$80)=CE$4,\"●\",IF(('A1'!$L$30:$L$80)=CE$4,\"▲\",IF(CD$5:CD$54=\"|\",\"|\",\"\")))))","v":""},{"$f":"IF($D$5:$D$54=\"\",\"\",IF($D$5:$D$54=\"HOT\",IF(CE$5:CE$54=\"●\",\"|\",IF(CE$5:CE$54=\"|\",\"|\",\"\")),IF(CE$5:CE$54=\"▲\",\"|\",IF(CE$5:CE$54=\"|\",\"|\",\"\"))))","v":""},{"$f":"IF($D$5:$D$54=\"\",\"\",IF($D$5:$D$54=\"HOT\",IF(('A1'!$K$30:$K$80)=CG$4,\"●\",IF(('A1'!$L$30:$L$80)=CG$4,\"▼\",IF(CF$5:CF$54=\"|\",\"|\",\"\"))),IF(('A1'!$K$30:$K$80)=CG$4,\"●\",IF(('A1'!$L$30:$L$80)=CG$4,\"▲\",IF(CF$5:CF$54=\"|\",\"|\",\"\")))))","v":""},{"$f":"IF($D$5:$D$54=\"\",\"\",IF($D$5:$D$54=\"HOT\",IF(CG$5:CG$54=\"●\",\"|\",IF(CG$5:CG$54=\"|\",\"|\",\"\")),IF(CG$5:CG$54=\"▲\",\"|\",IF(CG$5:CG$54=\"|\",\"|\",\"\"))))","v":""},{"$f":"IF($D$5:$D$54=\"\",\"\",IF($D$5:$D$54=\"HOT\",IF(('A1'!$K$30:$K$80)=CI$4,\"●\",IF(('A1'!$L$30:$L$80)=CI$4,\"▼\",IF(CH$5:CH$54=\"|\",\"|\",\"\"))),IF(('A1'!$K$30:$K$80)=CI$4,\"●\",IF(('A1'!$L$30:$L$80)=CI$4,\"▲\",IF(CH$5:CH$54=\"|\",\"|\",\"\")))))","v":""},{"$f":"IF($D$5:$D$54=\"\",\"\",IF($D$5:$D$54=\"HOT\",IF(CI$5:CI$54=\"●\",\"|\",IF(CI$5:CI$54=\"|\",\"|\",\"\")),IF(CI$5:CI$54=\"▲\",\"|\",IF(CI$5:CI$54=\"|\",\"|\",\"\"))))","v":""},{"$f":"IF($D$5:$D$54=\"\",\"\",IF($D$5:$D$54=\"HOT\",IF(('A1'!$K$30:$K$80)=CK$4,\"●\",IF(('A1'!$L$30:$L$80)=CK$4,\"▼\",IF(CJ$5:CJ$54=\"|\",\"|\",\"\"))),IF(('A1'!$K$30:$K$80)=CK$4,\"●\",IF(('A1'!$L$30:$L$80)=CK$4,\"▲\",IF(CJ$5:CJ$54=\"|\",\"|\",\"\")))))","v":""},{"$f":"IF($D$5:$D$54=\"\",\"\",IF($D$5:$D$54=\"HOT\",IF(CK$5:CK$54=\"●\",\"|\",IF(CK$5:CK$54=\"|\",\"|\",\"\")),IF(CK$5:CK$54=\"▲\",\"|\",IF(CK$5:CK$54=\"|\",\"|\",\"\"))))","v":""},{"$f":"IF($D$5:$D$54=\"\",\"\",IF($D$5:$D$54=\"HOT\",IF(('A1'!$K$30:$K$80)=CM$4,\"●\",IF(('A1'!$L$30:$L$80)=CM$4,\"▼\",IF(CL$5:CL$54=\"|\",\"|\",\"\"))),IF(('A1'!$K$30:$K$80)=CM$4,\"●\",IF(('A1'!$L$30:$L$80)=CM$4,\"▲\",IF(CL$5:CL$54=\"|\",\"|\",\"\")))))","v":""},{"$f":"IF($D$5:$D$54=\"\",\"\",IF($D$5:$D$54=\"HOT\",IF(CM$5:CM$54=\"●\",\"|\",IF(CM$5:CM$54=\"|\",\"|\",\"\")),IF(CM$5:CM$54=\"▲\",\"|\",IF(CM$5:CM$54=\"|\",\"|\",\"\"))))","v":""},{"$f":"IF($D$5:$D$54=\"\",\"\",IF($D$5:$D$54=\"HOT\",IF(('A1'!$K$30:$K$80)=CO$4,\"●\",IF(('A1'!$L$30:$L$80)=CO$4,\"▼\",IF(CN$5:CN$54=\"|\",\"|\",\"\"))),IF(('A1'!$K$30:$K$80)=CO$4,\"●\",IF(('A1'!$L$30:$L$80)=CO$4,\"▲\",IF(CN$5:CN$54=\"|\",\"|\",\"\")))))","v":""},{"$f":"IF($D$5:$D$54=\"\",\"\",IF($D$5:$D$54=\"HOT\",IF(CO$5:CO$54=\"●\",\"|\",IF(CO$5:CO$54=\"|\",\"|\",\"\")),IF(CO$5:CO$54=\"▲\",\"|\",IF(CO$5:CO$54=\"|\",\"|\",\"\"))))","v":""},{"$f":"IF($D$5:$D$54=\"\",\"\",IF($D$5:$D$54=\"HOT\",IF(('A1'!$K$30:$K$80)=CQ$4,\"●\",IF(('A1'!$L$30:$L$80)=CQ$4,\"▼\",IF(CP$5:CP$54=\"|\",\"|\",\"\"))),IF(('A1'!$K$30:$K$80)=CQ$4,\"●\",IF(('A1'!$L$30:$L$80)=CQ$4,\"▲\",IF(CP$5:CP$54=\"|\",\"|\",\"\")))))","v":""},{"$f":"IF($D$5:$D$54=\"\",\"\",IF($D$5:$D$54=\"HOT\",IF(CQ$5:CQ$54=\"●\",\"|\",IF(CQ$5:CQ$54=\"|\",\"|\",\"\")),IF(CQ$5:CQ$54=\"▲\",\"|\",IF(CQ$5:CQ$54=\"|\",\"|\",\"\"))))","v":""},{"$f":"IF($D$5:$D$54=\"\",\"\",IF($D$5:$D$54=\"HOT\",IF(('A1'!$K$30:$K$80)=CS$4,\"●\",IF(('A1'!$L$30:$L$80)=CS$4,\"▼\",IF(CR$5:CR$54=\"|\",\"|\",\"\"))),IF(('A1'!$K$30:$K$80)=CS$4,\"●\",IF(('A1'!$L$30:$L$80)=CS$4,\"▲\",IF(CR$5:CR$54=\"|\",\"|\",\"\")))))","v":""},{"$f":"IF($D$5:$D$54=\"\",\"\",IF($D$5:$D$54=\"HOT\",IF(CS$5:CS$54=\"●\",\"|\",IF(CS$5:CS$54=\"|\",\"|\",\"\")),IF(CS$5:CS$54=\"▲\",\"|\",IF(CS$5:CS$54=\"|\",\"|\",\"\"))))","v":""},{"$f":"IF($D$5:$D$54=\"\",\"\",IF($D$5:$D$54=\"HOT\",IF(('A1'!$K$30:$K$80)=CU$4,\"●\",IF(('A1'!$L$30:$L$80)=CU$4,\"▼\",IF(CT$5:CT$54=\"|\",\"|\",\"\"))),IF(('A1'!$K$30:$K$80)=CU$4,\"●\",IF(('A1'!$L$30:$L$80)=CU$4,\"▲\",IF(CT$5:CT$54=\"|\",\"|\",\"\")))))","v":""},{"$f":"IF($D$5:$D$54=\"\",\"\",IF($D$5:$D$54=\"HOT\",IF(CU$5:CU$54=\"●\",\"|\",IF(CU$5:CU$54=\"|\",\"|\",\"\")),IF(CU$5:CU$54=\"▲\",\"|\",IF(CU$5:CU$54=\"|\",\"|\",\"\"))))","v":""},{"$f":"IF($D$5:$D$54=\"\",\"\",IF($D$5:$D$54=\"HOT\",IF(('A1'!$K$30:$K$80)=CW$4,\"●\",IF(('A1'!$L$30:$L$80)=CW$4,\"▼\",IF(CV$5:CV$54=\"|\",\"|\",\"\"))),IF(('A1'!$K$30:$K$80)=CW$4,\"●\",IF(('A1'!$L$30:$L$80)=CW$4,\"▲\",IF(CV$5:CV$54=\"|\",\"|\",\"\")))))","v":""},{"$f":"IF($D$5:$D$54=\"\",\"\",IF($D$5:$D$54=\"HOT\",IF(CW$5:CW$54=\"●\",\"|\",IF(CW$5:CW$54=\"|\",\"|\",\"\")),IF(CW$5:CW$54=\"▲\",\"|\",IF(CW$5:CW$54=\"|\",\"|\",\"\"))))","v":""},{"$f":"IF($D$5:$D$54=\"\",\"\",IF($D$5:$D$54=\"HOT\",IF(('A1'!$K$30:$K$80)=CY$4,\"●\",IF(('A1'!$L$30:$L$80)=CY$4,\"▼\",IF(CX$5:CX$54=\"|\",\"|\",\"\"))),IF(('A1'!$K$30:$K$80)=CY$4,\"●\",IF(('A1'!$L$30:$L$80)=CY$4,\"▲\",IF(CX$5:CX$54=\"|\",\"|\",\"\")))))","v":""},{"$f":"IF($D$5:$D$54=\"\",\"\",IF($D$5:$D$54=\"HOT\",IF(CY$5:CY$54=\"●\",\"|\",IF(CY$5:CY$54=\"|\",\"|\",\"\")),IF(CY$5:CY$54=\"▲\",\"|\",IF(CY$5:CY$54=\"|\",\"|\",\"\"))))","v":""},{"$f":"IF($D$5:$D$54=\"\",\"\",IF($D$5:$D$54=\"HOT\",IF(('A1'!$K$30:$K$80)=DA$4,\"●\",IF(('A1'!$L$30:$L$80)=DA$4,\"▼\",IF(CZ$5:CZ$54=\"|\",\"|\",\"\"))),IF(('A1'!$K$30:$K$80)=DA$4,\"●\",IF(('A1'!$L$30:$L$80)=DA$4,\"▲\",IF(CZ$5:CZ$54=\"|\",\"|\",\"\")))))","v":""},{"$f":"IF($D$5:$D$54=\"\",\"\",IF($D$5:$D$54=\"HOT\",IF(DA$5:DA$54=\"●\",\"|\",IF(DA$5:DA$54=\"|\",\"|\",\"\")),IF(DA$5:DA$54=\"▲\",\"|\",IF(DA$5:DA$54=\"|\",\"|\",\"\"))))","v":""},{"$f":"IF($D$5:$D$54=\"\",\"\",IF($D$5:$D$54=\"HOT\",IF(('A1'!$K$30:$K$80)=DC$4,\"●\",IF(('A1'!$L$30:$L$80)=DC$4,\"▼\",IF(DB$5:DB$54=\"|\",\"|\",\"\"))),IF(('A1'!$K$30:$K$80)=DC$4,\"●\",IF(('A1'!$L$30:$L$80)=DC$4,\"▲\",IF(DB$5:DB$54=\"|\",\"|\",\"\")))))","v":""},{"$f":"IF($D$5:$D$54=\"\",\"\",IF($D$5:$D$54=\"HOT\",IF(DC$5:DC$54=\"●\",\"|\",IF(DC$5:DC$54=\"|\",\"|\",\"\")),IF(DC$5:DC$54=\"▲\",\"|\",IF(DC$5:DC$54=\"|\",\"|\",\"\"))))","v":""},{"$f":"IF($D$5:$D$54=\"\",\"\",IF($D$5:$D$54=\"HOT\",IF(('A1'!$K$30:$K$80)=DE$4,\"●\",IF(('A1'!$L$30:$L$80)=DE$4,\"▼\",IF(DD$5:DD$54=\"|\",\"|\",\"\"))),IF(('A1'!$K$30:$K$80)=DE$4,\"●\",IF(('A1'!$L$30:$L$80)=DE$4,\"▲\",IF(DD$5:DD$54=\"|\",\"|\",\"\")))))","v":""},{"$f":"IF($D$5:$D$54=\"\",\"\",IF($D$5:$D$54=\"HOT\",IF(DE$5:DE$54=\"●\",\"|\",IF(DE$5:DE$54=\"|\",\"|\",\"\")),IF(DE$5:DE$54=\"▲\",\"|\",IF(DE$5:DE$54=\"|\",\"|\",\"\"))))","v":""},{"$f":"IF($D$5:$D$54=\"\",\"\",IF($D$5:$D$54=\"HOT\",IF(('A1'!$K$30:$K$80)=DG$4,\"●\",IF(('A1'!$L$30:$L$80)=DG$4,\"▼\",IF(DF$5:DF$54=\"|\",\"|\",\"\"))),IF(('A1'!$K$30:$K$80)=DG$4,\"●\",IF(('A1'!$L$30:$L$80)=DG$4,\"▲\",IF(DF$5:DF$54=\"|\",\"|\",\"\")))))","v":""},{"$f":"IF($D$5:$D$54=\"\",\"\",IF($D$5:$D$54=\"HOT\",IF(DG$5:DG$54=\"●\",\"|\",IF(DG$5:DG$54=\"|\",\"|\",\"\")),IF(DG$5:DG$54=\"▲\",\"|\",IF(DG$5:DG$54=\"|\",\"|\",\"\"))))","v":""},{"$f":"IF($D$5:$D$54=\"\",\"\",IF($D$5:$D$54=\"HOT\",IF(('A1'!$K$30:$K$80)=DI$4,\"●\",IF(('A1'!$L$30:$L$80)=DI$4,\"▼\",IF(DH$5:DH$54=\"|\",\"|\",\"\"))),IF(('A1'!$K$30:$K$80)=DI$4,\"●\",IF(('A1'!$L$30:$L$80)=DI$4,\"▲\",IF(DH$5:DH$54=\"|\",\"|\",\"\")))))","v":""},{"$f":"IF($D$5:$D$54=\"\",\"\",IF($D$5:$D$54=\"HOT\",IF(DI$5:DI$54=\"●\",\"|\",IF(DI$5:DI$54=\"|\",\"|\",\"\")),IF(DI$5:DI$54=\"▲\",\"|\",IF(DI$5:DI$54=\"|\",\"|\",\"\"))))","v":""},{"$f":"IF($D$5:$D$54=\"\",\"\",IF($D$5:$D$54=\"HOT\",IF(('A1'!$K$30:$K$80)=DK$4,\"●\",IF(('A1'!$L$30:$L$80)=DK$4,\"▼\",IF(DJ$5:DJ$54=\"|\",\"|\",\"\"))),IF(('A1'!$K$30:$K$80)=DK$4,\"●\",IF(('A1'!$L$30:$L$80)=DK$4,\"▲\",IF(DJ$5:DJ$54=\"|\",\"|\",\"\")))))","v":""},{"$f":"IF($D$5:$D$54=\"\",\"\",IF($D$5:$D$54=\"HOT\",IF(DK$5:DK$54=\"●\",\"|\",IF(DK$5:DK$54=\"|\",\"|\",\"\")),IF(DK$5:DK$54=\"▲\",\"|\",IF(DK$5:DK$54=\"|\",\"|\",\"\"))))","v":""},{"$f":"IF($D$5:$D$54=\"\",\"\",IF($D$5:$D$54=\"HOT\",IF(('A1'!$K$30:$K$80)=DM$4,\"●\",IF(('A1'!$L$30:$L$80)=DM$4,\"▼\",IF(DL$5:DL$54=\"|\",\"|\",\"\"))),IF(('A1'!$K$30:$K$80)=DM$4,\"●\",IF(('A1'!$L$30:$L$80)=DM$4,\"▲\",IF(DL$5:DL$54=\"|\",\"|\",\"\")))))","v":""},{"$f":"IF($D$5:$D$54=\"\",\"\",IF($D$5:$D$54=\"HOT\",IF(DM$5:DM$54=\"●\",\"|\",IF(DM$5:DM$54=\"|\",\"|\",\"\")),IF(DM$5:DM$54=\"▲\",\"|\",IF(DM$5:DM$54=\"|\",\"|\",\"\"))))","v":""},{"$f":"IF($D$5:$D$54=\"\",\"\",IF($D$5:$D$54=\"HOT\",IF(('A1'!$K$30:$K$80)=DO$4,\"●\",IF(('A1'!$L$30:$L$80)=DO$4,\"▼\",IF(DN$5:DN$54=\"|\",\"|\",\"\"))),IF(('A1'!$K$30:$K$80)=DO$4,\"●\",IF(('A1'!$L$30:$L$80)=DO$4,\"▲\",IF(DN$5:DN$54=\"|\",\"|\",\"\")))))","v":""},{"$f":"IF($D$5:$D$54=\"\",\"\",IF($D$5:$D$54=\"HOT\",IF(DO$5:DO$54=\"●\",\"|\",IF(DO$5:DO$54=\"|\",\"|\",\"\")),IF(DO$5:DO$54=\"▲\",\"|\",IF(DO$5:DO$54=\"|\",\"|\",\"\"))))","v":""},{"$f":"IF($D$5:$D$54=\"\",\"\",IF($D$5:$D$54=\"HOT\",IF(('A1'!$K$30:$K$80)=DQ$4,\"●\",IF(('A1'!$L$30:$L$80)=DQ$4,\"▼\",IF(DP$5:DP$54=\"|\",\"|\",\"\"))),IF(('A1'!$K$30:$K$80)=DQ$4,\"●\",IF(('A1'!$L$30:$L$80)=DQ$4,\"▲\",IF(DP$5:DP$54=\"|\",\"|\",\"\")))))","v":""},{"$f":"IF($D$5:$D$54=\"\",\"\",IF($D$5:$D$54=\"HOT\",IF(DQ$5:DQ$54=\"●\",\"|\",IF(DQ$5:DQ$54=\"|\",\"|\",\"\")),IF(DQ$5:DQ$54=\"▲\",\"|\",IF(DQ$5:DQ$54=\"|\",\"|\",\"\"))))","v":""},{"$f":"IF($D$5:$D$54=\"\",\"\",IF($D$5:$D$54=\"HOT\",IF(('A1'!$K$30:$K$80)=DS$4,\"●\",IF(('A1'!$L$30:$L$80)=DS$4,\"▼\",IF(DR$5:DR$54=\"|\",\"|\",\"\"))),IF(('A1'!$K$30:$K$80)=DS$4,\"●\",IF(('A1'!$L$30:$L$80)=DS$4,\"▲\",IF(DR$5:DR$54=\"|\",\"|\",\"\")))))","v":""},{"$f":"IF($D$5:$D$54=\"\",\"\",IF($D$5:$D$54=\"HOT\",IF(DS$5:DS$54=\"●\",\"|\",IF(DS$5:DS$54=\"|\",\"|\",\"\")),IF(DS$5:DS$54=\"▲\",\"|\",IF(DS$5:DS$54=\"|\",\"|\",\"\"))))","v":""},{"$f":"IF($D$5:$D$54=\"\",\"\",IF($D$5:$D$54=\"HOT\",IF(('A1'!$K$30:$K$80)=DU$4,\"●\",IF(('A1'!$L$30:$L$80)=DU$4,\"▼\",IF(DT$5:DT$54=\"|\",\"|\",\"\"))),IF(('A1'!$K$30:$K$80)=DU$4,\"●\",IF(('A1'!$L$30:$L$80)=DU$4,\"▲\",IF(DT$5:DT$54=\"|\",\"|\",\"\")))))","v":""},{"$f":"IF($D$5:$D$54=\"\",\"\",IF($D$5:$D$54=\"HOT\",IF(DU$5:DU$54=\"●\",\"|\",IF(DU$5:DU$54=\"|\",\"|\",\"\")),IF(DU$5:DU$54=\"▲\",\"|\",IF(DU$5:DU$54=\"|\",\"|\",\"\"))))","v":""},{"$f":"IF($D$5:$D$54=\"\",\"\",IF($D$5:$D$54=\"HOT\",IF(('A1'!$K$30:$K$80)=DW$4,\"●\",IF(('A1'!$L$30:$L$80)=DW$4,\"▼\",IF(DV$5:DV$54=\"|\",\"|\",\"\"))),IF(('A1'!$K$30:$K$80)=DW$4,\"●\",IF(('A1'!$L$30:$L$80)=DW$4,\"▲\",IF(DV$5:DV$54=\"|\",\"|\",\"\")))))","v":""},{"$f":"IF($D$5:$D$54=\"\",\"\",IF($D$5:$D$54=\"HOT\",IF(DW$5:DW$54=\"●\",\"|\",IF(DW$5:DW$54=\"|\",\"|\",\"\")),IF(DW$5:DW$54=\"▲\",\"|\",IF(DW$5:DW$54=\"|\",\"|\",\"\"))))","v":""},{"$f":"IF($D$5:$D$54=\"\",\"\",IF($D$5:$D$54=\"HOT\",IF(('A1'!$K$30:$K$80)=DY$4,\"●\",IF(('A1'!$L$30:$L$80)=DY$4,\"▼\",IF(DX$5:DX$54=\"|\",\"|\",\"\"))),IF(('A1'!$K$30:$K$80)=DY$4,\"●\",IF(('A1'!$L$30:$L$80)=DY$4,\"▲\",IF(DX$5:DX$54=\"|\",\"|\",\"\")))))","v":""},{"$f":"IF($D$5:$D$54=\"\",\"\",IF($D$5:$D$54=\"HOT\",IF(DY$5:DY$54=\"●\",\"|\",IF(DY$5:DY$54=\"|\",\"|\",\"\")),IF(DY$5:DY$54=\"▲\",\"|\",IF(DY$5:DY$54=\"|\",\"|\",\"\"))))","v":""},{"$f":"IF($D$5:$D$54=\"\",\"\",IF($D$5:$D$54=\"HOT\",IF(('A1'!$K$30:$K$80)=EA$4,\"●\",IF(('A1'!$L$30:$L$80)=EA$4,\"▼\",IF(DZ$5:DZ$54=\"|\",\"|\",\"\"))),IF(('A1'!$K$30:$K$80)=EA$4,\"●\",IF(('A1'!$L$30:$L$80)=EA$4,\"▲\",IF(DZ$5:DZ$54=\"|\",\"|\",\"\")))))","v":""},{"$f":"IF($D$5:$D$54=\"\",\"\",IF($D$5:$D$54=\"HOT\",IF(EA$5:EA$54=\"●\",\"|\",IF(EA$5:EA$54=\"|\",\"|\",\"\")),IF(EA$5:EA$54=\"▲\",\"|\",IF(EA$5:EA$54=\"|\",\"|\",\"\"))))","v":""},{"$f":"IF($D$5:$D$54=\"\",\"\",IF($D$5:$D$54=\"HOT\",IF(('A1'!$K$30:$K$80)=EC$4,\"●\",IF(('A1'!$L$30:$L$80)=EC$4,\"▼\",IF(EB$5:EB$54=\"|\",\"|\",\"\"))),IF(('A1'!$K$30:$K$80)=EC$4,\"●\",IF(('A1'!$L$30:$L$80)=EC$4,\"▲\",IF(EB$5:EB$54=\"|\",\"|\",\"\")))))","v":""},{"$f":"IF($D$5:$D$54=\"\",\"\",IF($D$5:$D$54=\"HOT\",IF(EC$5:EC$54=\"●\",\"|\",IF(EC$5:EC$54=\"|\",\"|\",\"\")),IF(EC$5:EC$54=\"▲\",\"|\",IF(EC$5:EC$54=\"|\",\"|\",\"\"))))","v":""},{"$f":"IF($D$5:$D$54=\"\",\"\",IF($D$5:$D$54=\"HOT\",IF(('A1'!$K$30:$K$80)=EE$4,\"●\",IF(('A1'!$L$30:$L$80)=EE$4,\"▼\",IF(ED$5:ED$54=\"|\",\"|\",\"\"))),IF(('A1'!$K$30:$K$80)=EE$4,\"●\",IF(('A1'!$L$30:$L$80)=EE$4,\"▲\",IF(ED$5:ED$54=\"|\",\"|\",\"\")))))","v":""},{"$f":"IF($D$5:$D$54=\"\",\"\",IF($D$5:$D$54=\"HOT\",IF(EE$5:EE$54=\"●\",\"|\",IF(EE$5:EE$54=\"|\",\"|\",\"\")),IF(EE$5:EE$54=\"▲\",\"|\",IF(EE$5:EE$54=\"|\",\"|\",\"\"))))","v":""},{"$f":"IF($D$5:$D$54=\"\",\"\",IF($D$5:$D$54=\"HOT\",IF(('A1'!$K$30:$K$80)=EG$4,\"●\",IF(('A1'!$L$30:$L$80)=EG$4,\"▼\",IF(EF$5:EF$54=\"|\",\"|\",\"\"))),IF(('A1'!$K$30:$K$80)=EG$4,\"●\",IF(('A1'!$L$30:$L$80)=EG$4,\"▲\",IF(EF$5:EF$54=\"|\",\"|\",\"\")))))","v":""},{"$f":"IF($D$5:$D$54=\"\",\"\",IF($D$5:$D$54=\"HOT\",IF(EG$5:EG$54=\"●\",\"|\",IF(EG$5:EG$54=\"|\",\"|\",\"\")),IF(EG$5:EG$54=\"▲\",\"|\",IF(EG$5:EG$54=\"|\",\"|\",\"\"))))","v":""},{"$f":"IF($D$5:$D$54=\"\",\"\",IF($D$5:$D$54=\"HOT\",IF(('A1'!$K$30:$K$80)=EI$4,\"●\",IF(('A1'!$L$30:$L$80)=EI$4,\"▼\",IF(EH$5:EH$54=\"|\",\"|\",\"\"))),IF(('A1'!$K$30:$K$80)=EI$4,\"●\",IF(('A1'!$L$30:$L$80)=EI$4,\"▲\",IF(EH$5:EH$54=\"|\",\"|\",\"\")))))","v":""},{"$f":"IF($D$5:$D$54=\"\",\"\",IF($D$5:$D$54=\"HOT\",IF(EI$5:EI$54=\"●\",\"|\",IF(EI$5:EI$54=\"|\",\"|\",\"\")),IF(EI$5:EI$54=\"▲\",\"|\",IF(EI$5:EI$54=\"|\",\"|\",\"\"))))","v":""},{"$f":"IF($D$5:$D$54=\"\",\"\",IF($D$5:$D$54=\"HOT\",IF(('A1'!$K$30:$K$80)=EK$4,\"●\",IF(('A1'!$L$30:$L$80)=EK$4,\"▼\",IF(EJ$5:EJ$54=\"|\",\"|\",\"\"))),IF(('A1'!$K$30:$K$80)=EK$4,\"●\",IF(('A1'!$L$30:$L$80)=EK$4,\"▲\",IF(EJ$5:EJ$54=\"|\",\"|\",\"\")))))","v":""},{"$f":"IF($D$5:$D$54=\"\",\"\",IF($D$5:$D$54=\"HOT\",IF(EK$5:EK$54=\"●\",\"|\",IF(EK$5:EK$54=\"|\",\"|\",\"\")),IF(EK$5:EK$54=\"▲\",\"|\",IF(EK$5:EK$54=\"|\",\"|\",\"\"))))","v":""},{"$f":"IF($D$5:$D$54=\"\",\"\",IF($D$5:$D$54=\"HOT\",IF(('A1'!$K$30:$K$80)=EM$4,\"●\",IF(('A1'!$L$30:$L$80)=EM$4,\"▼\",IF(EL$5:EL$54=\"|\",\"|\",\"\"))),IF(('A1'!$K$30:$K$80)=EM$4,\"●\",IF(('A1'!$L$30:$L$80)=EM$4,\"▲\",IF(EL$5:EL$54=\"|\",\"|\",\"\")))))","v":""},{"$f":"IF($D$5:$D$54=\"\",\"\",IF($D$5:$D$54=\"HOT\",IF(EM$5:EM$54=\"●\",\"|\",IF(EM$5:EM$54=\"|\",\"|\",\"\")),IF(EM$5:EM$54=\"▲\",\"|\",IF(EM$5:EM$54=\"|\",\"|\",\"\"))))","v":""},{"$f":"IF($D$5:$D$54=\"\",\"\",IF($D$5:$D$54=\"HOT\",IF(('A1'!$K$30:$K$80)=EO$4,\"●\",IF(('A1'!$L$30:$L$80)=EO$4,\"▼\",IF(EN$5:EN$54=\"|\",\"|\",\"\"))),IF(('A1'!$K$30:$K$80)=EO$4,\"●\",IF(('A1'!$L$30:$L$80)=EO$4,\"▲\",IF(EN$5:EN$54=\"|\",\"|\",\"\")))))","v":""},{"$f":"IF($D$5:$D$54=\"\",\"\",IF($D$5:$D$54=\"HOT\",IF(EO$5:EO$54=\"●\",\"|\",IF(EO$5:EO$54=\"|\",\"|\",\"\")),IF(EO$5:EO$54=\"▲\",\"|\",IF(EO$5:EO$54=\"|\",\"|\",\"\"))))","v":""},{"$f":"IF($D$5:$D$54=\"\",\"\",IF($D$5:$D$54=\"HOT\",IF(('A1'!$K$30:$K$80)=EQ$4,\"●\",IF(('A1'!$L$30:$L$80)=EQ$4,\"▼\",IF(EP$5:EP$54=\"|\",\"|\",\"\"))),IF(('A1'!$K$30:$K$80)=EQ$4,\"●\",IF(('A1'!$L$30:$L$80)=EQ$4,\"▲\",IF(EP$5:EP$54=\"|\",\"|\",\"\")))))","v":""},{"$f":"IF($D$5:$D$54=\"\",\"\",IF($D$5:$D$54=\"HOT\",IF(EQ$5:EQ$54=\"●\",\"|\",IF(EQ$5:EQ$54=\"|\",\"|\",\"\")),IF(EQ$5:EQ$54=\"▲\",\"|\",IF(EQ$5:EQ$54=\"|\",\"|\",\"\"))))","v":""},{"$f":"IF($D$5:$D$54=\"\",\"\",IF($D$5:$D$54=\"HOT\",IF(('A1'!$K$30:$K$80)=ES$4,\"●\",IF(('A1'!$L$30:$L$80)=ES$4,\"▼\",IF(ER$5:ER$54=\"|\",\"|\",\"\"))),IF(('A1'!$K$30:$K$80)=ES$4,\"●\",IF(('A1'!$L$30:$L$80)=ES$4,\"▲\",IF(ER$5:ER$54=\"|\",\"|\",\"\")))))","v":""},{"$f":"IF($D$5:$D$54=\"\",\"\",IF($D$5:$D$54=\"HOT\",IF(ES$5:ES$54=\"●\",\"|\",IF(ES$5:ES$54=\"|\",\"|\",\"\")),IF(ES$5:ES$54=\"▲\",\"|\",IF(ES$5:ES$54=\"|\",\"|\",\"\"))))","v":""},{"$f":"IF($D$5:$D$54=\"\",\"\",IF($D$5:$D$54=\"HOT\",IF(('A1'!$K$30:$K$80)=EU$4,\"●\",IF(('A1'!$L$30:$L$80)=EU$4,\"▼\",IF(ET$5:ET$54=\"|\",\"|\",\"\"))),IF(('A1'!$K$30:$K$80)=EU$4,\"●\",IF(('A1'!$L$30:$L$80)=EU$4,\"▲\",IF(ET$5:ET$54=\"|\",\"|\",\"\")))))","v":""},{"$f":"IF($D$5:$D$54=\"\",\"\",IF($D$5:$D$54=\"HOT\",IF(EU$5:EU$54=\"●\",\"|\",IF(EU$5:EU$54=\"|\",\"|\",\"\")),IF(EU$5:EU$54=\"▲\",\"|\",IF(EU$5:EU$54=\"|\",\"|\",\"\"))))","v":""},{"$f":"IF($D$5:$D$54=\"\",\"\",IF($D$5:$D$54=\"HOT\",IF(('A1'!$K$30:$K$80)=EW$4,\"●\",IF(('A1'!$L$30:$L$80)=EW$4,\"▼\",IF(EV$5:EV$54=\"|\",\"|\",\"\"))),IF(('A1'!$K$30:$K$80)=EW$4,\"●\",IF(('A1'!$L$30:$L$80)=EW$4,\"▲\",IF(EV$5:EV$54=\"|\",\"|\",\"\")))))","v":""},{"$f":"IF($D$5:$D$54=\"\",\"\",IF($D$5:$D$54=\"HOT\",IF(EW$5:EW$54=\"●\",\"|\",IF(EW$5:EW$54=\"|\",\"|\",\"\")),IF(EW$5:EW$54=\"▲\",\"|\",IF(EW$5:EW$54=\"|\",\"|\",\"\"))))","v":""},{"$f":"IF($D$5:$D$54=\"\",\"\",IF($D$5:$D$54=\"HOT\",IF(('A1'!$K$30:$K$80)=EY$4,\"●\",IF(('A1'!$L$30:$L$80)=EY$4,\"▼\",IF(EX$5:EX$54=\"|\",\"|\",\"\"))),IF(('A1'!$K$30:$K$80)=EY$4,\"●\",IF(('A1'!$L$30:$L$80)=EY$4,\"▲\",IF(EX$5:EX$54=\"|\",\"|\",\"\")))))","v":""},{"$f":"IF($D$5:$D$54=\"\",\"\",IF($D$5:$D$54=\"HOT\",IF(EY$5:EY$54=\"●\",\"|\",IF(EY$5:EY$54=\"|\",\"|\",\"\")),IF(EY$5:EY$54=\"▲\",\"|\",IF(EY$5:EY$54=\"|\",\"|\",\"\"))))","v":""},{"$f":"IF($D$5:$D$54=\"\",\"\",IF($D$5:$D$54=\"HOT\",IF(('A1'!$K$30:$K$80)=FA$4,\"●\",IF(('A1'!$L$30:$L$80)=FA$4,\"▼\",IF(EZ$5:EZ$54=\"|\",\"|\",\"\"))),IF(('A1'!$K$30:$K$80)=FA$4,\"●\",IF(('A1'!$L$30:$L$80)=FA$4,\"▲\",IF(EZ$5:EZ$54=\"|\",\"|\",\"\")))))","v":""},{"$f":"IF($D$5:$D$54=\"\",\"\",IF($D$5:$D$54=\"HOT\",IF(FA$5:FA$54=\"●\",\"|\",IF(FA$5:FA$54=\"|\",\"|\",\"\")),IF(FA$5:FA$54=\"▲\",\"|\",IF(FA$5:FA$54=\"|\",\"|\",\"\"))))","v":""},{"$f":"IF($D$5:$D$54=\"\",\"\",IF($D$5:$D$54=\"HOT\",IF(('A1'!$K$30:$K$80)=FC$4,\"●\",IF(('A1'!$L$30:$L$80)=FC$4,\"▼\",IF(FB$5:FB$54=\"|\",\"|\",\"\"))),IF(('A1'!$K$30:$K$80)=FC$4,\"●\",IF(('A1'!$L$30:$L$80)=FC$4,\"▲\",IF(FB$5:FB$54=\"|\",\"|\",\"\")))))","v":""},{"$f":"IF($D$5:$D$54=\"\",\"\",IF($D$5:$D$54=\"HOT\",IF(FC$5:FC$54=\"●\",\"|\",IF(FC$5:FC$54=\"|\",\"|\",\"\")),IF(FC$5:FC$54=\"▲\",\"|\",IF(FC$5:FC$54=\"|\",\"|\",\"\"))))","v":""},{"$f":"IF($D$5:$D$54=\"\",\"\",IF($D$5:$D$54=\"HOT\",IF(('A1'!$K$30:$K$80)=FE$4,\"●\",IF(('A1'!$L$30:$L$80)=FE$4,\"▼\",IF(FD$5:FD$54=\"|\",\"|\",\"\"))),IF(('A1'!$K$30:$K$80)=FE$4,\"●\",IF(('A1'!$L$30:$L$80)=FE$4,\"▲\",IF(FD$5:FD$54=\"|\",\"|\",\"\")))))","v":""},{"$f":"IF($D$5:$D$54=\"\",\"\",IF($D$5:$D$54=\"HOT\",IF(FE$5:FE$54=\"●\",\"|\",IF(FE$5:FE$54=\"|\",\"|\",\"\")),IF(FE$5:FE$54=\"▲\",\"|\",IF(FE$5:FE$54=\"|\",\"|\",\"\"))))","v":""},{"$f":"IF($D$5:$D$54=\"\",\"\",IF($D$5:$D$54=\"HOT\",IF(('A1'!$K$30:$K$80)=FG$4,\"●\",IF(('A1'!$L$30:$L$80)=FG$4,\"▼\",IF(FF$5:FF$54=\"|\",\"|\",\"\"))),IF(('A1'!$K$30:$K$80)=FG$4,\"●\",IF(('A1'!$L$30:$L$80)=FG$4,\"▲\",IF(FF$5:FF$54=\"|\",\"|\",\"\")))))","v":""},{"$f":"IF($D$5:$D$54=\"\",\"\",IF($D$5:$D$54=\"HOT\",IF(FG$5:FG$54=\"●\",\"|\",IF(FG$5:FG$54=\"|\",\"|\",\"\")),IF(FG$5:FG$54=\"▲\",\"|\",IF(FG$5:FG$54=\"|\",\"|\",\"\"))))","v":""},{"$f":"IF($D$5:$D$54=\"\",\"\",IF($D$5:$D$54=\"HOT\",IF(('A1'!$K$30:$K$80)=FI$4,\"●\",IF(('A1'!$L$30:$L$80)=FI$4,\"▼\",IF(FH$5:FH$54=\"|\",\"|\",\"\"))),IF(('A1'!$K$30:$K$80)=FI$4,\"●\",IF(('A1'!$L$30:$L$80)=FI$4,\"▲\",IF(FH$5:FH$54=\"|\",\"|\",\"\")))))","v":""},{"$f":"IF($D$5:$D$54=\"\",\"\",IF($D$5:$D$54=\"HOT\",IF(FI$5:FI$54=\"●\",\"|\",IF(FI$5:FI$54=\"|\",\"|\",\"\")),IF(FI$5:FI$54=\"▲\",\"|\",IF(FI$5:FI$54=\"|\",\"|\",\"\"))))","v":""},{"$f":"IF($D$5:$D$54=\"\",\"\",IF($D$5:$D$54=\"HOT\",IF(('A1'!$K$30:$K$80)=FK$4,\"●\",IF(('A1'!$L$30:$L$80)=FK$4,\"▼\",IF(FJ$5:FJ$54=\"|\",\"|\",\"\"))),IF(('A1'!$K$30:$K$80)=FK$4,\"●\",IF(('A1'!$L$30:$L$80)=FK$4,\"▲\",IF(FJ$5:FJ$54=\"|\",\"|\",\"\")))))","v":""},{"$f":"IF($D$5:$D$54=\"\",\"\",IF($D$5:$D$54=\"HOT\",IF(FK$5:FK$54=\"●\",\"|\",IF(FK$5:FK$54=\"|\",\"|\",\"\")),IF(FK$5:FK$54=\"▲\",\"|\",IF(FK$5:FK$54=\"|\",\"|\",\"\"))))","v":""},{"$f":"IF($D$5:$D$54=\"\",\"\",IF($D$5:$D$54=\"HOT\",IF(('A1'!$K$30:$K$80)=FM$4,\"●\",IF(('A1'!$L$30:$L$80)=FM$4,\"▼\",IF(FL$5:FL$54=\"|\",\"|\",\"\"))),IF(('A1'!$K$30:$K$80)=FM$4,\"●\",IF(('A1'!$L$30:$L$80)=FM$4,\"▲\",IF(FL$5:FL$54=\"|\",\"|\",\"\")))))","v":""},{"$f":"IF($D$5:$D$54=\"\",\"\",IF($D$5:$D$54=\"HOT\",IF(FM$5:FM$54=\"●\",\"|\",IF(FM$5:FM$54=\"|\",\"|\",\"\")),IF(FM$5:FM$54=\"▲\",\"|\",IF(FM$5:FM$54=\"|\",\"|\",\"\"))))","v":""},{"$f":"IF($D$5:$D$54=\"\",\"\",IF($D$5:$D$54=\"HOT\",IF(('A1'!$K$30:$K$80)=FO$4,\"●\",IF(('A1'!$L$30:$L$80)=FO$4,\"▼\",IF(FN$5:FN$54=\"|\",\"|\",\"\"))),IF(('A1'!$K$30:$K$80)=FO$4,\"●\",IF(('A1'!$L$30:$L$80)=FO$4,\"▲\",IF(FN$5:FN$54=\"|\",\"|\",\"\")))))","v":""},{"$f":"IF($D$5:$D$54=\"\",\"\",IF($D$5:$D$54=\"HOT\",IF(FO$5:FO$54=\"●\",\"|\",IF(FO$5:FO$54=\"|\",\"|\",\"\")),IF(FO$5:FO$54=\"▲\",\"|\",IF(FO$5:FO$54=\"|\",\"|\",\"\"))))","v":""},{"$f":"IF($D$5:$D$54=\"\",\"\",IF($D$5:$D$54=\"HOT\",IF(('A1'!$K$30:$K$80)=FQ$4,\"●\",IF(('A1'!$L$30:$L$80)=FQ$4,\"▼\",IF(FP$5:FP$54=\"|\",\"|\",\"\"))),IF(('A1'!$K$30:$K$80)=FQ$4,\"●\",IF(('A1'!$L$30:$L$80)=FQ$4,\"▲\",IF(FP$5:FP$54=\"|\",\"|\",\"\")))))","v":""},{"$f":"IF($D$5:$D$54=\"\",\"\",IF($D$5:$D$54=\"HOT\",IF(FQ$5:FQ$54=\"●\",\"|\",IF(FQ$5:FQ$54=\"|\",\"|\",\"\")),IF(FQ$5:FQ$54=\"▲\",\"|\",IF(FQ$5:FQ$54=\"|\",\"|\",\"\"))))","v":""},{"$f":"IF($D$5:$D$54=\"\",\"\",IF($D$5:$D$54=\"HOT\",IF(('A1'!$K$30:$K$80)=FS$4,\"●\",IF(('A1'!$L$30:$L$80)=FS$4,\"▼\",IF(FR$5:FR$54=\"|\",\"|\",\"\"))),IF(('A1'!$K$30:$K$80)=FS$4,\"●\",IF(('A1'!$L$30:$L$80)=FS$4,\"▲\",IF(FR$5:FR$54=\"|\",\"|\",\"\")))))","v":""},{"$f":"IF($D$5:$D$54=\"\",\"\",IF($D$5:$D$54=\"HOT\",IF(FS$5:FS$54=\"●\",\"|\",IF(FS$5:FS$54=\"|\",\"|\",\"\")),IF(FS$5:FS$54=\"▲\",\"|\",IF(FS$5:FS$54=\"|\",\"|\",\"\"))))","v":""},{"$f":"IF($D$5:$D$54=\"\",\"\",IF($D$5:$D$54=\"HOT\",IF(('A1'!$K$30:$K$80)=FU$4,\"●\",IF(('A1'!$L$30:$L$80)=FU$4,\"▼\",IF(FT$5:FT$54=\"|\",\"|\",\"\"))),IF(('A1'!$K$30:$K$80)=FU$4,\"●\",IF(('A1'!$L$30:$L$80)=FU$4,\"▲\",IF(FT$5:FT$54=\"|\",\"|\",\"\")))))","v":""},{"$f":"IF($D$5:$D$54=\"\",\"\",IF($D$5:$D$54=\"HOT\",IF(FU$5:FU$54=\"●\",\"|\",IF(FU$5:FU$54=\"|\",\"|\",\"\")),IF(FU$5:FU$54=\"▲\",\"|\",IF(FU$5:FU$54=\"|\",\"|\",\"\"))))","v":""},{"$f":"IF($D$5:$D$54=\"\",\"\",IF($D$5:$D$54=\"HOT\",IF(('A1'!$K$30:$K$80)=FW$4,\"●\",IF(('A1'!$L$30:$L$80)=FW$4,\"▼\",IF(FV$5:FV$54=\"|\",\"|\",\"\"))),IF(('A1'!$K$30:$K$80)=FW$4,\"●\",IF(('A1'!$L$30:$L$80)=FW$4,\"▲\",IF(FV$5:FV$54=\"|\",\"|\",\"\")))))","v":""},{"$f":"IF($D$5:$D$54=\"\",\"\",IF($D$5:$D$54=\"HOT\",IF(FW$5:FW$54=\"●\",\"|\",IF(FW$5:FW$54=\"|\",\"|\",\"\")),IF(FW$5:FW$54=\"▲\",\"|\",IF(FW$5:FW$54=\"|\",\"|\",\"\"))))","v":""},{"$f":"IF($D$5:$D$54=\"\",\"\",IF($D$5:$D$54=\"HOT\",IF(('A1'!$K$30:$K$80)=FY$4,\"●\",IF(('A1'!$L$30:$L$80)=FY$4,\"▼\",IF(FX$5:FX$54=\"|\",\"|\",\"\"))),IF(('A1'!$K$30:$K$80)=FY$4,\"●\",IF(('A1'!$L$30:$L$80)=FY$4,\"▲\",IF(FX$5:FX$54=\"|\",\"|\",\"\")))))","v":""},{"$f":"IF($D$5:$D$54=\"\",\"\",IF($D$5:$D$54=\"HOT\",IF(FY$5:FY$54=\"●\",\"|\",IF(FY$5:FY$54=\"|\",\"|\",\"\")),IF(FY$5:FY$54=\"▲\",\"|\",IF(FY$5:FY$54=\"|\",\"|\",\"\"))))","v":""},{"$f":"IF($D$5:$D$54=\"\",\"\",IF($D$5:$D$54=\"HOT\",IF(('A1'!$K$30:$K$80)=GA$4,\"●\",IF(('A1'!$L$30:$L$80)=GA$4,\"▼\",IF(FZ$5:FZ$54=\"|\",\"|\",\"\"))),IF(('A1'!$K$30:$K$80)=GA$4,\"●\",IF(('A1'!$L$30:$L$80)=GA$4,\"▲\",IF(FZ$5:FZ$54=\"|\",\"|\",\"\")))))","v":""},{"$f":"IF($D$5:$D$54=\"\",\"\",IF($D$5:$D$54=\"HOT\",IF(GA$5:GA$54=\"●\",\"|\",IF(GA$5:GA$54=\"|\",\"|\",\"\")),IF(GA$5:GA$54=\"▲\",\"|\",IF(GA$5:GA$54=\"|\",\"|\",\"\"))))","v":""},{"$f":"IF($D$5:$D$54=\"\",\"\",IF($D$5:$D$54=\"HOT\",IF(('A1'!$K$30:$K$80)=GC$4,\"●\",IF(('A1'!$L$30:$L$80)=GC$4,\"▼\",IF(GB$5:GB$54=\"|\",\"|\",\"\"))),IF(('A1'!$K$30:$K$80)=GC$4,\"●\",IF(('A1'!$L$30:$L$80)=GC$4,\"▲\",IF(GB$5:GB$54=\"|\",\"|\",\"\")))))","v":""},{"$f":"IF($D$5:$D$54=\"\",\"\",IF($D$5:$D$54=\"HOT\",IF(GC$5:GC$54=\"●\",\"|\",IF(GC$5:GC$54=\"|\",\"|\",\"\")),IF(GC$5:GC$54=\"▲\",\"|\",IF(GC$5:GC$54=\"|\",\"|\",\"\"))))","v":""},{"$f":"IF($D$5:$D$54=\"\",\"\",IF($D$5:$D$54=\"HOT\",IF(('A1'!$K$30:$K$80)=GE$4,\"●\",IF(('A1'!$L$30:$L$80)=GE$4,\"▼\",IF(GD$5:GD$54=\"|\",\"|\",\"\"))),IF(('A1'!$K$30:$K$80)=GE$4,\"●\",IF(('A1'!$L$30:$L$80)=GE$4,\"▲\",IF(GD$5:GD$54=\"|\",\"|\",\"\")))))","v":""},{"$f":"IF($D$5:$D$54=\"\",\"\",IF($D$5:$D$54=\"HOT\",IF(GE$5:GE$54=\"●\",\"|\",IF(GE$5:GE$54=\"|\",\"|\",\"\")),IF(GE$5:GE$54=\"▲\",\"|\",IF(GE$5:GE$54=\"|\",\"|\",\"\"))))","v":""},{"$f":"IF($D$5:$D$54=\"\",\"\",IF($D$5:$D$54=\"HOT\",IF(('A1'!$K$30:$K$80)=GG$4,\"●\",IF(('A1'!$L$30:$L$80)=GG$4,\"▼\",IF(GF$5:GF$54=\"|\",\"|\",\"\"))),IF(('A1'!$K$30:$K$80)=GG$4,\"●\",IF(('A1'!$L$30:$L$80)=GG$4,\"▲\",IF(GF$5:GF$54=\"|\",\"|\",\"\")))))","v":""},{"$f":"IF($D$5:$D$54=\"\",\"\",IF($D$5:$D$54=\"HOT\",IF(GG$5:GG$54=\"●\",\"|\",IF(GG$5:GG$54=\"|\",\"|\",\"\")),IF(GG$5:GG$54=\"▲\",\"|\",IF(GG$5:GG$54=\"|\",\"|\",\"\"))))","v":""},{"$f":"IF($D$5:$D$54=\"\",\"\",IF($D$5:$D$54=\"HOT\",IF(('A1'!$K$30:$K$80)=GI$4,\"●\",IF(('A1'!$L$30:$L$80)=GI$4,\"▼\",IF(GH$5:GH$54=\"|\",\"|\",\"\"))),IF(('A1'!$K$30:$K$80)=GI$4,\"●\",IF(('A1'!$L$30:$L$80)=GI$4,\"▲\",IF(GH$5:GH$54=\"|\",\"|\",\"\")))))","v":""},{"$f":"IF($D$5:$D$54=\"\",\"\",IF($D$5:$D$54=\"HOT\",IF(GI$5:GI$54=\"●\",\"|\",IF(GI$5:GI$54=\"|\",\"|\",\"\")),IF(GI$5:GI$54=\"▲\",\"|\",IF(GI$5:GI$54=\"|\",\"|\",\"\"))))","v":""},{"$f":"IF($D$5:$D$54=\"\",\"\",IF($D$5:$D$54=\"HOT\",IF(('A1'!$K$30:$K$80)=GK$4,\"●\",IF(('A1'!$L$30:$L$80)=GK$4,\"▼\",IF(GJ$5:GJ$54=\"|\",\"|\",\"\"))),IF(('A1'!$K$30:$K$80)=GK$4,\"●\",IF(('A1'!$L$30:$L$80)=GK$4,\"▲\",IF(GJ$5:GJ$54=\"|\",\"|\",\"\")))))","v":""},{"$f":"IF($D$5:$D$54=\"\",\"\",IF($D$5:$D$54=\"HOT\",IF(GK$5:GK$54=\"●\",\"|\",IF(GK$5:GK$54=\"|\",\"|\",\"\")),IF(GK$5:GK$54=\"▲\",\"|\",IF(GK$5:GK$54=\"|\",\"|\",\"\"))))","v":""},{"$f":"IF($D$5:$D$54=\"\",\"\",IF($D$5:$D$54=\"HOT\",IF(('A1'!$K$30:$K$80)=GM$4,\"●\",IF(('A1'!$L$30:$L$80)=GM$4,\"▼\",IF(GL$5:GL$54=\"|\",\"|\",\"\"))),IF(('A1'!$K$30:$K$80)=GM$4,\"●\",IF(('A1'!$L$30:$L$80)=GM$4,\"▲\",IF(GL$5:GL$54=\"|\",\"|\",\"\")))))","v":""},{"$f":"IF($D$5:$D$54=\"\",\"\",IF($D$5:$D$54=\"HOT\",IF(GM$5:GM$54=\"●\",\"|\",IF(GM$5:GM$54=\"|\",\"|\",\"\")),IF(GM$5:GM$54=\"▲\",\"|\",IF(GM$5:GM$54=\"|\",\"|\",\"\"))))","v":""},{"$f":"IF($D$5:$D$54=\"\",\"\",IF($D$5:$D$54=\"HOT\",IF(('A1'!$K$30:$K$80)=GO$4,\"●\",IF(('A1'!$L$30:$L$80)=GO$4,\"▼\",IF(GN$5:GN$54=\"|\",\"|\",\"\"))),IF(('A1'!$K$30:$K$80)=GO$4,\"●\",IF(('A1'!$L$30:$L$80)=GO$4,\"▲\",IF(GN$5:GN$54=\"|\",\"|\",\"\")))))","v":""},{"$f":"IF($D$5:$D$54=\"\",\"\",IF($D$5:$D$54=\"HOT\",IF(GO$5:GO$54=\"●\",\"|\",IF(GO$5:GO$54=\"|\",\"|\",\"\")),IF(GO$5:GO$54=\"▲\",\"|\",IF(GO$5:GO$54=\"|\",\"|\",\"\"))))","v":""},{"$f":"IF($D$5:$D$54=\"\",\"\",IF($D$5:$D$54=\"HOT\",IF(('A1'!$K$30:$K$80)=GQ$4,\"●\",IF(('A1'!$L$30:$L$80)=GQ$4,\"▼\",IF(GP$5:GP$54=\"|\",\"|\",\"\"))),IF(('A1'!$K$30:$K$80)=GQ$4,\"●\",IF(('A1'!$L$30:$L$80)=GQ$4,\"▲\",IF(GP$5:GP$54=\"|\",\"|\",\"\")))))","v":""},{"$f":"IF($D$5:$D$54=\"\",\"\",IF($D$5:$D$54=\"HOT\",IF(GQ$5:GQ$54=\"●\",\"|\",IF(GQ$5:GQ$54=\"|\",\"|\",\"\")),IF(GQ$5:GQ$54=\"▲\",\"|\",IF(GQ$5:GQ$54=\"|\",\"|\",\"\"))))","v":""},{"$f":"IF($D$5:$D$54=\"\",\"\",IF($D$5:$D$54=\"HOT\",IF(('A1'!$K$30:$K$80)=GS$4,\"●\",IF(('A1'!$L$30:$L$80)=GS$4,\"▼\",IF(GR$5:GR$54=\"|\",\"|\",\"\"))),IF(('A1'!$K$30:$K$80)=GS$4,\"●\",IF(('A1'!$L$30:$L$80)=GS$4,\"▲\",IF(GR$5:GR$54=\"|\",\"|\",\"\")))))","v":""},{"$f":"IF($D$5:$D$54=\"\",\"\",IF($D$5:$D$54=\"HOT\",IF(GS$5:GS$54=\"●\",\"|\",IF(GS$5:GS$54=\"|\",\"|\",\"\")),IF(GS$5:GS$54=\"▲\",\"|\",IF(GS$5:GS$54=\"|\",\"|\",\"\"))))","v":""},{"$f":"IF($D$5:$D$54=\"\",\"\",IF($D$5:$D$54=\"HOT\",IF(('A1'!$K$30:$K$80)=GU$4,\"●\",IF(('A1'!$L$30:$L$80)=GU$4,\"▼\",IF(GT$5:GT$54=\"|\",\"|\",\"\"))),IF(('A1'!$K$30:$K$80)=GU$4,\"●\",IF(('A1'!$L$30:$L$80)=GU$4,\"▲\",IF(GT$5:GT$54=\"|\",\"|\",\"\")))))","v":""}]
[2,210,1.5,"HOT","","","●","|","|","|","|","|","|","|","|","|","▼","","","","","","","","","","","","","","","","","","","","","","","","","","","","","","","","","","","","","","","","","","","","","","","","","","","","","","","","","","","","","","","","","","","","","","","","","","","","","","","","","","","","","","","","","","","","","","","","","","","","","","","","","","","","","","","","","","","","","","","","","","","","","","","","","","","","","","","","","","","","","","","","","","","","","","","","","","","","","","","","","","","","","","","","","","","","","","","","","","","","","","","","","",""]
[3,300,300,"HOT","","","","","","","","","●","|","▼","","","","","","","","","","","","","","","","","","","","","","","","","","","","","","","","","","","","","","","","","","","","","","","","","","","","","","","","","","","","","","","","","","","","","","","","","","","","","","","","","","","","","","","","","","","","","","","","","","","","","","","","","","","","","","","","","","","","","","","","","","","","","","","","","","","","","","","","","","","","","","","","","","","","","","","","","","","","","","","","","","","","","","","","","","","","","","","","","","","","","","","","","","","",""]
[4,680,4,"COLD","","","","","▲","|","|","|","|","|","|","|","|","|","|","|","●","","","","","","","","","","","","","","","","","","","","","","","","","","","","","","","","","","","","","","","","","","","","","","","","","","","","","","","","","","","","","","","","","","","","","","","","","","","","","","","","","","","","","","","","","","","","","","","","","","","","","","","","","","","","","","","","","","","","","","","","","","","","","","","","","","","","","","","","","","","","","","","","","","","","","","","","","","","","","","","","","","","","","","","","","","","","","","","","","","","","","",""]
[5,400,2,"COLD","▲","|","|","|","|","|","|","|","|","|","|","|","|","|","●","","","","","","","","","","","","","","","","","","","","","","","","","","","","","","","","","","","","","","","","","","","","","","","","","","","","","","","","","","","","","","","","","","","","","","","","","","","","","","","","","","","","","","","","","","","","","","","","","","","","","","","","","","","","","","","","","","","","","","","","","","","","","","","","","","","","","","","","","","","","","","","","","","","","","","","","","","","","","","","","","","","","","","","","","","","","","","","","","","","","","","","",""]
["","","","","","","","","","","","","","","","","","","","","","","","","","","","","","","","","","","","","","","","","","","","","","","","","","","","","","","","","","","","","","","","","","","","","","","","","","","","","","","","","","","","","","","","","","","","","","","","","","","","","","","","","","","","","","","","","","","","","","","","","","","","","","","","","","","","","","","","","","","","","","","","","","","","","","","","","","","","","","","","","","","","","","","","","","","","","","","","","","","","","","","","","","","","","","","","","","","","","","","","","","",""]
["","","","","","","","","","","","","","","","","","","","","","","","","","","","","","","","","","","","","","","","","","","","","","","","","","","","","","","","","","","","","","","","","","","","","","","","","","","","","","","","","","","","","","","","","","","","","","","","","","","","","","","","","","","","","","","","","","","","","","","","","","","","","","","","","","","","","","","","","","","","","","","","","","","","","","","","","","","","","","","","","","","","","","","","","","","","","","","","","","","","","","","","","","","","","","","","","","","","","","","","","","",""]
["","","","","","","","","","","","","","","","","","","","","","","","","","","","","","","","","","","","","","","","","","","","","","","","","","","","","","","","","","","","","","","","","","","","","","","","","","","","","","","","","","","","","","","","","","","","","","","","","","","","","","","","","","","","","","","","","","","","","","","","","","","","","","","","","","","","","","","","","","","","","","","","","","","","","","","","","","","","","","","","","","","","","","","","","","","","","","","","","","","","","","","","","","","","","","","","","","","","","","","","","","",""]
["","","","","","","","","","","","","","","","","","","","","","","","","","","","","","","","","","","","","","","","","","","","","","","","","","","","","","","","","","","","","","","","","","","","","","","","","","","","","","","","","","","","","","","","","","","","","","","","","","","","","","","","","","","","","","","","","","","","","","","","","","","","","","","","","","","","","","","","","","","","","","","","","","","","","","","","","","","","","","","","","","","","","","","","","","","","","","","","","","","","","","","","","","","","","","","","","","","","","","","","","","",""]
["","","","","","","","","","","","","","","","","","","","","","","","","","","","","","","","","","","","","","","","","","","","","","","","","","","","","","","","","","","","","","","","","","","","","","","","","","","","","","","","","","","","","","","","","","","","","","","","","","","","","","","","","","","","","","","","","","","","","","","","","","","","","","","","","","","","","","","","","","","","","","","","","","","","","","","","","","","","","","","","","","","","","","","","","","","","","","","","","","","","","","","","","","","","","","","","","","","","","","","","","","",""]
["","","","","","","","","","","","","","","","","","","","","","","","","","","","","","","","","","","","","","","","","","","","","","","","","","","","","","","","","","","","","","","","","","","","","","","","","","","","","","","","","","","","","","","","","","","","","","","","","","","","","","","","","","","","","","","","","","","","","","","","","","","","","","","","","","","","","","","","","","","","","","","","","","","","","","","","","","","","","","","","","","","","","","","","","","","","","","","","","","","","","","","","","","","","","","","","","","","","","","","","","","",""]
["","","","","","","","","","","","","","","","","","","","","","","","","","","","","","","","","","","","","","","","","","","","","","","","","","","","","","","","","","","","","","","","","","","","","","","","","","","","","","","","","","","","","","","","","","","","","","","","","","","","","","","","","","","","","","","","","","","","","","","","","","","","","","","","","","","","","","","","","","","","","","","","","","","","","","","","","","","","","","","","","","","","","","","","","","","","","","","","","","","","","","","","","","","","","","","","","","","","","","","","","","",""]
["","","","","","","","","","","","","","","","","","","","","","","","","","","","","","","","","","","","","","","","","","","","","","","","","","","","","","","","","","","","","","","","","","","","","","","","","","","","","","","","","","","","","","","","","","","","","","","","","","","","","","","","","","","","","","","","","","","","","","","","","","","","","","","","","","","","","","","","","","","","","","","","","","","","","","","","","","","","","","","","","","","","","","","","","","","","","","","","","","","","","","","","","","","","","","","","","","","","","","","","","","",""]
["","","","","","","","","","","","","","","","","","","","","","","","","","","","","","","","","","","","","","","","","","","","","","","","","","","","","","","","","","","","","","","","","","","","","","","","","","","","","","","","","","","","","","","","","","","","","","","","","","","","","","","","","","","","","","","","","","","","","","","","","","","","","","","","","","","","","","","","","","","","","","","","","","","","","","","","","","","","","","","","","","","","","","","","","","","","","","","","","","","","","","","","","","","","","","","","","","","","","","","","","","",""]
["","","","","","","","","","","","","","","","","","","","","","","","","","","","","","","","","","","","","","","","","","","","","","","","","","","","","","","","","","","","","","","","","","","","","","","","","","","","","","","","","","","","","","","","","","","","","","","","","","","","","","","","","","","","","","","","","","","","","","","","","","","","","","","","","","","","","","","","","","","","","","","","","","","","","","","","","","","","","","","","","","","","","","","","","","","","","","","","","","","","","","","","","","","","","","","","","","","","","","","","","","",""]
["","","","","","","","","","","","","","","","","","","","","","","","","","","","","","","","","","","","","","","","","","","","","","","","","","","","","","","","","","","","","","","","","","","","","","","","","","","","","","","","","","","","","","","","","","","","","","","","","","","","","","","","","","","","","","","","","","","","","","","","","","","","","","","","","","","","","","","","","","","","","","","","","","","","","","","","","","","","","","","","","","","","","","","","","","","","","","","","","","","","","","","","","","","","","","","","","","","","","","","","","","",""]
["","","","","","","","","","","","","","","","","","","","","","","","","","","","","","","","","","","","","","","","","","","","","","","","","","","","","","","","","","","","","","","","","","","","","","","","","","","","","","","","","","","","","","","","","","","","","","","","","","","","","","","","","","","","","","","","","","","","","","","","","","","","","","","","","","","","","","","","","","","","","","","","","","","","","","","","","","","","","","","","","","","","","","","","","","","","","","","","","","","","","","","","","","","","","","","","","","","","","","","","","","",""]
["","","","","","","","","","","","","","","","","","","","","","","","","","","","","","","","","","","","","","","","","","","","","","","","","","","","","","","","","","","","","","","","","","","","","","","","","","","","","","","","","","","","","","","","","","","","","","","","","","","","","","","","","","","","","","","","","","","","","","","","","","","","","","","","","","","","","","","","","","","","","","","","","","","","","","","","","","","","","","","","","","","","","","","","","","","","","","","","","","","","","","","","","","","","","","","","","","","","","","","","","","",""]
["","","","","","","","","","","","","","","","","","","","","","","","","","","","","","","","","","","","","","","","","","","","","","","","","","","","","","","","","","","","","","","","","","","","","","","","","","","","","","","","","","","","","","","","","","","","","","","","","","","","","","","","","","","","","","","","","","","","","","","","","","","","","","","","","","","","","","","","","","","","","","","","","","","","","","","","","","","","","","","","","","","","","","","","","","","","","","","","","","","","","","","","","","","","","","","","","","","","","","","","","","",""]
["","","","","","","","","","","","","","","","","","","","","","","","","","","","","","","","","","","","","","","","","","","","","","","","","","","","","","","","","","","","","","","","","","","","","","","","","","","","","","","","","","","","","","","","","","","","","","","","","","","","","","","","","","","","","","","","","","","","","","","","","","","","","","","","","","","","","","","","","","","","","","","","","","","","","","","","","","","","","","","","","","","","","","","","","","","","","","","","","","","","","","","","","","","","","","","","","","","","","","","","","","",""]
["","","","","","","","","","","","","","","","","","","","","","","","","","","","","","","","","","","","","","","","","","","","","","","","","","","","","","","","","","","","","","","","","","","","","","","","","","","","","","","","","","","","","","","","","","","","","","","","","","","","","","","","","","","","","","","","","","","","","","","","","","","","","","","","","","","","","","","","","","","","","","","","","","","","","","","","","","","","","","","","","","","","","","","","","","","","","","","","","","","","","","","","","","","","","","","","","","","","","","","","","","",""]
["","","","","","","","","","","","","","","","","","","","","","","","","","","","","","","","","","","","","","","","","","","","","","","","","","","","","","","","","","","","","","","","","","","","","","","","","","","","","","","","","","","","","","","","","","","","","","","","","","","","","","","","","","","","","","","","","","","","","","","","","","","","","","","","","","","","","","","","","","","","","","","","","","","","","","","","","","","","","","","","","","","","","","","","","","","","","","","","","","","","","","","","","","","","","","","","","","","","","","","","","","",""]
["","","","","","","","","","","","","","","","","","","","","","","","","","","","","","","","","","","","","","","","","","","","","","","","","","","","","","","","","","","","","","","","","","","","","","","","","","","","","","","","","","","","","","","","","","","","","","","","","","","","","","","","","","","","","","","","","","","","","","","","","","","","","","","","","","","","","","","","","","","","","","","","","","","","","","","","","","","","","","","","","","","","","","","","","","","","","","","","","","","","","","","","","","","","","","","","","","","","","","","","","","",""]
["","","","","","","","","","","","","","","","","","","","","","","","","","","","","","","","","","","","","","","","","","","","","","","","","","","","","","","","","","","","","","","","","","","","","","","","","","","","","","","","","","","","","","","","","","","","","","","","","","","","","","","","","","","","","","","","","","","","","","","","","","","","","","","","","","","","","","","","","","","","","","","","","","","","","","","","","","","","","","","","","","","","","","","","","","","","","","","","","","","","","","","","","","","","","","","","","","","","","","","","","","",""]
["","","","","","","","","","","","","","","","","","","","","","","","","","","","","","","","","","","","","","","","","","","","","","","","","","","","","","","","","","","","","","","","","","","","","","","","","","","","","","","","","","","","","","","","","","","","","","","","","","","","","","","","","","","","","","","","","","","","","","","","","","","","","","","","","","","","","","","","","","","","","","","","","","","","","","","","","","","","","","","","","","","","","","","","","","","","","","","","","","","","","","","","","","","","","","","","","","","","","","","","","","",""]
["","","","","","","","","","","","","","","","","","","","","","","","","","","","","","","","","","","","","","","","","","","","","","","","","","","","","","","","","","","","","","","","","","","","","","","","","","","","","","","","","","","","","","","","","","","","","","","","","","","","","","","","","","","","","","","","","","","","","","","","","","","","","","","","","","","","","","","","","","","","","","","","","","","","","","","","","","","","","","","","","","","","","","","","","","","","","","","","","","","","","","","","","","","","","","","","","","","","","","","","","","",""]
["","","","","","","","","","","","","","","","","","","","","","","","","","","","","","","","","","","","","","","","","","","","","","","","","","","","","","","","","","","","","","","","","","","","","","","","","","","","","","","","","","","","","","","","","","","","","","","","","","","","","","","","","","","","","","","","","","","","","","","","","","","","","","","","","","","","","","","","","","","","","","","","","","","","","","","","","","","","","","","","","","","","","","","","","","","","","","","","","","","","","","","","","","","","","","","","","","","","","","","","","","",""]
["","","","","","","","","","","","","","","","","","","","","","","","","","","","","","","","","","","","","","","","","","","","","","","","","","","","","","","","","","","","","","","","","","","","","","","","","","","","","","","","","","","","","","","","","","","","","","","","","","","","","","","","","","","","","","","","","","","","","","","","","","","","","","","","","","","","","","","","","","","","","","","","","","","","","","","","","","","","","","","","","","","","","","","","","","","","","","","","","","","","","","","","","","","","","","","","","","","","","","","","","","",""]
["","","","","","","","","","","","","","","","","","","","","","","","","","","","","","","","","","","","","","","","","","","","","","","","","","","","","","","","","","","","","","","","","","","","","","","","","","","","","","","","","","","","","","","","","","","","","","","","","","","","","","","","","","","","","","","","","","","","","","","","","","","","","","","","","","","","","","","","","","","","","","","","","","","","","","","","","","","","","","","","","","","","","","","","","","","","","","","","","","","","","","","","","","","","","","","","","","","","","","","","","","",""]
["","","","","","","","","","","","","","","","","","","","","","","","","","","","","","","","","","","","","","","","","","","","","","","","","","","","","","","","","","","","","","","","","","","","","","","","","","","","","","","","","","","","","","","","","","","","","","","","","","","","","","","","","","","","","","","","","","","","","","","","","","","","","","","","","","","","","","","","","","","","","","","","","","","","","","","","","","","","","","","","","","","","","","","","","","","","","","","","","","","","","","","","","","","","","","","","","","","","","","","","","","",""]
["","","","","","","","","","","","","","","","","","","","","","","","","","","","","","","","","","","","","","","","","","","","","","","","","","","","","","","","","","","","","","","","","","","","","","","","","","","","","","","","","","","","","","","","","","","","","","","","","","","","","","","","","","","","","","","","","","","","","","","","","","","","","","","","","","","","","","","","","","","","","","","","","","","","","","","","","","","","","","","","","","","","","","","","","","","","","","","","","","","","","","","","","","","","","","","","","","","","","","","","","","",""]
["","","","","","","","","","","","","","","","","","","","","","","","","","","","","","","","","","","","","","","","","","","","","","","","","","","","","","","","","","","","","","","","","","","","","","","","","","","","","","","","","","","","","","","","","","","","","","","","","","","","","","","","","","","","","","","","","","","","","","","","","","","","","","","","","","","","","","","","","","","","","","","","","","","","","","","","","","","","","","","","","","","","","","","","","","","","","","","","","","","","","","","","","","","","","","","","","","","","","","","","","","",""]
["","","","","","","","","","","","","","","","","","","","","","","","","","","","","","","","","","","","","","","","","","","","","","","","","","","","","","","","","","","","","","","","","","","","","","","","","","","","","","","","","","","","","","","","","","","","","","","","","","","","","","","","","","","","","","","","","","","","","","","","","","","","","","","","","","","","","","","","","","","","","","","","","","","","","","","","","","","","","","","","","","","","","","","","","","","","","","","","","","","","","","","","","","","","","","","","","","","","","","","","","","",""]
["","","","","","","","","","","","","","","","","","","","","","","","","","","","","","","","","","","","","","","","","","","","","","","","","","","","","","","","","","","","","","","","","","","","","","","","","","","","","","","","","","","","","","","","","","","","","","","","","","","","","","","","","","","","","","","","","","","","","","","","","","","","","","","","","","","","","","","","","","","","","","","","","","","","","","","","","","","","","","","","","","","","","","","","","","","","","","","","","","","","","","","","","","","","","","","","","","","","","","","","","","",""]
["","","","","","","","","","","","","","","","","","","","","","","","","","","","","","","","","","","","","","","","","","","","","","","","","","","","","","","","","","","","","","","","","","","","","","","","","","","","","","","","","","","","","","","","","","","","","","","","","","","","","","","","","","","","","","","","","","","","","","","","","","","","","","","","","","","","","","","","","","","","","","","","","","","","","","","","","","","","","","","","","","","","","","","","","","","","","","","","","","","","","","","","","","","","","","","","","","","","","","","","","","",""]
["","","","","","","","","","","","","","","","","","","","","","","","","","","","","","","","","","","","","","","","","","","","","","","","","","","","","","","","","","","","","","","","","","","","","","","","","","","","","","","","","","","","","","","","","","","","","","","","","","","","","","","","","","","","","","","","","","","","","","","","","","","","","","","","","","","","","","","","","","","","","","","","","","","","","","","","","","","","","","","","","","","","","","","","","","","","","","","","","","","","","","","","","","","","","","","","","","","","","","","","","","",""]
["","","","","","","","","","","","","","","","","","","","","","","","","","","","","","","","","","","","","","","","","","","","","","","","","","","","","","","","","","","","","","","","","","","","","","","","","","","","","","","","","","","","","","","","","","","","","","","","","","","","","","","","","","","","","","","","","","","","","","","","","","","","","","","","","","","","","","","","","","","","","","","","","","","","","","","","","","","","","","","","","","","","","","","","","","","","","","","","","","","","","","","","","","","","","","","","","","","","","","","","","","",""]
["","","","","","","","","","","","","","","","","","","","","","","","","","","","","","","","","","","","","","","","","","","","","","","","","","","","","","","","","","","","","","","","","","","","","","","","","","","","","","","","","","","","","","","","","","","","","","","","","","","","","","","","","","","","","","","","","","","","","","","","","","","","","","","","","","","","","","","","","","","","","","","","","","","","","","","","","","","","","","","","","","","","","","","","","","","","","","","","","","","","","","","","","","","","","","","","","","","","","","","","","","",""]
["","","","","","","","","","","","","","","","","","","","","","","","","","","","","","","","","","","","","","","","","","","","","","","","","","","","","","","","","","","","","","","","","","","","","","","","","","","","","","","","","","","","","","","","","","","","","","","","","","","","","","","","","","","","","","","","","","","","","","","","","","","","","","","","","","","","","","","","","","","","","","","","","","","","","","","","","","","","","","","","","","","","","","","","","","","","","","","","","","","","","","","","","","","","","","","","","","","","","","","","","","",""]
["","","","","","","","","","","","","","","","","","","","","","","","","","","","","","","","","","","","","","","","","","","","","","","","","","","","","","","","","","","","","","","","","","","","","","","","","","","","","","","","","","","","","","","","","","","","","","","","","","","","","","","","","","","","","","","","","","","","","","","","","","","","","","","","","","","","","","","","","","","","","","","","","","","","","","","","","","","","","","","","","","","","","","","","","","","","","","","","","","","","","","","","","","","","","","","","","","","","","","","","","","",""]
["","","","","","","","","","","","","","","","","","","","","","","","","","","","","","","","","","","","","","","","","","","","","","","","","","","","","","","","","","","","","","","","","","","","","","","","","","","","","","","","","","","","","","","","","","","","","","","","","","","","","","","","","","","","","","","","","","","","","","","","","","","","","","","","","","","","","","","","","","","","","","","","","","","","","","","","","","","","","","","","","","","","","","","","","","","","","","","","","","","","","","","","","","","","","","","","","","","","","","","","","","",""]
["","","","","","","","","","","","","","","","","","","","","","","","","","","","","","","","","","","","","","","","","","","","","","","","","","","","","","","","","","","","","","","","","","","","","","","","","","","","","","","","","","","","","","","","","","","","","","","","","","","","","","","","","","","","","","","","","","","","","","","","","","","","","","","","","","","","","","","","","","","","","","","","","","","","","","","","","","","","","","","","","","","","","","","","","","","","","","","","","","","","","","","","","","","","","","","","","","","","","","","","","","",""]
["","","","","","","","","","","","","","","","","","","","","","","","","","","","","","","","","","","","","","","","","","","","","","","","","","","","","","","","","","","","","","","","","","","","","","","","","","","","","","","","","","","","","","","","","","","","","","","","","","","","","","","","","","","","","","","","","","","","","","","","","","","","","","","","","","","","","","","","","","","","","","","","","","","","","","","","","","","","","","","","","","","","","","","","","","","","","","","","","","","","","","","","","","","","","","","","","","","","","","","","","","",""]
["","","","","","","","","","","","","","","","","","","","","","","","","","","","","","","","","","","","","","","","","","","","","","","","","","","","","","","","","","","","","","","","","","","","","","","","","","","","","","","","","","","","","","","","","","","","","","","","","","","","","","","","","","","","","","","","","","","","","","","","","","","","","","","","","","","","","","","","","","","","","","","","","","","","","","","","","","","","","","","","","","","","","","","","","","","","","","","","","","","","","","","","","","","","","","","","","","","","","","","","","","",""]
["","","","","","","","","","","","","","","","","","","","","","","","","","","","","","","","","","","","","","","","","","","","","","","","","","","","","","","","","","","","","","","","","","","","","","","","","","","","","","","","","","","","","","","","","","","","","","","","","","","","","","","","","","","","","","","","","","","","","","","","","","","","","","","","","","","","","","","","","","","","","","","","","","","","","","","","","","","","","","","","","","","","","","","","","","","","","","","","","","","","","","","","","","","","","","","","","","","","","","","","","","",""]
["","","","","","","","","","","","","","","","","","","","","","","","","","","","","","","","","","","","","","","","","","","","","","","","","","","","","","","","","","","","","","","","","","","","","","","","","","","","","","","","","","","","","","","","","","","","","","","","","","","","","","","","","","","","","","","","","","","","","","","","","","","","","","","","","","","","","","","","","","","","","","","","","","","","","","","","","","","","","","","","","","","","","","","","","","","","","","","","","","","","","","","","","","","","","","","","","","","","","","","","","","",""]
["","","","","","","","","","","","","","","","","","","","","","","","","","","","","","","","","","","","","","","","","","","","","","","","","","","","","","","","","","","","","","","","","","","","","","","","","","","","","","","","","","","","","","","","","","","","","","","","","","","","","","","","","","","","","","","","","","","","","","","","","","","","","","","","","","","","","","","","","","","","","","","","","","","","","","","","","","","","","","","","","","","","","","","","","","","","","","","","","","","","","","","","","","","","","","","","","","","","","","","","","","",""]
["","","","","","","","","","","","","","","","","","","","","","","","","","","","","","","","","","","","","","","","","","","","","","","","","","","","","","","","","","","","","","","","","","","","","","","","","","","","","","","","","","","","","","","","","","","","","","","","","","","","","","","","","","","","","","","","","","","","","","","","","","","","","","","","","","","","","","","","","","","","","","","","","","","","","","","","","","","","","","","","","","","","","","","","","","","","","","","","","","","","","","","","","","","","","","","","","","","","","","","","","","",""]
["","","","","","","","","","","","","","","","","","","","","","","","","","","","","","","","","","","","","","","","","","","","","","","","","","","","","","","","","","","","","","","","","","","","","","","","","","","","","","","","","","","","","","","","","","","","","","","","","","","","","","","","","","","","","","","","","","","","","","","","","","","","","","","","","","","","","","","","","","","","","","","","","","","","","","","","","","","","","","","","","","","","","","","","","","","","","","","","","","","","","","","","","","","","","","","","","","","","","","","","","","",""]
["","","","","","","","","","","","","","","","","","","","","","","","","","","","","","","","","","","","","","","","","","","","","","","","","","","","","","","","","","","","","","","","","","","","","","","","","","","","","","","","","","","","","","","","","","","","","","","","","","","","","","","","","","","","","","","","","","","","","","","","","","","","","","","","","","","","","","","","","","","","","","","","","","","","","","","","","","","","","","","","","","","","","","","","","","","","","","","","","","","","","","","","","","","","","","","","","","","","","","","","","","",""]

{"sheet":"AS","index":7,"n_rows":398,"n_cols":52,"rows_kept":398,"cut":false,"hidden":false,"merged":[[0,0,0,1],[3,0,3,1],[2,0,2,1]]}
["Actual Streams"]
[]
["Stream",null,{"$f":"IF(TRANSPOSE('A1'!A30:A80)=\"\",\"\",TRANSPOSE('A1'!A30:A80))","v":1},2,3,4,5,"","","","","","","","","","","","","","","","","","","","","","","","","","","","","","","","","","","","","","","","","","","","",""]
[{"$f":"SCC!$A$30","v":"Heat Flow (kW)"},null,{"$f":"IF(TRANSPOSE('A1'!H30:H80)=\"\",\"\",TRANSPOSE('A1'!H30:H80))","v":3},1.5,300,4,2,"","","","","","","","","","","","","","","","","","","","","","","","","","","","","","","","","","","","","","","","","","","","",""]
["Interval",{"$f":"\"Actual Temp (\"&'A1'!T3&\")\"","v":"Actual Temp (°C)"},{"$f":"IF(TRANSPOSE('A1'!J30:J80)=\"\",\"\",TRANSPOSE('A1'!J30:J80))","v":"HOT"},"HOT","HOT","COLD","COLD","","","","","","","","","","","","","","","","","","","","","","","","","","","","","","","","","","","","","","","","","","","","",""]
[null,{"$f":"IF(A7=\"\",\"\",(LARGE('A1'!$B$30:$C$80,A7)))","v":250},{"$f":"IF($C$5:$AZ$5=\"\",\"\",IF($C$5:$AZ$5=\"HOT\",IF(TRANSPOSE('A1'!$B$30:$B$80)=$B6,\"●\",IF(TRANSPOSE('A1'!$C$30:$C$80)=$B6,\"▼\",IF($C5:$AZ5=\"|\",\"|\",\"\"))),IF(TRANSPOSE('A1'!$B$30:$B$80)=$B6,\"●\",IF(TRANSPOSE('A1'!$C$30:$C$80)=$B6,\"▲\",IF($C5:$AZ5=\"|\",\"|\",\"\")))))","v":""},"","","","▲","","","","","","","","","","","","","","","","","","","","","","","","","","","","","","","","","","","","","","","","","","","","",""]
[{"$f":"IF((SUM(IF(FREQUENCY('A1'!$B$30:$C$80,'A1'!$B$30:$C$80)>0,1)))>1,1,\"\")","v":1},{"$f":"IF(A8=\"\",\"\",(LARGE('A1'!$K$30:$L$80,A8)))","v":""},{"$f":"IF($C$5:$AZ$5=\"\",\"\",IF($C$5:$AZ$5=\"HOT\",IF($C6:$AZ6=\"●\",\"|\",IF($C6:$AZ6=\"|\",\"|\",\"\")),IF($C6:$AZ6=\"▲\",\"|\",IF($C6:$AZ6=\"|\",\"|\",\"\"))))","v":""},"","","","|","","","","","","","","","","","","","","","","","","","","","","","","","","","","","","","","","","","","","","","","","","","","",""]
[null,{"$f":"IF(A7=\"\",\"\",(LARGE('A1'!$B$30:$C$103,(1+SUM(COUNTIF('A1'!$B$30:$C$103,B$6:B7))-(A7*COUNTIF('A1'!$B$30:$C$103,B$7))))))","v":240},{"$f":"IF($C$5:$AZ$5=\"\",\"\",IF($C$5:$AZ$5=\"HOT\",IF(TRANSPOSE('A1'!$B$30:$B$80)=$B8,\"●\",IF(TRANSPOSE('A1'!$C$30:$C$80)=$B8,\"▼\",IF($C7:$AZ7=\"|\",\"|\",\"\"))),IF(TRANSPOSE('A1'!$B$30:$B$80)=$B8,\"●\",IF(TRANSPOSE('A1'!$C$30:$C$80)=$B8,\"▲\",IF($C7:$AZ7=\"|\",\"|\",\"\")))))","v":""},"●","","","|","","","","","","","","","","","","","","","","","","","","","","","","","","","","","","","","","","","","","","","","","","","","",""]
[{"$f":"IF(A7=\"\",\"\",IF((SUM(IF(FREQUENCY('A1'!$B$30:$C$80,'A1'!$B$30:$C$80)>0,1)))>(A7+1),(A7+1),\"\"))","v":2},{"$f":"IF(A8=\"\",\"\",(LARGE('A1'!$B$30:$C$103,(1+SUM(COUNTIF('A1'!$B$30:$C$103,B$6:B8))-(A8*COUNTIF('A1'!$B$30:$C$103,B$7))))))","v":""},{"$f":"IF($C$5:$AZ$5=\"\",\"\",IF($C$5:$AZ$5=\"HOT\",IF($C8:$AZ8=\"●\",\"|\",IF($C8:$AZ8=\"|\",\"|\",\"\")),IF($C8:$AZ8=\"▲\",\"|\",IF($C8:$AZ8=\"|\",\"|\",\"\"))))","v":""},"|","","","|","","","","","","","","","","","","","","","","","","","","","","","","","","","","","","","","","","","","","","","","","","","","",""]
[null,{"$f":"IF(A9=\"\",\"\",(LARGE('A1'!$B$30:$C$103,(1+SUM(COUNTIF('A1'!$B$30:$C$103,B$6:B9))-(A9*COUNTIF('A1'!$B$30:$C$103,B$7))))))","v":200},{"$f":"IF($C$5:$AZ$5=\"\",\"\",IF($C$5:$AZ$5=\"HOT\",IF(TRANSPOSE('A1'!$B$30:$B$80)=$B10,\"●\",IF(TRANSPOSE('A1'!$C$30:$C$80)=$B10,\"▼\",IF($C9:$AZ9=\"|\",\"|\",\"\"))),IF(TRANSPOSE('A1'!$B$30:$B$80)=$B10,\"●\",IF(TRANSPOSE('A1'!$C$30:$C$80)=$B10,\"▲\",IF($C9:$AZ9=\"|\",\"|\",\"\")))))","v":"●"},"|","","▲","|","","","","","","","","","","","","","","","","","","","","","","","","","","","","","","","","","","","","","","","","","","","","",""]
[{"$f":"IF(A9=\"\",\"\",IF((SUM(IF(FREQUENCY('A1'!$B$30:$C$80,'A1'!$B$30:$C$80)>0,1)))>(A9+1),(A9+1),\"\"))","v":3},{"$f":"IF(A10=\"\",\"\",(LARGE('A1'!$B$30:$C$103,(1+SUM(COUNTIF('A1'!$B$30:$C$103,B$6:B10))-(A10*COUNTIF('A1'!$B$30:$C$103,B$7))))))","v":""},{"$f":"IF($C$5:$AZ$5=\"\",\"\",IF($C$5:$AZ$5=\"HOT\",IF($C10:$AZ10=\"●\",\"|\",IF($C10:$AZ10=\"|\",\"|\",\"\")),IF($C10:$AZ10=\"▲\",\"|\",IF($C10:$AZ10=\"|\",\"|\",\"\"))))","v":"|"},"|","","|","|","","","","","","","","","","","","","","","","","","","","","","","","","","","","","","","","","","","","","","","","","","","","",""]
[null,{"$f":"IF(A11=\"\",\"\",(LARGE('A1'!$B$30:$C$103,(1+SUM(COUNTIF('A1'!$B$30:$C$103,B$6:B11))-(A11*COUNTIF('A1'!$B$30:$C$103,B$7))))))","v":120},{"$f":"IF($C$5:$AZ$5=\"\",\"\",IF($C$5:$AZ$5=\"HOT\",IF(TRANSPOSE('A1'!$B$30:$B$80)=$B12,\"●\",IF(TRANSPOSE('A1'!$C$30:$C$80)=$B12,\"▼\",IF($C11:$AZ11=\"|\",\"|\",\"\"))),IF(TRANSPOSE('A1'!$B$30:$B$80)=$B12,\"●\",IF(TRANSPOSE('A1'!$C$30:$C$80)=$B12,\"▲\",IF($C11:$AZ11=\"|\",\"|\",\"\")))))","v":"|"},"|","●","|","|","","","","","","","","","","","","","","","","","","","","","","","","","","","","","","","","","","","","","","","","","","","","",""]
[{"$f":"IF(A11=\"\",\"\",IF((SUM(IF(FREQUENCY('A1'!$B$30:$C$80,'A1'!$B$30:$C$80)>0,1)))>(A11+1),(A11+1),\"\"))","v":4},{"$f":"IF(A12=\"\",\"\",(LARGE('A1'!$B$30:$C$103,(1+SUM(COUNTIF('A1'!$B$30:$C$103,B$6:B12))-(A12*COUNTIF('A1'!$B$30:$C$103,B$7))))))","v":""},{"$f":"IF($C$5:$AZ$5=\"\",\"\",IF($C$5:$AZ$5=\"HOT\",IF($C12:$AZ12=\"●\",\"|\",IF($C12:$AZ12=\"|\",\"|\",\"\")),IF($C12:$AZ12=\"▲\",\"|\",IF($C12:$AZ12=\"|\",\"|\",\"\"))))","v":"|"},"|","|","|","|","","","","","","","","","","","","","","","","","","","","","","","","","","","","","","","","","","","","","","","","","","","","",""]
[null,{"$f":"IF(A13=\"\",\"\",(LARGE('A1'!$B$30:$C$103,(1+SUM(COUNTIF('A1'!$B$30:$C$103,B$6:B13))-(A13*COUNTIF('A1'!$B$30:$C$103,B$7))))))","v":119},{"$f":"IF($C$5:$AZ$5=\"\",\"\",IF($C$5:$AZ$5=\"HOT\",IF(TRANSPOSE('A1'!$B$30:$B$80)=$B14,\"●\",IF(TRANSPOSE('A1'!$C$30:$C$80)=$B14,\"▼\",IF($C13:$AZ13=\"|\",\"|\",\"\"))),IF(TRANSPOSE('A1'!$B$30:$B$80)=$B14,\"●\",IF(TRANSPOSE('A1'!$C$30:$C$80)=$B14,\"▲\",IF($C13:$AZ13=\"|\",\"|\",\"\")))))","v":"|"},"|","▼","|","|","","","","","","","","","","","","","","","","","","","","","","","","","","","","","","","","","","","","","","","","","","","","",""]
[{"$f":"IF(A13=\"\",\"\",IF((SUM(IF(FREQUENCY('A1'!$B$30:$C$80,'A1'!$B$30:$C$80)>0,1)))>(A13+1),(A13+1),\"\"))","v":5},{"$f":"IF(A14=\"\",\"\",(LARGE('A1'!$B$30:$C$103,(1+SUM(COUNTIF('A1'!$B$30:$C$103,B$6:B14))-(A14*COUNTIF('A1'!$B$30:$C$103,B$7))))))","v":""},{"$f":"IF($C$5:$AZ$5=\"\",\"\",IF($C$5:$AZ$5=\"HOT\",IF($C14:$AZ14=\"●\",\"|\",IF($C14:$AZ14=\"|\",\"|\",\"\")),IF($C14:$AZ14=\"▲\",\"|\",IF($C14:$AZ14=\"|\",\"|\",\"\"))))","v":"|"},"|","","|","|","","","","","","","","","","","","","","","","","","","","","","","","","","","","","","","","","","","","","","","","","","","","",""]
[null,{"$f":"IF(A15=\"\",\"\",(LARGE('A1'!$B$30:$C$103,(1+SUM(COUNTIF('A1'!$B$30:$C$103,B$6:B15))-(A15*COUNTIF('A1'!$B$30:$C$103,B$7))))))","v":100},{"$f":"IF($C$5:$AZ$5=\"\",\"\",IF($C$5:$AZ$5=\"HOT\",IF(TRANSPOSE('A1'!$B$30:$B$80)=$B16,\"●\",IF(TRANSPOSE('A1'!$C$30:$C$80)=$B16,\"▼\",IF($C15:$AZ15=\"|\",\"|\",\"\"))),IF(TRANSPOSE('A1'!$B$30:$B$80)=$B16,\"●\",IF(TRANSPOSE('A1'!$C$30:$C$80)=$B16,\"▲\",IF($C15:$AZ15=\"|\",\"|\",\"\")))))","v":"|"},"▼","","|","|","","","","","","","","","","","","","","","","","","","","","","","","","","","","","","","","","","","","","","","","","","","","",""]
[{"$f":"IF(A15=\"\",\"\",IF((SUM(IF(FREQUENCY('A1'!$B$30:$C$80,'A1'!$B$30:$C$80)>0,1)))>(A15+1),(A15+1),\"\"))","v":6},{"$f":"IF(A16=\"\",\"\",(LARGE('A1'!$B$30:$C$103,(1+SUM(COUNTIF('A1'!$B$30:$C$103,B$6:B16))-(A16*COUNTIF('A1'!$B$30:$C$103,B$7))))))","v":""},{"$f":"IF($C$5:$AZ$5=\"\",\"\",IF($C$5:$AZ$5=\"HOT\",IF($C16:$AZ16=\"●\",\"|\",IF($C16:$AZ16=\"|\",\"|\",\"\")),IF($C16:$AZ16=\"▲\",\"|\",IF($C16:$AZ16=\"|\",\"|\",\"\"))))","v":"|"},"","","|","|","","","","","","","","","","","","","","","","","","","","","","","","","","","","","","","","","","","","","","","","","","","","",""]
[null,{"$f":"IF(A17=\"\",\"\",(LARGE('A1'!$B$30:$C$103,(1+SUM(COUNTIF('A1'!$B$30:$C$103,B$6:B17))-(A17*COUNTIF('A1'!$B$30:$C$103,B$7))))))","v":50},{"$f":"IF($C$5:$AZ$5=\"\",\"\",IF($C$5:$AZ$5=\"HOT\",IF(TRANSPOSE('A1'!$B$30:$B$80)=$B18,\"●\",IF(TRANSPOSE('A1'!$C$30:$C$80)=$B18,\"▼\",IF($C17:$AZ17=\"|\",\"|\",\"\"))),IF(TRANSPOSE('A1'!$B$30:$B$80)=$B18,\"●\",IF(TRANSPOSE('A1'!$C$30:$C$80)=$B18,\"▲\",IF($C17:$AZ17=\"|\",\"|\",\"\")))))","v":"▼"},"","","|","●","","","","","","","","","","","","","","","","","","","","","","","","","","","","","","","","","","","","","","","","","","","","",""]
[{"$f":"IF(A17=\"\",\"\",IF((SUM(IF(FREQUENCY('A1'!$B$30:$C$80,'A1'!$B$30:$C$80)>0,1)))>(A17+1),(A17+1),\"\"))","v":7},{"$f":"IF(A18=\"\",\"\",(LARGE('A1'!$B$30:$C$103,(1+SUM(COUNTIF('A1'!$B$30:$C$103,B$6:B18))-(A18*COUNTIF('A1'!$B$30:$C$103,B$7))))))","v":""},{"$f":"IF($C$5:$AZ$5=\"\",\"\",IF($C$5:$AZ$5=\"HOT\",IF($C18:$AZ18=\"●\",\"|\",IF($C18:$AZ18=\"|\",\"|\",\"\")),IF($C18:$AZ18=\"▲\",\"|\",IF($C18:$AZ18=\"|\",\"|\",\"\"))))","v":""},"","","|","","","","","","","","","","","","","","","","","","","","","","","","","","","","","","","","","","","","","","","","","","","","","",""]
[null,{"$f":"IF(A19=\"\",\"\",(LARGE('A1'!$B$30:$C$103,(1+SUM(COUNTIF('A1'!$B$30:$C$103,B$6:B19))-(A19*COUNTIF('A1'!$B$30:$C$103,B$7))))))","v":30},{"$f":"IF($C$5:$AZ$5=\"\",\"\",IF($C$5:$AZ$5=\"HOT\",IF(TRANSPOSE('A1'!$B$30:$B$80)=$B20,\"●\",IF(TRANSPOSE('A1'!$C$30:$C$80)=$B20,\"▼\",IF($C19:$AZ19=\"|\",\"|\",\"\"))),IF(TRANSPOSE('A1'!$B$30:$B$80)=$B20,\"●\",IF(TRANSPOSE('A1'!$C$30:$C$80)=$B20,\"▲\",IF($C19:$AZ19=\"|\",\"|\",\"\")))))","v":""},"","","●","","","","","","","","","","","","","","","","","","","","","","","","","","","","","","","","","","","","","","","","","","","","","",""]
[{"$f":"IF(A19=\"\",\"\",IF((SUM(IF(FREQUENCY('A1'!$B$30:$C$80,'A1'!$B$30:$C$80)>0,1)))>(A19+1),(A19+1),\"\"))","v":""},{"$f":"IF(A20=\"\",\"\",(LARGE('A1'!$B$30:$C$103,(1+SUM(COUNTIF('A1'!$B$30:$C$103,B$6:B20))-(A20*COUNTIF('A1'!$B$30:$C$103,B$7))))))","v":""},{"$f":"IF($C$5:$AZ$5=\"\",\"\",IF($C$5:$AZ$5=\"HOT\",IF($C20:$AZ20=\"●\",\"|\",IF($C20:$AZ20=\"|\",\"|\",\"\")),IF($C20:$AZ20=\"▲\",\"|\",IF($C20:$AZ20=\"|\",\"|\",\"\"))))","v":""},"","","","","","","","","","","","","","","","","","","","","","","","","","","","","","","","","","","","","","","","","","","","","","","","",""]
[null,{"$f":"IF(A21=\"\",\"\",(LARGE('A1'!$B$30:$C$103,(1+SUM(COUNTIF('A1'!$B$30:$C$103,B$6:B21))-(A21*COUNTIF('A1'!$B$30:$C$103,B$7))))))","v":""},{"$f":"IF($C$5:$AZ$5=\"\",\"\",IF($C$5:$AZ$5=\"HOT\",IF(TRANSPOSE('A1'!$B$30:$B$80)=$B22,\"●\",IF(TRANSPOSE('A1'!$C$30:$C$80)=$B22,\"▼\",IF($C21:$AZ21=\"|\",\"|\",\"\"))),IF(TRANSPOSE('A1'!$B$30:$B$80)=$B22,\"●\",IF(TRANSPOSE('A1'!$C$30:$C$80)=$B22,\"▲\",IF($C21:$AZ21=\"|\",\"|\",\"\")))))","v":""},"","","","","","","","","","","","","","","","","","","","","","","","","","","","","","","","","","","","","","","","","","","","","","","","",""]
[{"$f":"IF(A21=\"\",\"\",IF((SUM(IF(FREQUENCY('A1'!$B$30:$C$80,'A1'!$B$30:$C$80)>0,1)))>(A21+1),(A21+1),\"\"))","v":""},{"$f":"IF(A22=\"\",\"\",(LARGE('A1'!$B$30:$C$103,(1+SUM(COUNTIF('A1'!$B$30:$C$103,B$6:B22))-(A22*COUNTIF('A1'!$B$30:$C$103,B$7))))))","v":""},{"$f":"IF($C$5:$AZ$5=\"\",\"\",IF($C$5:$AZ$5=\"HOT\",IF($C22:$AZ22=\"●\",\"|\",IF($C22:$AZ22=\"|\",\"|\",\"\")),IF($C22:$AZ22=\"▲\",\"|\",IF($C22:$AZ22=\"|\",\"|\",\"\"))))","v":""},"","","","","","","","","","","","","","","","","","","","","","","","","","","","","","","","","","","","","","","","","","","","","","","","",""]
[null,{"$f":"IF(A23=\"\",\"\",(LARGE('A1'!$B$30:$C$103,(1+SUM(COUNTIF('A1'!$B$30:$C$103,B$6:B23))-(A23*COUNTIF('A1'!$B$30:$C$103,B$7))))))","v":""},{"$f":"IF($C$5:$AZ$5=\"\",\"\",IF($C$5:$AZ$5=\"HOT\",IF(TRANSPOSE('A1'!$B$30:$B$80)=$B24,\"●\",IF(TRANSPOSE('A1'!$C$30:$C$80)=$B24,\"▼\",IF($C23:$AZ23=\"|\",\"|\",\"\"))),IF(TRANSPOSE('A1'!$B$30:$B$80)=$B24,\"●\",IF(TRANSPOSE('A1'!$C$30:$C$80)=$B24,\"▲\",IF($C23:$AZ23=\"|\",\"|\",\"\")))))","v":""},"","","","","","","","","","","","","","","","","","","","","","","","","","","","","","","","","","","","","","","","","","","","","","","","",""]
[{"$f":"IF(A23=\"\",\"\",IF((SUM(IF(FREQUENCY('A1'!$B$30:$C$80,'A1'!$B$30:$C$80)>0,1)))>(A23+1),(A23+1),\"\"))","v":""},{"$f":"IF(A24=\"\",\"\",(LARGE('A1'!$B$30:$C$103,(1+SUM(COUNTIF('A1'!$B$30:$C$103,B$6:B24))-(A24*COUNTIF('A1'!$B$30:$C$103,B$7))))))","v":""},{"$f":"IF($C$5:$AZ$5=\"\",\"\",IF($C$5:$AZ$5=\"HOT\",IF($C24:$AZ24=\"●\",\"|\",IF($C24:$AZ24=\"|\",\"|\",\"\")),IF($C24:$AZ24=\"▲\",\"|\",IF($C24:$AZ24=\"|\",\"|\",\"\"))))","v":""},"","","","","","","","","","","","","","","","","","","","","","","","","","","","","","","","","","","","","","","","","","","","","","","","",""]
[null,{"$f":"IF(A25=\"\",\"\",(LARGE('A1'!$B$30:$C$103,(1+SUM(COUNTIF('A1'!$B$30:$C$103,B$6:B25))-(A25*COUNTIF('A1'!$B$30:$C$103,B$7))))))","v":""},{"$f":"IF($C$5:$AZ$5=\"\",\"\",IF($C$5:$AZ$5=\"HOT\",IF(TRANSPOSE('A1'!$B$30:$B$80)=$B26,\"●\",IF(TRANSPOSE('A1'!$C$30:$C$80)=$B26,\"▼\",IF($C25:$AZ25=\"|\",\"|\",\"\"))),IF(TRANSPOSE('A1'!$B$30:$B$80)=$B26,\"●\",IF(TRANSPOSE('A1'!$C$30:$C$80)=$B26,\"▲\",IF($C25:$AZ25=\"|\",\"|\",\"\")))))","v":""},"","","","","","","","","","","","","","","","","","","","","","","","","","","","","","","","","","","","","","","","","","","","","","","","",""]
[{"$f":"IF(A25=\"\",\"\",IF((SUM(IF(FREQUENCY('A1'!$B$30:$C$80,'A1'!$B$30:$C$80)>0,1)))>(A25+1),(A25+1),\"\"))","v":""},{"$f":"IF(A26=\"\",\"\",(LARGE('A1'!$B$30:$C$103,(1+SUM(COUNTIF('A1'!$B$30:$C$103,B$6:B26))-(A26*COUNTIF('A1'!$B$30:$C$103,B$7))))))","v":""},{"$f":"IF($C$5:$AZ$5=\"\",\"\",IF($C$5:$AZ$5=\"HOT\",IF($C26:$AZ26=\"●\",\"|\",IF($C26:$AZ26=\"|\",\"|\",\"\")),IF($C26:$AZ26=\"▲\",\"|\",IF($C26:$AZ26=\"|\",\"|\",\"\"))))","v":""},"","","","","","","","","","","","","","","","","","","","","","","","","","","","","","","","","","","","","","","","","","","","","","","","",""]
[null,{"$f":"IF(A27=\"\",\"\",(LARGE('A1'!$B$30:$C$103,(1+SUM(COUNTIF('A1'!$B$30:$C$103,B$6:B27))-(A27*COUNTIF('A1'!$B$30:$C$103,B$7))))))","v":""},{"$f":"IF($C$5:$AZ$5=\"\",\"\",IF($C$5:$AZ$5=\"HOT\",IF(TRANSPOSE('A1'!$B$30:$B$80)=$B28,\"●\",IF(TRANSPOSE('A1'!$C$30:$C$80)=$B28,\"▼\",IF($C27:$AZ27=\"|\",\"|\",\"\"))),IF(TRANSPOSE('A1'!$B$30:$B$80)=$B28,\"●\",IF(TRANSPOSE('A1'!$C$30:$C$80)=$B28,\"▲\",IF($C27:$AZ27=\"|\",\"|\",\"\")))))","v":""},"","","","","","","","","","","","","","","","","","","","","","","","","","","","","","","","","","","","","","","","","","","","","","","","",""]
[{"$f":"IF(A27=\"\",\"\",IF((SUM(IF(FREQUENCY('A1'!$B$30:$C$80,'A1'!$B$30:$C$80)>0,1)))>(A27+1),(A27+1),\"\"))","v":""},{"$f":"IF(A28=\"\",\"\",(LARGE('A1'!$B$30:$C$103,(1+SUM(COUNTIF('A1'!$B$30:$C$103,B$6:B28))-(A28*COUNTIF('A1'!$B$30:$C$103,B$7))))))","v":""},{"$f":"IF($C$5:$AZ$5=\"\",\"\",IF($C$5:$AZ$5=\"HOT\",IF($C28:$AZ28=\"●\",\"|\",IF($C28:$AZ28=\"|\",\"|\",\"\")),IF($C28:$AZ28=\"▲\",\"|\",IF($C28:$AZ28=\"|\",\"|\",\"\"))))","v":""},"","","","","","","","","","","","","","","","","","","","","","","","","","","","","","","","","","","","","","","","","","","","","","","","",""]
[null,{"$f":"IF(A29=\"\",\"\",(LARGE('A1'!$B$30:$C$103,(1+SUM(COUNTIF('A1'!$B$30:$C$103,B$6:B29))-(A29*COUNTIF('A1'!$B$30:$C$103,B$7))))))","v":""},{"$f":"IF($C$5:$AZ$5=\"\",\"\",IF($C$5:$AZ$5=\"HOT\",IF(TRANSPOSE('A1'!$B$30:$B$80)=$B30,\"●\",IF(TRANSPOSE('A1'!$C$30:$C$80)=$B30,\"▼\",IF($C29:$AZ29=\"|\",\"|\",\"\"))),IF(TRANSPOSE('A1'!$B$30:$B$80)=$B30,\"●\",IF(TRANSPOSE('A1'!$C$30:$C$80)=$B30,\"▲\",IF($C29:$AZ29=\"|\",\"|\",\"\")))))","v":""},"","","","","","","","","","","","","","","","","","","","","","","","","","","","","","","","","","","","","","","","","","","","","","","","",""]
[{"$f":"IF(A29=\"\",\"\",IF((SUM(IF(FREQUENCY('A1'!$B$30:$C$80,'A1'!$B$30:$C$80)>0,1)))>(A29+1),(A29+1),\"\"))","v":""},{"$f":"IF(A30=\"\",\"\",(LARGE('A1'!$B$30:$C$103,(1+SUM(COUNTIF('A1'!$B$30:$C$103,B$6:B30))-(A30*COUNTIF('A1'!$B$30:$C$103,B$7))))))","v":""},{"$f":"IF($C$5:$AZ$5=\"\",\"\",IF($C$5:$AZ$5=\"HOT\",IF($C30:$AZ30=\"●\",\"|\",IF($C30:$AZ30=\"|\",\"|\",\"\")),IF($C30:$AZ30=\"▲\",\"|\",IF($C30:$AZ30=\"|\",\"|\",\"\"))))","v":""},"","","","","","","","","","","","","","","","","","","","","","","","","","","","","","","","","","","","","","","","","","","","","","","","",""]
[null,{"$f":"IF(A31=\"\",\"\",(LARGE('A1'!$B$30:$C$103,(1+SUM(COUNTIF('A1'!$B$30:$C$103,B$6:B31))-(A31*COUNTIF('A1'!$B$30:$C$103,B$7))))))","v":""},{"$f":"IF($C$5:$AZ$5=\"\",\"\",IF($C$5:$AZ$5=\"HOT\",IF(TRANSPOSE('A1'!$B$30:$B$80)=$B32,\"●\",IF(TRANSPOSE('A1'!$C$30:$C$80)=$B32,\"▼\",IF($C31:$AZ31=\"|\",\"|\",\"\"))),IF(TRANSPOSE('A1'!$B$30:$B$80)=$B32,\"●\",IF(TRANSPOSE('A1'!$C$30:$C$80)=$B32,\"▲\",IF($C31:$AZ31=\"|\",\"|\",\"\")))))","v":""},"","","","","","","","","","","","","","","","","","","","","","","","","","","","","","","","","","","","","","","","","","","","","","","","",""]
[{"$f":"IF(A31=\"\",\"\",IF((SUM(IF(FREQUENCY('A1'!$B$30:$C$80,'A1'!$B$30:$C$80)>0,1)))>(A31+1),(A31+1),\"\"))","v":""},{"$f":"IF(A32=\"\",\"\",(LARGE('A1'!$B$30:$C$103,(1+SUM(COUNTIF('A1'!$B$30:$C$103,B$6:B32))-(A32*COUNTIF('A1'!$B$30:$C$103,B$7))))))","v":""},{"$f":"IF($C$5:$AZ$5=\"\",\"\",IF($C$5:$AZ$5=\"HOT\",IF($C32:$AZ32=\"●\",\"|\",IF($C32:$AZ32=\"|\",\"|\",\"\")),IF($C32:$AZ32=\"▲\",\"|\",IF($C32:$AZ32=\"|\",\"|\",\"\"))))","v":""},"","","","","","","","","","","","","","","","","","","","","","","","","","","","","","","","","","","","","","","","","","","","","","","","",""]
[null,{"$f":"IF(A33=\"\",\"\",(LARGE('A1'!$B$30:$C$103,(1+SUM(COUNTIF('A1'!$B$30:$C$103,B$6:B33))-(A33*COUNTIF('A1'!$B$30:$C$103,B$7))))))","v":""},{"$f":"IF($C$5:$AZ$5=\"\",\"\",IF($C$5:$AZ$5=\"HOT\",IF(TRANSPOSE('A1'!$B$30:$B$80)=$B34,\"●\",IF(TRANSPOSE('A1'!$C$30:$C$80)=$B34,\"▼\",IF($C33:$AZ33=\"|\",\"|\",\"\"))),IF(TRANSPOSE('A1'!$B$30:$B$80)=$B34,\"●\",IF(TRANSPOSE('A1'!$C$30:$C$80)=$B34,\"▲\",IF($C33:$AZ33=\"|\",\"|\",\"\")))))","v":""},"","","","","","","","","","","","","","","","","","","","","","","","","","","","","","","","","","","","","","","","","","","","","","","","",""]
[{"$f":"IF(A33=\"\",\"\",IF((SUM(IF(FREQUENCY('A1'!$B$30:$C$80,'A1'!$B$30:$C$80)>0,1)))>(A33+1),(A33+1),\"\"))","v":""},{"$f":"IF(A34=\"\",\"\",(LARGE('A1'!$B$30:$C$103,(1+SUM(COUNTIF('A1'!$B$30:$C$103,B$6:B34))-(A34*COUNTIF('A1'!$B$30:$C$103,B$7))))))","v":""},{"$f":"IF($C$5:$AZ$5=\"\",\"\",IF($C$5:$AZ$5=\"HOT\",IF($C34:$AZ34=\"●\",\"|\",IF($C34:$AZ34=\"|\",\"|\",\"\")),IF($C34:$AZ34=\"▲\",\"|\",IF($C34:$AZ34=\"|\",\"|\",\"\"))))","v":""},"","","","","","","","","","","","","","","","","","","","","","","","","","","","","","","","","","","","","","","","","","","","","","","","",""]
[null,{"$f":"IF(A35=\"\",\"\",(LARGE('A1'!$B$30:$C$103,(1+SUM(COUNTIF('A1'!$B$30:$C$103,B$6:B35))-(A35*COUNTIF('A1'!$B$30:$C$103,B$7))))))","v":""},{"$f":"IF($C$5:$AZ$5=\"\",\"\",IF($C$5:$AZ$5=\"HOT\",IF(TRANSPOSE('A1'!$B$30:$B$80)=$B36,\"●\",IF(TRANSPOSE('A1'!$C$30:$C$80)=$B36,\"▼\",IF($C35:$AZ35=\"|\",\"|\",\"\"))),IF(TRANSPOSE('A1'!$B$30:$B$80)=$B36,\"●\",IF(TRANSPOSE('A1'!$C$30:$C$80)=$B36,\"▲\",IF($C35:$AZ35=\"|\",\"|\",\"\")))))","v":""},"","","","","","","","","","","","","","","","","","","","","","","","","","","","","","","","","","","","","","","","","","","","","","","","",""]
[{"$f":"IF(A35=\"\",\"\",IF((SUM(IF(FREQUENCY('A1'!$B$30:$C$80,'A1'!$B$30:$C$80)>0,1)))>(A35+1),(A35+1),\"\"))","v":""},{"$f":"IF(A36=\"\",\"\",(LARGE('A1'!$B$30:$C$103,(1+SUM(COUNTIF('A1'!$B$30:$C$103,B$6:B36))-(A36*COUNTIF('A1'!$B$30:$C$103,B$7))))))","v":""},{"$f":"IF($C$5:$AZ$5=\"\",\"\",IF($C$5:$AZ$5=\"HOT\",IF($C36:$AZ36=\"●\",\"|\",IF($C36:$AZ36=\"|\",\"|\",\"\")),IF($C36:$AZ36=\"▲\",\"|\",IF($C36:$AZ36=\"|\",\"|\",\"\"))))","v":""},"","","","","","","","","","","","","","","","","","","","","","","","","","","","","","","","","","","","","","","","","","","","","","","","",""]
[null,{"$f":"IF(A37=\"\",\"\",(LARGE('A1'!$B$30:$C$103,(1+SUM(COUNTIF('A1'!$B$30:$C$103,B$6:B37))-(A37*COUNTIF('A1'!$B$30:$C$103,B$7))))))","v":""},{"$f":"IF($C$5:$AZ$5=\"\",\"\",IF($C$5:$AZ$5=\"HOT\",IF(TRANSPOSE('A1'!$B$30:$B$80)=$B38,\"●\",IF(TRANSPOSE('A1'!$C$30:$C$80)=$B38,\"▼\",IF($C37:$AZ37=\"|\",\"|\",\"\"))),IF(TRANSPOSE('A1'!$B$30:$B$80)=$B38,\"●\",IF(TRANSPOSE('A1'!$C$30:$C$80)=$B38,\"▲\",IF($C37:$AZ37=\"|\",\"|\",\"\")))))","v":""},"","","","","","","","","","","","","","","","","","","","","","","","","","","","","","","","","","","","","","","","","","","","","","","","",""]
[{"$f":"IF(A37=\"\",\"\",IF((SUM(IF(FREQUENCY('A1'!$B$30:$C$80,'A1'!$B$30:$C$80)>0,1)))>(A37+1),(A37+1),\"\"))","v":""},{"$f":"IF(A38=\"\",\"\",(LARGE('A1'!$B$30:$C$103,(1+SUM(COUNTIF('A1'!$B$30:$C$103,B$6:B38))-(A38*COUNTIF('A1'!$B$30:$C$103,B$7))))))","v":""},{"$f":"IF($C$5:$AZ$5=\"\",\"\",IF($C$5:$AZ$5=\"HOT\",IF($C38:$AZ38=\"●\",\"|\",IF($C38:$AZ38=\"|\",\"|\",\"\")),IF($C38:$AZ38=\"▲\",\"|\",IF($C38:$AZ38=\"|\",\"|\",\"\"))))","v":""},"","","","","","","","","","","","","","","","","","","","","","","","","","","","","","","","","","","","","","","","","","","","","","","","",""]
[null,{"$f":"IF(A39=\"\",\"\",(LARGE('A1'!$B$30:$C$103,(1+SUM(COUNTIF('A1'!$B$30:$C$103,B$6:B39))-(A39*COUNTIF('A1'!$B$30:$C$103,B$7))))))","v":""},{"$f":"IF($C$5:$AZ$5=\"\",\"\",IF($C$5:$AZ$5=\"HOT\",IF(TRANSPOSE('A1'!$B$30:$B$80)=$B40,\"●\",IF(TRANSPOSE('A1'!$C$30:$C$80)=$B40,\"▼\",IF($C39:$AZ39=\"|\",\"|\",\"\"))),IF(TRANSPOSE('A1'!$B$30:$B$80)=$B40,\"●\",IF(TRANSPOSE('A1'!$C$30:$C$80)=$B40,\"▲\",IF($C39:$AZ39=\"|\",\"|\",\"\")))))","v":""},"","","","","","","","","","","","","","","","","","","","","","","","","","","","","","","","","","","","","","","","","","","","","","","","",""]
[{"$f":"IF(A39=\"\",\"\",IF((SUM(IF(FREQUENCY('A1'!$B$30:$C$80,'A1'!$B$30:$C$80)>0,1)))>(A39+1),(A39+1),\"\"))","v":""},{"$f":"IF(A40=\"\",\"\",(LARGE('A1'!$B$30:$C$103,(1+SUM(COUNTIF('A1'!$B$30:$C$103,B$6:B40))-(A40*COUNTIF('A1'!$B$30:$C$103,B$7))))))","v":""},{"$f":"IF($C$5:$AZ$5=\"\",\"\",IF($C$5:$AZ$5=\"HOT\",IF($C40:$AZ40=\"●\",\"|\",IF($C40:$AZ40=\"|\",\"|\",\"\")),IF($C40:$AZ40=\"▲\",\"|\",IF($C40:$AZ40=\"|\",\"|\",\"\"))))","v":""},"","","","","","","","","","","","","","","","","","","","","","","","","","","","","","","","","","","","","","","","","","","","","","","","",""]
[null,{"$f":"IF(A41=\"\",\"\",(LARGE('A1'!$B$30:$C$103,(1+SUM(COUNTIF('A1'!$B$30:$C$103,B$6:B41))-(A41*COUNTIF('A1'!$B$30:$C$103,B$7))))))","v":""},{"$f":"IF($C$5:$AZ$5=\"\",\"\",IF($C$5:$AZ$5=\"HOT\",IF(TRANSPOSE('A1'!$B$30:$B$80)=$B42,\"●\",IF(TRANSPOSE('A1'!$C$30:$C$80)=$B42,\"▼\",IF($C41:$AZ41=\"|\",\"|\",\"\"))),IF(TRANSPOSE('A1'!$B$30:$B$80)=$B42,\"●\",IF(TRANSPOSE('A1'!$C$30:$C$80)=$B42,\"▲\",IF($C41:$AZ41=\"|\",\"|\",\"\")))))","v":""},"","","","","","","","","","","","","","","","","","","","","","","","","","","","","","","","","","","","","","","","","","","","","","","","",""]
[{"$f":"IF(A41=\"\",\"\",IF((SUM(IF(FREQUENCY('A1'!$B$30:$C$80,'A1'!$B$30:$C$80)>0,1)))>(A41+1),(A41+1),\"\"))","v":""},{"$f":"IF(A42=\"\",\"\",(LARGE('A1'!$B$30:$C$103,(1+SUM(COUNTIF('A1'!$B$30:$C$103,B$6:B42))-(A42*COUNTIF('A1'!$B$30:$C$103,B$7))))))","v":""},{"$f":"IF($C$5:$AZ$5=\"\",\"\",IF($C$5:$AZ$5=\"HOT\",IF($C42:$AZ42=\"●\",\"|\",IF($C42:$AZ42=\"|\",\"|\",\"\")),IF($C42:$AZ42=\"▲\",\"|\",IF($C42:$AZ42=\"|\",\"|\",\"\"))))","v":""},"","","","","","","","","","","","","","","","","","","","","","","","","","","","","","","","","","","","","","","","","","","","","","","","",""]
[null,{"$f":"IF(A43=\"\",\"\",(LARGE('A1'!$B$30:$C$103,(1+SUM(COUNTIF('A1'!$B$30:$C$103,B$6:B43))-(A43*COUNTIF('A1'!$B$30:$C$103,B$7))))))","v":""},{"$f":"IF($C$5:$AZ$5=\"\",\"\",IF($C$5:$AZ$5=\"HOT\",IF(TRANSPOSE('A1'!$B$30:$B$80)=$B44,\"●\",IF(TRANSPOSE('A1'!$C$30:$C$80)=$B44,\"▼\",IF($C43:$AZ43=\"|\",\"|\",\"\"))),IF(TRANSPOSE('A1'!$B$30:$B$80)=$B44,\"●\",IF(TRANSPOSE('A1'!$C$30:$C$80)=$B44,\"▲\",IF($C43:$AZ43=\"|\",\"|\",\"\")))))","v":""},"","","","","","","","","","","","","","","","","","","","","","","","","","","","","","","","","","","","","","","","","","","","","","","","",""]
[{"$f":"IF(A43=\"\",\"\",IF((SUM(IF(FREQUENCY('A1'!$B$30:$C$80,'A1'!$B$30:$C$80)>0,1)))>(A43+1),(A43+1),\"\"))","v":""},{"$f":"IF(A44=\"\",\"\",(LARGE('A1'!$B$30:$C$103,(1+SUM(COUNTIF('A1'!$B$30:$C$103,B$6:B44))-(A44*COUNTIF('A1'!$B$30:$C$103,B$7))))))","v":""},{"$f":"IF($C$5:$AZ$5=\"\",\"\",IF($C$5:$AZ$5=\"HOT\",IF($C44:$AZ44=\"●\",\"|\",IF($C44:$AZ44=\"|\",\"|\",\"\")),IF($C44:$AZ44=\"▲\",\"|\",IF($C44:$AZ44=\"|\",\"|\",\"\"))))","v":""},"","","","","","","","","","","","","","","","","","","","","","","","","","","","","","","","","","","","","","","","","","","","","","","","",""]
[null,{"$f":"IF(A45=\"\",\"\",(LARGE('A1'!$B$30:$C$103,(1+SUM(COUNTIF('A1'!$B$30:$C$103,B$6:B45))-(A45*COUNTIF('A1'!$B$30:$C$103,B$7))))))","v":""},{"$f":"IF($C$5:$AZ$5=\"\",\"\",IF($C$5:$AZ$5=\"HOT\",IF(TRANSPOSE('A1'!$B$30:$B$80)=$B46,\"●\",IF(TRANSPOSE('A1'!$C$30:$C$80)=$B46,\"▼\",IF($C45:$AZ45=\"|\",\"|\",\"\"))),IF(TRANSPOSE('A1'!$B$30:$B$80)=$B46,\"●\",IF(TRANSPOSE('A1'!$C$30:$C$80)=$B46,\"▲\",IF($C45:$AZ45=\"|\",\"|\",\"\")))))","v":""},"","","","","","","","","","","","","","","","","","","","","","","","","","","","","","","","","","","","","","","","","","","","","","","","",""]
[{"$f":"IF(A45=\"\",\"\",IF((SUM(IF(FREQUENCY('A1'!$B$30:$C$80,'A1'!$B$30:$C$80)>0,1)))>(A45+1),(A45+1),\"\"))","v":""},{"$f":"IF(A46=\"\",\"\",(LARGE('A1'!$B$30:$C$103,(1+SUM(COUNTIF('A1'!$B$30:$C$103,B$6:B46))-(A46*COUNTIF('A1'!$B$30:$C$103,B$7))))))","v":""},{"$f":"IF($C$5:$AZ$5=\"\",\"\",IF($C$5:$AZ$5=\"HOT\",IF($C46:$AZ46=\"●\",\"|\",IF($C46:$AZ46=\"|\",\"|\",\"\")),IF($C46:$AZ46=\"▲\",\"|\",IF($C46:$AZ46=\"|\",\"|\",\"\"))))","v":""},"","","","","","","","","","","","","","","","","","","","","","","","","","","","","","","","","","","","","","","","","","","","","","","","",""]
[null,{"$f":"IF(A47=\"\",\"\",(LARGE('A1'!$B$30:$C$103,(1+SUM(COUNTIF('A1'!$B$30:$C$103,B$6:B47))-(A47*COUNTIF('A1'!$B$30:$C$103,B$7))))))","v":""},{"$f":"IF($C$5:$AZ$5=\"\",\"\",IF($C$5:$AZ$5=\"HOT\",IF(TRANSPOSE('A1'!$B$30:$B$80)=$B48,\"●\",IF(TRANSPOSE('A1'!$C$30:$C$80)=$B48,\"▼\",IF($C47:$AZ47=\"|\",\"|\",\"\"))),IF(TRANSPOSE('A1'!$B$30:$B$80)=$B48,\"●\",IF(TRANSPOSE('A1'!$C$30:$C$80)=$B48,\"▲\",IF($C47:$AZ47=\"|\",\"|\",\"\")))))","v":""},"","","","","","","","","","","","","","","","","","","","","","","","","","","","","","","","","","","","","","","","","","","","","","","","",""]
[{"$f":"IF(A47=\"\",\"\",IF((SUM(IF(FREQUENCY('A1'!$B$30:$C$80,'A1'!$B$30:$C$80)>0,1)))>(A47+1),(A47+1),\"\"))","v":""},{"$f":"IF(A48=\"\",\"\",(LARGE('A1'!$B$30:$C$103,(1+SUM(COUNTIF('A1'!$B$30:$C$103,B$6:B48))-(A48*COUNTIF('A1'!$B$30:$C$103,B$7))))))","v":""},{"$f":"IF($C$5:$AZ$5=\"\",\"\",IF($C$5:$AZ$5=\"HOT\",IF($C48:$AZ48=\"●\",\"|\",IF($C48:$AZ48=\"|\",\"|\",\"\")),IF($C48:$AZ48=\"▲\",\"|\",IF($C48:$AZ48=\"|\",\"|\",\"\"))))","v":""},"","","","","","","","","","","","","","","","","","","","","","","","","","","","","","","","","","","","","","","","","","","","","","","","",""]
[null,{"$f":"IF(A49=\"\",\"\",(LARGE('A1'!$B$30:$C$103,(1+SUM(COUNTIF('A1'!$B$30:$C$103,B$6:B49))-(A49*COUNTIF('A1'!$B$30:$C$103,B$7))))))","v":""},{"$f":"IF($C$5:$AZ$5=\"\",\"\",IF($C$5:$AZ$5=\"HOT\",IF(TRANSPOSE('A1'!$B$30:$B$80)=$B50,\"●\",IF(TRANSPOSE('A1'!$C$30:$C$80)=$B50,\"▼\",IF($C49:$AZ49=\"|\",\"|\",\"\"))),IF(TRANSPOSE('A1'!$B$30:$B$80)=$B50,\"●\",IF(TRANSPOSE('A1'!$C$30:$C$80)=$B50,\"▲\",IF($C49:$AZ49=\"|\",\"|\",\"\")))))","v":""},"","","","","","","","","","","","","","","","","","","","","","","","","","","","","","","","","","","","","","","","","","","","","","","","",""]
[{"$f":"IF(A49=\"\",\"\",IF((SUM(IF(FREQUENCY('A1'!$B$30:$C$80,'A1'!$B$30:$C$80)>0,1)))>(A49+1),(A49+1),\"\"))","v":""},{"$f":"IF(A50=\"\",\"\",(LARGE('A1'!$B$30:$C$103,(1+SUM(COUNTIF('A1'!$B$30:$C$103,B$6:B50))-(A50*COUNTIF('A1'!$B$30:$C$103,B$7))))))","v":""},{"$f":"IF($C$5:$AZ$5=\"\",\"\",IF($C$5:$AZ$5=\"HOT\",IF($C50:$AZ50=\"●\",\"|\",IF($C50:$AZ50=\"|\",\"|\",\"\")),IF($C50:$AZ50=\"▲\",\"|\",IF($C50:$AZ50=\"|\",\"|\",\"\"))))","v":""},"","","","","","","","","","","","","","","","","","","","","","","","","","","","","","","","","","","","","","","","","","","","","","","","",""]
[null,{"$f":"IF(A51=\"\",\"\",(LARGE('A1'!$B$30:$C$103,(1+SUM(COUNTIF('A1'!$B$30:$C$103,B$6:B51))-(A51*COUNTIF('A1'!$B$30:$C$103,B$7))))))","v":""},{"$f":"IF($C$5:$AZ$5=\"\",\"\",IF($C$5:$AZ$5=\"HOT\",IF(TRANSPOSE('A1'!$B$30:$B$80)=$B52,\"●\",IF(TRANSPOSE('A1'!$C$30:$C$80)=$B52,\"▼\",IF($C51:$AZ51=\"|\",\"|\",\"\"))),IF(TRANSPOSE('A1'!$B$30:$B$80)=$B52,\"●\",IF(TRANSPOSE('A1'!$C$30:$C$80)=$B52,\"▲\",IF($C51:$AZ51=\"|\",\"|\",\"\")))))","v":""},"","","","","","","","","","","","","","","","","","","","","","","","","","","","","","","","","","","","","","","","","","","","","","","","",""]
[{"$f":"IF(A51=\"\",\"\",IF((SUM(IF(FREQUENCY('A1'!$B$30:$C$80,'A1'!$B$30:$C$80)>0,1)))>(A51+1),(A51+1),\"\"))","v":""},{"$f":"IF(A52=\"\",\"\",(LARGE('A1'!$B$30:$C$103,(1+SUM(COUNTIF('A1'!$B$30:$C$103,B$6:B52))-(A52*COUNTIF('A1'!$B$30:$C$103,B$7))))))","v":""},{"$f":"IF($C$5:$AZ$5=\"\",\"\",IF($C$5:$AZ$5=\"HOT\",IF($C52:$AZ52=\"●\",\"|\",IF($C52:$AZ52=\"|\",\"|\",\"\")),IF($C52:$AZ52=\"▲\",\"|\",IF($C52:$AZ52=\"|\",\"|\",\"\"))))","v":""},"","","","","","","","","","","","","","","","","","","","","","","","","","","","","","","","","","","","","","","","","","","","","","","","",""]
[null,{"$f":"IF(A53=\"\",\"\",(LARGE('A1'!$B$30:$C$103,(1+SUM(COUNTIF('A1'!$B$30:$C$103,B$6:B53))-(A53*COUNTIF('A1'!$B$30:$C$103,B$7))))))","v":""},{"$f":"IF($C$5:$AZ$5=\"\",\"\",IF($C$5:$AZ$5=\"HOT\",IF(TRANSPOSE('A1'!$B$30:$B$80)=$B54,\"●\",IF(TRANSPOSE('A1'!$C$30:$C$80)=$B54,\"▼\",IF($C53:$AZ53=\"|\",\"|\",\"\"))),IF(TRANSPOSE('A1'!$B$30:$B$80)=$B54,\"●\",IF(TRANSPOSE('A1'!$C$30:$C$80)=$B54,\"▲\",IF($C53:$AZ53=\"|\",\"|\",\"\")))))","v":""},"","","","","","","","","","","","","","","","","","","","","","","","","","","","","","","","","","","","","","","","","","","","","","","","",""]
[{"$f":"IF(A53=\"\",\"\",IF((SUM(IF(FREQUENCY('A1'!$B$30:$C$80,'A1'!$B$30:$C$80)>0,1)))>(A53+1),(A53+1),\"\"))","v":""},{"$f":"IF(A54=\"\",\"\",(LARGE('A1'!$B$30:$C$103,(1+SUM(COUNTIF('A1'!$B$30:$C$103,B$6:B54))-(A54*COUNTIF('A1'!$B$30:$C$103,B$7))))))","v":""},{"$f":"IF($C$5:$AZ$5=\"\",\"\",IF($C$5:$AZ$5=\"HOT\",IF($C54:$AZ54=\"●\",\"|\",IF($C54:$AZ54=\"|\",\"|\",\"\")),IF($C54:$AZ54=\"▲\",\"|\",IF($C54:$AZ54=\"|\",\"|\",\"\"))))","v":""},"","","","","","","","","","","","","","","","","","","","","","","","","","","","","","","","","","","","","","","","","","","","","","","","",""]
[null,{"$f":"IF(A55=\"\",\"\",(LARGE('A1'!$B$30:$C$103,(1+SUM(COUNTIF('A1'!$B$30:$C$103,B$6:B55))-(A55*COUNTIF('A1'!$B$30:$C$103,B$7))))))","v":""},{"$f":"IF($C$5:$AZ$5=\"\",\"\",IF($C$5:$AZ$5=\"HOT\",IF(TRANSPOSE('A1'!$B$30:$B$80)=$B56,\"●\",IF(TRANSPOSE('A1'!$C$30:$C$80)=$B56,\"▼\",IF($C55:$AZ55=\"|\",\"|\",\"\"))),IF(TRANSPOSE('A1'!$B$30:$B$80)=$B56,\"●\",IF(TRANSPOSE('A1'!$C$30:$C$80)=$B56,\"▲\",IF($C55:$AZ55=\"|\",\"|\",\"\")))))","v":""},"","","","","","","","","","","","","","","","","","","","","","","","","","","","","","","","","","","","","","","","","","","","","","","","",""]
[{"$f":"IF(A55=\"\",\"\",IF((SUM(IF(FREQUENCY('A1'!$B$30:$C$80,'A1'!$B$30:$C$80)>0,1)))>(A55+1),(A55+1),\"\"))","v":""},{"$f":"IF(A56=\"\",\"\",(LARGE('A1'!$B$30:$C$103,(1+SUM(COUNTIF('A1'!$B$30:$C$103,B$6:B56))-(A56*COUNTIF('A1'!$B$30:$C$103,B$7))))))","v":""},{"$f":"IF($C$5:$AZ$5=\"\",\"\",IF($C$5:$AZ$5=\"HOT\",IF($C56:$AZ56=\"●\",\"|\",IF($C56:$AZ56=\"|\",\"|\",\"\")),IF($C56:$AZ56=\"▲\",\"|\",IF($C56:$AZ56=\"|\",\"|\",\"\"))))","v":""},"","","","","","","","","","","","","","","","","","","","","","","","","","","","","","","","","","","","","","","","","","","","","","","","",""]
[null,{"$f":"IF(A57=\"\",\"\",(LARGE('A1'!$B$30:$C$103,(1+SUM(COUNTIF('A1'!$B$30:$C$103,B$6:B57))-(A57*COUNTIF('A1'!$B$30:$C$103,B$7))))))","v":""},{"$f":"IF($C$5:$AZ$5=\"\",\"\",IF($C$5:$AZ$5=\"HOT\",IF(TRANSPOSE('A1'!$B$30:$B$80)=$B58,\"●\",IF(TRANSPOSE('A1'!$C$30:$C$80)=$B58,\"▼\",IF($C57:$AZ57=\"|\",\"|\",\"\"))),IF(TRANSPOSE('A1'!$B$30:$B$80)=$B58,\"●\",IF(TRANSPOSE('A1'!$C$30:$C$80)=$B58,\"▲\",IF($C57:$AZ57=\"|\",\"|\",\"\")))))","v":""},"","","","","","","","","","","","","","","","","","","","","","","","","","","","","","","","","","","","","","","","","","","","","","","","",""]
[{"$f":"IF(A57=\"\",\"\",IF((SUM(IF(FREQUENCY('A1'!$B$30:$C$80,'A1'!$B$30:$C$80)>0,1)))>(A57+1),(A57+1),\"\"))","v":""},{"$f":"IF(A58=\"\",\"\",(LARGE('A1'!$B$30:$C$103,(1+SUM(COUNTIF('A1'!$B$30:$C$103,B$6:B58))-(A58*COUNTIF('A1'!$B$30:$C$103,B$7))))))","v":""},{"$f":"IF($C$5:$AZ$5=\"\",\"\",IF($C$5:$AZ$5=\"HOT\",IF($C58:$AZ58=\"●\",\"|\",IF($C58:$AZ58=\"|\",\"|\",\"\")),IF($C58:$AZ58=\"▲\",\"|\",IF($C58:$AZ58=\"|\",\"|\",\"\"))))","v":""},"","","","","","","","","","","","","","","","","","","","","","","","","","","","","","","","","","","","","","","","","","","","","","","","",""]
[null,{"$f":"IF(A59=\"\",\"\",(LARGE('A1'!$B$30:$C$103,(1+SUM(COUNTIF('A1'!$B$30:$C$103,B$6:B59))-(A59*COUNTIF('A1'!$B$30:$C$103,B$7))))))","v":""},{"$f":"IF($C$5:$AZ$5=\"\",\"\",IF($C$5:$AZ$5=\"HOT\",IF(TRANSPOSE('A1'!$B$30:$B$80)=$B60,\"●\",IF(TRANSPOSE('A1'!$C$30:$C$80)=$B60,\"▼\",IF($C59:$AZ59=\"|\",\"|\",\"\"))),IF(TRANSPOSE('A1'!$B$30:$B$80)=$B60,\"●\",IF(TRANSPOSE('A1'!$C$30:$C$80)=$B60,\"▲\",IF($C59:$AZ59=\"|\",\"|\",\"\")))))","v":""},"","","","","","","","","","","","","","","","","","","","","","","","","","","","","","","","","","","","","","","","","","","","","","","","",""]
[{"$f":"IF(A59=\"\",\"\",IF((SUM(IF(FREQUENCY('A1'!$B$30:$C$80,'A1'!$B$30:$C$80)>0,1)))>(A59+1),(A59+1),\"\"))","v":""},{"$f":"IF(A60=\"\",\"\",(LARGE('A1'!$B$30:$C$103,(1+SUM(COUNTIF('A1'!$B$30:$C$103,B$6:B60))-(A60*COUNTIF('A1'!$B$30:$C$103,B$7))))))","v":""},{"$f":"IF($C$5:$AZ$5=\"\",\"\",IF($C$5:$AZ$5=\"HOT\",IF($C60:$AZ60=\"●\",\"|\",IF($C60:$AZ60=\"|\",\"|\",\"\")),IF($C60:$AZ60=\"▲\",\"|\",IF($C60:$AZ60=\"|\",\"|\",\"\"))))","v":""},"","","","","","","","","","","","","","","","","","","","","","","","","","","","","","","","","","","","","","","","","","","","","","","","",""]
[null,{"$f":"IF(A61=\"\",\"\",(LARGE('A1'!$B$30:$C$103,(1+SUM(COUNTIF('A1'!$B$30:$C$103,B$6:B61))-(A61*COUNTIF('A1'!$B$30:$C$103,B$7))))))","v":""},{"$f":"IF($C$5:$AZ$5=\"\",\"\",IF($C$5:$AZ$5=\"HOT\",IF(TRANSPOSE('A1'!$B$30:$B$80)=$B62,\"●\",IF(TRANSPOSE('A1'!$C$30:$C$80)=$B62,\"▼\",IF($C61:$AZ61=\"|\",\"|\",\"\"))),IF(TRANSPOSE('A1'!$B$30:$B$80)=$B62,\"●\",IF(TRANSPOSE('A1'!$C$30:$C$80)=$B62,\"▲\",IF($C61:$AZ61=\"|\",\"|\",\"\")))))","v":""},"","","","","","","","","","","","","","","","","","","","","","","","","","","","","","","","","","","","","","","","","","","","","","","","",""]
[{"$f":"IF(A61=\"\",\"\",IF((SUM(IF(FREQUENCY('A1'!$B$30:$C$80,'A1'!$B$30:$C$80)>0,1)))>(A61+1),(A61+1),\"\"))","v":""},{"$f":"IF(A62=\"\",\"\",(LARGE('A1'!$B$30:$C$103,(1+SUM(COUNTIF('A1'!$B$30:$C$103,B$6:B62))-(A62*COUNTIF('A1'!$B$30:$C$103,B$7))))))","v":""},{"$f":"IF($C$5:$AZ$5=\"\",\"\",IF($C$5:$AZ$5=\"HOT\",IF($C62:$AZ62=\"●\",\"|\",IF($C62:$AZ62=\"|\",\"|\",\"\")),IF($C62:$AZ62=\"▲\",\"|\",IF($C62:$AZ62=\"|\",\"|\",\"\"))))","v":""},"","","","","","","","","","","","","","","","","","","","","","","","","","","","","","","","","","","","","","","","","","","","","","","","",""]
[null,{"$f":"IF(A63=\"\",\"\",(LARGE('A1'!$B$30:$C$103,(1+SUM(COUNTIF('A1'!$B$30:$C$103,B$6:B63))-(A63*COUNTIF('A1'!$B$30:$C$103,B$7))))))","v":""},{"$f":"IF($C$5:$AZ$5=\"\",\"\",IF($C$5:$AZ$5=\"HOT\",IF(TRANSPOSE('A1'!$B$30:$B$80)=$B64,\"●\",IF(TRANSPOSE('A1'!$C$30:$C$80)=$B64,\"▼\",IF($C63:$AZ63=\"|\",\"|\",\"\"))),IF(TRANSPOSE('A1'!$B$30:$B$80)=$B64,\"●\",IF(TRANSPOSE('A1'!$C$30:$C$80)=$B64,\"▲\",IF($C63:$AZ63=\"|\",\"|\",\"\")))))","v":""},"","","","","","","","","","","","","","","","","","","","","","","","","","","","","","","","","","","","","","","","","","","","","","","","",""]
[{"$f":"IF(A63=\"\",\"\",IF((SUM(IF(FREQUENCY('A1'!$B$30:$C$80,'A1'!$B$30:$C$80)>0,1)))>(A63+1),(A63+1),\"\"))","v":""},{"$f":"IF(A64=\"\",\"\",(LARGE('A1'!$B$30:$C$103,(1+SUM(COUNTIF('A1'!$B$30:$C$103,B$6:B64))-(A64*COUNTIF('A1'!$B$30:$C$103,B$7))))))","v":""},{"$f":"IF($C$5:$AZ$5=\"\",\"\",IF($C$5:$AZ$5=\"HOT\",IF($C64:$AZ64=\"●\",\"|\",IF($C64:$AZ64=\"|\",\"|\",\"\")),IF($C64:$AZ64=\"▲\",\"|\",IF($C64:$AZ64=\"|\",\"|\",\"\"))))","v":""},"","","","","","","","","","","","","","","","","","","","","","","","","","","","","","","","","","","","","","","","","","","","","","","","",""]
[null,{"$f":"IF(A65=\"\",\"\",(LARGE('A1'!$B$30:$C$103,(1+SUM(COUNTIF('A1'!$B$30:$C$103,B$6:B65))-(A65*COUNTIF('A1'!$B$30:$C$103,B$7))))))","v":""},{"$f":"IF($C$5:$AZ$5=\"\",\"\",IF($C$5:$AZ$5=\"HOT\",IF(TRANSPOSE('A1'!$B$30:$B$80)=$B66,\"●\",IF(TRANSPOSE('A1'!$C$30:$C$80)=$B66,\"▼\",IF($C65:$AZ65=\"|\",\"|\",\"\"))),IF(TRANSPOSE('A1'!$B$30:$B$80)=$B66,\"●\",IF(TRANSPOSE('A1'!$C$30:$C$80)=$B66,\"▲\",IF($C65:$AZ65=\"|\",\"|\",\"\")))))","v":""},"","","","","","","","","","","","","","","","","","","","","","","","","","","","","","","","","","","","","","","","","","","","","","","","",""]
[{"$f":"IF(A65=\"\",\"\",IF((SUM(IF(FREQUENCY('A1'!$B$30:$C$80,'A1'!$B$30:$C$80)>0,1)))>(A65+1),(A65+1),\"\"))","v":""},{"$f":"IF(A66=\"\",\"\",(LARGE('A1'!$B$30:$C$103,(1+SUM(COUNTIF('A1'!$B$30:$C$103,B$6:B66))-(A66*COUNTIF('A1'!$B$30:$C$103,B$7))))))","v":""},{"$f":"IF($C$5:$AZ$5=\"\",\"\",IF($C$5:$AZ$5=\"HOT\",IF($C66:$AZ66=\"●\",\"|\",IF($C66:$AZ66=\"|\",\"|\",\"\")),IF($C66:$AZ66=\"▲\",\"|\",IF($C66:$AZ66=\"|\",\"|\",\"\"))))","v":""},"","","","","","","","","","","","","","","","","","","","","","","","","","","","","","","","","","","","","","","","","","","","","","","","",""]
[null,{"$f":"IF(A67=\"\",\"\",(LARGE('A1'!$B$30:$C$103,(1+SUM(COUNTIF('A1'!$B$30:$C$103,B$6:B67))-(A67*COUNTIF('A1'!$B$30:$C$103,B$7))))))","v":""},{"$f":"IF($C$5:$AZ$5=\"\",\"\",IF($C$5:$AZ$5=\"HOT\",IF(TRANSPOSE('A1'!$B$30:$B$80)=$B68,\"●\",IF(TRANSPOSE('A1'!$C$30:$C$80)=$B68,\"▼\",IF($C67:$AZ67=\"|\",\"|\",\"\"))),IF(TRANSPOSE('A1'!$B$30:$B$80)=$B68,\"●\",IF(TRANSPOSE('A1'!$C$30:$C$80)=$B68,\"▲\",IF($C67:$AZ67=\"|\",\"|\",\"\")))))","v":""},"","","","","","","","","","","","","","","","","","","","","","","","","","","","","","","","","","","","","","","","","","","","","","","","",""]
[{"$f":"IF(A67=\"\",\"\",IF((SUM(IF(FREQUENCY('A1'!$B$30:$C$80,'A1'!$B$30:$C$80)>0,1)))>(A67+1),(A67+1),\"\"))","v":""},{"$f":"IF(A68=\"\",\"\",(LARGE('A1'!$B$30:$C$103,(1+SUM(COUNTIF('A1'!$B$30:$C$103,B$6:B68))-(A68*COUNTIF('A1'!$B$30:$C$103,B$7))))))","v":""},{"$f":"IF($C$5:$AZ$5=\"\",\"\",IF($C$5:$AZ$5=\"HOT\",IF($C68:$AZ68=\"●\",\"|\",IF($C68:$AZ68=\"|\",\"|\",\"\")),IF($C68:$AZ68=\"▲\",\"|\",IF($C68:$AZ68=\"|\",\"|\",\"\"))))","v":""},"","","","","","","","","","","","","","","","","","","","","","","","","","","","","","","","","","","","","","","","","","","","","","","","",""]
[null,{"$f":"IF(A69=\"\",\"\",(LARGE('A1'!$B$30:$C$103,(1+SUM(COUNTIF('A1'!$B$30:$C$103,B$6:B69))-(A69*COUNTIF('A1'!$B$30:$C$103,B$7))))))","v":""},{"$f":"IF($C$5:$AZ$5=\"\",\"\",IF($C$5:$AZ$5=\"HOT\",IF(TRANSPOSE('A1'!$B$30:$B$80)=$B70,\"●\",IF(TRANSPOSE('A1'!$C$30:$C$80)=$B70,\"▼\",IF($C69:$AZ69=\"|\",\"|\",\"\"))),IF(TRANSPOSE('A1'!$B$30:$B$80)=$B70,\"●\",IF(TRANSPOSE('A1'!$C$30:$C$80)=$B70,\"▲\",IF($C69:$AZ69=\"|\",\"|\",\"\")))))","v":""},"","","","","","","","","","","","","","","","","","","","","","","","","","","","","","","","","","","","","","","","","","","","","","","","",""]
[{"$f":"IF(A69=\"\",\"\",IF((SUM(IF(FREQUENCY('A1'!$B$30:$C$80,'A1'!$B$30:$C$80)>0,1)))>(A69+1),(A69+1),\"\"))","v":""},{"$f":"IF(A70=\"\",\"\",(LARGE('A1'!$B$30:$C$103,(1+SUM(COUNTIF('A1'!$B$30:$C$103,B$6:B70))-(A70*COUNTIF('A1'!$B$30:$C$103,B$7))))))","v":""},{"$f":"IF($C$5:$AZ$5=\"\",\"\",IF($C$5:$AZ$5=\"HOT\",IF($C70:$AZ70=\"●\",\"|\",IF($C70:$AZ70=\"|\",\"|\",\"\")),IF($C70:$AZ70=\"▲\",\"|\",IF($C70:$AZ70=\"|\",\"|\",\"\"))))","v":""},"","","","","","","","","","","","","","","","","","","","","","","","","","","","","","","","","","","","","","","","","","","","","","","","",""]
[null,{"$f":"IF(A71=\"\",\"\",(LARGE('A1'!$B$30:$C$103,(1+SUM(COUNTIF('A1'!$B$30:$C$103,B$6:B71))-(A71*COUNTIF('A1'!$B$30:$C$103,B$7))))))","v":""},{"$f":"IF($C$5:$AZ$5=\"\",\"\",IF($C$5:$AZ$5=\"HOT\",IF(TRANSPOSE('A1'!$B$30:$B$80)=$B72,\"●\",IF(TRANSPOSE('A1'!$C$30:$C$80)=$B72,\"▼\",IF($C71:$AZ71=\"|\",\"|\",\"\"))),IF(TRANSPOSE('A1'!$B$30:$B$80)=$B72,\"●\",IF(TRANSPOSE('A1'!$C$30:$C$80)=$B72,\"▲\",IF($C71:$AZ71=\"|\",\"|\",\"\")))))","v":""},"","","","","","","","","","","","","","","","","","","","","","","","","","","","","","","","","","","","","","","","","","","","","","","","",""]
[{"$f":"IF(A71=\"\",\"\",IF((SUM(IF(FREQUENCY('A1'!$B$30:$C$80,'A1'!$B$30:$C$80)>0,1)))>(A71+1),(A71+1),\"\"))","v":""},{"$f":"IF(A72=\"\",\"\",(LARGE('A1'!$B$30:$C$103,(1+SUM(COUNTIF('A1'!$B$30:$C$103,B$6:B72))-(A72*COUNTIF('A1'!$B$30:$C$103,B$7))))))","v":""},{"$f":"IF($C$5:$AZ$5=\"\",\"\",IF($C$5:$AZ$5=\"HOT\",IF($C72:$AZ72=\"●\",\"|\",IF($C72:$AZ72=\"|\",\"|\",\"\")),IF($C72:$AZ72=\"▲\",\"|\",IF($C72:$AZ72=\"|\",\"|\",\"\"))))","v":""},"","","","","","","","","","","","","","","","","","","","","","","","","","","","","","","","","","","","","","","","","","","","","","","","",""]
[null,{"$f":"IF(A73=\"\",\"\",(LARGE('A1'!$B$30:$C$103,(1+SUM(COUNTIF('A1'!$B$30:$C$103,B$6:B73))-(A73*COUNTIF('A1'!$B$30:$C$103,B$7))))))","v":""},{"$f":"IF($C$5:$AZ$5=\"\",\"\",IF($C$5:$AZ$5=\"HOT\",IF(TRANSPOSE('A1'!$B$30:$B$80)=$B74,\"●\",IF(TRANSPOSE('A1'!$C$30:$C$80)=$B74,\"▼\",IF($C73:$AZ73=\"|\",\"|\",\"\"))),IF(TRANSPOSE('A1'!$B$30:$B$80)=$B74,\"●\",IF(TRANSPOSE('A1'!$C$30:$C$80)=$B74,\"▲\",IF($C73:$AZ73=\"|\",\"|\",\"\")))))","v":""},"","","","","","","","","","","","","","","","","","","","","","","","","","","","","","","","","","","","","","","","","","","","","","","","",""]
[{"$f":"IF(A73=\"\",\"\",IF((SUM(IF(FREQUENCY('A1'!$B$30:$C$80,'A1'!$B$30:$C$80)>0,1)))>(A73+1),(A73+1),\"\"))","v":""},{"$f":"IF(A74=\"\",\"\",(LARGE('A1'!$B$30:$C$103,(1+SUM(COUNTIF('A1'!$B$30:$C$103,B$6:B74))-(A74*COUNTIF('A1'!$B$30:$C$103,B$7))))))","v":""},{"$f":"IF($C$5:$AZ$5=\"\",\"\",IF($C$5:$AZ$5=\"HOT\",IF($C74:$AZ74=\"●\",\"|\",IF($C74:$AZ74=\"|\",\"|\",\"\")),IF($C74:$AZ74=\"▲\",\"|\",IF($C74:$AZ74=\"|\",\"|\",\"\"))))","v":""},"","","","","","","","","","","","","","","","","","","","","","","","","","","","","","","","","","","","","","","","","","","","","","","","",""]
[null,{"$f":"IF(A75=\"\",\"\",(LARGE('A1'!$B$30:$C$103,(1+SUM(COUNTIF('A1'!$B$30:$C$103,B$6:B75))-(A75*COUNTIF('A1'!$B$30:$C$103,B$7))))))","v":""},{"$f":"IF($C$5:$AZ$5=\"\",\"\",IF($C$5:$AZ$5=\"HOT\",IF(TRANSPOSE('A1'!$B$30:$B$80)=$B76,\"●\",IF(TRANSPOSE('A1'!$C$30:$C$80)=$B76,\"▼\",IF($C75:$AZ75=\"|\",\"|\",\"\"))),IF(TRANSPOSE('A1'!$B$30:$B$80)=$B76,\"●\",IF(TRANSPOSE('A1'!$C$30:$C$80)=$B76,\"▲\",IF($C75:$AZ75=\"|\",\"|\",\"\")))))","v":""},"","","","","","","","","","","","","","","","","","","","","","","","","","","","","","","","","","","","","","","","","","","","","","","","",""]
[{"$f":"IF(A75=\"\",\"\",IF((SUM(IF(FREQUENCY('A1'!$B$30:$C$80,'A1'!$B$30:$C$80)>0,1)))>(A75+1),(A75+1),\"\"))","v":""},{"$f":"IF(A76=\"\",\"\",(LARGE('A1'!$B$30:$C$103,(1+SUM(COUNTIF('A1'!$B$30:$C$103,B$6:B76))-(A76*COUNTIF('A1'!$B$30:$C$103,B$7))))))","v":""},{"$f":"IF($C$5:$AZ$5=\"\",\"\",IF($C$5:$AZ$5=\"HOT\",IF($C76:$AZ76=\"●\",\"|\",IF($C76:$AZ76=\"|\",\"|\",\"\")),IF($C76:$AZ76=\"▲\",\"|\",IF($C76:$AZ76=\"|\",\"|\",\"\"))))","v":""},"","","","","","","","","","","","","","","","","","","","","","","","","","","","","","","","","","","","","","","","","","","","","","","","",""]
[null,{"$f":"IF(A77=\"\",\"\",(LARGE('A1'!$B$30:$C$103,(1+SUM(COUNTIF('A1'!$B$30:$C$103,B$6:B77))-(A77*COUNTIF('A1'!$B$30:$C$103,B$7))))))","v":""},{"$f":"IF($C$5:$AZ$5=\"\",\"\",IF($C$5:$AZ$5=\"HOT\",IF(TRANSPOSE('A1'!$B$30:$B$80)=$B78,\"●\",IF(TRANSPOSE('A1'!$C$30:$C$80)=$B78,\"▼\",IF($C77:$AZ77=\"|\",\"|\",\"\"))),IF(TRANSPOSE('A1'!$B$30:$B$80)=$B78,\"●\",IF(TRANSPOSE('A1'!$C$30:$C$80)=$B78,\"▲\",IF($C77:$AZ77=\"|\",\"|\",\"\")))))","v":""},"","","","","","","","","","","","","","","","","","","","","","","","","","","","","","","","","","","","","","","","","","","","","","","","",""]
[{"$f":"IF(A77=\"\",\"\",IF((SUM(IF(FREQUENCY('A1'!$B$30:$C$80,'A1'!$B$30:$C$80)>0,1)))>(A77+1),(A77+1),\"\"))","v":""},{"$f":"IF(A78=\"\",\"\",(LARGE('A1'!$B$30:$C$103,(1+SUM(COUNTIF('A1'!$B$30:$C$103,B$6:B78))-(A78*COUNTIF('A1'!$B$30:$C$103,B$7))))))","v":""},{"$f":"IF($C$5:$AZ$5=\"\",\"\",IF($C$5:$AZ$5=\"HOT\",IF($C78:$AZ78=\"●\",\"|\",IF($C78:$AZ78=\"|\",\"|\",\"\")),IF($C78:$AZ78=\"▲\",\"|\",IF($C78:$AZ78=\"|\",\"|\",\"\"))))","v":""},"","","","","","","","","","","","","","","","","","","","","","","","","","","","","","","","","","","","","","","","","","","","","","","","",""]
[null,{"$f":"IF(A79=\"\",\"\",(LARGE('A1'!$B$30:$C$103,(1+SUM(COUNTIF('A1'!$B$30:$C$103,B$6:B79))-(A79*COUNTIF('A1'!$B$30:$C$103,B$7))))))","v":""},{"$f":"IF($C$5:$AZ$5=\"\",\"\",IF($C$5:$AZ$5=\"HOT\",IF(TRANSPOSE('A1'!$B$30:$B$80)=$B80,\"●\",IF(TRANSPOSE('A1'!$C$30:$C$80)=$B80,\"▼\",IF($C79:$AZ79=\"|\",\"|\",\"\"))),IF(TRANSPOSE('A1'!$B$30:$B$80)=$B80,\"●\",IF(TRANSPOSE('A1'!$C$30:$C$80)=$B80,\"▲\",IF($C79:$AZ79=\"|\",\"|\",\"\")))))","v":""},"","","","","","","","","","","","","","","","","","","","","","","","","","","","","","","","","","","","","","","","","","","","","","","","",""]
[{"$f":"IF(A79=\"\",\"\",IF((SUM(IF(FREQUENCY('A1'!$B$30:$C$80,'A1'!$B$30:$C$80)>0,1)))>(A79+1),(A79+1),\"\"))","v":""},{"$f":"IF(A80=\"\",\"\",(LARGE('A1'!$B$30:$C$103,(1+SUM(COUNTIF('A1'!$B$30:$C$103,B$6:B80))-(A80*COUNTIF('A1'!$B$30:$C$103,B$7))))))","v":""},{"$f":"IF($C$5:$AZ$5=\"\",\"\",IF($C$5:$AZ$5=\"HOT\",IF($C80:$AZ80=\"●\",\"|\",IF($C80:$AZ80=\"|\",\"|\",\"\")),IF($C80:$AZ80=\"▲\",\"|\",IF($C80:$AZ80=\"|\",\"|\",\"\"))))","v":""},"","","","","","","","","","","","","","","","","","","","","","","","","","","","","","","","","","","","","","","","","","","","","","","","",""]
[null,{"$f":"IF(A81=\"\",\"\",(LARGE('A1'!$B$30:$C$103,(1+SUM(COUNTIF('A1'!$B$30:$C$103,B$6:B81))-(A81*COUNTIF('A1'!$B$30:$C$103,B$7))))))","v":""},{"$f":"IF($C$5:$AZ$5=\"\",\"\",IF($C$5:$AZ$5=\"HOT\",IF(TRANSPOSE('A1'!$B$30:$B$80)=$B82,\"●\",IF(TRANSPOSE('A1'!$C$30:$C$80)=$B82,\"▼\",IF($C81:$AZ81=\"|\",\"|\",\"\"))),IF(TRANSPOSE('A1'!$B$30:$B$80)=$B82,\"●\",IF(TRANSPOSE('A1'!$C$30:$C$80)=$B82,\"▲\",IF($C81:$AZ81=\"|\",\"|\",\"\")))))","v":""},"","","","","","","","","","","","","","","","","","","","","","","","","","","","","","","","","","","","","","","","","","","","","","","","",""]
[{"$f":"IF(A81=\"\",\"\",IF((SUM(IF(FREQUENCY('A1'!$B$30:$C$80,'A1'!$B$30:$C$80)>0,1)))>(A81+1),(A81+1),\"\"))","v":""},{"$f":"IF(A82=\"\",\"\",(LARGE('A1'!$B$30:$C$103,(1+SUM(COUNTIF('A1'!$B$30:$C$103,B$6:B82))-(A82*COUNTIF('A1'!$B$30:$C$103,B$7))))))","v":""},{"$f":"IF($C$5:$AZ$5=\"\",\"\",IF($C$5:$AZ$5=\"HOT\",IF($C82:$AZ82=\"●\",\"|\",IF($C82:$AZ82=\"|\",\"|\",\"\")),IF($C82:$AZ82=\"▲\",\"|\",IF($C82:$AZ82=\"|\",\"|\",\"\"))))","v":""},"","","","","","","","","","","","","","","","","","","","","","","","","","","","","","","","","","","","","","","","","","","","","","","","",""]
[null,{"$f":"IF(A83=\"\",\"\",(LARGE('A1'!$B$30:$C$103,(1+SUM(COUNTIF('A1'!$B$30:$C$103,B$6:B83))-(A83*COUNTIF('A1'!$B$30:$C$103,B$7))))))","v":""},{"$f":"IF($C$5:$AZ$5=\"\",\"\",IF($C$5:$AZ$5=\"HOT\",IF(TRANSPOSE('A1'!$B$30:$B$80)=$B84,\"●\",IF(TRANSPOSE('A1'!$C$30:$C$80)=$B84,\"▼\",IF($C83:$AZ83=\"|\",\"|\",\"\"))),IF(TRANSPOSE('A1'!$B$30:$B$80)=$B84,\"●\",IF(TRANSPOSE('A1'!$C$30:$C$80)=$B84,\"▲\",IF($C83:$AZ83=\"|\",\"|\",\"\")))))","v":""},"","","","","","","","","","","","","","","","","","","","","","","","","","","","","","","","","","","","","","","","","","","","","","","","",""]
[{"$f":"IF(A83=\"\",\"\",IF((SUM(IF(FREQUENCY('A1'!$B$30:$C$80,'A1'!$B$30:$C$80)>0,1)))>(A83+1),(A83+1),\"\"))","v":""},{"$f":"IF(A84=\"\",\"\",(LARGE('A1'!$B$30:$C$103,(1+SUM(COUNTIF('A1'!$B$30:$C$103,B$6:B84))-(A84*COUNTIF('A1'!$B$30:$C$103,B$7))))))","v":""},{"$f":"IF($C$5:$AZ$5=\"\",\"\",IF($C$5:$AZ$5=\"HOT\",IF($C84:$AZ84=\"●\",\"|\",IF($C84:$AZ84=\"|\",\"|\",\"\")),IF($C84:$AZ84=\"▲\",\"|\",IF($C84:$AZ84=\"|\",\"|\",\"\"))))","v":""},"","","","","","","","","","","","","","","","","","","","","","","","","","","","","","","","","","","","","","","","","","","","","","","","",""]
[null,{"$f":"IF(A85=\"\",\"\",(LARGE('A1'!$B$30:$C$103,(1+SUM(COUNTIF('A1'!$B$30:$C$103,B$6:B85))-(A85*COUNTIF('A1'!$B$30:$C$103,B$7))))))","v":""},{"$f":"IF($C$5:$AZ$5=\"\",\"\",IF($C$5:$AZ$5=\"HOT\",IF(TRANSPOSE('A1'!$B$30:$B$80)=$B86,\"●\",IF(TRANSPOSE('A1'!$C$30:$C$80)=$B86,\"▼\",IF($C85:$AZ85=\"|\",\"|\",\"\"))),IF(TRANSPOSE('A1'!$B$30:$B$80)=$B86,\"●\",IF(TRANSPOSE('A1'!$C$30:$C$80)=$B86,\"▲\",IF($C85:$AZ85=\"|\",\"|\",\"\")))))","v":""},"","","","","","","","","","","","","","","","","","","","","","","","","","","","","","","","","","","","","","","","","","","","","","","","",""]
[{"$f":"IF(A85=\"\",\"\",IF((SUM(IF(FREQUENCY('A1'!$B$30:$C$80,'A1'!$B$30:$C$80)>0,1)))>(A85+1),(A85+1),\"\"))","v":""},{"$f":"IF(A86=\"\",\"\",(LARGE('A1'!$B$30:$C$103,(1+SUM(COUNTIF('A1'!$B$30:$C$103,B$6:B86))-(A86*COUNTIF('A1'!$B$30:$C$103,B$7))))))","v":""},{"$f":"IF($C$5:$AZ$5=\"\",\"\",IF($C$5:$AZ$5=\"HOT\",IF($C86:$AZ86=\"●\",\"|\",IF($C86:$AZ86=\"|\",\"|\",\"\")),IF($C86:$AZ86=\"▲\",\"|\",IF($C86:$AZ86=\"|\",\"|\",\"\"))))","v":""},"","","","","","","","","","","","","","","","","","","","","","","","","","","","","","","","","","","","","","","","","","","","","","","","",""]
[null,{"$f":"IF(A87=\"\",\"\",(LARGE('A1'!$B$30:$C$103,(1+SUM(COUNTIF('A1'!$B$30:$C$103,B$6:B87))-(A87*COUNTIF('A1'!$B$30:$C$103,B$7))))))","v":""},{"$f":"IF($C$5:$AZ$5=\"\",\"\",IF($C$5:$AZ$5=\"HOT\",IF(TRANSPOSE('A1'!$B$30:$B$80)=$B88,\"●\",IF(TRANSPOSE('A1'!$C$30:$C$80)=$B88,\"▼\",IF($C87:$AZ87=\"|\",\"|\",\"\"))),IF(TRANSPOSE('A1'!$B$30:$B$80)=$B88,\"●\",IF(TRANSPOSE('A1'!$C$30:$C$80)=$B88,\"▲\",IF($C87:$AZ87=\"|\",\"|\",\"\")))))","v":""},"","","","","","","","","","","","","","","","","","","","","","","","","","","","","","","","","","","","","","","","","","","","","","","","",""]
[{"$f":"IF(A87=\"\",\"\",IF((SUM(IF(FREQUENCY('A1'!$B$30:$C$80,'A1'!$B$30:$C$80)>0,1)))>(A87+1),(A87+1),\"\"))","v":""},{"$f":"IF(A88=\"\",\"\",(LARGE('A1'!$B$30:$C$103,(1+SUM(COUNTIF('A1'!$B$30:$C$103,B$6:B88))-(A88*COUNTIF('A1'!$B$30:$C$103,B$7))))))","v":""},{"$f":"IF($C$5:$AZ$5=\"\",\"\",IF($C$5:$AZ$5=\"HOT\",IF($C88:$AZ88=\"●\",\"|\",IF($C88:$AZ88=\"|\",\"|\",\"\")),IF($C88:$AZ88=\"▲\",\"|\",IF($C88:$AZ88=\"|\",\"|\",\"\"))))","v":""},"","","","","","","","","","","","","","","","","","","","","","","","","","","","","","","","","","","","","","","","","","","","","","","","",""]
[null,{"$f":"IF(A89=\"\",\"\",(LARGE('A1'!$B$30:$C$103,(1+SUM(COUNTIF('A1'!$B$30:$C$103,B$6:B89))-(A89*COUNTIF('A1'!$B$30:$C$103,B$7))))))","v":""},{"$f":"IF($C$5:$AZ$5=\"\",\"\",IF($C$5:$AZ$5=\"HOT\",IF(TRANSPOSE('A1'!$B$30:$B$80)=$B90,\"●\",IF(TRANSPOSE('A1'!$C$30:$C$80)=$B90,\"▼\",IF($C89:$AZ89=\"|\",\"|\",\"\"))),IF(TRANSPOSE('A1'!$B$30:$B$80)=$B90,\"●\",IF(TRANSPOSE('A1'!$C$30:$C$80)=$B90,\"▲\",IF($C89:$AZ89=\"|\",\"|\",\"\")))))","v":""},"","","","","","","","","","","","","","","","","","","","","","","","","","","","","","","","","","","","","","","","","","","","","","","","",""]
[{"$f":"IF(A89=\"\",\"\",IF((SUM(IF(FREQUENCY('A1'!$B$30:$C$80,'A1'!$B$30:$C$80)>0,1)))>(A89+1),(A89+1),\"\"))","v":""},{"$f":"IF(A90=\"\",\"\",(LARGE('A1'!$B$30:$C$103,(1+SUM(COUNTIF('A1'!$B$30:$C$103,B$6:B90))-(A90*COUNTIF('A1'!$B$30:$C$103,B$7))))))","v":""},{"$f":"IF($C$5:$AZ$5=\"\",\"\",IF($C$5:$AZ$5=\"HOT\",IF($C90:$AZ90=\"●\",\"|\",IF($C90:$AZ90=\"|\",\"|\",\"\")),IF($C90:$AZ90=\"▲\",\"|\",IF($C90:$AZ90=\"|\",\"|\",\"\"))))","v":""},"","","","","","","","","","","","","","","","","","","","","","","","","","","","","","","","","","","","","","","","","","","","","","","","",""]
[null,{"$f":"IF(A91=\"\",\"\",(LARGE('A1'!$B$30:$C$103,(1+SUM(COUNTIF('A1'!$B$30:$C$103,B$6:B91))-(A91*COUNTIF('A1'!$B$30:$C$103,B$7))))))","v":""},{"$f":"IF($C$5:$AZ$5=\"\",\"\",IF($C$5:$AZ$5=\"HOT\",IF(TRANSPOSE('A1'!$B$30:$B$80)=$B92,\"●\",IF(TRANSPOSE('A1'!$C$30:$C$80)=$B92,\"▼\",IF($C91:$AZ91=\"|\",\"|\",\"\"))),IF(TRANSPOSE('A1'!$B$30:$B$80)=$B92,\"●\",IF(TRANSPOSE('A1'!$C$30:$C$80)=$B92,\"▲\",IF($C91:$AZ91=\"|\",\"|\",\"\")))))","v":""},"","","","","","","","","","","","","","","","","","","","","","","","","","","","","","","","","","","","","","","","","","","","","","","","",""]
[{"$f":"IF(A91=\"\",\"\",IF((SUM(IF(FREQUENCY('A1'!$B$30:$C$80,'A1'!$B$30:$C$80)>0,1)))>(A91+1),(A91+1),\"\"))","v":""},{"$f":"IF(A92=\"\",\"\",(LARGE('A1'!$B$30:$C$103,(1+SUM(COUNTIF('A1'!$B$30:$C$103,B$6:B92))-(A92*COUNTIF('A1'!$B$30:$C$103,B$7))))))","v":""},{"$f":"IF($C$5:$AZ$5=\"\",\"\",IF($C$5:$AZ$5=\"HOT\",IF($C92:$AZ92=\"●\",\"|\",IF($C92:$AZ92=\"|\",\"|\",\"\")),IF($C92:$AZ92=\"▲\",\"|\",IF($C92:$AZ92=\"|\",\"|\",\"\"))))","v":""},"","","","","","","","","","","","","","","","","","","","","","","","","","","","","","","","","","","","","","","","","","","","","","","","",""]
[null,{"$f":"IF(A93=\"\",\"\",(LARGE('A1'!$B$30:$C$103,(1+SUM(COUNTIF('A1'!$B$30:$C$103,B$6:B93))-(A93*COUNTIF('A1'!$B$30:$C$103,B$7))))))","v":""},{"$f":"IF($C$5:$AZ$5=\"\",\"\",IF($C$5:$AZ$5=\"HOT\",IF(TRANSPOSE('A1'!$B$30:$B$80)=$B94,\"●\",IF(TRANSPOSE('A1'!$C$30:$C$80)=$B94,\"▼\",IF($C93:$AZ93=\"|\",\"|\",\"\"))),IF(TRANSPOSE('A1'!$B$30:$B$80)=$B94,\"●\",IF(TRANSPOSE('A1'!$C$30:$C$80)=$B94,\"▲\",IF($C93:$AZ93=\"|\",\"|\",\"\")))))","v":""},"","","","","","","","","","","","","","","","","","","","","","","","","","","","","","","","","","","","","","","","","","","","","","","","",""]
[{"$f":"IF(A93=\"\",\"\",IF((SUM(IF(FREQUENCY('A1'!$B$30:$C$80,'A1'!$B$30:$C$80)>0,1)))>(A93+1),(A93+1),\"\"))","v":""},{"$f":"IF(A94=\"\",\"\",(LARGE('A1'!$B$30:$C$103,(1+SUM(COUNTIF('A1'!$B$30:$C$103,B$6:B94))-(A94*COUNTIF('A1'!$B$30:$C$103,B$7))))))","v":""},{"$f":"IF($C$5:$AZ$5=\"\",\"\",IF($C$5:$AZ$5=\"HOT\",IF($C94:$AZ94=\"●\",\"|\",IF($C94:$AZ94=\"|\",\"|\",\"\")),IF($C94:$AZ94=\"▲\",\"|\",IF($C94:$AZ94=\"|\",\"|\",\"\"))))","v":""},"","","","","","","","","","","","","","","","","","","","","","","","","","","","","","","","","","","","","","","","","","","","","","","","",""]
[null,{"$f":"IF(A95=\"\",\"\",(LARGE('A1'!$B$30:$C$103,(1+SUM(COUNTIF('A1'!$B$30:$C$103,B$6:B95))-(A95*COUNTIF('A1'!$B$30:$C$103,B$7))))))","v":""},{"$f":"IF($C$5:$AZ$5=\"\",\"\",IF($C$5:$AZ$5=\"HOT\",IF(TRANSPOSE('A1'!$B$30:$B$80)=$B96,\"●\",IF(TRANSPOSE('A1'!$C$30:$C$80)=$B96,\"▼\",IF($C95:$AZ95=\"|\",\"|\",\"\"))),IF(TRANSPOSE('A1'!$B$30:$B$80)=$B96,\"●\",IF(TRANSPOSE('A1'!$C$30:$C$80)=$B96,\"▲\",IF($C95:$AZ95=\"|\",\"|\",\"\")))))","v":""},"","","","","","","","","","","","","","","","","","","","","","","","","","","","","","","","","","","","","","","","","","","","","","","","",""]
[{"$f":"IF(A95=\"\",\"\",IF((SUM(IF(FREQUENCY('A1'!$B$30:$C$80,'A1'!$B$30:$C$80)>0,1)))>(A95+1),(A95+1),\"\"))","v":""},{"$f":"IF(A96=\"\",\"\",(LARGE('A1'!$B$30:$C$103,(1+SUM(COUNTIF('A1'!$B$30:$C$103,B$6:B96))-(A96*COUNTIF('A1'!$B$30:$C$103,B$7))))))","v":""},{"$f":"IF($C$5:$AZ$5=\"\",\"\",IF($C$5:$AZ$5=\"HOT\",IF($C96:$AZ96=\"●\",\"|\",IF($C96:$AZ96=\"|\",\"|\",\"\")),IF($C96:$AZ96=\"▲\",\"|\",IF($C96:$AZ96=\"|\",\"|\",\"\"))))","v":""},"","","","","","","","","","","","","","","","","","","","","","","","","","","","","","","","","","","","","","","","","","","","","","","","",""]
[null,{"$f":"IF(A97=\"\",\"\",(LARGE('A1'!$B$30:$C$103,(1+SUM(COUNTIF('A1'!$B$30:$C$103,B$6:B97))-(A97*COUNTIF('A1'!$B$30:$C$103,B$7))))))","v":""},{"$f":"IF($C$5:$AZ$5=\"\",\"\",IF($C$5:$AZ$5=\"HOT\",IF(TRANSPOSE('A1'!$B$30:$B$80)=$B98,\"●\",IF(TRANSPOSE('A1'!$C$30:$C$80)=$B98,\"▼\",IF($C97:$AZ97=\"|\",\"|\",\"\"))),IF(TRANSPOSE('A1'!$B$30:$B$80)=$B98,\"●\",IF(TRANSPOSE('A1'!$C$30:$C$80)=$B98,\"▲\",IF($C97:$AZ97=\"|\",\"|\",\"\")))))","v":""},"","","","","","","","","","","","","","","","","","","","","","","","","","","","","","","","","","","","","","","","","","","","","","","","",""]
[{"$f":"IF(A97=\"\",\"\",IF((SUM(IF(FREQUENCY('A1'!$B$30:$C$80,'A1'!$B$30:$C$80)>0,1)))>(A97+1),(A97+1),\"\"))","v":""},{"$f":"IF(A98=\"\",\"\",(LARGE('A1'!$B$30:$C$103,(1+SUM(COUNTIF('A1'!$B$30:$C$103,B$6:B98))-(A98*COUNTIF('A1'!$B$30:$C$103,B$7))))))","v":""},{"$f":"IF($C$5:$AZ$5=\"\",\"\",IF($C$5:$AZ$5=\"HOT\",IF($C98:$AZ98=\"●\",\"|\",IF($C98:$AZ98=\"|\",\"|\",\"\")),IF($C98:$AZ98=\"▲\",\"|\",IF($C98:$AZ98=\"|\",\"|\",\"\"))))","v":""},"","","","","","","","","","","","","","","","","","","","","","","","","","","","","","","","","","","","","","","","","","","","","","","","",""]
[null,{"$f":"IF(A99=\"\",\"\",(LARGE('A1'!$B$30:$C$103,(1+SUM(COUNTIF('A1'!$B$30:$C$103,B$6:B99))-(A99*COUNTIF('A1'!$B$30:$C$103,B$7))))))","v":""},{"$f":"IF($C$5:$AZ$5=\"\",\"\",IF($C$5:$AZ$5=\"HOT\",IF(TRANSPOSE('A1'!$B$30:$B$80)=$B100,\"●\",IF(TRANSPOSE('A1'!$C$30:$C$80)=$B100,\"▼\",IF($C99:$AZ99=\"|\",\"|\",\"\"))),IF(TRANSPOSE('A1'!$B$30:$B$80)=$B100,\"●\",IF(TRANSPOSE('A1'!$C$30:$C$80)=$B100,\"▲\",IF($C99:$AZ99=\"|\",\"|\",\"\")))))","v":""},"","","","","","","","","","","","","","","","","","","","","","","","","","","","","","","","","","","","","","","","","","","","","","","","",""]
[{"$f":"IF(A99=\"\",\"\",IF((SUM(IF(FREQUENCY('A1'!$B$30:$C$80,'A1'!$B$30:$C$80)>0,1)))>(A99+1),(A99+1),\"\"))","v":""},{"$f":"IF(A100=\"\",\"\",(LARGE('A1'!$B$30:$C$103,(1+SUM(COUNTIF('A1'!$B$30:$C$103,B$6:B100))-(A100*COUNTIF('A1'!$B$30:$C$103,B$7))))))","v":""},{"$f":"IF($C$5:$AZ$5=\"\",\"\",IF($C$5:$AZ$5=\"HOT\",IF($C100:$AZ100=\"●\",\"|\",IF($C100:$AZ100=\"|\",\"|\",\"\")),IF($C100:$AZ100=\"▲\",\"|\",IF($C100:$AZ100=\"|\",\"|\",\"\"))))","v":""},"","","","","","","","","","","","","","","","","","","","","","","","","","","","","","","","","","","","","","","","","","","","","","","","",""]
[null,{"$f":"IF(A101=\"\",\"\",(LARGE('A1'!$B$30:$C$103,(1+SUM(COUNTIF('A1'!$B$30:$C$103,B$6:B101))-(A101*COUNTIF('A1'!$B$30:$C$103,B$7))))))","v":""},{"$f":"IF($C$5:$AZ$5=\"\",\"\",IF($C$5:$AZ$5=\"HOT\",IF(TRANSPOSE('A1'!$B$30:$B$80)=$B102,\"●\",IF(TRANSPOSE('A1'!$C$30:$C$80)=$B102,\"▼\",IF($C101:$AZ101=\"|\",\"|\",\"\"))),IF(TRANSPOSE('A1'!$B$30:$B$80)=$B102,\"●\",IF(TRANSPOSE('A1'!$C$30:$C$80)=$B102,\"▲\",IF($C101:$AZ101=\"|\",\"|\",\"\")))))","v":""},"","","","","","","","","","","","","","","","","","","","","","","","","","","","","","","","","","","","","","","","","","","","","","","","",""]
[{"$f":"IF(A101=\"\",\"\",IF((SUM(IF(FREQUENCY('A1'!$B$30:$C$80,'A1'!$B$30:$C$80)>0,1)))>(A101+1),(A101+1),\"\"))","v":""},{"$f":"IF(A102=\"\",\"\",(LARGE('A1'!$B$30:$C$103,(1+SUM(COUNTIF('A1'!$B$30:$C$103,B$6:B102))-(A102*COUNTIF('A1'!$B$30:$C$103,B$7))))))","v":""},{"$f":"IF($C$5:$AZ$5=\"\",\"\",IF($C$5:$AZ$5=\"HOT\",IF($C102:$AZ102=\"●\",\"|\",IF($C102:$AZ102=\"|\",\"|\",\"\")),IF($C102:$AZ102=\"▲\",\"|\",IF($C102:$AZ102=\"|\",\"|\",\"\"))))","v":""},"","","","","","","","","","","","","","","","","","","","","","","","","","","","","","","","","","","","","","","","","","","","","","","","",""]
[null,{"$f":"IF(A103=\"\",\"\",(LARGE('A1'!$B$30:$C$103,(1+SUM(COUNTIF('A1'!$B$30:$C$103,B$6:B103))-(A103*COUNTIF('A1'!$B$30:$C$103,B$7))))))","v":""},{"$f":"IF($C$5:$AZ$5=\"\",\"\",IF($C$5:$AZ$5=\"HOT\",IF(TRANSPOSE('A1'!$B$30:$B$80)=$B104,\"●\",IF(TRANSPOSE('A1'!$C$30:$C$80)=$B104,\"▼\",IF($C103:$AZ103=\"|\",\"|\",\"\"))),IF(TRANSPOSE('A1'!$B$30:$B$80)=$B104,\"●\",IF(TRANSPOSE('A1'!$C$30:$C$80)=$B104,\"▲\",IF($C103:$AZ103=\"|\",\"|\",\"\")))))","v":""},"","","","","","","","","","","","","","","","","","","","","","","","","","","","","","","","","","","","","","","","","","","","","","","","",""]
[{"$f":"IF(A103=\"\",\"\",IF((SUM(IF(FREQUENCY('A1'!$B$30:$C$80,'A1'!$B$30:$C$80)>0,1)))>(A103+1),(A103+1),\"\"))","v":""},{"$f":"IF(A104=\"\",\"\",(LARGE('A1'!$B$30:$C$103,(1+SUM(COUNTIF('A1'!$B$30:$C$103,B$6:B104))-(A104*COUNTIF('A1'!$B$30:$C$103,B$7))))))","v":""},{"$f":"IF($C$5:$AZ$5=\"\",\"\",IF($C$5:$AZ$5=\"HOT\",IF($C104:$AZ104=\"●\",\"|\",IF($C104:$AZ104=\"|\",\"|\",\"\")),IF($C104:$AZ104=\"▲\",\"|\",IF($C104:$AZ104=\"|\",\"|\",\"\"))))","v":""},"","","","","","","","","","","","","","","","","","","","","","","","","","","","","","","","","","","","","","","","","","","","","","","","",""]
[null,{"$f":"IF(A105=\"\",\"\",(LARGE('A1'!$B$30:$C$103,(1+SUM(COUNTIF('A1'!$B$30:$C$103,B$6:B105))-(A105*COUNTIF('A1'!$B$30:$C$103,B$7))))))","v":""},{"$f":"IF($C$5:$AZ$5=\"\",\"\",IF($C$5:$AZ$5=\"HOT\",IF(TRANSPOSE('A1'!$B$30:$B$80)=$B106,\"●\",IF(TRANSPOSE('A1'!$C$30:$C$80)=$B106,\"▼\",IF($C105:$AZ105=\"|\",\"|\",\"\"))),IF(TRANSPOSE('A1'!$B$30:$B$80)=$B106,\"●\",IF(TRANSPOSE('A1'!$C$30:$C$80)=$B106,\"▲\",IF($C105:$AZ105=\"|\",\"|\",\"\")))))","v":""},"","","","","","","","","","","","","","","","","","","","","","","","","","","","","","","","","","","","","","","","","","","","","","","","",""]
[{"$f":"IF(A105=\"\",\"\",IF((SUM(IF(FREQUENCY('A1'!$B$30:$C$80,'A1'!$B$30:$C$80)>0,1)))>(A105+1),(A105+1),\"\"))","v":""},{"$f":"IF(A106=\"\",\"\",(LARGE('A1'!$B$30:$C$103,(1+SUM(COUNTIF('A1'!$B$30:$C$103,B$6:B106))-(A106*COUNTIF('A1'!$B$30:$C$103,B$7))))))","v":""},{"$f":"IF($C$5:$AZ$5=\"\",\"\",IF($C$5:$AZ$5=\"HOT\",IF($C106:$AZ106=\"●\",\"|\",IF($C106:$AZ106=\"|\",\"|\",\"\")),IF($C106:$AZ106=\"▲\",\"|\",IF($C106:$AZ106=\"|\",\"|\",\"\"))))","v":""},"","","","","","","","","","","","","","","","","","","","","","","","","","","","","","","","","","","","","","","","","","","","","","","","",""]
[null,{"$f":"IF(A107=\"\",\"\",(LARGE('A1'!$B$30:$C$103,(1+SUM(COUNTIF('A1'!$B$30:$C$103,B$6:B107))-(A107*COUNTIF('A1'!$B$30:$C$103,B$7))))))","v":""},{"$f":"IF($C$5:$AZ$5=\"\",\"\",IF($C$5:$AZ$5=\"HOT\",IF(TRANSPOSE('A1'!$B$30:$B$80)=$B108,\"●\",IF(TRANSPOSE('A1'!$C$30:$C$80)=$B108,\"▼\",IF($C107:$AZ107=\"|\",\"|\",\"\"))),IF(TRANSPOSE('A1'!$B$30:$B$80)=$B108,\"●\",IF(TRANSPOSE('A1'!$C$30:$C$80)=$B108,\"▲\",IF($C107:$AZ107=\"|\",\"|\",\"\")))))","v":""},"","","","","","","","","","","","","","","","","","","","","","","","","","","","","","","","","","","","","","","","","","","","","","","","",""]
[{"$f":"IF(A107=\"\",\"\",IF((SUM(IF(FREQUENCY('A1'!$B$30:$C$80,'A1'!$B$30:$C$80)>0,1)))>(A107+1),(A107+1),\"\"))","v":""},{"$f":"IF(A108=\"\",\"\",(LARGE('A1'!$B$30:$C$103,(1+SUM(COUNTIF('A1'!$B$30:$C$103,B$6:B108))-(A108*COUNTIF('A1'!$B$30:$C$103,B$7))))))","v":""},{"$f":"IF($C$5:$AZ$5=\"\",\"\",IF($C$5:$AZ$5=\"HOT\",IF($C108:$AZ108=\"●\",\"|\",IF($C108:$AZ108=\"|\",\"|\",\"\")),IF($C108:$AZ108=\"▲\",\"|\",IF($C108:$AZ108=\"|\",\"|\",\"\"))))","v":""},"","","","","","","","","","","","","","","","","","","","","","","","","","","","","","","","","","","","","","","","","","","","","","","","",""]
[null,{"$f":"IF(A109=\"\",\"\",(LARGE('A1'!$B$30:$C$103,(1+SUM(COUNTIF('A1'!$B$30:$C$103,B$6:B109))-(A109*COUNTIF('A1'!$B$30:$C$103,B$7))))))","v":""},{"$f":"IF($C$5:$AZ$5=\"\",\"\",IF($C$5:$AZ$5=\"HOT\",IF(TRANSPOSE('A1'!$B$30:$B$80)=$B110,\"●\",IF(TRANSPOSE('A1'!$C$30:$C$80)=$B110,\"▼\",IF($C109:$AZ109=\"|\",\"|\",\"\"))),IF(TRANSPOSE('A1'!$B$30:$B$80)=$B110,\"●\",IF(TRANSPOSE('A1'!$C$30:$C$80)=$B110,\"▲\",IF($C109:$AZ109=\"|\",\"|\",\"\")))))","v":""},"","","","","","","","","","","","","","","","","","","","","","","","","","","","","","","","","","","","","","","","","","","","","","","","",""]
[{"$f":"IF(A109=\"\",\"\",IF((SUM(IF(FREQUENCY('A1'!$B$30:$C$80,'A1'!$B$30:$C$80)>0,1)))>(A109+1),(A109+1),\"\"))","v":""},{"$f":"IF(A110=\"\",\"\",(LARGE('A1'!$B$30:$C$103,(1+SUM(COUNTIF('A1'!$B$30:$C$103,B$6:B110))-(A110*COUNTIF('A1'!$B$30:$C$103,B$7))))))","v":""},{"$f":"IF($C$5:$AZ$5=\"\",\"\",IF($C$5:$AZ$5=\"HOT\",IF($C110:$AZ110=\"●\",\"|\",IF($C110:$AZ110=\"|\",\"|\",\"\")),IF($C110:$AZ110=\"▲\",\"|\",IF($C110:$AZ110=\"|\",\"|\",\"\"))))","v":""},"","","","","","","","","","","","","","","","","","","","","","","","","","","","","","","","","","","","","","","","","","","","","","","","",""]
[null,{"$f":"IF(A111=\"\",\"\",(LARGE('A1'!$B$30:$C$103,(1+SUM(COUNTIF('A1'!$B$30:$C$103,B$6:B111))-(A111*COUNTIF('A1'!$B$30:$C$103,B$7))))))","v":""},{"$f":"IF($C$5:$AZ$5=\"\",\"\",IF($C$5:$AZ$5=\"HOT\",IF(TRANSPOSE('A1'!$B$30:$B$80)=$B112,\"●\",IF(TRANSPOSE('A1'!$C$30:$C$80)=$B112,\"▼\",IF($C111:$AZ111=\"|\",\"|\",\"\"))),IF(TRANSPOSE('A1'!$B$30:$B$80)=$B112,\"●\",IF(TRANSPOSE('A1'!$C$30:$C$80)=$B112,\"▲\",IF($C111:$AZ111=\"|\",\"|\",\"\")))))","v":""},"","","","","","","","","","","","","","","","","","","","","","","","","","","","","","","","","","","","","","","","","","","","","","","","",""]
[{"$f":"IF(A111=\"\",\"\",IF((SUM(IF(FREQUENCY('A1'!$B$30:$C$80,'A1'!$B$30:$C$80)>0,1)))>(A111+1),(A111+1),\"\"))","v":""},{"$f":"IF(A112=\"\",\"\",(LARGE('A1'!$B$30:$C$103,(1+SUM(COUNTIF('A1'!$B$30:$C$103,B$6:B112))-(A112*COUNTIF('A1'!$B$30:$C$103,B$7))))))","v":""},{"$f":"IF($C$5:$AZ$5=\"\",\"\",IF($C$5:$AZ$5=\"HOT\",IF($C112:$AZ112=\"●\",\"|\",IF($C112:$AZ112=\"|\",\"|\",\"\")),IF($C112:$AZ112=\"▲\",\"|\",IF($C112:$AZ112=\"|\",\"|\",\"\"))))","v":""},"","","","","","","","","","","","","","","","","","","","","","","","","","","","","","","","","","","","","","","","","","","","","","","","",""]
[null,{"$f":"IF(A113=\"\",\"\",(LARGE('A1'!$B$30:$C$103,(1+SUM(COUNTIF('A1'!$B$30:$C$103,B$6:B113))-(A113*COUNTIF('A1'!$B$30:$C$103,B$7))))))","v":""},{"$f":"IF($C$5:$AZ$5=\"\",\"\",IF($C$5:$AZ$5=\"HOT\",IF(TRANSPOSE('A1'!$B$30:$B$80)=$B114,\"●\",IF(TRANSPOSE('A1'!$C$30:$C$80)=$B114,\"▼\",IF($C113:$AZ113=\"|\",\"|\",\"\"))),IF(TRANSPOSE('A1'!$B$30:$B$80)=$B114,\"●\",IF(TRANSPOSE('A1'!$C$30:$C$80)=$B114,\"▲\",IF($C113:$AZ113=\"|\",\"|\",\"\")))))","v":""},"","","","","","","","","","","","","","","","","","","","","","","","","","","","","","","","","","","","","","","","","","","","","","","","",""]
[{"$f":"IF(A113=\"\",\"\",IF((SUM(IF(FREQUENCY('A1'!$B$30:$C$80,'A1'!$B$30:$C$80)>0,1)))>(A113+1),(A113+1),\"\"))","v":""},{"$f":"IF(A114=\"\",\"\",(LARGE('A1'!$B$30:$C$103,(1+SUM(COUNTIF('A1'!$B$30:$C$103,B$6:B114))-(A114*COUNTIF('A1'!$B$30:$C$103,B$7))))))","v":""},{"$f":"IF($C$5:$AZ$5=\"\",\"\",IF($C$5:$AZ$5=\"HOT\",IF($C114:$AZ114=\"●\",\"|\",IF($C114:$AZ114=\"|\",\"|\",\"\")),IF($C114:$AZ114=\"▲\",\"|\",IF($C114:$AZ114=\"|\",\"|\",\"\"))))","v":""},"","","","","","","","","","","","","","","","","","","","","","","","","","","","","","","","","","","","","","","","","","","","","","","","",""]
[null,{"$f":"IF(A115=\"\",\"\",(LARGE('A1'!$B$30:$C$103,(1+SUM(COUNTIF('A1'!$B$30:$C$103,B$6:B115))-(A115*COUNTIF('A1'!$B$30:$C$103,B$7))))))","v":""},{"$f":"IF($C$5:$AZ$5=\"\",\"\",IF($C$5:$AZ$5=\"HOT\",IF(TRANSPOSE('A1'!$B$30:$B$80)=$B116,\"●\",IF(TRANSPOSE('A1'!$C$30:$C$80)=$B116,\"▼\",IF($C115:$AZ115=\"|\",\"|\",\"\"))),IF(TRANSPOSE('A1'!$B$30:$B$80)=$B116,\"●\",IF(TRANSPOSE('A1'!$C$30:$C$80)=$B116,\"▲\",IF($C115:$AZ115=\"|\",\"|\",\"\")))))","v":""},"","","","","","","","","","","","","","","","","","","","","","","","","","","","","","","","","","","","","","","","","","","","","","","","",""]
[{"$f":"IF(A115=\"\",\"\",IF((SUM(IF(FREQUENCY('A1'!$B$30:$C$80,'A1'!$B$30:$C$80)>0,1)))>(A115+1),(A115+1),\"\"))","v":""},{"$f":"IF(A116=\"\",\"\",(LARGE('A1'!$B$30:$C$103,(1+SUM(COUNTIF('A1'!$B$30:$C$103,B$6:B116))-(A116*COUNTIF('A1'!$B$30:$C$103,B$7))))))","v":""},{"$f":"IF($C$5:$AZ$5=\"\",\"\",IF($C$5:$AZ$5=\"HOT\",IF($C116:$AZ116=\"●\",\"|\",IF($C116:$AZ116=\"|\",\"|\",\"\")),IF($C116:$AZ116=\"▲\",\"|\",IF($C116:$AZ116=\"|\",\"|\",\"\"))))","v":""},"","","","","","","","","","","","","","","","","","","","","","","","","","","","","","","","","","","","","","","","","","","","","","","","",""]
[null,{"$f":"IF(A117=\"\",\"\",(LARGE('A1'!$B$30:$C$103,(1+SUM(COUNTIF('A1'!$B$30:$C$103,B$6:B117))-(A117*COUNTIF('A1'!$B$30:$C$103,B$7))))))","v":""},{"$f":"IF($C$5:$AZ$5=\"\",\"\",IF($C$5:$AZ$5=\"HOT\",IF(TRANSPOSE('A1'!$B$30:$B$80)=$B118,\"●\",IF(TRANSPOSE('A1'!$C$30:$C$80)=$B118,\"▼\",IF($C117:$AZ117=\"|\",\"|\",\"\"))),IF(TRANSPOSE('A1'!$B$30:$B$80)=$B118,\"●\",IF(TRANSPOSE('A1'!$C$30:$C$80)=$B118,\"▲\",IF($C117:$AZ117=\"|\",\"|\",\"\")))))","v":""},"","","","","","","","","","","","","","","","","","","","","","","","","","","","","","","","","","","","","","","","","","","","","","","","",""]
[{"$f":"IF(A117=\"\",\"\",IF((SUM(IF(FREQUENCY('A1'!$B$30:$C$80,'A1'!$B$30:$C$80)>0,1)))>(A117+1),(A117+1),\"\"))","v":""},{"$f":"IF(A118=\"\",\"\",(LARGE('A1'!$B$30:$C$103,(1+SUM(COUNTIF('A1'!$B$30:$C$103,B$6:B118))-(A118*COUNTIF('A1'!$B$30:$C$103,B$7))))))","v":""},{"$f":"IF($C$5:$AZ$5=\"\",\"\",IF($C$5:$AZ$5=\"HOT\",IF($C118:$AZ118=\"●\",\"|\",IF($C118:$AZ118=\"|\",\"|\",\"\")),IF($C118:$AZ118=\"▲\",\"|\",IF($C118:$AZ118=\"|\",\"|\",\"\"))))","v":""},"","","","","","","","","","","","","","","","","","","","","","","","","","","","","","","","","","","","","","","","","","","","","","","","",""]
[null,{"$f":"IF(A119=\"\",\"\",(LARGE('A1'!$B$30:$C$103,(1+SUM(COUNTIF('A1'!$B$30:$C$103,B$6:B119))-(A119*COUNTIF('A1'!$B$30:$C$103,B$7))))))","v":""},{"$f":"IF($C$5:$AZ$5=\"\",\"\",IF($C$5:$AZ$5=\"HOT\",IF(TRANSPOSE('A1'!$B$30:$B$80)=$B120,\"●\",IF(TRANSPOSE('A1'!$C$30:$C$80)=$B120,\"▼\",IF($C119:$AZ119=\"|\",\"|\",\"\"))),IF(TRANSPOSE('A1'!$B$30:$B$80)=$B120,\"●\",IF(TRANSPOSE('A1'!$C$30:$C$80)=$B120,\"▲\",IF($C119:$AZ119=\"|\",\"|\",\"\")))))","v":""},"","","","","","","","","","","","","","","","","","","","","","","","","","","","","","","","","","","","","","","","","","","","","","","","",""]
[{"$f":"IF(A119=\"\",\"\",IF((SUM(IF(FREQUENCY('A1'!$B$30:$C$80,'A1'!$B$30:$C$80)>0,1)))>(A119+1),(A119+1),\"\"))","v":""},{"$f":"IF(A120=\"\",\"\",(LARGE('A1'!$B$30:$C$103,(1+SUM(COUNTIF('A1'!$B$30:$C$103,B$6:B120))-(A120*COUNTIF('A1'!$B$30:$C$103,B$7))))))","v":""},{"$f":"IF($C$5:$AZ$5=\"\",\"\",IF($C$5:$AZ$5=\"HOT\",IF($C120:$AZ120=\"●\",\"|\",IF($C120:$AZ120=\"|\",\"|\",\"\")),IF($C120:$AZ120=\"▲\",\"|\",IF($C120:$AZ120=\"|\",\"|\",\"\"))))","v":""},"","","","","","","","","","","","","","","","","","","","","","","","","","","","","","","","","","","","","","","","","","","","","","","","",""]
[null,{"$f":"IF(A121=\"\",\"\",(LARGE('A1'!$B$30:$C$103,(1+SUM(COUNTIF('A1'!$B$30:$C$103,B$6:B121))-(A121*COUNTIF('A1'!$B$30:$C$103,B$7))))))","v":""},{"$f":"IF($C$5:$AZ$5=\"\",\"\",IF($C$5:$AZ$5=\"HOT\",IF(TRANSPOSE('A1'!$B$30:$B$80)=$B122,\"●\",IF(TRANSPOSE('A1'!$C$30:$C$80)=$B122,\"▼\",IF($C121:$AZ121=\"|\",\"|\",\"\"))),IF(TRANSPOSE('A1'!$B$30:$B$80)=$B122,\"●\",IF(TRANSPOSE('A1'!$C$30:$C$80)=$B122,\"▲\",IF($C121:$AZ121=\"|\",\"|\",\"\")))))","v":""},"","","","","","","","","","","","","","","","","","","","","","","","","","","","","","","","","","","","","","","","","","","","","","","","",""]
[{"$f":"IF(A121=\"\",\"\",IF((SUM(IF(FREQUENCY('A1'!$B$30:$C$80,'A1'!$B$30:$C$80)>0,1)))>(A121+1),(A121+1),\"\"))","v":""},{"$f":"IF(A122=\"\",\"\",(LARGE('A1'!$B$30:$C$103,(1+SUM(COUNTIF('A1'!$B$30:$C$103,B$6:B122))-(A122*COUNTIF('A1'!$B$30:$C$103,B$7))))))","v":""},{"$f":"IF($C$5:$AZ$5=\"\",\"\",IF($C$5:$AZ$5=\"HOT\",IF($C122:$AZ122=\"●\",\"|\",IF($C122:$AZ122=\"|\",\"|\",\"\")),IF($C122:$AZ122=\"▲\",\"|\",IF($C122:$AZ122=\"|\",\"|\",\"\"))))","v":""},"","","","","","","","","","","","","","","","","","","","","","","","","","","","","","","","","","","","","","","","","","","","","","","","",""]
[null,{"$f":"IF(A123=\"\",\"\",(LARGE('A1'!$B$30:$C$103,(1+SUM(COUNTIF('A1'!$B$30:$C$103,B$6:B123))-(A123*COUNTIF('A1'!$B$30:$C$103,B$7))))))","v":""},{"$f":"IF($C$5:$AZ$5=\"\",\"\",IF($C$5:$AZ$5=\"HOT\",IF(TRANSPOSE('A1'!$B$30:$B$80)=$B124,\"●\",IF(TRANSPOSE('A1'!$C$30:$C$80)=$B124,\"▼\",IF($C123:$AZ123=\"|\",\"|\",\"\"))),IF(TRANSPOSE('A1'!$B$30:$B$80)=$B124,\"●\",IF(TRANSPOSE('A1'!$C$30:$C$80)=$B124,\"▲\",IF($C123:$AZ123=\"|\",\"|\",\"\")))))","v":""},"","","","","","","","","","","","","","","","","","","","","","","","","","","","","","","","","","","","","","","","","","","","","","","","",""]
[{"$f":"IF(A123=\"\",\"\",IF((SUM(IF(FREQUENCY('A1'!$B$30:$C$80,'A1'!$B$30:$C$80)>0,1)))>(A123+1),(A123+1),\"\"))","v":""},{"$f":"IF(A124=\"\",\"\",(LARGE('A1'!$B$30:$C$103,(1+SUM(COUNTIF('A1'!$B$30:$C$103,B$6:B124))-(A124*COUNTIF('A1'!$B$30:$C$103,B$7))))))","v":""},{"$f":"IF($C$5:$AZ$5=\"\",\"\",IF($C$5:$AZ$5=\"HOT\",IF($C124:$AZ124=\"●\",\"|\",IF($C124:$AZ124=\"|\",\"|\",\"\")),IF($C124:$AZ124=\"▲\",\"|\",IF($C124:$AZ124=\"|\",\"|\",\"\"))))","v":""},"","","","","","","","","","","","","","","","","","","","","","","","","","","","","","","","","","","","","","","","","","","","","","","","",""]
[null,{"$f":"IF(A125=\"\",\"\",(LARGE('A1'!$B$30:$C$103,(1+SUM(COUNTIF('A1'!$B$30:$C$103,B$6:B125))-(A125*COUNTIF('A1'!$B$30:$C$103,B$7))))))","v":""},{"$f":"IF($C$5:$AZ$5=\"\",\"\",IF($C$5:$AZ$5=\"HOT\",IF(TRANSPOSE('A1'!$B$30:$B$80)=$B126,\"●\",IF(TRANSPOSE('A1'!$C$30:$C$80)=$B126,\"▼\",IF($C125:$AZ125=\"|\",\"|\",\"\"))),IF(TRANSPOSE('A1'!$B$30:$B$80)=$B126,\"●\",IF(TRANSPOSE('A1'!$C$30:$C$80)=$B126,\"▲\",IF($C125:$AZ125=\"|\",\"|\",\"\")))))","v":""},"","","","","","","","","","","","","","","","","","","","","","","","","","","","","","","","","","","","","","","","","","","","","","","","",""]
[{"$f":"IF(A125=\"\",\"\",IF((SUM(IF(FREQUENCY('A1'!$B$30:$C$80,'A1'!$B$30:$C$80)>0,1)))>(A125+1),(A125+1),\"\"))","v":""},{"$f":"IF(A126=\"\",\"\",(LARGE('A1'!$B$30:$C$103,(1+SUM(COUNTIF('A1'!$B$30:$C$103,B$6:B126))-(A126*COUNTIF('A1'!$B$30:$C$103,B$7))))))","v":""},{"$f":"IF($C$5:$AZ$5=\"\",\"\",IF($C$5:$AZ$5=\"HOT\",IF($C126:$AZ126=\"●\",\"|\",IF($C126:$AZ126=\"|\",\"|\",\"\")),IF($C126:$AZ126=\"▲\",\"|\",IF($C126:$AZ126=\"|\",\"|\",\"\"))))","v":""},"","","","","","","","","","","","","","","","","","","","","","","","","","","","","","","","","","","","","","","","","","","","","","","","",""]
[null,{"$f":"IF(A127=\"\",\"\",(LARGE('A1'!$B$30:$C$103,(1+SUM(COUNTIF('A1'!$B$30:$C$103,B$6:B127))-(A127*COUNTIF('A1'!$B$30:$C$103,B$7))))))","v":""},{"$f":"IF($C$5:$AZ$5=\"\",\"\",IF($C$5:$AZ$5=\"HOT\",IF(TRANSPOSE('A1'!$B$30:$B$80)=$B128,\"●\",IF(TRANSPOSE('A1'!$C$30:$C$80)=$B128,\"▼\",IF($C127:$AZ127=\"|\",\"|\",\"\"))),IF(TRANSPOSE('A1'!$B$30:$B$80)=$B128,\"●\",IF(TRANSPOSE('A1'!$C$30:$C$80)=$B128,\"▲\",IF($C127:$AZ127=\"|\",\"|\",\"\")))))","v":""},"","","","","","","","","","","","","","","","","","","","","","","","","","","","","","","","","","","","","","","","","","","","","","","","",""]
[{"$f":"IF(A127=\"\",\"\",IF((SUM(IF(FREQUENCY('A1'!$B$30:$C$80,'A1'!$B$30:$C$80)>0,1)))>(A127+1),(A127+1),\"\"))","v":""},{"$f":"IF(A128=\"\",\"\",(LARGE('A1'!$B$30:$C$103,(1+SUM(COUNTIF('A1'!$B$30:$C$103,B$6:B128))-(A128*COUNTIF('A1'!$B$30:$C$103,B$7))))))","v":""},{"$f":"IF($C$5:$AZ$5=\"\",\"\",IF($C$5:$AZ$5=\"HOT\",IF($C128:$AZ128=\"●\",\"|\",IF($C128:$AZ128=\"|\",\"|\",\"\")),IF($C128:$AZ128=\"▲\",\"|\",IF($C128:$AZ128=\"|\",\"|\",\"\"))))","v":""},"","","","","","","","","","","","","","","","","","","","","","","","","","","","","","","","","","","","","","","","","","","","","","","","",""]
[null,{"$f":"IF(A129=\"\",\"\",(LARGE('A1'!$B$30:$C$103,(1+SUM(COUNTIF('A1'!$B$30:$C$103,B$6:B129))-(A129*COUNTIF('A1'!$B$30:$C$103,B$7))))))","v":""},{"$f":"IF($C$5:$AZ$5=\"\",\"\",IF($C$5:$AZ$5=\"HOT\",IF(TRANSPOSE('A1'!$B$30:$B$80)=$B130,\"●\",IF(TRANSPOSE('A1'!$C$30:$C$80)=$B130,\"▼\",IF($C129:$AZ129=\"|\",\"|\",\"\"))),IF(TRANSPOSE('A1'!$B$30:$B$80)=$B130,\"●\",IF(TRANSPOSE('A1'!$C$30:$C$80)=$B130,\"▲\",IF($C129:$AZ129=\"|\",\"|\",\"\")))))","v":""},"","","","","","","","","","","","","","","","","","","","","","","","","","","","","","","","","","","","","","","","","","","","","","","","",""]
[{"$f":"IF(A129=\"\",\"\",IF((SUM(IF(FREQUENCY('A1'!$B$30:$C$80,'A1'!$B$30:$C$80)>0,1)))>(A129+1),(A129+1),\"\"))","v":""},{"$f":"IF(A130=\"\",\"\",(LARGE('A1'!$B$30:$C$103,(1+SUM(COUNTIF('A1'!$B$30:$C$103,B$6:B130))-(A130*COUNTIF('A1'!$B$30:$C$103,B$7))))))","v":""},{"$f":"IF($C$5:$AZ$5=\"\",\"\",IF($C$5:$AZ$5=\"HOT\",IF($C130:$AZ130=\"●\",\"|\",IF($C130:$AZ130=\"|\",\"|\",\"\")),IF($C130:$AZ130=\"▲\",\"|\",IF($C130:$AZ130=\"|\",\"|\",\"\"))))","v":""},"","","","","","","","","","","","","","","","","","","","","","","","","","","","","","","","","","","","","","","","","","","","","","","","",""]
[null,{"$f":"IF(A131=\"\",\"\",(LARGE('A1'!$B$30:$C$103,(1+SUM(COUNTIF('A1'!$B$30:$C$103,B$6:B131))-(A131*COUNTIF('A1'!$B$30:$C$103,B$7))))))","v":""},{"$f":"IF($C$5:$AZ$5=\"\",\"\",IF($C$5:$AZ$5=\"HOT\",IF(TRANSPOSE('A1'!$B$30:$B$80)=$B132,\"●\",IF(TRANSPOSE('A1'!$C$30:$C$80)=$B132,\"▼\",IF($C131:$AZ131=\"|\",\"|\",\"\"))),IF(TRANSPOSE('A1'!$B$30:$B$80)=$B132,\"●\",IF(TRANSPOSE('A1'!$C$30:$C$80)=$B132,\"▲\",IF($C131:$AZ131=\"|\",\"|\",\"\")))))","v":""},"","","","","","","","","","","","","","","","","","","","","","","","","","","","","","","","","","","","","","","","","","","","","","","","",""]
[{"$f":"IF(A131=\"\",\"\",IF((SUM(IF(FREQUENCY('A1'!$B$30:$C$80,'A1'!$B$30:$C$80)>0,1)))>(A131+1),(A131+1),\"\"))","v":""},{"$f":"IF(A132=\"\",\"\",(LARGE('A1'!$B$30:$C$103,(1+SUM(COUNTIF('A1'!$B$30:$C$103,B$6:B132))-(A132*COUNTIF('A1'!$B$30:$C$103,B$7))))))","v":""},{"$f":"IF($C$5:$AZ$5=\"\",\"\",IF($C$5:$AZ$5=\"HOT\",IF($C132:$AZ132=\"●\",\"|\",IF($C132:$AZ132=\"|\",\"|\",\"\")),IF($C132:$AZ132=\"▲\",\"|\",IF($C132:$AZ132=\"|\",\"|\",\"\"))))","v":""},"","","","","","","","","","","","","","","","","","","","","","","","","","","","","","","","","","","","","","","","","","","","","","","","",""]
[null,{"$f":"IF(A133=\"\",\"\",(LARGE('A1'!$B$30:$C$103,(1+SUM(COUNTIF('A1'!$B$30:$C$103,B$6:B133))-(A133*COUNTIF('A1'!$B$30:$C$103,B$7))))))","v":""},{"$f":"IF($C$5:$AZ$5=\"\",\"\",IF($C$5:$AZ$5=\"HOT\",IF(TRANSPOSE('A1'!$B$30:$B$80)=$B134,\"●\",IF(TRANSPOSE('A1'!$C$30:$C$80)=$B134,\"▼\",IF($C133:$AZ133=\"|\",\"|\",\"\"))),IF(TRANSPOSE('A1'!$B$30:$B$80)=$B134,\"●\",IF(TRANSPOSE('A1'!$C$30:$C$80)=$B134,\"▲\",IF($C133:$AZ133=\"|\",\"|\",\"\")))))","v":""},"","","","","","","","","","","","","","","","","","","","","","","","","","","","","","","","","","","","","","","","","","","","","","","","",""]
[{"$f":"IF(A133=\"\",\"\",IF((SUM(IF(FREQUENCY('A1'!$B$30:$C$80,'A1'!$B$30:$C$80)>0,1)))>(A133+1),(A133+1),\"\"))","v":""},{"$f":"IF(A134=\"\",\"\",(LARGE('A1'!$B$30:$C$103,(1+SUM(COUNTIF('A1'!$B$30:$C$103,B$6:B134))-(A134*COUNTIF('A1'!$B$30:$C$103,B$7))))))","v":""},{"$f":"IF($C$5:$AZ$5=\"\",\"\",IF($C$5:$AZ$5=\"HOT\",IF($C134:$AZ134=\"●\",\"|\",IF($C134:$AZ134=\"|\",\"|\",\"\")),IF($C134:$AZ134=\"▲\",\"|\",IF($C134:$AZ134=\"|\",\"|\",\"\"))))","v":""},"","","","","","","","","","","","","","","","","","","","","","","","","","","","","","","","","","","","","","","","","","","","","","","","",""]
[null,{"$f":"IF(A135=\"\",\"\",(LARGE('A1'!$B$30:$C$103,(1+SUM(COUNTIF('A1'!$B$30:$C$103,B$6:B135))-(A135*COUNTIF('A1'!$B$30:$C$103,B$7))))))","v":""},{"$f":"IF($C$5:$AZ$5=\"\",\"\",IF($C$5:$AZ$5=\"HOT\",IF(TRANSPOSE('A1'!$B$30:$B$80)=$B136,\"●\",IF(TRANSPOSE('A1'!$C$30:$C$80)=$B136,\"▼\",IF($C135:$AZ135=\"|\",\"|\",\"\"))),IF(TRANSPOSE('A1'!$B$30:$B$80)=$B136,\"●\",IF(TRANSPOSE('A1'!$C$30:$C$80)=$B136,\"▲\",IF($C135:$AZ135=\"|\",\"|\",\"\")))))","v":""},"","","","","","","","","","","","","","","","","","","","","","","","","","","","","","","","","","","","","","","","","","","","","","","","",""]
[{"$f":"IF(A135=\"\",\"\",IF((SUM(IF(FREQUENCY('A1'!$B$30:$C$80,'A1'!$B$30:$C$80)>0,1)))>(A135+1),(A135+1),\"\"))","v":""},{"$f":"IF(A136=\"\",\"\",(LARGE('A1'!$B$30:$C$103,(1+SUM(COUNTIF('A1'!$B$30:$C$103,B$6:B136))-(A136*COUNTIF('A1'!$B$30:$C$103,B$7))))))","v":""},{"$f":"IF($C$5:$AZ$5=\"\",\"\",IF($C$5:$AZ$5=\"HOT\",IF($C136:$AZ136=\"●\",\"|\",IF($C136:$AZ136=\"|\",\"|\",\"\")),IF($C136:$AZ136=\"▲\",\"|\",IF($C136:$AZ136=\"|\",\"|\",\"\"))))","v":""},"","","","","","","","","","","","","","","","","","","","","","","","","","","","","","","","","","","","","","","","","","","","","","","","",""]
[null,{"$f":"IF(A137=\"\",\"\",(LARGE('A1'!$B$30:$C$103,(1+SUM(COUNTIF('A1'!$B$30:$C$103,B$6:B137))-(A137*COUNTIF('A1'!$B$30:$C$103,B$7))))))","v":""},{"$f":"IF($C$5:$AZ$5=\"\",\"\",IF($C$5:$AZ$5=\"HOT\",IF(TRANSPOSE('A1'!$B$30:$B$80)=$B138,\"●\",IF(TRANSPOSE('A1'!$C$30:$C$80)=$B138,\"▼\",IF($C137:$AZ137=\"|\",\"|\",\"\"))),IF(TRANSPOSE('A1'!$B$30:$B$80)=$B138,\"●\",IF(TRANSPOSE('A1'!$C$30:$C$80)=$B138,\"▲\",IF($C137:$AZ137=\"|\",\"|\",\"\")))))","v":""},"","","","","","","","","","","","","","","","","","","","","","","","","","","","","","","","","","","","","","","","","","","","","","","","",""]
[{"$f":"IF(A137=\"\",\"\",IF((SUM(IF(FREQUENCY('A1'!$B$30:$C$80,'A1'!$B$30:$C$80)>0,1)))>(A137+1),(A137+1),\"\"))","v":""},{"$f":"IF(A138=\"\",\"\",(LARGE('A1'!$B$30:$C$103,(1+SUM(COUNTIF('A1'!$B$30:$C$103,B$6:B138))-(A138*COUNTIF('A1'!$B$30:$C$103,B$7))))))","v":""},{"$f":"IF($C$5:$AZ$5=\"\",\"\",IF($C$5:$AZ$5=\"HOT\",IF($C138:$AZ138=\"●\",\"|\",IF($C138:$AZ138=\"|\",\"|\",\"\")),IF($C138:$AZ138=\"▲\",\"|\",IF($C138:$AZ138=\"|\",\"|\",\"\"))))","v":""},"","","","","","","","","","","","","","","","","","","","","","","","","","","","","","","","","","","","","","","","","","","","","","","","",""]
[null,{"$f":"IF(A139=\"\",\"\",(LARGE('A1'!$B$30:$C$103,(1+SUM(COUNTIF('A1'!$B$30:$C$103,B$6:B139))-(A139*COUNTIF('A1'!$B$30:$C$103,B$7))))))","v":""},{"$f":"IF($C$5:$AZ$5=\"\",\"\",IF($C$5:$AZ$5=\"HOT\",IF(TRANSPOSE('A1'!$B$30:$B$80)=$B140,\"●\",IF(TRANSPOSE('A1'!$C$30:$C$80)=$B140,\"▼\",IF($C139:$AZ139=\"|\",\"|\",\"\"))),IF(TRANSPOSE('A1'!$B$30:$B$80)=$B140,\"●\",IF(TRANSPOSE('A1'!$C$30:$C$80)=$B140,\"▲\",IF($C139:$AZ139=\"|\",\"|\",\"\")))))","v":""},"","","","","","","","","","","","","","","","","","","","","","","","","","","","","","","","","","","","","","","","","","","","","","","","",""]
[{"$f":"IF(A139=\"\",\"\",IF((SUM(IF(FREQUENCY('A1'!$B$30:$C$80,'A1'!$B$30:$C$80)>0,1)))>(A139+1),(A139+1),\"\"))","v":""},{"$f":"IF(A140=\"\",\"\",(LARGE('A1'!$B$30:$C$103,(1+SUM(COUNTIF('A1'!$B$30:$C$103,B$6:B140))-(A140*COUNTIF('A1'!$B$30:$C$103,B$7))))))","v":""},{"$f":"IF($C$5:$AZ$5=\"\",\"\",IF($C$5:$AZ$5=\"HOT\",IF($C140:$AZ140=\"●\",\"|\",IF($C140:$AZ140=\"|\",\"|\",\"\")),IF($C140:$AZ140=\"▲\",\"|\",IF($C140:$AZ140=\"|\",\"|\",\"\"))))","v":""},"","","","","","","","","","","","","","","","","","","","","","","","","","","","","","","","","","","","","","","","","","","","","","","","",""]
[null,{"$f":"IF(A141=\"\",\"\",(LARGE('A1'!$B$30:$C$103,(1+SUM(COUNTIF('A1'!$B$30:$C$103,B$6:B141))-(A141*COUNTIF('A1'!$B$30:$C$103,B$7))))))","v":""},{"$f":"IF($C$5:$AZ$5=\"\",\"\",IF($C$5:$AZ$5=\"HOT\",IF(TRANSPOSE('A1'!$B$30:$B$80)=$B142,\"●\",IF(TRANSPOSE('A1'!$C$30:$C$80)=$B142,\"▼\",IF($C141:$AZ141=\"|\",\"|\",\"\"))),IF(TRANSPOSE('A1'!$B$30:$B$80)=$B142,\"●\",IF(TRANSPOSE('A1'!$C$30:$C$80)=$B142,\"▲\",IF($C141:$AZ141=\"|\",\"|\",\"\")))))","v":""},"","","","","","","","","","","","","","","","","","","","","","","","","","","","","","","","","","","","","","","","","","","","","","","","",""]
[{"$f":"IF(A141=\"\",\"\",IF((SUM(IF(FREQUENCY('A1'!$B$30:$C$80,'A1'!$B$30:$C$80)>0,1)))>(A141+1),(A141+1),\"\"))","v":""},{"$f":"IF(A142=\"\",\"\",(LARGE('A1'!$B$30:$C$103,(1+SUM(COUNTIF('A1'!$B$30:$C$103,B$6:B142))-(A142*COUNTIF('A1'!$B$30:$C$103,B$7))))))","v":""},{"$f":"IF($C$5:$AZ$5=\"\",\"\",IF($C$5:$AZ$5=\"HOT\",IF($C142:$AZ142=\"●\",\"|\",IF($C142:$AZ142=\"|\",\"|\",\"\")),IF($C142:$AZ142=\"▲\",\"|\",IF($C142:$AZ142=\"|\",\"|\",\"\"))))","v":""},"","","","","","","","","","","","","","","","","","","","","","","","","","","","","","","","","","","","","","","","","","","","","","","","",""]
[null,{"$f":"IF(A143=\"\",\"\",(LARGE('A1'!$B$30:$C$103,(1+SUM(COUNTIF('A1'!$B$30:$C$103,B$6:B143))-(A143*COUNTIF('A1'!$B$30:$C$103,B$7))))))","v":""},{"$f":"IF($C$5:$AZ$5=\"\",\"\",IF($C$5:$AZ$5=\"HOT\",IF(TRANSPOSE('A1'!$B$30:$B$80)=$B144,\"●\",IF(TRANSPOSE('A1'!$C$30:$C$80)=$B144,\"▼\",IF($C143:$AZ143=\"|\",\"|\",\"\"))),IF(TRANSPOSE('A1'!$B$30:$B$80)=$B144,\"●\",IF(TRANSPOSE('A1'!$C$30:$C$80)=$B144,\"▲\",IF($C143:$AZ143=\"|\",\"|\",\"\")))))","v":""},"","","","","","","","","","","","","","","","","","","","","","","","","","","","","","","","","","","","","","","","","","","","","","","","",""]
[{"$f":"IF(A143=\"\",\"\",IF((SUM(IF(FREQUENCY('A1'!$B$30:$C$80,'A1'!$B$30:$C$80)>0,1)))>(A143+1),(A143+1),\"\"))","v":""},{"$f":"IF(A144=\"\",\"\",(LARGE('A1'!$B$30:$C$103,(1+SUM(COUNTIF('A1'!$B$30:$C$103,B$6:B144))-(A144*COUNTIF('A1'!$B$30:$C$103,B$7))))))","v":""},{"$f":"IF($C$5:$AZ$5=\"\",\"\",IF($C$5:$AZ$5=\"HOT\",IF($C144:$AZ144=\"●\",\"|\",IF($C144:$AZ144=\"|\",\"|\",\"\")),IF($C144:$AZ144=\"▲\",\"|\",IF($C144:$AZ144=\"|\",\"|\",\"\"))))","v":""},"","","","","","","","","","","","","","","","","","","","","","","","","","","","","","","","","","","","","","","","","","","","","","","","",""]
[null,{"$f":"IF(A145=\"\",\"\",(LARGE('A1'!$B$30:$C$103,(1+SUM(COUNTIF('A1'!$B$30:$C$103,B$6:B145))-(A145*COUNTIF('A1'!$B$30:$C$103,B$7))))))","v":""},{"$f":"IF($C$5:$AZ$5=\"\",\"\",IF($C$5:$AZ$5=\"HOT\",IF(TRANSPOSE('A1'!$B$30:$B$80)=$B146,\"●\",IF(TRANSPOSE('A1'!$C$30:$C$80)=$B146,\"▼\",IF($C145:$AZ145=\"|\",\"|\",\"\"))),IF(TRANSPOSE('A1'!$B$30:$B$80)=$B146,\"●\",IF(TRANSPOSE('A1'!$C$30:$C$80)=$B146,\"▲\",IF($C145:$AZ145=\"|\",\"|\",\"\")))))","v":""},"","","","","","","","","","","","","","","","","","","","","","","","","","","","","","","","","","","","","","","","","","","","","","","","",""]
[{"$f":"IF(A145=\"\",\"\",IF((SUM(IF(FREQUENCY('A1'!$B$30:$C$80,'A1'!$B$30:$C$80)>0,1)))>(A145+1),(A145+1),\"\"))","v":""},{"$f":"IF(A146=\"\",\"\",(LARGE('A1'!$B$30:$C$103,(1+SUM(COUNTIF('A1'!$B$30:$C$103,B$6:B146))-(A146*COUNTIF('A1'!$B$30:$C$103,B$7))))))","v":""},{"$f":"IF($C$5:$AZ$5=\"\",\"\",IF($C$5:$AZ$5=\"HOT\",IF($C146:$AZ146=\"●\",\"|\",IF($C146:$AZ146=\"|\",\"|\",\"\")),IF($C146:$AZ146=\"▲\",\"|\",IF($C146:$AZ146=\"|\",\"|\",\"\"))))","v":""},"","","","","","","","","","","","","","","","","","","","","","","","","","","","","","","","","","","","","","","","","","","","","","","","",""]
[null,{"$f":"IF(A147=\"\",\"\",(LARGE('A1'!$B$30:$C$103,(1+SUM(COUNTIF('A1'!$B$30:$C$103,B$6:B147))-(A147*COUNTIF('A1'!$B$30:$C$103,B$7))))))","v":""},{"$f":"IF($C$5:$AZ$5=\"\",\"\",IF($C$5:$AZ$5=\"HOT\",IF(TRANSPOSE('A1'!$B$30:$B$80)=$B148,\"●\",IF(TRANSPOSE('A1'!$C$30:$C$80)=$B148,\"▼\",IF($C147:$AZ147=\"|\",\"|\",\"\"))),IF(TRANSPOSE('A1'!$B$30:$B$80)=$B148,\"●\",IF(TRANSPOSE('A1'!$C$30:$C$80)=$B148,\"▲\",IF($C147:$AZ147=\"|\",\"|\",\"\")))))","v":""},"","","","","","","","","","","","","","","","","","","","","","","","","","","","","","","","","","","","","","","","","","","","","","","","",""]
[{"$f":"IF(A147=\"\",\"\",IF((SUM(IF(FREQUENCY('A1'!$B$30:$C$80,'A1'!$B$30:$C$80)>0,1)))>(A147+1),(A147+1),\"\"))","v":""},{"$f":"IF(A148=\"\",\"\",(LARGE('A1'!$B$30:$C$103,(1+SUM(COUNTIF('A1'!$B$30:$C$103,B$6:B148))-(A148*COUNTIF('A1'!$B$30:$C$103,B$7))))))","v":""},{"$f":"IF($C$5:$AZ$5=\"\",\"\",IF($C$5:$AZ$5=\"HOT\",IF($C148:$AZ148=\"●\",\"|\",IF($C148:$AZ148=\"|\",\"|\",\"\")),IF($C148:$AZ148=\"▲\",\"|\",IF($C148:$AZ148=\"|\",\"|\",\"\"))))","v":""},"","","","","","","","","","","","","","","","","","","","","","","","","","","","","","","","","","","","","","","","","","","","","","","","",""]
[null,{"$f":"IF(A149=\"\",\"\",(LARGE('A1'!$B$30:$C$103,(1+SUM(COUNTIF('A1'!$B$30:$C$103,B$6:B149))-(A149*COUNTIF('A1'!$B$30:$C$103,B$7))))))","v":""},{"$f":"IF($C$5:$AZ$5=\"\",\"\",IF($C$5:$AZ$5=\"HOT\",IF(TRANSPOSE('A1'!$B$30:$B$80)=$B150,\"●\",IF(TRANSPOSE('A1'!$C$30:$C$80)=$B150,\"▼\",IF($C149:$AZ149=\"|\",\"|\",\"\"))),IF(TRANSPOSE('A1'!$B$30:$B$80)=$B150,\"●\",IF(TRANSPOSE('A1'!$C$30:$C$80)=$B150,\"▲\",IF($C149:$AZ149=\"|\",\"|\",\"\")))))","v":""},"","","","","","","","","","","","","","","","","","","","","","","","","","","","","","","","","","","","","","","","","","","","","","","","",""]
[{"$f":"IF(A149=\"\",\"\",IF((SUM(IF(FREQUENCY('A1'!$B$30:$C$80,'A1'!$B$30:$C$80)>0,1)))>(A149+1),(A149+1),\"\"))","v":""},{"$f":"IF(A150=\"\",\"\",(LARGE('A1'!$B$30:$C$103,(1+SUM(COUNTIF('A1'!$B$30:$C$103,B$6:B150))-(A150*COUNTIF('A1'!$B$30:$C$103,B$7))))))","v":""},{"$f":"IF($C$5:$AZ$5=\"\",\"\",IF($C$5:$AZ$5=\"HOT\",IF($C150:$AZ150=\"●\",\"|\",IF($C150:$AZ150=\"|\",\"|\",\"\")),IF($C150:$AZ150=\"▲\",\"|\",IF($C150:$AZ150=\"|\",\"|\",\"\"))))","v":""},"","","","","","","","","","","","","","","","","","","","","","","","","","","","","","","","","","","","","","","","","","","","","","","","",""]
[null,{"$f":"IF(A151=\"\",\"\",(LARGE('A1'!$B$30:$C$103,(1+SUM(COUNTIF('A1'!$B$30:$C$103,B$6:B151))-(A151*COUNTIF('A1'!$B$30:$C$103,B$7))))))","v":""},{"$f":"IF($C$5:$AZ$5=\"\",\"\",IF($C$5:$AZ$5=\"HOT\",IF(TRANSPOSE('A1'!$B$30:$B$80)=$B152,\"●\",IF(TRANSPOSE('A1'!$C$30:$C$80)=$B152,\"▼\",IF($C151:$AZ151=\"|\",\"|\",\"\"))),IF(TRANSPOSE('A1'!$B$30:$B$80)=$B152,\"●\",IF(TRANSPOSE('A1'!$C$30:$C$80)=$B152,\"▲\",IF($C151:$AZ151=\"|\",\"|\",\"\")))))","v":""},"","","","","","","","","","","","","","","","","","","","","","","","","","","","","","","","","","","","","","","","","","","","","","","","",""]
[{"$f":"IF(A151=\"\",\"\",IF((SUM(IF(FREQUENCY('A1'!$B$30:$C$80,'A1'!$B$30:$C$80)>0,1)))>(A151+1),(A151+1),\"\"))","v":""},{"$f":"IF(A152=\"\",\"\",(LARGE('A1'!$B$30:$C$103,(1+SUM(COUNTIF('A1'!$B$30:$C$103,B$6:B152))-(A152*COUNTIF('A1'!$B$30:$C$103,B$7))))))","v":""},{"$f":"IF($C$5:$AZ$5=\"\",\"\",IF($C$5:$AZ$5=\"HOT\",IF($C152:$AZ152=\"●\",\"|\",IF($C152:$AZ152=\"|\",\"|\",\"\")),IF($C152:$AZ152=\"▲\",\"|\",IF($C152:$AZ152=\"|\",\"|\",\"\"))))","v":""},"","","","","","","","","","","","","","","","","","","","","","","","","","","","","","","","","","","","","","","","","","","","","","","","",""]
[null,{"$f":"IF(A153=\"\",\"\",(LARGE('A1'!$B$30:$C$103,(1+SUM(COUNTIF('A1'!$B$30:$C$103,B$6:B153))-(A153*COUNTIF('A1'!$B$30:$C$103,B$7))))))","v":""},{"$f":"IF($C$5:$AZ$5=\"\",\"\",IF($C$5:$AZ$5=\"HOT\",IF(TRANSPOSE('A1'!$B$30:$B$80)=$B154,\"●\",IF(TRANSPOSE('A1'!$C$30:$C$80)=$B154,\"▼\",IF($C153:$AZ153=\"|\",\"|\",\"\"))),IF(TRANSPOSE('A1'!$B$30:$B$80)=$B154,\"●\",IF(TRANSPOSE('A1'!$C$30:$C$80)=$B154,\"▲\",IF($C153:$AZ153=\"|\",\"|\",\"\")))))","v":""},"","","","","","","","","","","","","","","","","","","","","","","","","","","","","","","","","","","","","","","","","","","","","","","","",""]
[{"$f":"IF(A153=\"\",\"\",IF((SUM(IF(FREQUENCY('A1'!$B$30:$C$80,'A1'!$B$30:$C$80)>0,1)))>(A153+1),(A153+1),\"\"))","v":""},{"$f":"IF(A154=\"\",\"\",(LARGE('A1'!$B$30:$C$103,(1+SUM(COUNTIF('A1'!$B$30:$C$103,B$6:B154))-(A154*COUNTIF('A1'!$B$30:$C$103,B$7))))))","v":""},{"$f":"IF($C$5:$AZ$5=\"\",\"\",IF($C$5:$AZ$5=\"HOT\",IF($C154:$AZ154=\"●\",\"|\",IF($C154:$AZ154=\"|\",\"|\",\"\")),IF($C154:$AZ154=\"▲\",\"|\",IF($C154:$AZ154=\"|\",\"|\",\"\"))))","v":""},"","","","","","","","","","","","","","","","","","","","","","","","","","","","","","","","","","","","","","","","","","","","","","","","",""]
[null,{"$f":"IF(A155=\"\",\"\",(LARGE('A1'!$B$30:$C$103,(1+SUM(COUNTIF('A1'!$B$30:$C$103,B$6:B155))-(A155*COUNTIF('A1'!$B$30:$C$103,B$7))))))","v":""},{"$f":"IF($C$5:$AZ$5=\"\",\"\",IF($C$5:$AZ$5=\"HOT\",IF(TRANSPOSE('A1'!$B$30:$B$80)=$B156,\"●\",IF(TRANSPOSE('A1'!$C$30:$C$80)=$B156,\"▼\",IF($C155:$AZ155=\"|\",\"|\",\"\"))),IF(TRANSPOSE('A1'!$B$30:$B$80)=$B156,\"●\",IF(TRANSPOSE('A1'!$C$30:$C$80)=$B156,\"▲\",IF($C155:$AZ155=\"|\",\"|\",\"\")))))","v":""},"","","","","","","","","","","","","","","","","","","","","","","","","","","","","","","","","","","","","","","","","","","","","","","","",""]
[{"$f":"IF(A155=\"\",\"\",IF((SUM(IF(FREQUENCY('A1'!$B$30:$C$80,'A1'!$B$30:$C$80)>0,1)))>(A155+1),(A155+1),\"\"))","v":""},{"$f":"IF(A156=\"\",\"\",(LARGE('A1'!$B$30:$C$103,(1+SUM(COUNTIF('A1'!$B$30:$C$103,B$6:B156))-(A156*COUNTIF('A1'!$B$30:$C$103,B$7))))))","v":""},{"$f":"IF($C$5:$AZ$5=\"\",\"\",IF($C$5:$AZ$5=\"HOT\",IF($C156:$AZ156=\"●\",\"|\",IF($C156:$AZ156=\"|\",\"|\",\"\")),IF($C156:$AZ156=\"▲\",\"|\",IF($C156:$AZ156=\"|\",\"|\",\"\"))))","v":""},"","","","","","","","","","","","","","","","","","","","","","","","","","","","","","","","","","","","","","","","","","","","","","","","",""]
[null,{"$f":"IF(A157=\"\",\"\",(LARGE('A1'!$B$30:$C$103,(1+SUM(COUNTIF('A1'!$B$30:$C$103,B$6:B157))-(A157*COUNTIF('A1'!$B$30:$C$103,B$7))))))","v":""},{"$f":"IF($C$5:$AZ$5=\"\",\"\",IF($C$5:$AZ$5=\"HOT\",IF(TRANSPOSE('A1'!$B$30:$B$80)=$B158,\"●\",IF(TRANSPOSE('A1'!$C$30:$C$80)=$B158,\"▼\",IF($C157:$AZ157=\"|\",\"|\",\"\"))),IF(TRANSPOSE('A1'!$B$30:$B$80)=$B158,\"●\",IF(TRANSPOSE('A1'!$C$30:$C$80)=$B158,\"▲\",IF($C157:$AZ157=\"|\",\"|\",\"\")))))","v":""},"","","","","","","","","","","","","","","","","","","","","","","","","","","","","","","","","","","","","","","","","","","","","","","","",""]
[{"$f":"IF(A157=\"\",\"\",IF((SUM(IF(FREQUENCY('A1'!$B$30:$C$80,'A1'!$B$30:$C$80)>0,1)))>(A157+1),(A157+1),\"\"))","v":""},{"$f":"IF(A158=\"\",\"\",(LARGE('A1'!$B$30:$C$103,(1+SUM(COUNTIF('A1'!$B$30:$C$103,B$6:B158))-(A158*COUNTIF('A1'!$B$30:$C$103,B$7))))))","v":""},{"$f":"IF($C$5:$AZ$5=\"\",\"\",IF($C$5:$AZ$5=\"HOT\",IF($C158:$AZ158=\"●\",\"|\",IF($C158:$AZ158=\"|\",\"|\",\"\")),IF($C158:$AZ158=\"▲\",\"|\",IF($C158:$AZ158=\"|\",\"|\",\"\"))))","v":""},"","","","","","","","","","","","","","","","","","","","","","","","","","","","","","","","","","","","","","","","","","","","","","","","",""]
[null,{"$f":"IF(A159=\"\",\"\",(LARGE('A1'!$B$30:$C$103,(1+SUM(COUNTIF('A1'!$B$30:$C$103,B$6:B159))-(A159*COUNTIF('A1'!$B$30:$C$103,B$7))))))","v":""},{"$f":"IF($C$5:$AZ$5=\"\",\"\",IF($C$5:$AZ$5=\"HOT\",IF(TRANSPOSE('A1'!$B$30:$B$80)=$B160,\"●\",IF(TRANSPOSE('A1'!$C$30:$C$80)=$B160,\"▼\",IF($C159:$AZ159=\"|\",\"|\",\"\"))),IF(TRANSPOSE('A1'!$B$30:$B$80)=$B160,\"●\",IF(TRANSPOSE('A1'!$C$30:$C$80)=$B160,\"▲\",IF($C159:$AZ159=\"|\",\"|\",\"\")))))","v":""},"","","","","","","","","","","","","","","","","","","","","","","","","","","","","","","","","","","","","","","","","","","","","","","","",""]
[{"$f":"IF(A159=\"\",\"\",IF((SUM(IF(FREQUENCY('A1'!$B$30:$C$80,'A1'!$B$30:$C$80)>0,1)))>(A159+1),(A159+1),\"\"))","v":""},{"$f":"IF(A160=\"\",\"\",(LARGE('A1'!$B$30:$C$103,(1+SUM(COUNTIF('A1'!$B$30:$C$103,B$6:B160))-(A160*COUNTIF('A1'!$B$30:$C$103,B$7))))))","v":""},{"$f":"IF($C$5:$AZ$5=\"\",\"\",IF($C$5:$AZ$5=\"HOT\",IF($C160:$AZ160=\"●\",\"|\",IF($C160:$AZ160=\"|\",\"|\",\"\")),IF($C160:$AZ160=\"▲\",\"|\",IF($C160:$AZ160=\"|\",\"|\",\"\"))))","v":""},"","","","","","","","","","","","","","","","","","","","","","","","","","","","","","","","","","","","","","","","","","","","","","","","",""]
[null,{"$f":"IF(A161=\"\",\"\",(LARGE('A1'!$B$30:$C$103,(1+SUM(COUNTIF('A1'!$B$30:$C$103,B$6:B161))-(A161*COUNTIF('A1'!$B$30:$C$103,B$7))))))","v":""},{"$f":"IF($C$5:$AZ$5=\"\",\"\",IF($C$5:$AZ$5=\"HOT\",IF(TRANSPOSE('A1'!$B$30:$B$80)=$B162,\"●\",IF(TRANSPOSE('A1'!$C$30:$C$80)=$B162,\"▼\",IF($C161:$AZ161=\"|\",\"|\",\"\"))),IF(TRANSPOSE('A1'!$B$30:$B$80)=$B162,\"●\",IF(TRANSPOSE('A1'!$C$30:$C$80)=$B162,\"▲\",IF($C161:$AZ161=\"|\",\"|\",\"\")))))","v":""},"","","","","","","","","","","","","","","","","","","","","","","","","","","","","","","","","","","","","","","","","","","","","","","","",""]
[{"$f":"IF(A161=\"\",\"\",IF((SUM(IF(FREQUENCY('A1'!$B$30:$C$80,'A1'!$B$30:$C$80)>0,1)))>(A161+1),(A161+1),\"\"))","v":""},{"$f":"IF(A162=\"\",\"\",(LARGE('A1'!$B$30:$C$103,(1+SUM(COUNTIF('A1'!$B$30:$C$103,B$6:B162))-(A162*COUNTIF('A1'!$B$30:$C$103,B$7))))))","v":""},{"$f":"IF($C$5:$AZ$5=\"\",\"\",IF($C$5:$AZ$5=\"HOT\",IF($C162:$AZ162=\"●\",\"|\",IF($C162:$AZ162=\"|\",\"|\",\"\")),IF($C162:$AZ162=\"▲\",\"|\",IF($C162:$AZ162=\"|\",\"|\",\"\"))))","v":""},"","","","","","","","","","","","","","","","","","","","","","","","","","","","","","","","","","","","","","","","","","","","","","","","",""]
[null,{"$f":"IF(A163=\"\",\"\",(LARGE('A1'!$B$30:$C$103,(1+SUM(COUNTIF('A1'!$B$30:$C$103,B$6:B163))-(A163*COUNTIF('A1'!$B$30:$C$103,B$7))))))","v":""},{"$f":"IF($C$5:$AZ$5=\"\",\"\",IF($C$5:$AZ$5=\"HOT\",IF(TRANSPOSE('A1'!$B$30:$B$80)=$B164,\"●\",IF(TRANSPOSE('A1'!$C$30:$C$80)=$B164,\"▼\",IF($C163:$AZ163=\"|\",\"|\",\"\"))),IF(TRANSPOSE('A1'!$B$30:$B$80)=$B164,\"●\",IF(TRANSPOSE('A1'!$C$30:$C$80)=$B164,\"▲\",IF($C163:$AZ163=\"|\",\"|\",\"\")))))","v":""},"","","","","","","","","","","","","","","","","","","","","","","","","","","","","","","","","","","","","","","","","","","","","","","","",""]
[{"$f":"IF(A163=\"\",\"\",IF((SUM(IF(FREQUENCY('A1'!$B$30:$C$80,'A1'!$B$30:$C$80)>0,1)))>(A163+1),(A163+1),\"\"))","v":""},{"$f":"IF(A164=\"\",\"\",(LARGE('A1'!$B$30:$C$103,(1+SUM(COUNTIF('A1'!$B$30:$C$103,B$6:B164))-(A164*COUNTIF('A1'!$B$30:$C$103,B$7))))))","v":""},{"$f":"IF($C$5:$AZ$5=\"\",\"\",IF($C$5:$AZ$5=\"HOT\",IF($C164:$AZ164=\"●\",\"|\",IF($C164:$AZ164=\"|\",\"|\",\"\")),IF($C164:$AZ164=\"▲\",\"|\",IF($C164:$AZ164=\"|\",\"|\",\"\"))))","v":""},"","","","","","","","","","","","","","","","","","","","","","","","","","","","","","","","","","","","","","","","","","","","","","","","",""]
[null,{"$f":"IF(A165=\"\",\"\",(LARGE('A1'!$B$30:$C$103,(1+SUM(COUNTIF('A1'!$B$30:$C$103,B$6:B165))-(A165*COUNTIF('A1'!$B$30:$C$103,B$7))))))","v":""},{"$f":"IF($C$5:$AZ$5=\"\",\"\",IF($C$5:$AZ$5=\"HOT\",IF(TRANSPOSE('A1'!$B$30:$B$80)=$B166,\"●\",IF(TRANSPOSE('A1'!$C$30:$C$80)=$B166,\"▼\",IF($C165:$AZ165=\"|\",\"|\",\"\"))),IF(TRANSPOSE('A1'!$B$30:$B$80)=$B166,\"●\",IF(TRANSPOSE('A1'!$C$30:$C$80)=$B166,\"▲\",IF($C165:$AZ165=\"|\",\"|\",\"\")))))","v":""},"","","","","","","","","","","","","","","","","","","","","","","","","","","","","","","","","","","","","","","","","","","","","","","","",""]
[{"$f":"IF(A165=\"\",\"\",IF((SUM(IF(FREQUENCY('A1'!$B$30:$C$80,'A1'!$B$30:$C$80)>0,1)))>(A165+1),(A165+1),\"\"))","v":""},{"$f":"IF(A166=\"\",\"\",(LARGE('A1'!$B$30:$C$103,(1+SUM(COUNTIF('A1'!$B$30:$C$103,B$6:B166))-(A166*COUNTIF('A1'!$B$30:$C$103,B$7))))))","v":""},{"$f":"IF($C$5:$AZ$5=\"\",\"\",IF($C$5:$AZ$5=\"HOT\",IF($C166:$AZ166=\"●\",\"|\",IF($C166:$AZ166=\"|\",\"|\",\"\")),IF($C166:$AZ166=\"▲\",\"|\",IF($C166:$AZ166=\"|\",\"|\",\"\"))))","v":""},"","","","","","","","","","","","","","","","","","","","","","","","","","","","","","","","","","","","","","","","","","","","","","","","",""]
[null,{"$f":"IF(A167=\"\",\"\",(LARGE('A1'!$B$30:$C$103,(1+SUM(COUNTIF('A1'!$B$30:$C$103,B$6:B167))-(A167*COUNTIF('A1'!$B$30:$C$103,B$7))))))","v":""},{"$f":"IF($C$5:$AZ$5=\"\",\"\",IF($C$5:$AZ$5=\"HOT\",IF(TRANSPOSE('A1'!$B$30:$B$80)=$B168,\"●\",IF(TRANSPOSE('A1'!$C$30:$C$80)=$B168,\"▼\",IF($C167:$AZ167=\"|\",\"|\",\"\"))),IF(TRANSPOSE('A1'!$B$30:$B$80)=$B168,\"●\",IF(TRANSPOSE('A1'!$C$30:$C$80)=$B168,\"▲\",IF($C167:$AZ167=\"|\",\"|\",\"\")))))","v":""},"","","","","","","","","","","","","","","","","","","","","","","","","","","","","","","","","","","","","","","","","","","","","","","","",""]
[{"$f":"IF(A167=\"\",\"\",IF((SUM(IF(FREQUENCY('A1'!$B$30:$C$80,'A1'!$B$30:$C$80)>0,1)))>(A167+1),(A167+1),\"\"))","v":""},{"$f":"IF(A168=\"\",\"\",(LARGE('A1'!$B$30:$C$103,(1+SUM(COUNTIF('A1'!$B$30:$C$103,B$6:B168))-(A168*COUNTIF('A1'!$B$30:$C$103,B$7))))))","v":""},{"$f":"IF($C$5:$AZ$5=\"\",\"\",IF($C$5:$AZ$5=\"HOT\",IF($C168:$AZ168=\"●\",\"|\",IF($C168:$AZ168=\"|\",\"|\",\"\")),IF($C168:$AZ168=\"▲\",\"|\",IF($C168:$AZ168=\"|\",\"|\",\"\"))))","v":""},"","","","","","","","","","","","","","","","","","","","","","","","","","","","","","","","","","","","","","","","","","","","","","","","",""]
[null,{"$f":"IF(A169=\"\",\"\",(LARGE('A1'!$B$30:$C$103,(1+SUM(COUNTIF('A1'!$B$30:$C$103,B$6:B169))-(A169*COUNTIF('A1'!$B$30:$C$103,B$7))))))","v":""},{"$f":"IF($C$5:$AZ$5=\"\",\"\",IF($C$5:$AZ$5=\"HOT\",IF(TRANSPOSE('A1'!$B$30:$B$80)=$B170,\"●\",IF(TRANSPOSE('A1'!$C$30:$C$80)=$B170,\"▼\",IF($C169:$AZ169=\"|\",\"|\",\"\"))),IF(TRANSPOSE('A1'!$B$30:$B$80)=$B170,\"●\",IF(TRANSPOSE('A1'!$C$30:$C$80)=$B170,\"▲\",IF($C169:$AZ169=\"|\",\"|\",\"\")))))","v":""},"","","","","","","","","","","","","","","","","","","","","","","","","","","","","","","","","","","","","","","","","","","","","","","","",""]
[{"$f":"IF(A169=\"\",\"\",IF((SUM(IF(FREQUENCY('A1'!$B$30:$C$80,'A1'!$B$30:$C$80)>0,1)))>(A169+1),(A169+1),\"\"))","v":""},{"$f":"IF(A170=\"\",\"\",(LARGE('A1'!$B$30:$C$103,(1+SUM(COUNTIF('A1'!$B$30:$C$103,B$6:B170))-(A170*COUNTIF('A1'!$B$30:$C$103,B$7))))))","v":""},{"$f":"IF($C$5:$AZ$5=\"\",\"\",IF($C$5:$AZ$5=\"HOT\",IF($C170:$AZ170=\"●\",\"|\",IF($C170:$AZ170=\"|\",\"|\",\"\")),IF($C170:$AZ170=\"▲\",\"|\",IF($C170:$AZ170=\"|\",\"|\",\"\"))))","v":""},"","","","","","","","","","","","","","","","","","","","","","","","","","","","","","","","","","","","","","","","","","","","","","","","",""]
[null,{"$f":"IF(A171=\"\",\"\",(LARGE('A1'!$B$30:$C$103,(1+SUM(COUNTIF('A1'!$B$30:$C$103,B$6:B171))-(A171*COUNTIF('A1'!$B$30:$C$103,B$7))))))","v":""},{"$f":"IF($C$5:$AZ$5=\"\",\"\",IF($C$5:$AZ$5=\"HOT\",IF(TRANSPOSE('A1'!$B$30:$B$80)=$B172,\"●\",IF(TRANSPOSE('A1'!$C$30:$C$80)=$B172,\"▼\",IF($C171:$AZ171=\"|\",\"|\",\"\"))),IF(TRANSPOSE('A1'!$B$30:$B$80)=$B172,\"●\",IF(TRANSPOSE('A1'!$C$30:$C$80)=$B172,\"▲\",IF($C171:$AZ171=\"|\",\"|\",\"\")))))","v":""},"","","","","","","","","","","","","","","","","","","","","","","","","","","","","","","","","","","","","","","","","","","","","","","","",""]
[{"$f":"IF(A171=\"\",\"\",IF((SUM(IF(FREQUENCY('A1'!$B$30:$C$80,'A1'!$B$30:$C$80)>0,1)))>(A171+1),(A171+1),\"\"))","v":""},{"$f":"IF(A172=\"\",\"\",(LARGE('A1'!$B$30:$C$103,(1+SUM(COUNTIF('A1'!$B$30:$C$103,B$6:B172))-(A172*COUNTIF('A1'!$B$30:$C$103,B$7))))))","v":""},{"$f":"IF($C$5:$AZ$5=\"\",\"\",IF($C$5:$AZ$5=\"HOT\",IF($C172:$AZ172=\"●\",\"|\",IF($C172:$AZ172=\"|\",\"|\",\"\")),IF($C172:$AZ172=\"▲\",\"|\",IF($C172:$AZ172=\"|\",\"|\",\"\"))))","v":""},"","","","","","","","","","","","","","","","","","","","","","","","","","","","","","","","","","","","","","","","","","","","","","","","",""]
[null,{"$f":"IF(A173=\"\",\"\",(LARGE('A1'!$B$30:$C$103,(1+SUM(COUNTIF('A1'!$B$30:$C$103,B$6:B173))-(A173*COUNTIF('A1'!$B$30:$C$103,B$7))))))","v":""},{"$f":"IF($C$5:$AZ$5=\"\",\"\",IF($C$5:$AZ$5=\"HOT\",IF(TRANSPOSE('A1'!$B$30:$B$80)=$B174,\"●\",IF(TRANSPOSE('A1'!$C$30:$C$80)=$B174,\"▼\",IF($C173:$AZ173=\"|\",\"|\",\"\"))),IF(TRANSPOSE('A1'!$B$30:$B$80)=$B174,\"●\",IF(TRANSPOSE('A1'!$C$30:$C$80)=$B174,\"▲\",IF($C173:$AZ173=\"|\",\"|\",\"\")))))","v":""},"","","","","","","","","","","","","","","","","","","","","","","","","","","","","","","","","","","","","","","","","","","","","","","","",""]
[{"$f":"IF(A173=\"\",\"\",IF((SUM(IF(FREQUENCY('A1'!$B$30:$C$80,'A1'!$B$30:$C$80)>0,1)))>(A173+1),(A173+1),\"\"))","v":""},{"$f":"IF(A174=\"\",\"\",(LARGE('A1'!$B$30:$C$103,(1+SUM(COUNTIF('A1'!$B$30:$C$103,B$6:B174))-(A174*COUNTIF('A1'!$B$30:$C$103,B$7))))))","v":""},{"$f":"IF($C$5:$AZ$5=\"\",\"\",IF($C$5:$AZ$5=\"HOT\",IF($C174:$AZ174=\"●\",\"|\",IF($C174:$AZ174=\"|\",\"|\",\"\")),IF($C174:$AZ174=\"▲\",\"|\",IF($C174:$AZ174=\"|\",\"|\",\"\"))))","v":""},"","","","","","","","","","","","","","","","","","","","","","","","","","","","","","","","","","","","","","","","","","","","","","","","",""]
[null,{"$f":"IF(A175=\"\",\"\",(LARGE('A1'!$B$30:$C$103,(1+SUM(COUNTIF('A1'!$B$30:$C$103,B$6:B175))-(A175*COUNTIF('A1'!$B$30:$C$103,B$7))))))","v":""},{"$f":"IF($C$5:$AZ$5=\"\",\"\",IF($C$5:$AZ$5=\"HOT\",IF(TRANSPOSE('A1'!$B$30:$B$80)=$B176,\"●\",IF(TRANSPOSE('A1'!$C$30:$C$80)=$B176,\"▼\",IF($C175:$AZ175=\"|\",\"|\",\"\"))),IF(TRANSPOSE('A1'!$B$30:$B$80)=$B176,\"●\",IF(TRANSPOSE('A1'!$C$30:$C$80)=$B176,\"▲\",IF($C175:$AZ175=\"|\",\"|\",\"\")))))","v":""},"","","","","","","","","","","","","","","","","","","","","","","","","","","","","","","","","","","","","","","","","","","","","","","","",""]
[{"$f":"IF(A175=\"\",\"\",IF((SUM(IF(FREQUENCY('A1'!$B$30:$C$80,'A1'!$B$30:$C$80)>0,1)))>(A175+1),(A175+1),\"\"))","v":""},{"$f":"IF(A176=\"\",\"\",(LARGE('A1'!$B$30:$C$103,(1+SUM(COUNTIF('A1'!$B$30:$C$103,B$6:B176))-(A176*COUNTIF('A1'!$B$30:$C$103,B$7))))))","v":""},{"$f":"IF($C$5:$AZ$5=\"\",\"\",IF($C$5:$AZ$5=\"HOT\",IF($C176:$AZ176=\"●\",\"|\",IF($C176:$AZ176=\"|\",\"|\",\"\")),IF($C176:$AZ176=\"▲\",\"|\",IF($C176:$AZ176=\"|\",\"|\",\"\"))))","v":""},"","","","","","","","","","","","","","","","","","","","","","","","","","","","","","","","","","","","","","","","","","","","","","","","",""]
[null,{"$f":"IF(A177=\"\",\"\",(LARGE('A1'!$B$30:$C$103,(1+SUM(COUNTIF('A1'!$B$30:$C$103,B$6:B177))-(A177*COUNTIF('A1'!$B$30:$C$103,B$7))))))","v":""},{"$f":"IF($C$5:$AZ$5=\"\",\"\",IF($C$5:$AZ$5=\"HOT\",IF(TRANSPOSE('A1'!$B$30:$B$80)=$B178,\"●\",IF(TRANSPOSE('A1'!$C$30:$C$80)=$B178,\"▼\",IF($C177:$AZ177=\"|\",\"|\",\"\"))),IF(TRANSPOSE('A1'!$B$30:$B$80)=$B178,\"●\",IF(TRANSPOSE('A1'!$C$30:$C$80)=$B178,\"▲\",IF($C177:$AZ177=\"|\",\"|\",\"\")))))","v":""},"","","","","","","","","","","","","","","","","","","","","","","","","","","","","","","","","","","","","","","","","","","","","","","","",""]
[{"$f":"IF(A177=\"\",\"\",IF((SUM(IF(FREQUENCY('A1'!$B$30:$C$80,'A1'!$B$30:$C$80)>0,1)))>(A177+1),(A177+1),\"\"))","v":""},{"$f":"IF(A178=\"\",\"\",(LARGE('A1'!$B$30:$C$103,(1+SUM(COUNTIF('A1'!$B$30:$C$103,B$6:B178))-(A178*COUNTIF('A1'!$B$30:$C$103,B$7))))))","v":""},{"$f":"IF($C$5:$AZ$5=\"\",\"\",IF($C$5:$AZ$5=\"HOT\",IF($C178:$AZ178=\"●\",\"|\",IF($C178:$AZ178=\"|\",\"|\",\"\")),IF($C178:$AZ178=\"▲\",\"|\",IF($C178:$AZ178=\"|\",\"|\",\"\"))))","v":""},"","","","","","","","","","","","","","","","","","","","","","","","","","","","","","","","","","","","","","","","","","","","","","","","",""]
[null,{"$f":"IF(A179=\"\",\"\",(LARGE('A1'!$B$30:$C$103,(1+SUM(COUNTIF('A1'!$B$30:$C$103,B$6:B179))-(A179*COUNTIF('A1'!$B$30:$C$103,B$7))))))","v":""},{"$f":"IF($C$5:$AZ$5=\"\",\"\",IF($C$5:$AZ$5=\"HOT\",IF(TRANSPOSE('A1'!$B$30:$B$80)=$B180,\"●\",IF(TRANSPOSE('A1'!$C$30:$C$80)=$B180,\"▼\",IF($C179:$AZ179=\"|\",\"|\",\"\"))),IF(TRANSPOSE('A1'!$B$30:$B$80)=$B180,\"●\",IF(TRANSPOSE('A1'!$C$30:$C$80)=$B180,\"▲\",IF($C179:$AZ179=\"|\",\"|\",\"\")))))","v":""},"","","","","","","","","","","","","","","","","","","","","","","","","","","","","","","","","","","","","","","","","","","","","","","","",""]
[{"$f":"IF(A179=\"\",\"\",IF((SUM(IF(FREQUENCY('A1'!$B$30:$C$80,'A1'!$B$30:$C$80)>0,1)))>(A179+1),(A179+1),\"\"))","v":""},{"$f":"IF(A180=\"\",\"\",(LARGE('A1'!$B$30:$C$103,(1+SUM(COUNTIF('A1'!$B$30:$C$103,B$6:B180))-(A180*COUNTIF('A1'!$B$30:$C$103,B$7))))))","v":""},{"$f":"IF($C$5:$AZ$5=\"\",\"\",IF($C$5:$AZ$5=\"HOT\",IF($C180:$AZ180=\"●\",\"|\",IF($C180:$AZ180=\"|\",\"|\",\"\")),IF($C180:$AZ180=\"▲\",\"|\",IF($C180:$AZ180=\"|\",\"|\",\"\"))))","v":""},"","","","","","","","","","","","","","","","","","","","","","","","","","","","","","","","","","","","","","","","","","","","","","","","",""]
[null,{"$f":"IF(A181=\"\",\"\",(LARGE('A1'!$B$30:$C$103,(1+SUM(COUNTIF('A1'!$B$30:$C$103,B$6:B181))-(A181*COUNTIF('A1'!$B$30:$C$103,B$7))))))","v":""},{"$f":"IF($C$5:$AZ$5=\"\",\"\",IF($C$5:$AZ$5=\"HOT\",IF(TRANSPOSE('A1'!$B$30:$B$80)=$B182,\"●\",IF(TRANSPOSE('A1'!$C$30:$C$80)=$B182,\"▼\",IF($C181:$AZ181=\"|\",\"|\",\"\"))),IF(TRANSPOSE('A1'!$B$30:$B$80)=$B182,\"●\",IF(TRANSPOSE('A1'!$C$30:$C$80)=$B182,\"▲\",IF($C181:$AZ181=\"|\",\"|\",\"\")))))","v":""},"","","","","","","","","","","","","","","","","","","","","","","","","","","","","","","","","","","","","","","","","","","","","","","","",""]
[{"$f":"IF(A181=\"\",\"\",IF((SUM(IF(FREQUENCY('A1'!$B$30:$C$80,'A1'!$B$30:$C$80)>0,1)))>(A181+1),(A181+1),\"\"))","v":""},{"$f":"IF(A182=\"\",\"\",(LARGE('A1'!$B$30:$C$103,(1+SUM(COUNTIF('A1'!$B$30:$C$103,B$6:B182))-(A182*COUNTIF('A1'!$B$30:$C$103,B$7))))))","v":""},{"$f":"IF($C$5:$AZ$5=\"\",\"\",IF($C$5:$AZ$5=\"HOT\",IF($C182:$AZ182=\"●\",\"|\",IF($C182:$AZ182=\"|\",\"|\",\"\")),IF($C182:$AZ182=\"▲\",\"|\",IF($C182:$AZ182=\"|\",\"|\",\"\"))))","v":""},"","","","","","","","","","","","","","","","","","","","","","","","","","","","","","","","","","","","","","","","","","","","","","","","",""]
[null,{"$f":"IF(A183=\"\",\"\",(LARGE('A1'!$B$30:$C$103,(1+SUM(COUNTIF('A1'!$B$30:$C$103,B$6:B183))-(A183*COUNTIF('A1'!$B$30:$C$103,B$7))))))","v":""},{"$f":"IF($C$5:$AZ$5=\"\",\"\",IF($C$5:$AZ$5=\"HOT\",IF(TRANSPOSE('A1'!$B$30:$B$80)=$B184,\"●\",IF(TRANSPOSE('A1'!$C$30:$C$80)=$B184,\"▼\",IF($C183:$AZ183=\"|\",\"|\",\"\"))),IF(TRANSPOSE('A1'!$B$30:$B$80)=$B184,\"●\",IF(TRANSPOSE('A1'!$C$30:$C$80)=$B184,\"▲\",IF($C183:$AZ183=\"|\",\"|\",\"\")))))","v":""},"","","","","","","","","","","","","","","","","","","","","","","","","","","","","","","","","","","","","","","","","","","","","","","","",""]
[{"$f":"IF(A183=\"\",\"\",IF((SUM(IF(FREQUENCY('A1'!$B$30:$C$80,'A1'!$B$30:$C$80)>0,1)))>(A183+1),(A183+1),\"\"))","v":""},{"$f":"IF(A184=\"\",\"\",(LARGE('A1'!$B$30:$C$103,(1+SUM(COUNTIF('A1'!$B$30:$C$103,B$6:B184))-(A184*COUNTIF('A1'!$B$30:$C$103,B$7))))))","v":""},{"$f":"IF($C$5:$AZ$5=\"\",\"\",IF($C$5:$AZ$5=\"HOT\",IF($C184:$AZ184=\"●\",\"|\",IF($C184:$AZ184=\"|\",\"|\",\"\")),IF($C184:$AZ184=\"▲\",\"|\",IF($C184:$AZ184=\"|\",\"|\",\"\"))))","v":""},"","","","","","","","","","","","","","","","","","","","","","","","","","","","","","","","","","","","","","","","","","","","","","","","",""]
[null,{"$f":"IF(A185=\"\",\"\",(LARGE('A1'!$B$30:$C$103,(1+SUM(COUNTIF('A1'!$B$30:$C$103,B$6:B185))-(A185*COUNTIF('A1'!$B$30:$C$103,B$7))))))","v":""},{"$f":"IF($C$5:$AZ$5=\"\",\"\",IF($C$5:$AZ$5=\"HOT\",IF(TRANSPOSE('A1'!$B$30:$B$80)=$B186,\"●\",IF(TRANSPOSE('A1'!$C$30:$C$80)=$B186,\"▼\",IF($C185:$AZ185=\"|\",\"|\",\"\"))),IF(TRANSPOSE('A1'!$B$30:$B$80)=$B186,\"●\",IF(TRANSPOSE('A1'!$C$30:$C$80)=$B186,\"▲\",IF($C185:$AZ185=\"|\",\"|\",\"\")))))","v":""},"","","","","","","","","","","","","","","","","","","","","","","","","","","","","","","","","","","","","","","","","","","","","","","","",""]
[{"$f":"IF(A185=\"\",\"\",IF((SUM(IF(FREQUENCY('A1'!$B$30:$C$80,'A1'!$B$30:$C$80)>0,1)))>(A185+1),(A185+1),\"\"))","v":""},{"$f":"IF(A186=\"\",\"\",(LARGE('A1'!$B$30:$C$103,(1+SUM(COUNTIF('A1'!$B$30:$C$103,B$6:B186))-(A186*COUNTIF('A1'!$B$30:$C$103,B$7))))))","v":""},{"$f":"IF($C$5:$AZ$5=\"\",\"\",IF($C$5:$AZ$5=\"HOT\",IF($C186:$AZ186=\"●\",\"|\",IF($C186:$AZ186=\"|\",\"|\",\"\")),IF($C186:$AZ186=\"▲\",\"|\",IF($C186:$AZ186=\"|\",\"|\",\"\"))))","v":""},"","","","","","","","","","","","","","","","","","","","","","","","","","","","","","","","","","","","","","","","","","","","","","","","",""]
[null,{"$f":"IF(A187=\"\",\"\",(LARGE('A1'!$B$30:$C$103,(1+SUM(COUNTIF('A1'!$B$30:$C$103,B$6:B187))-(A187*COUNTIF('A1'!$B$30:$C$103,B$7))))))","v":""},{"$f":"IF($C$5:$AZ$5=\"\",\"\",IF($C$5:$AZ$5=\"HOT\",IF(TRANSPOSE('A1'!$B$30:$B$80)=$B188,\"●\",IF(TRANSPOSE('A1'!$C$30:$C$80)=$B188,\"▼\",IF($C187:$AZ187=\"|\",\"|\",\"\"))),IF(TRANSPOSE('A1'!$B$30:$B$80)=$B188,\"●\",IF(TRANSPOSE('A1'!$C$30:$C$80)=$B188,\"▲\",IF($C187:$AZ187=\"|\",\"|\",\"\")))))","v":""},"","","","","","","","","","","","","","","","","","","","","","","","","","","","","","","","","","","","","","","","","","","","","","","","",""]
[{"$f":"IF(A187=\"\",\"\",IF((SUM(IF(FREQUENCY('A1'!$B$30:$C$80,'A1'!$B$30:$C$80)>0,1)))>(A187+1),(A187+1),\"\"))","v":""},{"$f":"IF(A188=\"\",\"\",(LARGE('A1'!$B$30:$C$103,(1+SUM(COUNTIF('A1'!$B$30:$C$103,B$6:B188))-(A188*COUNTIF('A1'!$B$30:$C$103,B$7))))))","v":""},{"$f":"IF($C$5:$AZ$5=\"\",\"\",IF($C$5:$AZ$5=\"HOT\",IF($C188:$AZ188=\"●\",\"|\",IF($C188:$AZ188=\"|\",\"|\",\"\")),IF($C188:$AZ188=\"▲\",\"|\",IF($C188:$AZ188=\"|\",\"|\",\"\"))))","v":""},"","","","","","","","","","","","","","","","","","","","","","","","","","","","","","","","","","","","","","","","","","","","","","","","",""]
[null,{"$f":"IF(A189=\"\",\"\",(LARGE('A1'!$B$30:$C$103,(1+SUM(COUNTIF('A1'!$B$30:$C$103,B$6:B189))-(A189*COUNTIF('A1'!$B$30:$C$103,B$7))))))","v":""},{"$f":"IF($C$5:$AZ$5=\"\",\"\",IF($C$5:$AZ$5=\"HOT\",IF(TRANSPOSE('A1'!$B$30:$B$80)=$B190,\"●\",IF(TRANSPOSE('A1'!$C$30:$C$80)=$B190,\"▼\",IF($C189:$AZ189=\"|\",\"|\",\"\"))),IF(TRANSPOSE('A1'!$B$30:$B$80)=$B190,\"●\",IF(TRANSPOSE('A1'!$C$30:$C$80)=$B190,\"▲\",IF($C189:$AZ189=\"|\",\"|\",\"\")))))","v":""},"","","","","","","","","","","","","","","","","","","","","","","","","","","","","","","","","","","","","","","","","","","","","","","","",""]
[{"$f":"IF(A189=\"\",\"\",IF((SUM(IF(FREQUENCY('A1'!$B$30:$C$80,'A1'!$B$30:$C$80)>0,1)))>(A189+1),(A189+1),\"\"))","v":""},{"$f":"IF(A190=\"\",\"\",(LARGE('A1'!$B$30:$C$103,(1+SUM(COUNTIF('A1'!$B$30:$C$103,B$6:B190))-(A190*COUNTIF('A1'!$B$30:$C$103,B$7))))))","v":""},{"$f":"IF($C$5:$AZ$5=\"\",\"\",IF($C$5:$AZ$5=\"HOT\",IF($C190:$AZ190=\"●\",\"|\",IF($C190:$AZ190=\"|\",\"|\",\"\")),IF($C190:$AZ190=\"▲\",\"|\",IF($C190:$AZ190=\"|\",\"|\",\"\"))))","v":""},"","","","","","","","","","","","","","","","","","","","","","","","","","","","","","","","","","","","","","","","","","","","","","","","",""]
[null,{"$f":"IF(A191=\"\",\"\",(LARGE('A1'!$B$30:$C$103,(1+SUM(COUNTIF('A1'!$B$30:$C$103,B$6:B191))-(A191*COUNTIF('A1'!$B$30:$C$103,B$7))))))","v":""},{"$f":"IF($C$5:$AZ$5=\"\",\"\",IF($C$5:$AZ$5=\"HOT\",IF(TRANSPOSE('A1'!$B$30:$B$80)=$B192,\"●\",IF(TRANSPOSE('A1'!$C$30:$C$80)=$B192,\"▼\",IF($C191:$AZ191=\"|\",\"|\",\"\"))),IF(TRANSPOSE('A1'!$B$30:$B$80)=$B192,\"●\",IF(TRANSPOSE('A1'!$C$30:$C$80)=$B192,\"▲\",IF($C191:$AZ191=\"|\",\"|\",\"\")))))","v":""},"","","","","","","","","","","","","","","","","","","","","","","","","","","","","","","","","","","","","","","","","","","","","","","","",""]
[{"$f":"IF(A191=\"\",\"\",IF((SUM(IF(FREQUENCY('A1'!$B$30:$C$80,'A1'!$B$30:$C$80)>0,1)))>(A191+1),(A191+1),\"\"))","v":""},{"$f":"IF(A192=\"\",\"\",(LARGE('A1'!$B$30:$C$103,(1+SUM(COUNTIF('A1'!$B$30:$C$103,B$6:B192))-(A192*COUNTIF('A1'!$B$30:$C$103,B$7))))))","v":""},{"$f":"IF($C$5:$AZ$5=\"\",\"\",IF($C$5:$AZ$5=\"HOT\",IF($C192:$AZ192=\"●\",\"|\",IF($C192:$AZ192=\"|\",\"|\",\"\")),IF($C192:$AZ192=\"▲\",\"|\",IF($C192:$AZ192=\"|\",\"|\",\"\"))))","v":""},"","","","","","","","","","","","","","","","","","","","","","","","","","","","","","","","","","","","","","","","","","","","","","","","",""]
[null,{"$f":"IF(A193=\"\",\"\",(LARGE('A1'!$B$30:$C$103,(1+SUM(COUNTIF('A1'!$B$30:$C$103,B$6:B193))-(A193*COUNTIF('A1'!$B$30:$C$103,B$7))))))","v":""},{"$f":"IF($C$5:$AZ$5=\"\",\"\",IF($C$5:$AZ$5=\"HOT\",IF(TRANSPOSE('A1'!$B$30:$B$80)=$B194,\"●\",IF(TRANSPOSE('A1'!$C$30:$C$80)=$B194,\"▼\",IF($C193:$AZ193=\"|\",\"|\",\"\"))),IF(TRANSPOSE('A1'!$B$30:$B$80)=$B194,\"●\",IF(TRANSPOSE('A1'!$C$30:$C$80)=$B194,\"▲\",IF($C193:$AZ193=\"|\",\"|\",\"\")))))","v":""},"","","","","","","","","","","","","","","","","","","","","","","","","","","","","","","","","","","","","","","","","","","","","","","","",""]
[{"$f":"IF(A193=\"\",\"\",IF((SUM(IF(FREQUENCY('A1'!$B$30:$C$80,'A1'!$B$30:$C$80)>0,1)))>(A193+1),(A193+1),\"\"))","v":""},{"$f":"IF(A194=\"\",\"\",(LARGE('A1'!$B$30:$C$103,(1+SUM(COUNTIF('A1'!$B$30:$C$103,B$6:B194))-(A194*COUNTIF('A1'!$B$30:$C$103,B$7))))))","v":""},{"$f":"IF($C$5:$AZ$5=\"\",\"\",IF($C$5:$AZ$5=\"HOT\",IF($C194:$AZ194=\"●\",\"|\",IF($C194:$AZ194=\"|\",\"|\",\"\")),IF($C194:$AZ194=\"▲\",\"|\",IF($C194:$AZ194=\"|\",\"|\",\"\"))))","v":""},"","","","","","","","","","","","","","","","","","","","","","","","","","","","","","","","","","","","","","","","","","","","","","","","",""]
[null,{"$f":"IF(A195=\"\",\"\",(LARGE('A1'!$B$30:$C$103,(1+SUM(COUNTIF('A1'!$B$30:$C$103,B$6:B195))-(A195*COUNTIF('A1'!$B$30:$C$103,B$7))))))","v":""},{"$f":"IF($C$5:$AZ$5=\"\",\"\",IF($C$5:$AZ$5=\"HOT\",IF(TRANSPOSE('A1'!$B$30:$B$80)=$B196,\"●\",IF(TRANSPOSE('A1'!$C$30:$C$80)=$B196,\"▼\",IF($C195:$AZ195=\"|\",\"|\",\"\"))),IF(TRANSPOSE('A1'!$B$30:$B$80)=$B196,\"●\",IF(TRANSPOSE('A1'!$C$30:$C$80)=$B196,\"▲\",IF($C195:$AZ195=\"|\",\"|\",\"\")))))","v":""},"","","","","","","","","","","","","","","","","","","","","","","","","","","","","","","","","","","","","","","","","","","","","","","","",""]
[{"$f":"IF(A195=\"\",\"\",IF((SUM(IF(FREQUENCY('A1'!$B$30:$C$80,'A1'!$B$30:$C$80)>0,1)))>(A195+1),(A195+1),\"\"))","v":""},{"$f":"IF(A196=\"\",\"\",(LARGE('A1'!$B$30:$C$103,(1+SUM(COUNTIF('A1'!$B$30:$C$103,B$6:B196))-(A196*COUNTIF('A1'!$B$30:$C$103,B$7))))))","v":""},{"$f":"IF($C$5:$AZ$5=\"\",\"\",IF($C$5:$AZ$5=\"HOT\",IF($C196:$AZ196=\"●\",\"|\",IF($C196:$AZ196=\"|\",\"|\",\"\")),IF($C196:$AZ196=\"▲\",\"|\",IF($C196:$AZ196=\"|\",\"|\",\"\"))))","v":""},"","","","","","","","","","","","","","","","","","","","","","","","","","","","","","","","","","","","","","","","","","","","","","","","",""]
[null,{"$f":"IF(A197=\"\",\"\",(LARGE('A1'!$B$30:$C$103,(1+SUM(COUNTIF('A1'!$B$30:$C$103,B$6:B197))-(A197*COUNTIF('A1'!$B$30:$C$103,B$7))))))","v":""},{"$f":"IF($C$5:$AZ$5=\"\",\"\",IF($C$5:$AZ$5=\"HOT\",IF(TRANSPOSE('A1'!$B$30:$B$80)=$B198,\"●\",IF(TRANSPOSE('A1'!$C$30:$C$80)=$B198,\"▼\",IF($C197:$AZ197=\"|\",\"|\",\"\"))),IF(TRANSPOSE('A1'!$B$30:$B$80)=$B198,\"●\",IF(TRANSPOSE('A1'!$C$30:$C$80)=$B198,\"▲\",IF($C197:$AZ197=\"|\",\"|\",\"\")))))","v":""},"","","","","","","","","","","","","","","","","","","","","","","","","","","","","","","","","","","","","","","","","","","","","","","","",""]
[{"$f":"IF(A197=\"\",\"\",IF((SUM(IF(FREQUENCY('A1'!$B$30:$C$80,'A1'!$B$30:$C$80)>0,1)))>(A197+1),(A197+1),\"\"))","v":""},{"$f":"IF(A198=\"\",\"\",(LARGE('A1'!$B$30:$C$103,(1+SUM(COUNTIF('A1'!$B$30:$C$103,B$6:B198))-(A198*COUNTIF('A1'!$B$30:$C$103,B$7))))))","v":""},{"$f":"IF($C$5:$AZ$5=\"\",\"\",IF($C$5:$AZ$5=\"HOT\",IF($C198:$AZ198=\"●\",\"|\",IF($C198:$AZ198=\"|\",\"|\",\"\")),IF($C198:$AZ198=\"▲\",\"|\",IF($C198:$AZ198=\"|\",\"|\",\"\"))))","v":""},"","","","","","","","","","","","","","","","","","","","","","","","","","","","","","","","","","","","","","","","","","","","","","","","",""]
[null,{"$f":"IF(A199=\"\",\"\",(LARGE('A1'!$B$30:$C$103,(1+SUM(COUNTIF('A1'!$B$30:$C$103,B$6:B199))-(A199*COUNTIF('A1'!$B$30:$C$103,B$7))))))","v":""},{"$f":"IF($C$5:$AZ$5=\"\",\"\",IF($C$5:$AZ$5=\"HOT\",IF(TRANSPOSE('A1'!$B$30:$B$80)=$B200,\"●\",IF(TRANSPOSE('A1'!$C$30:$C$80)=$B200,\"▼\",IF($C199:$AZ199=\"|\",\"|\",\"\"))),IF(TRANSPOSE('A1'!$B$30:$B$80)=$B200,\"●\",IF(TRANSPOSE('A1'!$C$30:$C$80)=$B200,\"▲\",IF($C199:$AZ199=\"|\",\"|\",\"\")))))","v":""},"","","","","","","","","","","","","","","","","","","","","","","","","","","","","","","","","","","","","","","","","","","","","","","","",""]
[{"$f":"IF(A199=\"\",\"\",IF((SUM(IF(FREQUENCY('A1'!$B$30:$C$80,'A1'!$B$30:$C$80)>0,1)))>(A199+1),(A199+1),\"\"))","v":""},{"$f":"IF(A200=\"\",\"\",(LARGE('A1'!$B$30:$C$103,(1+SUM(COUNTIF('A1'!$B$30:$C$103,B$6:B200))-(A200*COUNTIF('A1'!$B$30:$C$103,B$7))))))","v":""},{"$f":"IF($C$5:$AZ$5=\"\",\"\",IF($C$5:$AZ$5=\"HOT\",IF($C200:$AZ200=\"●\",\"|\",IF($C200:$AZ200=\"|\",\"|\",\"\")),IF($C200:$AZ200=\"▲\",\"|\",IF($C200:$AZ200=\"|\",\"|\",\"\"))))","v":""},"","","","","","","","","","","","","","","","","","","","","","","","","","","","","","","","","","","","","","","","","","","","","","","","",""]
[null,{"$f":"IF(A201=\"\",\"\",(LARGE('A1'!$B$30:$C$103,(1+SUM(COUNTIF('A1'!$B$30:$C$103,B$6:B201))-(A201*COUNTIF('A1'!$B$30:$C$103,B$7))))))","v":""},{"$f":"IF($C$5:$AZ$5=\"\",\"\",IF($C$5:$AZ$5=\"HOT\",IF(TRANSPOSE('A1'!$B$30:$B$80)=$B202,\"●\",IF(TRANSPOSE('A1'!$C$30:$C$80)=$B202,\"▼\",IF($C201:$AZ201=\"|\",\"|\",\"\"))),IF(TRANSPOSE('A1'!$B$30:$B$80)=$B202,\"●\",IF(TRANSPOSE('A1'!$C$30:$C$80)=$B202,\"▲\",IF($C201:$AZ201=\"|\",\"|\",\"\")))))","v":""},"","","","","","","","","","","","","","","","","","","","","","","","","","","","","","","","","","","","","","","","","","","","","","","","",""]
[{"$f":"IF(A201=\"\",\"\",IF((SUM(IF(FREQUENCY('A1'!$B$30:$C$80,'A1'!$B$30:$C$80)>0,1)))>(A201+1),(A201+1),\"\"))","v":""},{"$f":"IF(A202=\"\",\"\",(LARGE('A1'!$B$30:$C$103,(1+SUM(COUNTIF('A1'!$B$30:$C$103,B$6:B202))-(A202*COUNTIF('A1'!$B$30:$C$103,B$7))))))","v":""},{"$f":"IF($C$5:$AZ$5=\"\",\"\",IF($C$5:$AZ$5=\"HOT\",IF($C202:$AZ202=\"●\",\"|\",IF($C202:$AZ202=\"|\",\"|\",\"\")),IF($C202:$AZ202=\"▲\",\"|\",IF($C202:$AZ202=\"|\",\"|\",\"\"))))","v":""},"","","","","","","","","","","","","","","","","","","","","","","","","","","","","","","","","","","","","","","","","","","","","","","","",""]
[null,{"$f":"IF(A203=\"\",\"\",(LARGE('A1'!$B$30:$C$103,(1+SUM(COUNTIF('A1'!$B$30:$C$103,B$6:B203))-(A203*COUNTIF('A1'!$B$30:$C$103,B$7))))))","v":""},{"$f":"IF($C$5:$AZ$5=\"\",\"\",IF($C$5:$AZ$5=\"HOT\",IF(TRANSPOSE('A1'!$B$30:$B$80)=$B204,\"●\",IF(TRANSPOSE('A1'!$C$30:$C$80)=$B204,\"▼\",IF($C203:$AZ203=\"|\",\"|\",\"\"))),IF(TRANSPOSE('A1'!$B$30:$B$80)=$B204,\"●\",IF(TRANSPOSE('A1'!$C$30:$C$80)=$B204,\"▲\",IF($C203:$AZ203=\"|\",\"|\",\"\")))))","v":""},"","","","","","","","","","","","","","","","","","","","","","","","","","","","","","","","","","","","","","","","","","","","","","","","",""]
[{"$f":"IF(A203=\"\",\"\",IF((SUM(IF(FREQUENCY('A1'!$B$30:$C$80,'A1'!$B$30:$C$80)>0,1)))>(A203+1),(A203+1),\"\"))","v":""},{"$f":"IF(A204=\"\",\"\",(LARGE('A1'!$B$30:$C$103,(1+SUM(COUNTIF('A1'!$B$30:$C$103,B$6:B204))-(A204*COUNTIF('A1'!$B$30:$C$103,B$7))))))","v":""},{"$f":"IF($C$5:$AZ$5=\"\",\"\",IF($C$5:$AZ$5=\"HOT\",IF($C204:$AZ204=\"●\",\"|\",IF($C204:$AZ204=\"|\",\"|\",\"\")),IF($C204:$AZ204=\"▲\",\"|\",IF($C204:$AZ204=\"|\",\"|\",\"\"))))","v":""},"","","","","","","","","","","","","","","","","","","","","","","","","","","","","","","","","","","","","","","","","","","","","","","","",""]
[null,null,null,null,null,null,null,null,null,null,null,{"$f":"IF(L204=\"\",\"\",IF((SUM(IF(FREQUENCY('A1'!$K$30:$L$103,'A1'!$K$30:$L$103)>0,1)))>=(L204+1),(L204+1),\"\"))","v":""}]
[]
[null,null,null,null,null,null,null,null,null,null,null,{"$f":"IF(L206=\"\",\"\",IF((SUM(IF(FREQUENCY('A1'!$K$30:$L$103,'A1'!$K$30:$L$103)>0,1)))>=(L206+1),(L206+1),\"\"))","v":""}]
[]
[null,null,null,null,null,null,null,null,null,null,null,{"$f":"IF(L208=\"\",\"\",IF((SUM(IF(FREQUENCY('A1'!$K$30:$L$103,'A1'!$K$30:$L$103)>0,1)))>=(L208+1),(L208+1),\"\"))","v":""}]
[]
[null,null,null,null,null,null,null,null,null,null,null,{"$f":"IF(L210=\"\",\"\",IF((SUM(IF(FREQUENCY('A1'!$K$30:$L$103,'A1'!$K$30:$L$103)>0,1)))>=(L210+1),(L210+1),\"\"))","v":""}]
[]
[null,null,null,null,null,null,null,null,null,null,null,{"$f":"IF(L212=\"\",\"\",IF((SUM(IF(FREQUENCY('A1'!$K$30:$L$103,'A1'!$K$30:$L$103)>0,1)))>=(L212+1),(L212+1),\"\"))","v":""}]
[]
[null,null,null,null,null,null,null,null,null,null,null,{"$f":"IF(L214=\"\",\"\",IF((SUM(IF(FREQUENCY('A1'!$K$30:$L$103,'A1'!$K$30:$L$103)>0,1)))>=(L214+1),(L214+1),\"\"))","v":""}]
[]
[null,null,null,null,null,null,null,null,null,null,null,{"$f":"IF(L216=\"\",\"\",IF((SUM(IF(FREQUENCY('A1'!$K$30:$L$103,'A1'!$K$30:$L$103)>0,1)))>=(L216+1),(L216+1),\"\"))","v":""}]
[]
[null,null,null,null,null,null,null,null,null,null,null,{"$f":"IF(L218=\"\",\"\",IF((SUM(IF(FREQUENCY('A1'!$K$30:$L$103,'A1'!$K$30:$L$103)>0,1)))>=(L218+1),(L218+1),\"\"))","v":""}]
[]
[null,null,null,null,null,null,null,null,null,null,null,{"$f":"IF(L220=\"\",\"\",IF((SUM(IF(FREQUENCY('A1'!$K$30:$L$103,'A1'!$K$30:$L$103)>0,1)))>=(L220+1),(L220+1),\"\"))","v":""}]
[]
[null,null,null,null,null,null,null,null,null,null,null,{"$f":"IF(L222=\"\",\"\",IF((SUM(IF(FREQUENCY('A1'!$K$30:$L$103,'A1'!$K$30:$L$103)>0,1)))>=(L222+1),(L222+1),\"\"))","v":""}]
[]
[null,null,null,null,null,null,null,null,null,null,null,{"$f":"IF(L224=\"\",\"\",IF((SUM(IF(FREQUENCY('A1'!$K$30:$L$103,'A1'!$K$30:$L$103)>0,1)))>=(L224+1),(L224+1),\"\"))","v":""}]
[]
[null,null,null,null,null,null,null,null,null,null,null,{"$f":"IF(L226=\"\",\"\",IF((SUM(IF(FREQUENCY('A1'!$K$30:$L$103,'A1'!$K$30:$L$103)>0,1)))>=(L226+1),(L226+1),\"\"))","v":""}]
[]
[null,null,null,null,null,null,null,null,null,null,null,{"$f":"IF(L228=\"\",\"\",IF((SUM(IF(FREQUENCY('A1'!$K$30:$L$103,'A1'!$K$30:$L$103)>0,1)))>=(L228+1),(L228+1),\"\"))","v":""}]
[]
[null,null,null,null,null,null,null,null,null,null,null,{"$f":"IF(L230=\"\",\"\",IF((SUM(IF(FREQUENCY('A1'!$K$30:$L$103,'A1'!$K$30:$L$103)>0,1)))>=(L230+1),(L230+1),\"\"))","v":""}]
[]
[null,null,null,null,null,null,null,null,null,null,null,{"$f":"IF(L232=\"\",\"\",IF((SUM(IF(FREQUENCY('A1'!$K$30:$L$103,'A1'!$K$30:$L$103)>0,1)))>=(L232+1),(L232+1),\"\"))","v":""}]
[]
[null,null,null,null,null,null,null,null,null,null,null,{"$f":"IF(L234=\"\",\"\",IF((SUM(IF(FREQUENCY('A1'!$K$30:$L$103,'A1'!$K$30:$L$103)>0,1)))>=(L234+1),(L234+1),\"\"))","v":""}]
[]
[null,null,null,null,null,null,null,null,null,null,null,{"$f":"IF(L236=\"\",\"\",IF((SUM(IF(FREQUENCY('A1'!$K$30:$L$103,'A1'!$K$30:$L$103)>0,1)))>=(L236+1),(L236+1),\"\"))","v":""}]
[]
[null,null,null,null,null,null,null,null,null,null,null,{"$f":"IF(L238=\"\",\"\",IF((SUM(IF(FREQUENCY('A1'!$K$30:$L$103,'A1'!$K$30:$L$103)>0,1)))>=(L238+1),(L238+1),\"\"))","v":""}]
[]
[null,null,null,null,null,null,null,null,null,null,null,{"$f":"IF(L240=\"\",\"\",IF((SUM(IF(FREQUENCY('A1'!$K$30:$L$103,'A1'!$K$30:$L$103)>0,1)))>=(L240+1),(L240+1),\"\"))","v":""}]
[]
[null,null,null,null,null,null,null,null,null,null,null,{"$f":"IF(L242=\"\",\"\",IF((SUM(IF(FREQUENCY('A1'!$K$30:$L$103,'A1'!$K$30:$L$103)>0,1)))>=(L242+1),(L242+1),\"\"))","v":""}]
[]
[null,null,null,null,null,null,null,null,null,null,null,{"$f":"IF(L244=\"\",\"\",IF((SUM(IF(FREQUENCY('A1'!$K$30:$L$103,'A1'!$K$30:$L$103)>0,1)))>=(L244+1),(L244+1),\"\"))","v":""}]
[]
[null,null,null,null,null,null,null,null,null,null,null,{"$f":"IF(L246=\"\",\"\",IF((SUM(IF(FREQUENCY('A1'!$K$30:$L$103,'A1'!$K$30:$L$103)>0,1)))>=(L246+1),(L246+1),\"\"))","v":""}]
[]
[null,null,null,null,null,null,null,null,null,null,null,{"$f":"IF(L248=\"\",\"\",IF((SUM(IF(FREQUENCY('A1'!$K$30:$L$103,'A1'!$K$30:$L$103)>0,1)))>=(L248+1),(L248+1),\"\"))","v":""}]
[]
[null,null,null,null,null,null,null,null,null,null,null,{"$f":"IF(L250=\"\",\"\",IF((SUM(IF(FREQUENCY('A1'!$K$30:$L$103,'A1'!$K$30:$L$103)>0,1)))>=(L250+1),(L250+1),\"\"))","v":""}]
[]
[null,null,null,null,null,null,null,null,null,null,null,{"$f":"IF(L252=\"\",\"\",IF((SUM(IF(FREQUENCY('A1'!$K$30:$L$103,'A1'!$K$30:$L$103)>0,1)))>=(L252+1),(L252+1),\"\"))","v":""}]
[]
[null,null,null,null,null,null,null,null,null,null,null,{"$f":"IF(L254=\"\",\"\",IF((SUM(IF(FREQUENCY('A1'!$K$30:$L$103,'A1'!$K$30:$L$103)>0,1)))>=(L254+1),(L254+1),\"\"))","v":""}]
[]
[null,null,null,null,null,null,null,null,null,null,null,{"$f":"IF(L256=\"\",\"\",IF((SUM(IF(FREQUENCY('A1'!$K$30:$L$103,'A1'!$K$30:$L$103)>0,1)))>=(L256+1),(L256+1),\"\"))","v":""}]
[]
[null,null,null,null,null,null,null,null,null,null,null,{"$f":"IF(L258=\"\",\"\",IF((SUM(IF(FREQUENCY('A1'!$K$30:$L$103,'A1'!$K$30:$L$103)>0,1)))>=(L258+1),(L258+1),\"\"))","v":""}]
[]
[null,null,null,null,null,null,null,null,null,null,null,{"$f":"IF(L260=\"\",\"\",IF((SUM(IF(FREQUENCY('A1'!$K$30:$L$103,'A1'!$K$30:$L$103)>0,1)))>=(L260+1),(L260+1),\"\"))","v":""}]
[]
[null,null,null,null,null,null,null,null,null,null,null,{"$f":"IF(L262=\"\",\"\",IF((SUM(IF(FREQUENCY('A1'!$K$30:$L$103,'A1'!$K$30:$L$103)>0,1)))>=(L262+1),(L262+1),\"\"))","v":""}]
[]
[null,null,null,null,null,null,null,null,null,null,null,{"$f":"IF(L264=\"\",\"\",IF((SUM(IF(FREQUENCY('A1'!$K$30:$L$103,'A1'!$K$30:$L$103)>0,1)))>=(L264+1),(L264+1),\"\"))","v":""}]
[]
[null,null,null,null,null,null,null,null,null,null,null,{"$f":"IF(L266=\"\",\"\",IF((SUM(IF(FREQUENCY('A1'!$K$30:$L$103,'A1'!$K$30:$L$103)>0,1)))>=(L266+1),(L266+1),\"\"))","v":""}]
[]
[null,null,null,null,null,null,null,null,null,null,null,{"$f":"IF(L268=\"\",\"\",IF((SUM(IF(FREQUENCY('A1'!$K$30:$L$103,'A1'!$K$30:$L$103)>0,1)))>=(L268+1),(L268+1),\"\"))","v":""}]
[]
[null,null,null,null,null,null,null,null,null,null,null,{"$f":"IF(L270=\"\",\"\",IF((SUM(IF(FREQUENCY('A1'!$K$30:$L$103,'A1'!$K$30:$L$103)>0,1)))>=(L270+1),(L270+1),\"\"))","v":""}]
[]
[null,null,null,null,null,null,null,null,null,null,null,{"$f":"IF(L272=\"\",\"\",IF((SUM(IF(FREQUENCY('A1'!$K$30:$L$103,'A1'!$K$30:$L$103)>0,1)))>=(L272+1),(L272+1),\"\"))","v":""}]
[]
[null,null,null,null,null,null,null,null,null,null,null,{"$f":"IF(L274=\"\",\"\",IF((SUM(IF(FREQUENCY('A1'!$K$30:$L$103,'A1'!$K$30:$L$103)>0,1)))>=(L274+1),(L274+1),\"\"))","v":""}]
[]
[null,null,null,null,null,null,null,null,null,null,null,{"$f":"IF(L276=\"\",\"\",IF((SUM(IF(FREQUENCY('A1'!$K$30:$L$103,'A1'!$K$30:$L$103)>0,1)))>=(L276+1),(L276+1),\"\"))","v":""}]
[]
[null,null,null,null,null,null,null,null,null,null,null,{"$f":"IF(L278=\"\",\"\",IF((SUM(IF(FREQUENCY('A1'!$K$30:$L$103,'A1'!$K$30:$L$103)>0,1)))>=(L278+1),(L278+1),\"\"))","v":""}]
[]
[null,null,null,null,null,null,null,null,null,null,null,{"$f":"IF(L280=\"\",\"\",IF((SUM(IF(FREQUENCY('A1'!$K$30:$L$103,'A1'!$K$30:$L$103)>0,1)))>=(L280+1),(L280+1),\"\"))","v":""}]
[]
[null,null,null,null,null,null,null,null,null,null,null,{"$f":"IF(L282=\"\",\"\",IF((SUM(IF(FREQUENCY('A1'!$K$30:$L$103,'A1'!$K$30:$L$103)>0,1)))>=(L282+1),(L282+1),\"\"))","v":""}]
[]
[null,null,null,null,null,null,null,null,null,null,null,{"$f":"IF(L284=\"\",\"\",IF((SUM(IF(FREQUENCY('A1'!$K$30:$L$103,'A1'!$K$30:$L$103)>0,1)))>=(L284+1),(L284+1),\"\"))","v":""}]
[]
[null,null,null,null,null,null,null,null,null,null,null,{"$f":"IF(L286=\"\",\"\",IF((SUM(IF(FREQUENCY('A1'!$K$30:$L$103,'A1'!$K$30:$L$103)>0,1)))>=(L286+1),(L286+1),\"\"))","v":""}]
[]
[null,null,null,null,null,null,null,null,null,null,null,{"$f":"IF(L288=\"\",\"\",IF((SUM(IF(FREQUENCY('A1'!$K$30:$L$103,'A1'!$K$30:$L$103)>0,1)))>=(L288+1),(L288+1),\"\"))","v":""}]
[]
[null,null,null,null,null,null,null,null,null,null,null,{"$f":"IF(L290=\"\",\"\",IF((SUM(IF(FREQUENCY('A1'!$K$30:$L$103,'A1'!$K$30:$L$103)>0,1)))>=(L290+1),(L290+1),\"\"))","v":""}]
[]
[null,null,null,null,null,null,null,null,null,null,null,{"$f":"IF(L292=\"\",\"\",IF((SUM(IF(FREQUENCY('A1'!$K$30:$L$103,'A1'!$K$30:$L$103)>0,1)))>=(L292+1),(L292+1),\"\"))","v":""}]
[]
[null,null,null,null,null,null,null,null,null,null,null,{"$f":"IF(L294=\"\",\"\",IF((SUM(IF(FREQUENCY('A1'!$K$30:$L$103,'A1'!$K$30:$L$103)>0,1)))>=(L294+1),(L294+1),\"\"))","v":""}]
[]
[null,null,null,null,null,null,null,null,null,null,null,{"$f":"IF(L296=\"\",\"\",IF((SUM(IF(FREQUENCY('A1'!$K$30:$L$103,'A1'!$K$30:$L$103)>0,1)))>=(L296+1),(L296+1),\"\"))","v":""}]
[]
[null,null,null,null,null,null,null,null,null,null,null,{"$f":"IF(L298=\"\",\"\",IF((SUM(IF(FREQUENCY('A1'!$K$30:$L$103,'A1'!$K$30:$L$103)>0,1)))>=(L298+1),(L298+1),\"\"))","v":""}]
[]
[null,null,null,null,null,null,null,null,null,null,null,{"$f":"IF(L300=\"\",\"\",IF((SUM(IF(FREQUENCY('A1'!$K$30:$L$103,'A1'!$K$30:$L$103)>0,1)))>=(L300+1),(L300+1),\"\"))","v":""}]
[]
[null,null,null,null,null,null,null,null,null,null,null,{"$f":"IF(L302=\"\",\"\",IF((SUM(IF(FREQUENCY('A1'!$K$30:$L$103,'A1'!$K$30:$L$103)>0,1)))>=(L302+1),(L302+1),\"\"))","v":""}]
[]
[null,null,null,null,null,null,null,null,null,null,null,{"$f":"IF(L304=\"\",\"\",IF((SUM(IF(FREQUENCY('A1'!$K$30:$L$103,'A1'!$K$30:$L$103)>0,1)))>=(L304+1),(L304+1),\"\"))","v":""}]
[]
[null,null,null,null,null,null,null,null,null,null,null,{"$f":"IF(L306=\"\",\"\",IF((SUM(IF(FREQUENCY('A1'!$K$30:$L$103,'A1'!$K$30:$L$103)>0,1)))>=(L306+1),(L306+1),\"\"))","v":""}]
[]
[null,null,null,null,null,null,null,null,null,null,null,{"$f":"IF(L308=\"\",\"\",IF((SUM(IF(FREQUENCY('A1'!$K$30:$L$103,'A1'!$K$30:$L$103)>0,1)))>=(L308+1),(L308+1),\"\"))","v":""}]
[]
[null,null,null,null,null,null,null,null,null,null,null,{"$f":"IF(L310=\"\",\"\",IF((SUM(IF(FREQUENCY('A1'!$K$30:$L$103,'A1'!$K$30:$L$103)>0,1)))>=(L310+1),(L310+1),\"\"))","v":""}]
[]
[null,null,null,null,null,null,null,null,null,null,null,{"$f":"IF(L312=\"\",\"\",IF((SUM(IF(FREQUENCY('A1'!$K$30:$L$103,'A1'!$K$30:$L$103)>0,1)))>=(L312+1),(L312+1),\"\"))","v":""}]
[]
[null,null,null,null,null,null,null,null,null,null,null,{"$f":"IF(L314=\"\",\"\",IF((SUM(IF(FREQUENCY('A1'!$K$30:$L$103,'A1'!$K$30:$L$103)>0,1)))>=(L314+1),(L314+1),\"\"))","v":""}]
[]
[null,null,null,null,null,null,null,null,null,null,null,{"$f":"IF(L316=\"\",\"\",IF((SUM(IF(FREQUENCY('A1'!$K$30:$L$103,'A1'!$K$30:$L$103)>0,1)))>=(L316+1),(L316+1),\"\"))","v":""}]
[]
[null,null,null,null,null,null,null,null,null,null,null,{"$f":"IF(L318=\"\",\"\",IF((SUM(IF(FREQUENCY('A1'!$K$30:$L$103,'A1'!$K$30:$L$103)>0,1)))>=(L318+1),(L318+1),\"\"))","v":""}]
[]
[null,null,null,null,null,null,null,null,null,null,null,{"$f":"IF(L320=\"\",\"\",IF((SUM(IF(FREQUENCY('A1'!$K$30:$L$103,'A1'!$K$30:$L$103)>0,1)))>=(L320+1),(L320+1),\"\"))","v":""}]
[]
[null,null,null,null,null,null,null,null,null,null,null,{"$f":"IF(L322=\"\",\"\",IF((SUM(IF(FREQUENCY('A1'!$K$30:$L$103,'A1'!$K$30:$L$103)>0,1)))>=(L322+1),(L322+1),\"\"))","v":""}]
[]
[null,null,null,null,null,null,null,null,null,null,null,{"$f":"IF(L324=\"\",\"\",IF((SUM(IF(FREQUENCY('A1'!$K$30:$L$103,'A1'!$K$30:$L$103)>0,1)))>=(L324+1),(L324+1),\"\"))","v":""}]
[]
[null,null,null,null,null,null,null,null,null,null,null,{"$f":"IF(L326=\"\",\"\",IF((SUM(IF(FREQUENCY('A1'!$K$30:$L$103,'A1'!$K$30:$L$103)>0,1)))>=(L326+1),(L326+1),\"\"))","v":""}]
[]
[null,null,null,null,null,null,null,null,null,null,null,{"$f":"IF(L328=\"\",\"\",IF((SUM(IF(FREQUENCY('A1'!$K$30:$L$103,'A1'!$K$30:$L$103)>0,1)))>=(L328+1),(L328+1),\"\"))","v":""}]
[]
[null,null,null,null,null,null,null,null,null,null,null,{"$f":"IF(L330=\"\",\"\",IF((SUM(IF(FREQUENCY('A1'!$K$30:$L$103,'A1'!$K$30:$L$103)>0,1)))>=(L330+1),(L330+1),\"\"))","v":""}]
[]
[null,null,null,null,null,null,null,null,null,null,null,{"$f":"IF(L332=\"\",\"\",IF((SUM(IF(FREQUENCY('A1'!$K$30:$L$103,'A1'!$K$30:$L$103)>0,1)))>=(L332+1),(L332+1),\"\"))","v":""}]
[]
[null,null,null,null,null,null,null,null,null,null,null,{"$f":"IF(L334=\"\",\"\",IF((SUM(IF(FREQUENCY('A1'!$K$30:$L$103,'A1'!$K$30:$L$103)>0,1)))>=(L334+1),(L334+1),\"\"))","v":""}]
[]
[null,null,null,null,null,null,null,null,null,null,null,{"$f":"IF(L336=\"\",\"\",IF((SUM(IF(FREQUENCY('A1'!$K$30:$L$103,'A1'!$K$30:$L$103)>0,1)))>=(L336+1),(L336+1),\"\"))","v":""}]
[]
[null,null,null,null,null,null,null,null,null,null,null,{"$f":"IF(L338=\"\",\"\",IF((SUM(IF(FREQUENCY('A1'!$K$30:$L$103,'A1'!$K$30:$L$103)>0,1)))>=(L338+1),(L338+1),\"\"))","v":""}]
[]
[null,null,null,null,null,null,null,null,null,null,null,{"$f":"IF(L340=\"\",\"\",IF((SUM(IF(FREQUENCY('A1'!$K$30:$L$103,'A1'!$K$30:$L$103)>0,1)))>=(L340+1),(L340+1),\"\"))","v":""}]
[]
[null,null,null,null,null,null,null,null,null,null,null,{"$f":"IF(L342=\"\",\"\",IF((SUM(IF(FREQUENCY('A1'!$K$30:$L$103,'A1'!$K$30:$L$103)>0,1)))>=(L342+1),(L342+1),\"\"))","v":""}]
[]
[null,null,null,null,null,null,null,null,null,null,null,{"$f":"IF(L344=\"\",\"\",IF((SUM(IF(FREQUENCY('A1'!$K$30:$L$103,'A1'!$K$30:$L$103)>0,1)))>=(L344+1),(L344+1),\"\"))","v":""}]
[]
[null,null,null,null,null,null,null,null,null,null,null,{"$f":"IF(L346=\"\",\"\",IF((SUM(IF(FREQUENCY('A1'!$K$30:$L$103,'A1'!$K$30:$L$103)>0,1)))>=(L346+1),(L346+1),\"\"))","v":""}]
[]
[null,null,null,null,null,null,null,null,null,null,null,{"$f":"IF(L348=\"\",\"\",IF((SUM(IF(FREQUENCY('A1'!$K$30:$L$103,'A1'!$K$30:$L$103)>0,1)))>=(L348+1),(L348+1),\"\"))","v":""}]
[]
[null,null,null,null,null,null,null,null,null,null,null,{"$f":"IF(L350=\"\",\"\",IF((SUM(IF(FREQUENCY('A1'!$K$30:$L$103,'A1'!$K$30:$L$103)>0,1)))>=(L350+1),(L350+1),\"\"))","v":""}]
[]
[null,null,null,null,null,null,null,null,null,null,null,{"$f":"IF(L352=\"\",\"\",IF((SUM(IF(FREQUENCY('A1'!$K$30:$L$103,'A1'!$K$30:$L$103)>0,1)))>=(L352+1),(L352+1),\"\"))","v":""}]
[]
[null,null,null,null,null,null,null,null,null,null,null,{"$f":"IF(L354=\"\",\"\",IF((SUM(IF(FREQUENCY('A1'!$K$30:$L$103,'A1'!$K$30:$L$103)>0,1)))>=(L354+1),(L354+1),\"\"))","v":""}]
[]
[null,null,null,null,null,null,null,null,null,null,null,{"$f":"IF(L356=\"\",\"\",IF((SUM(IF(FREQUENCY('A1'!$K$30:$L$103,'A1'!$K$30:$L$103)>0,1)))>=(L356+1),(L356+1),\"\"))","v":""}]
[]
[null,null,null,null,null,null,null,null,null,null,null,{"$f":"IF(L358=\"\",\"\",IF((SUM(IF(FREQUENCY('A1'!$K$30:$L$103,'A1'!$K$30:$L$103)>0,1)))>=(L358+1),(L358+1),\"\"))","v":""}]
[]
[null,null,null,null,null,null,null,null,null,null,null,{"$f":"IF(L360=\"\",\"\",IF((SUM(IF(FREQUENCY('A1'!$K$30:$L$103,'A1'!$K$30:$L$103)>0,1)))>=(L360+1),(L360+1),\"\"))","v":""}]
[]
[null,null,null,null,null,null,null,null,null,null,null,{"$f":"IF(L362=\"\",\"\",IF((SUM(IF(FREQUENCY('A1'!$K$30:$L$103,'A1'!$K$30:$L$103)>0,1)))>=(L362+1),(L362+1),\"\"))","v":""}]
[]
[null,null,null,null,null,null,null,null,null,null,null,{"$f":"IF(L364=\"\",\"\",IF((SUM(IF(FREQUENCY('A1'!$K$30:$L$103,'A1'!$K$30:$L$103)>0,1)))>=(L364+1),(L364+1),\"\"))","v":""}]
[]
[null,null,null,null,null,null,null,null,null,null,null,{"$f":"IF(L366=\"\",\"\",IF((SUM(IF(FREQUENCY('A1'!$K$30:$L$103,'A1'!$K$30:$L$103)>0,1)))>=(L366+1),(L366+1),\"\"))","v":""}]
[]
[null,null,null,null,null,null,null,null,null,null,null,{"$f":"IF(L368=\"\",\"\",IF((SUM(IF(FREQUENCY('A1'!$K$30:$L$103,'A1'!$K$30:$L$103)>0,1)))>=(L368+1),(L368+1),\"\"))","v":""}]
[]
[null,null,null,null,null,null,null,null,null,null,null,{"$f":"IF(L370=\"\",\"\",IF((SUM(IF(FREQUENCY('A1'!$K$30:$L$103,'A1'!$K$30:$L$103)>0,1)))>=(L370+1),(L370+1),\"\"))","v":""}]
[]
[null,null,null,null,null,null,null,null,null,null,null,{"$f":"IF(L372=\"\",\"\",IF((SUM(IF(FREQUENCY('A1'!$K$30:$L$103,'A1'!$K$30:$L$103)>0,1)))>=(L372+1),(L372+1),\"\"))","v":""}]
[]
[null,null,null,null,null,null,null,null,null,null,null,{"$f":"IF(L374=\"\",\"\",IF((SUM(IF(FREQUENCY('A1'!$K$30:$L$103,'A1'!$K$30:$L$103)>0,1)))>=(L374+1),(L374+1),\"\"))","v":""}]
[]
[null,null,null,null,null,null,null,null,null,null,null,{"$f":"IF(L376=\"\",\"\",IF((SUM(IF(FREQUENCY('A1'!$K$30:$L$103,'A1'!$K$30:$L$103)>0,1)))>=(L376+1),(L376+1),\"\"))","v":""}]
[]
[null,null,null,null,null,null,null,null,null,null,null,{"$f":"IF(L378=\"\",\"\",IF((SUM(IF(FREQUENCY('A1'!$K$30:$L$103,'A1'!$K$30:$L$103)>0,1)))>=(L378+1),(L378+1),\"\"))","v":""}]
[]
[null,null,null,null,null,null,null,null,null,null,null,{"$f":"IF(L380=\"\",\"\",IF((SUM(IF(FREQUENCY('A1'!$K$30:$L$103,'A1'!$K$30:$L$103)>0,1)))>=(L380+1),(L380+1),\"\"))","v":""}]
[]
[null,null,null,null,null,null,null,null,null,null,null,{"$f":"IF(L382=\"\",\"\",IF((SUM(IF(FREQUENCY('A1'!$K$30:$L$103,'A1'!$K$30:$L$103)>0,1)))>=(L382+1),(L382+1),\"\"))","v":""}]
[]
[null,null,null,null,null,null,null,null,null,null,null,{"$f":"IF(L384=\"\",\"\",IF((SUM(IF(FREQUENCY('A1'!$K$30:$L$103,'A1'!$K$30:$L$103)>0,1)))>=(L384+1),(L384+1),\"\"))","v":""}]
[]
[null,null,null,null,null,null,null,null,null,null,null,{"$f":"IF(L386=\"\",\"\",IF((SUM(IF(FREQUENCY('A1'!$K$30:$L$103,'A1'!$K$30:$L$103)>0,1)))>=(L386+1),(L386+1),\"\"))","v":""}]
[]
[null,null,null,null,null,null,null,null,null,null,null,{"$f":"IF(L388=\"\",\"\",IF((SUM(IF(FREQUENCY('A1'!$K$30:$L$103,'A1'!$K$30:$L$103)>0,1)))>=(L388+1),(L388+1),\"\"))","v":""}]
[]
[null,null,null,null,null,null,null,null,null,null,null,{"$f":"IF(L390=\"\",\"\",IF((SUM(IF(FREQUENCY('A1'!$K$30:$L$103,'A1'!$K$30:$L$103)>0,1)))>=(L390+1),(L390+1),\"\"))","v":""}]
[]
[null,null,null,null,null,null,null,null,null,null,null,{"$f":"IF(L392=\"\",\"\",IF((SUM(IF(FREQUENCY('A1'!$K$30:$L$103,'A1'!$K$30:$L$103)>0,1)))>=(L392+1),(L392+1),\"\"))","v":""}]
[]
[null,null,null,null,null,null,null,null,null,null,null,{"$f":"IF(L394=\"\",\"\",IF((SUM(IF(FREQUENCY('A1'!$K$30:$L$103,'A1'!$K$30:$L$103)>0,1)))>=(L394+1),(L394+1),\"\"))","v":""}]
[]
[null,null,null,null,null,null,null,null,null,null,null,{"$f":"IF(L396=\"\",\"\",IF((SUM(IF(FREQUENCY('A1'!$K$30:$L$103,'A1'!$K$30:$L$103)>0,1)))>=(L396+1),(L396+1),\"\"))","v":""}]

{"sheet":"AT","index":8,"n_rows":204,"n_cols":8,"rows_kept":204,"cut":false,"hidden":false,"merged":[]}
["Actual Intervals Table"]
[]
["Actual Temperature","T(i+1)-Ti","CpHot","dHHot","Hot Duty","CpCold","dHCold","Cold Duty"]
[null,{"$f":"'A1'!T3","v":"°C"},{"$f":"'A1'!T4","v":"kW/K"},{"$f":"'A1'!T5","v":"kW"},{"$f":"'A1'!T5","v":"kW"},{"$f":"'A1'!T4","v":"kW/K"},{"$f":"'A1'!T5","v":"kW"},{"$f":"'A1'!T5","v":"kW"}]
[{"$f":"AS!B6","v":250},{"$f":"IF(A6=\"\",\"\",A4-A6)","v":""},{"$f":"IF($B5=\"\",\"\",SUM(IF(AS!$C$5:$CD$5=\"HOT\",IF(AS!$C6:$CD6=\"|\",1*AS!$C$4:$CD$4,0),0)))","v":""},null,{"$f":"IF(OR($A5=\"\",SUM(IF(AS!$C$5:$CD$5=\"HOT\",IF(AS!$C6:$CD6=\"\",1,0)))=COUNTIF(AS!$C$5:$CD$5,\"HOT\")),\"\",SUM(D6:D$86))","v":""},{"$f":"IF($B5=\"\",\"\",SUM(IF(AS!$C$5:$CD$5=\"COLD\",IF(AS!$C6:$CD6=\"|\",1*AS!$C$4:$CD$4,0),0)))","v":""},null,{"$f":"IF(OR($A5=\"\",SUM(IF(AS!$C$5:$CD$5=\"COLD\",IF(AS!$C6:$CD6=\"\",1,0)))=COUNTIF(AS!$C$5:$CD$5,\"COLD\")),\"\",PT!$P$8+SUM(G6:G$86))","v":1240}]
[{"$f":"AS!B7","v":""},{"$f":"IF(A7=\"\",\"\",A5-A7)","v":10},{"$f":"IF($B6=\"\",\"\",SUM(IF(AS!$C$5:$CD$5=\"HOT\",IF(AS!$C7:$CD7=\"|\",1*AS!$C$4:$CD$4,0),0)))","v":0},{"$f":"IF(C6=\"\",\"\",C6*B6)","v":0},{"$f":"IF(OR($A6=\"\",SUM(IF(AS!$C$5:$CD$5=\"HOT\",IF(AS!$C7:$CD7=\"\",1,0)))=COUNTIF(AS!$C$5:$CD$5,\"HOT\")),\"\",SUM(D7:D$86))","v":""},{"$f":"IF($B6=\"\",\"\",SUM(IF(AS!$C$5:$CD$5=\"COLD\",IF(AS!$C7:$CD7=\"|\",1*AS!$C$4:$CD$4,0),0)))","v":2},{"$f":"IF(F6=\"\",\"\",F6*B6)","v":20},{"$f":"IF(OR($A6=\"\",SUM(IF(AS!$C$5:$CD$5=\"COLD\",IF(AS!$C7:$CD7=\"\",1,0)))=COUNTIF(AS!$C$5:$CD$5,\"COLD\")),\"\",PT!$P$8+SUM(G7:G$86))","v":""}]
[{"$f":"AS!B8","v":240},"",{"$f":"IF($B7=\"\",\"\",SUM(IF(AS!$C$5:$CD$5=\"HOT\",IF(AS!$C8:$CD8=\"|\",1*AS!$C$4:$CD$4,0),0)))","v":""},"",{"$f":"IF(OR($A7=\"\",SUM(IF(AS!$C$5:$CD$5=\"HOT\",IF(AS!$C8:$CD8=\"\",1,0)))=COUNTIF(AS!$C$5:$CD$5,\"HOT\")),\"\",SUM(D8:D$86))","v":960},{"$f":"IF($B7=\"\",\"\",SUM(IF(AS!$C$5:$CD$5=\"COLD\",IF(AS!$C8:$CD8=\"|\",1*AS!$C$4:$CD$4,0),0)))","v":""},"",{"$f":"IF(OR($A7=\"\",SUM(IF(AS!$C$5:$CD$5=\"COLD\",IF(AS!$C8:$CD8=\"\",1,0)))=COUNTIF(AS!$C$5:$CD$5,\"COLD\")),\"\",PT!$P$8+SUM(G8:G$86))","v":1220}]
[{"$f":"AS!B9","v":""},40,{"$f":"IF($B8=\"\",\"\",SUM(IF(AS!$C$5:$CD$5=\"HOT\",IF(AS!$C9:$CD9=\"|\",1*AS!$C$4:$CD$4,0),0)))","v":1.5},60,{"$f":"IF(OR($A8=\"\",SUM(IF(AS!$C$5:$CD$5=\"HOT\",IF(AS!$C9:$CD9=\"\",1,0)))=COUNTIF(AS!$C$5:$CD$5,\"HOT\")),\"\",SUM(D9:D$86))","v":""},{"$f":"IF($B8=\"\",\"\",SUM(IF(AS!$C$5:$CD$5=\"COLD\",IF(AS!$C9:$CD9=\"|\",1*AS!$C$4:$CD$4,0),0)))","v":2},80,{"$f":"IF(OR($A8=\"\",SUM(IF(AS!$C$5:$CD$5=\"COLD\",IF(AS!$C9:$CD9=\"\",1,0)))=COUNTIF(AS!$C$5:$CD$5,\"COLD\")),\"\",PT!$P$8+SUM(G9:G$86))","v":""}]
[{"$f":"AS!B10","v":200},"",{"$f":"IF($B9=\"\",\"\",SUM(IF(AS!$C$5:$CD$5=\"HOT\",IF(AS!$C10:$CD10=\"|\",1*AS!$C$4:$CD$4,0),0)))","v":""},"",{"$f":"IF(OR($A9=\"\",SUM(IF(AS!$C$5:$CD$5=\"HOT\",IF(AS!$C10:$CD10=\"\",1,0)))=COUNTIF(AS!$C$5:$CD$5,\"HOT\")),\"\",SUM(D10:D$86))","v":900},{"$f":"IF($B9=\"\",\"\",SUM(IF(AS!$C$5:$CD$5=\"COLD\",IF(AS!$C10:$CD10=\"|\",1*AS!$C$4:$CD$4,0),0)))","v":""},"",{"$f":"IF(OR($A9=\"\",SUM(IF(AS!$C$5:$CD$5=\"COLD\",IF(AS!$C10:$CD10=\"\",1,0)))=COUNTIF(AS!$C$5:$CD$5,\"COLD\")),\"\",PT!$P$8+SUM(G10:G$86))","v":1140}]
[{"$f":"AS!B11","v":""},80,{"$f":"IF($B10=\"\",\"\",SUM(IF(AS!$C$5:$CD$5=\"HOT\",IF(AS!$C11:$CD11=\"|\",1*AS!$C$4:$CD$4,0),0)))","v":4.5},360,{"$f":"IF(OR($A10=\"\",SUM(IF(AS!$C$5:$CD$5=\"HOT\",IF(AS!$C11:$CD11=\"\",1,0)))=COUNTIF(AS!$C$5:$CD$5,\"HOT\")),\"\",SUM(D11:D$86))","v":""},{"$f":"IF($B10=\"\",\"\",SUM(IF(AS!$C$5:$CD$5=\"COLD\",IF(AS!$C11:$CD11=\"|\",1*AS!$C$4:$CD$4,0),0)))","v":6},480,{"$f":"IF(OR($A10=\"\",SUM(IF(AS!$C$5:$CD$5=\"COLD\",IF(AS!$C11:$CD11=\"\",1,0)))=COUNTIF(AS!$C$5:$CD$5,\"COLD\")),\"\",PT!$P$8+SUM(G11:G$86))","v":""}]
[{"$f":"AS!B12","v":120},"",{"$f":"IF($B11=\"\",\"\",SUM(IF(AS!$C$5:$CD$5=\"HOT\",IF(AS!$C12:$CD12=\"|\",1*AS!$C$4:$CD$4,0),0)))","v":""},"",{"$f":"IF(OR($A11=\"\",SUM(IF(AS!$C$5:$CD$5=\"HOT\",IF(AS!$C12:$CD12=\"\",1,0)))=COUNTIF(AS!$C$5:$CD$5,\"HOT\")),\"\",SUM(D12:D$86))","v":540},{"$f":"IF($B11=\"\",\"\",SUM(IF(AS!$C$5:$CD$5=\"COLD\",IF(AS!$C12:$CD12=\"|\",1*AS!$C$4:$CD$4,0),0)))","v":""},"",{"$f":"IF(OR($A11=\"\",SUM(IF(AS!$C$5:$CD$5=\"COLD\",IF(AS!$C12:$CD12=\"\",1,0)))=COUNTIF(AS!$C$5:$CD$5,\"COLD\")),\"\",PT!$P$8+SUM(G12:G$86))","v":660}]
[{"$f":"AS!B13","v":""},1,{"$f":"IF($B12=\"\",\"\",SUM(IF(AS!$C$5:$CD$5=\"HOT\",IF(AS!$C13:$CD13=\"|\",1*AS!$C$4:$CD$4,0),0)))","v":304.5},304.5,{"$f":"IF(OR($A12=\"\",SUM(IF(AS!$C$5:$CD$5=\"HOT\",IF(AS!$C13:$CD13=\"\",1,0)))=COUNTIF(AS!$C$5:$CD$5,\"HOT\")),\"\",SUM(D13:D$86))","v":""},{"$f":"IF($B12=\"\",\"\",SUM(IF(AS!$C$5:$CD$5=\"COLD\",IF(AS!$C13:$CD13=\"|\",1*AS!$C$4:$CD$4,0),0)))","v":6},6,{"$f":"IF(OR($A12=\"\",SUM(IF(AS!$C$5:$CD$5=\"COLD\",IF(AS!$C13:$CD13=\"\",1,0)))=COUNTIF(AS!$C$5:$CD$5,\"COLD\")),\"\",PT!$P$8+SUM(G13:G$86))","v":""}]
[{"$f":"AS!B14","v":119},"",{"$f":"IF($B13=\"\",\"\",SUM(IF(AS!$C$5:$CD$5=\"HOT\",IF(AS!$C14:$CD14=\"|\",1*AS!$C$4:$CD$4,0),0)))","v":""},"",{"$f":"IF(OR($A13=\"\",SUM(IF(AS!$C$5:$CD$5=\"HOT\",IF(AS!$C14:$CD14=\"\",1,0)))=COUNTIF(AS!$C$5:$CD$5,\"HOT\")),\"\",SUM(D14:D$86))","v":235.5},{"$f":"IF($B13=\"\",\"\",SUM(IF(AS!$C$5:$CD$5=\"COLD\",IF(AS!$C14:$CD14=\"|\",1*AS!$C$4:$CD$4,0),0)))","v":""},"",{"$f":"IF(OR($A13=\"\",SUM(IF(AS!$C$5:$CD$5=\"COLD\",IF(AS!$C14:$CD14=\"\",1,0)))=COUNTIF(AS!$C$5:$CD$5,\"COLD\")),\"\",PT!$P$8+SUM(G14:G$86))","v":654}]
[{"$f":"AS!B15","v":""},19,{"$f":"IF($B14=\"\",\"\",SUM(IF(AS!$C$5:$CD$5=\"HOT\",IF(AS!$C15:$CD15=\"|\",1*AS!$C$4:$CD$4,0),0)))","v":4.5},85.5,{"$f":"IF(OR($A14=\"\",SUM(IF(AS!$C$5:$CD$5=\"HOT\",IF(AS!$C15:$CD15=\"\",1,0)))=COUNTIF(AS!$C$5:$CD$5,\"HOT\")),\"\",SUM(D15:D$86))","v":""},{"$f":"IF($B14=\"\",\"\",SUM(IF(AS!$C$5:$CD$5=\"COLD\",IF(AS!$C15:$CD15=\"|\",1*AS!$C$4:$CD$4,0),0)))","v":6},114,{"$f":"IF(OR($A14=\"\",SUM(IF(AS!$C$5:$CD$5=\"COLD\",IF(AS!$C15:$CD15=\"\",1,0)))=COUNTIF(AS!$C$5:$CD$5,\"COLD\")),\"\",PT!$P$8+SUM(G15:G$86))","v":""}]
[{"$f":"AS!B16","v":100},"",{"$f":"IF($B15=\"\",\"\",SUM(IF(AS!$C$5:$CD$5=\"HOT\",IF(AS!$C16:$CD16=\"|\",1*AS!$C$4:$CD$4,0),0)))","v":""},"",{"$f":"IF(OR($A15=\"\",SUM(IF(AS!$C$5:$CD$5=\"HOT\",IF(AS!$C16:$CD16=\"\",1,0)))=COUNTIF(AS!$C$5:$CD$5,\"HOT\")),\"\",SUM(D16:D$86))","v":150},{"$f":"IF($B15=\"\",\"\",SUM(IF(AS!$C$5:$CD$5=\"COLD\",IF(AS!$C16:$CD16=\"|\",1*AS!$C$4:$CD$4,0),0)))","v":""},"",{"$f":"IF(OR($A15=\"\",SUM(IF(AS!$C$5:$CD$5=\"COLD\",IF(AS!$C16:$CD16=\"\",1,0)))=COUNTIF(AS!$C$5:$CD$5,\"COLD\")),\"\",PT!$P$8+SUM(G16:G$86))","v":540}]
[{"$f":"AS!B17","v":""},50,{"$f":"IF($B16=\"\",\"\",SUM(IF(AS!$C$5:$CD$5=\"HOT\",IF(AS!$C17:$CD17=\"|\",1*AS!$C$4:$CD$4,0),0)))","v":3},150,{"$f":"IF(OR($A16=\"\",SUM(IF(AS!$C$5:$CD$5=\"HOT\",IF(AS!$C17:$CD17=\"\",1,0)))=COUNTIF(AS!$C$5:$CD$5,\"HOT\")),\"\",SUM(D17:D$86))","v":""},{"$f":"IF($B16=\"\",\"\",SUM(IF(AS!$C$5:$CD$5=\"COLD\",IF(AS!$C17:$CD17=\"|\",1*AS!$C$4:$CD$4,0),0)))","v":6},300,{"$f":"IF(OR($A16=\"\",SUM(IF(AS!$C$5:$CD$5=\"COLD\",IF(AS!$C17:$CD17=\"\",1,0)))=COUNTIF(AS!$C$5:$CD$5,\"COLD\")),\"\",PT!$P$8+SUM(G17:G$86))","v":""}]
[{"$f":"AS!B18","v":50},"",{"$f":"IF($B17=\"\",\"\",SUM(IF(AS!$C$5:$CD$5=\"HOT\",IF(AS!$C18:$CD18=\"|\",1*AS!$C$4:$CD$4,0),0)))","v":""},"",{"$f":"IF(OR($A17=\"\",SUM(IF(AS!$C$5:$CD$5=\"HOT\",IF(AS!$C18:$CD18=\"\",1,0)))=COUNTIF(AS!$C$5:$CD$5,\"HOT\")),\"\",SUM(D18:D$86))","v":0},{"$f":"IF($B17=\"\",\"\",SUM(IF(AS!$C$5:$CD$5=\"COLD\",IF(AS!$C18:$CD18=\"|\",1*AS!$C$4:$CD$4,0),0)))","v":""},"",{"$f":"IF(OR($A17=\"\",SUM(IF(AS!$C$5:$CD$5=\"COLD\",IF(AS!$C18:$CD18=\"\",1,0)))=COUNTIF(AS!$C$5:$CD$5,\"COLD\")),\"\",PT!$P$8+SUM(G18:G$86))","v":240}]
[{"$f":"AS!B19","v":""},{"$f":"IF(A19=\"\",\"\",A17-A19)","v":20},{"$f":"IF($B18=\"\",\"\",SUM(IF(AS!$C$5:$CD$5=\"HOT\",IF(AS!$C19:$CD19=\"|\",1*AS!$C$4:$CD$4,0),0)))","v":0},{"$f":"IF(C18=\"\",\"\",C18*B18)","v":0},{"$f":"IF(OR($A18=\"\",SUM(IF(AS!$C$5:$CD$5=\"HOT\",IF(AS!$C19:$CD19=\"\",1,0)))=COUNTIF(AS!$C$5:$CD$5,\"HOT\")),\"\",SUM(D19:D$86))","v":""},{"$f":"IF($B18=\"\",\"\",SUM(IF(AS!$C$5:$CD$5=\"COLD\",IF(AS!$C19:$CD19=\"|\",1*AS!$C$4:$CD$4,0),0)))","v":4},{"$f":"IF(F18=\"\",\"\",F18*B18)","v":80},{"$f":"IF(OR($A18=\"\",SUM(IF(AS!$C$5:$CD$5=\"COLD\",IF(AS!$C19:$CD19=\"\",1,0)))=COUNTIF(AS!$C$5:$CD$5,\"COLD\")),\"\",PT!$P$8+SUM(G19:G$86))","v":""}]
[{"$f":"AS!B20","v":30},"",{"$f":"IF($B19=\"\",\"\",SUM(IF(AS!$C$5:$CD$5=\"HOT\",IF(AS!$C20:$CD20=\"|\",1*AS!$C$4:$CD$4,0),0)))","v":""},"",{"$f":"IF(OR($A19=\"\",SUM(IF(AS!$C$5:$CD$5=\"HOT\",IF(AS!$C20:$CD20=\"\",1,0)))=COUNTIF(AS!$C$5:$CD$5,\"HOT\")),\"\",SUM(D20:D$86))","v":""},{"$f":"IF($B19=\"\",\"\",SUM(IF(AS!$C$5:$CD$5=\"COLD\",IF(AS!$C20:$CD20=\"|\",1*AS!$C$4:$CD$4,0),0)))","v":""},"",{"$f":"IF(OR($A19=\"\",SUM(IF(AS!$C$5:$CD$5=\"COLD\",IF(AS!$C20:$CD20=\"\",1,0)))=COUNTIF(AS!$C$5:$CD$5,\"COLD\")),\"\",PT!$P$8+SUM(G20:G$86))","v":160}]
[{"$f":"AS!B21","v":""},"",{"$f":"IF($B20=\"\",\"\",SUM(IF(AS!$C$5:$CD$5=\"HOT\",IF(AS!$C21:$CD21=\"|\",1*AS!$C$4:$CD$4,0),0)))","v":""},"",{"$f":"IF(OR($A20=\"\",SUM(IF(AS!$C$5:$CD$5=\"HOT\",IF(AS!$C21:$CD21=\"\",1,0)))=COUNTIF(AS!$C$5:$CD$5,\"HOT\")),\"\",SUM(D21:D$86))","v":""},{"$f":"IF($B20=\"\",\"\",SUM(IF(AS!$C$5:$CD$5=\"COLD\",IF(AS!$C21:$CD21=\"|\",1*AS!$C$4:$CD$4,0),0)))","v":""},"",{"$f":"IF(OR($A20=\"\",SUM(IF(AS!$C$5:$CD$5=\"COLD\",IF(AS!$C21:$CD21=\"\",1,0)))=COUNTIF(AS!$C$5:$CD$5,\"COLD\")),\"\",PT!$P$8+SUM(G21:G$86))","v":""}]
[{"$f":"AS!B22","v":""},"",{"$f":"IF($B21=\"\",\"\",SUM(IF(AS!$C$5:$CD$5=\"HOT\",IF(AS!$C22:$CD22=\"|\",1*AS!$C$4:$CD$4,0),0)))","v":""},"",{"$f":"IF(OR($A21=\"\",SUM(IF(AS!$C$5:$CD$5=\"HOT\",IF(AS!$C22:$CD22=\"\",1,0)))=COUNTIF(AS!$C$5:$CD$5,\"HOT\")),\"\",SUM(D22:D$86))","v":""},{"$f":"IF($B21=\"\",\"\",SUM(IF(AS!$C$5:$CD$5=\"COLD\",IF(AS!$C22:$CD22=\"|\",1*AS!$C$4:$CD$4,0),0)))","v":""},"",{"$f":"IF(OR($A21=\"\",SUM(IF(AS!$C$5:$CD$5=\"COLD\",IF(AS!$C22:$CD22=\"\",1,0)))=COUNTIF(AS!$C$5:$CD$5,\"COLD\")),\"\",PT!$P$8+SUM(G22:G$86))","v":""}]
[{"$f":"AS!B23","v":""},"",{"$f":"IF($B22=\"\",\"\",SUM(IF(AS!$C$5:$CD$5=\"HOT\",IF(AS!$C23:$CD23=\"|\",1*AS!$C$4:$CD$4,0),0)))","v":""},"",{"$f":"IF(OR($A22=\"\",SUM(IF(AS!$C$5:$CD$5=\"HOT\",IF(AS!$C23:$CD23=\"\",1,0)))=COUNTIF(AS!$C$5:$CD$5,\"HOT\")),\"\",SUM(D23:D$86))","v":""},{"$f":"IF($B22=\"\",\"\",SUM(IF(AS!$C$5:$CD$5=\"COLD\",IF(AS!$C23:$CD23=\"|\",1*AS!$C$4:$CD$4,0),0)))","v":""},"",{"$f":"IF(OR($A22=\"\",SUM(IF(AS!$C$5:$CD$5=\"COLD\",IF(AS!$C23:$CD23=\"\",1,0)))=COUNTIF(AS!$C$5:$CD$5,\"COLD\")),\"\",PT!$P$8+SUM(G23:G$86))","v":""}]
[{"$f":"AS!B24","v":""},"",{"$f":"IF($B23=\"\",\"\",SUM(IF(AS!$C$5:$CD$5=\"HOT\",IF(AS!$C24:$CD24=\"|\",1*AS!$C$4:$CD$4,0),0)))","v":""},"",{"$f":"IF(OR($A23=\"\",SUM(IF(AS!$C$5:$CD$5=\"HOT\",IF(AS!$C24:$CD24=\"\",1,0)))=COUNTIF(AS!$C$5:$CD$5,\"HOT\")),\"\",SUM(D24:D$86))","v":""},{"$f":"IF($B23=\"\",\"\",SUM(IF(AS!$C$5:$CD$5=\"COLD\",IF(AS!$C24:$CD24=\"|\",1*AS!$C$4:$CD$4,0),0)))","v":""},"",{"$f":"IF(OR($A23=\"\",SUM(IF(AS!$C$5:$CD$5=\"COLD\",IF(AS!$C24:$CD24=\"\",1,0)))=COUNTIF(AS!$C$5:$CD$5,\"COLD\")),\"\",PT!$P$8+SUM(G24:G$86))","v":""}]
[{"$f":"AS!B25","v":""},"",{"$f":"IF($B24=\"\",\"\",SUM(IF(AS!$C$5:$CD$5=\"HOT\",IF(AS!$C25:$CD25=\"|\",1*AS!$C$4:$CD$4,0),0)))","v":""},"",{"$f":"IF(OR($A24=\"\",SUM(IF(AS!$C$5:$CD$5=\"HOT\",IF(AS!$C25:$CD25=\"\",1,0)))=COUNTIF(AS!$C$5:$CD$5,\"HOT\")),\"\",SUM(D25:D$86))","v":""},{"$f":"IF($B24=\"\",\"\",SUM(IF(AS!$C$5:$CD$5=\"COLD\",IF(AS!$C25:$CD25=\"|\",1*AS!$C$4:$CD$4,0),0)))","v":""},"",{"$f":"IF(OR($A24=\"\",SUM(IF(AS!$C$5:$CD$5=\"COLD\",IF(AS!$C25:$CD25=\"\",1,0)))=COUNTIF(AS!$C$5:$CD$5,\"COLD\")),\"\",PT!$P$8+SUM(G25:G$86))","v":""}]
[{"$f":"AS!B26","v":""},"",{"$f":"IF($B25=\"\",\"\",SUM(IF(AS!$C$5:$CD$5=\"HOT\",IF(AS!$C26:$CD26=\"|\",1*AS!$C$4:$CD$4,0),0)))","v":""},"",{"$f":"IF(OR($A25=\"\",SUM(IF(AS!$C$5:$CD$5=\"HOT\",IF(AS!$C26:$CD26=\"\",1,0)))=COUNTIF(AS!$C$5:$CD$5,\"HOT\")),\"\",SUM(D26:D$86))","v":""},{"$f":"IF($B25=\"\",\"\",SUM(IF(AS!$C$5:$CD$5=\"COLD\",IF(AS!$C26:$CD26=\"|\",1*AS!$C$4:$CD$4,0),0)))","v":""},"",{"$f":"IF(OR($A25=\"\",SUM(IF(AS!$C$5:$CD$5=\"COLD\",IF(AS!$C26:$CD26=\"\",1,0)))=COUNTIF(AS!$C$5:$CD$5,\"COLD\")),\"\",PT!$P$8+SUM(G26:G$86))","v":""}]
[{"$f":"AS!B27","v":""},"",{"$f":"IF($B26=\"\",\"\",SUM(IF(AS!$C$5:$CD$5=\"HOT\",IF(AS!$C27:$CD27=\"|\",1*AS!$C$4:$CD$4,0),0)))","v":""},"",{"$f":"IF(OR($A26=\"\",SUM(IF(AS!$C$5:$CD$5=\"HOT\",IF(AS!$C27:$CD27=\"\",1,0)))=COUNTIF(AS!$C$5:$CD$5,\"HOT\")),\"\",SUM(D27:D$86))","v":""},{"$f":"IF($B26=\"\",\"\",SUM(IF(AS!$C$5:$CD$5=\"COLD\",IF(AS!$C27:$CD27=\"|\",1*AS!$C$4:$CD$4,0),0)))","v":""},"",{"$f":"IF(OR($A26=\"\",SUM(IF(AS!$C$5:$CD$5=\"COLD\",IF(AS!$C27:$CD27=\"\",1,0)))=COUNTIF(AS!$C$5:$CD$5,\"COLD\")),\"\",PT!$P$8+SUM(G27:G$86))","v":""}]
[{"$f":"AS!B28","v":""},"",{"$f":"IF($B27=\"\",\"\",SUM(IF(AS!$C$5:$CD$5=\"HOT\",IF(AS!$C28:$CD28=\"|\",1*AS!$C$4:$CD$4,0),0)))","v":""},"",{"$f":"IF(OR($A27=\"\",SUM(IF(AS!$C$5:$CD$5=\"HOT\",IF(AS!$C28:$CD28=\"\",1,0)))=COUNTIF(AS!$C$5:$CD$5,\"HOT\")),\"\",SUM(D28:D$86))","v":""},{"$f":"IF($B27=\"\",\"\",SUM(IF(AS!$C$5:$CD$5=\"COLD\",IF(AS!$C28:$CD28=\"|\",1*AS!$C$4:$CD$4,0),0)))","v":""},"",{"$f":"IF(OR($A27=\"\",SUM(IF(AS!$C$5:$CD$5=\"COLD\",IF(AS!$C28:$CD28=\"\",1,0)))=COUNTIF(AS!$C$5:$CD$5,\"COLD\")),\"\",PT!$P$8+SUM(G28:G$86))","v":""}]
[{"$f":"AS!B29","v":""},"",{"$f":"IF($B28=\"\",\"\",SUM(IF(AS!$C$5:$CD$5=\"HOT\",IF(AS!$C29:$CD29=\"|\",1*AS!$C$4:$CD$4,0),0)))","v":""},"",{"$f":"IF(OR($A28=\"\",SUM(IF(AS!$C$5:$CD$5=\"HOT\",IF(AS!$C29:$CD29=\"\",1,0)))=COUNTIF(AS!$C$5:$CD$5,\"HOT\")),\"\",SUM(D29:D$86))","v":""},{"$f":"IF($B28=\"\",\"\",SUM(IF(AS!$C$5:$CD$5=\"COLD\",IF(AS!$C29:$CD29=\"|\",1*AS!$C$4:$CD$4,0),0)))","v":""},"",{"$f":"IF(OR($A28=\"\",SUM(IF(AS!$C$5:$CD$5=\"COLD\",IF(AS!$C29:$CD29=\"\",1,0)))=COUNTIF(AS!$C$5:$CD$5,\"COLD\")),\"\",PT!$P$8+SUM(G29:G$86))","v":""}]
[{"$f":"AS!B30","v":""},"",{"$f":"IF($B29=\"\",\"\",SUM(IF(AS!$C$5:$CD$5=\"HOT\",IF(AS!$C30:$CD30=\"|\",1*AS!$C$4:$CD$4,0),0)))","v":""},"",{"$f":"IF(OR($A29=\"\",SUM(IF(AS!$C$5:$CD$5=\"HOT\",IF(AS!$C30:$CD30=\"\",1,0)))=COUNTIF(AS!$C$5:$CD$5,\"HOT\")),\"\",SUM(D30:D$86))","v":""},{"$f":"IF($B29=\"\",\"\",SUM(IF(AS!$C$5:$CD$5=\"COLD\",IF(AS!$C30:$CD30=\"|\",1*AS!$C$4:$CD$4,0),0)))","v":""},"",{"$f":"IF(OR($A29=\"\",SUM(IF(AS!$C$5:$CD$5=\"COLD\",IF(AS!$C30:$CD30=\"\",1,0)))=COUNTIF(AS!$C$5:$CD$5,\"COLD\")),\"\",PT!$P$8+SUM(G30:G$86))","v":""}]
[{"$f":"AS!B31","v":""},"",{"$f":"IF($B30=\"\",\"\",SUM(IF(AS!$C$5:$CD$5=\"HOT\",IF(AS!$C31:$CD31=\"|\",1*AS!$C$4:$CD$4,0),0)))","v":""},"",{"$f":"IF(OR($A30=\"\",SUM(IF(AS!$C$5:$CD$5=\"HOT\",IF(AS!$C31:$CD31=\"\",1,0)))=COUNTIF(AS!$C$5:$CD$5,\"HOT\")),\"\",SUM(D31:D$86))","v":""},{"$f":"IF($B30=\"\",\"\",SUM(IF(AS!$C$5:$CD$5=\"COLD\",IF(AS!$C31:$CD31=\"|\",1*AS!$C$4:$CD$4,0),0)))","v":""},"",{"$f":"IF(OR($A30=\"\",SUM(IF(AS!$C$5:$CD$5=\"COLD\",IF(AS!$C31:$CD31=\"\",1,0)))=COUNTIF(AS!$C$5:$CD$5,\"COLD\")),\"\",PT!$P$8+SUM(G31:G$86))","v":""}]
[{"$f":"AS!B32","v":""},"",{"$f":"IF($B31=\"\",\"\",SUM(IF(AS!$C$5:$CD$5=\"HOT\",IF(AS!$C32:$CD32=\"|\",1*AS!$C$4:$CD$4,0),0)))","v":""},"",{"$f":"IF(OR($A31=\"\",SUM(IF(AS!$C$5:$CD$5=\"HOT\",IF(AS!$C32:$CD32=\"\",1,0)))=COUNTIF(AS!$C$5:$CD$5,\"HOT\")),\"\",SUM(D32:D$86))","v":""},{"$f":"IF($B31=\"\",\"\",SUM(IF(AS!$C$5:$CD$5=\"COLD\",IF(AS!$C32:$CD32=\"|\",1*AS!$C$4:$CD$4,0),0)))","v":""},"",{"$f":"IF(OR($A31=\"\",SUM(IF(AS!$C$5:$CD$5=\"COLD\",IF(AS!$C32:$CD32=\"\",1,0)))=COUNTIF(AS!$C$5:$CD$5,\"COLD\")),\"\",PT!$P$8+SUM(G32:G$86))","v":""}]
[{"$f":"AS!B33","v":""},"",{"$f":"IF($B32=\"\",\"\",SUM(IF(AS!$C$5:$CD$5=\"HOT\",IF(AS!$C33:$CD33=\"|\",1*AS!$C$4:$CD$4,0),0)))","v":""},"",{"$f":"IF(OR($A32=\"\",SUM(IF(AS!$C$5:$CD$5=\"HOT\",IF(AS!$C33:$CD33=\"\",1,0)))=COUNTIF(AS!$C$5:$CD$5,\"HOT\")),\"\",SUM(D33:D$86))","v":""},{"$f":"IF($B32=\"\",\"\",SUM(IF(AS!$C$5:$CD$5=\"COLD\",IF(AS!$C33:$CD33=\"|\",1*AS!$C$4:$CD$4,0),0)))","v":""},"",{"$f":"IF(OR($A32=\"\",SUM(IF(AS!$C$5:$CD$5=\"COLD\",IF(AS!$C33:$CD33=\"\",1,0)))=COUNTIF(AS!$C$5:$CD$5,\"COLD\")),\"\",PT!$P$8+SUM(G33:G$86))","v":""}]
[{"$f":"AS!B34","v":""},"",{"$f":"IF($B33=\"\",\"\",SUM(IF(AS!$C$5:$CD$5=\"HOT\",IF(AS!$C34:$CD34=\"|\",1*AS!$C$4:$CD$4,0),0)))","v":""},"",{"$f":"IF(OR($A33=\"\",SUM(IF(AS!$C$5:$CD$5=\"HOT\",IF(AS!$C34:$CD34=\"\",1,0)))=COUNTIF(AS!$C$5:$CD$5,\"HOT\")),\"\",SUM(D34:D$86))","v":""},{"$f":"IF($B33=\"\",\"\",SUM(IF(AS!$C$5:$CD$5=\"COLD\",IF(AS!$C34:$CD34=\"|\",1*AS!$C$4:$CD$4,0),0)))","v":""},"",{"$f":"IF(OR($A33=\"\",SUM(IF(AS!$C$5:$CD$5=\"COLD\",IF(AS!$C34:$CD34=\"\",1,0)))=COUNTIF(AS!$C$5:$CD$5,\"COLD\")),\"\",PT!$P$8+SUM(G34:G$86))","v":""}]
[{"$f":"AS!B35","v":""},"",{"$f":"IF($B34=\"\",\"\",SUM(IF(AS!$C$5:$CD$5=\"HOT\",IF(AS!$C35:$CD35=\"|\",1*AS!$C$4:$CD$4,0),0)))","v":""},"",{"$f":"IF(OR($A34=\"\",SUM(IF(AS!$C$5:$CD$5=\"HOT\",IF(AS!$C35:$CD35=\"\",1,0)))=COUNTIF(AS!$C$5:$CD$5,\"HOT\")),\"\",SUM(D35:D$86))","v":""},{"$f":"IF($B34=\"\",\"\",SUM(IF(AS!$C$5:$CD$5=\"COLD\",IF(AS!$C35:$CD35=\"|\",1*AS!$C$4:$CD$4,0),0)))","v":""},"",{"$f":"IF(OR($A34=\"\",SUM(IF(AS!$C$5:$CD$5=\"COLD\",IF(AS!$C35:$CD35=\"\",1,0)))=COUNTIF(AS!$C$5:$CD$5,\"COLD\")),\"\",PT!$P$8+SUM(G35:G$86))","v":""}]
[{"$f":"AS!B36","v":""},"",{"$f":"IF($B35=\"\",\"\",SUM(IF(AS!$C$5:$CD$5=\"HOT\",IF(AS!$C36:$CD36=\"|\",1*AS!$C$4:$CD$4,0),0)))","v":""},"",{"$f":"IF(OR($A35=\"\",SUM(IF(AS!$C$5:$CD$5=\"HOT\",IF(AS!$C36:$CD36=\"\",1,0)))=COUNTIF(AS!$C$5:$CD$5,\"HOT\")),\"\",SUM(D36:D$86))","v":""},{"$f":"IF($B35=\"\",\"\",SUM(IF(AS!$C$5:$CD$5=\"COLD\",IF(AS!$C36:$CD36=\"|\",1*AS!$C$4:$CD$4,0),0)))","v":""},"",{"$f":"IF(OR($A35=\"\",SUM(IF(AS!$C$5:$CD$5=\"COLD\",IF(AS!$C36:$CD36=\"\",1,0)))=COUNTIF(AS!$C$5:$CD$5,\"COLD\")),\"\",PT!$P$8+SUM(G36:G$86))","v":""}]
[{"$f":"AS!B37","v":""},"",{"$f":"IF($B36=\"\",\"\",SUM(IF(AS!$C$5:$CD$5=\"HOT\",IF(AS!$C37:$CD37=\"|\",1*AS!$C$4:$CD$4,0),0)))","v":""},"",{"$f":"IF(OR($A36=\"\",SUM(IF(AS!$C$5:$CD$5=\"HOT\",IF(AS!$C37:$CD37=\"\",1,0)))=COUNTIF(AS!$C$5:$CD$5,\"HOT\")),\"\",SUM(D37:D$86))","v":""},{"$f":"IF($B36=\"\",\"\",SUM(IF(AS!$C$5:$CD$5=\"COLD\",IF(AS!$C37:$CD37=\"|\",1*AS!$C$4:$CD$4,0),0)))","v":""},"",{"$f":"IF(OR($A36=\"\",SUM(IF(AS!$C$5:$CD$5=\"COLD\",IF(AS!$C37:$CD37=\"\",1,0)))=COUNTIF(AS!$C$5:$CD$5,\"COLD\")),\"\",PT!$P$8+SUM(G37:G$86))","v":""}]
[{"$f":"AS!B38","v":""},"",{"$f":"IF($B37=\"\",\"\",SUM(IF(AS!$C$5:$CD$5=\"HOT\",IF(AS!$C38:$CD38=\"|\",1*AS!$C$4:$CD$4,0),0)))","v":""},"",{"$f":"IF(OR($A37=\"\",SUM(IF(AS!$C$5:$CD$5=\"HOT\",IF(AS!$C38:$CD38=\"\",1,0)))=COUNTIF(AS!$C$5:$CD$5,\"HOT\")),\"\",SUM(D38:D$86))","v":""},{"$f":"IF($B37=\"\",\"\",SUM(IF(AS!$C$5:$CD$5=\"COLD\",IF(AS!$C38:$CD38=\"|\",1*AS!$C$4:$CD$4,0),0)))","v":""},"",{"$f":"IF(OR($A37=\"\",SUM(IF(AS!$C$5:$CD$5=\"COLD\",IF(AS!$C38:$CD38=\"\",1,0)))=COUNTIF(AS!$C$5:$CD$5,\"COLD\")),\"\",PT!$P$8+SUM(G38:G$86))","v":""}]
[{"$f":"AS!B39","v":""},"",{"$f":"IF($B38=\"\",\"\",SUM(IF(AS!$C$5:$CD$5=\"HOT\",IF(AS!$C39:$CD39=\"|\",1*AS!$C$4:$CD$4,0),0)))","v":""},"",{"$f":"IF(OR($A38=\"\",SUM(IF(AS!$C$5:$CD$5=\"HOT\",IF(AS!$C39:$CD39=\"\",1,0)))=COUNTIF(AS!$C$5:$CD$5,\"HOT\")),\"\",SUM(D39:D$86))","v":""},{"$f":"IF($B38=\"\",\"\",SUM(IF(AS!$C$5:$CD$5=\"COLD\",IF(AS!$C39:$CD39=\"|\",1*AS!$C$4:$CD$4,0),0)))","v":""},"",{"$f":"IF(OR($A38=\"\",SUM(IF(AS!$C$5:$CD$5=\"COLD\",IF(AS!$C39:$CD39=\"\",1,0)))=COUNTIF(AS!$C$5:$CD$5,\"COLD\")),\"\",PT!$P$8+SUM(G39:G$86))","v":""}]
[{"$f":"AS!B40","v":""},"",{"$f":"IF($B39=\"\",\"\",SUM(IF(AS!$C$5:$CD$5=\"HOT\",IF(AS!$C40:$CD40=\"|\",1*AS!$C$4:$CD$4,0),0)))","v":""},"",{"$f":"IF(OR($A39=\"\",SUM(IF(AS!$C$5:$CD$5=\"HOT\",IF(AS!$C40:$CD40=\"\",1,0)))=COUNTIF(AS!$C$5:$CD$5,\"HOT\")),\"\",SUM(D40:D$86))","v":""},{"$f":"IF($B39=\"\",\"\",SUM(IF(AS!$C$5:$CD$5=\"COLD\",IF(AS!$C40:$CD40=\"|\",1*AS!$C$4:$CD$4,0),0)))","v":""},"",{"$f":"IF(OR($A39=\"\",SUM(IF(AS!$C$5:$CD$5=\"COLD\",IF(AS!$C40:$CD40=\"\",1,0)))=COUNTIF(AS!$C$5:$CD$5,\"COLD\")),\"\",PT!$P$8+SUM(G40:G$86))","v":""}]
[{"$f":"AS!B41","v":""},"",{"$f":"IF($B40=\"\",\"\",SUM(IF(AS!$C$5:$CD$5=\"HOT\",IF(AS!$C41:$CD41=\"|\",1*AS!$C$4:$CD$4,0),0)))","v":""},"",{"$f":"IF(OR($A40=\"\",SUM(IF(AS!$C$5:$CD$5=\"HOT\",IF(AS!$C41:$CD41=\"\",1,0)))=COUNTIF(AS!$C$5:$CD$5,\"HOT\")),\"\",SUM(D41:D$86))","v":""},{"$f":"IF($B40=\"\",\"\",SUM(IF(AS!$C$5:$CD$5=\"COLD\",IF(AS!$C41:$CD41=\"|\",1*AS!$C$4:$CD$4,0),0)))","v":""},"",{"$f":"IF(OR($A40=\"\",SUM(IF(AS!$C$5:$CD$5=\"COLD\",IF(AS!$C41:$CD41=\"\",1,0)))=COUNTIF(AS!$C$5:$CD$5,\"COLD\")),\"\",PT!$P$8+SUM(G41:G$86))","v":""}]
[{"$f":"AS!B42","v":""},"",{"$f":"IF($B41=\"\",\"\",SUM(IF(AS!$C$5:$CD$5=\"HOT\",IF(AS!$C42:$CD42=\"|\",1*AS!$C$4:$CD$4,0),0)))","v":""},"",{"$f":"IF(OR($A41=\"\",SUM(IF(AS!$C$5:$CD$5=\"HOT\",IF(AS!$C42:$CD42=\"\",1,0)))=COUNTIF(AS!$C$5:$CD$5,\"HOT\")),\"\",SUM(D42:D$86))","v":""},{"$f":"IF($B41=\"\",\"\",SUM(IF(AS!$C$5:$CD$5=\"COLD\",IF(AS!$C42:$CD42=\"|\",1*AS!$C$4:$CD$4,0),0)))","v":""},"",{"$f":"IF(OR($A41=\"\",SUM(IF(AS!$C$5:$CD$5=\"COLD\",IF(AS!$C42:$CD42=\"\",1,0)))=COUNTIF(AS!$C$5:$CD$5,\"COLD\")),\"\",PT!$P$8+SUM(G42:G$86))","v":""}]
[{"$f":"AS!B43","v":""},"",{"$f":"IF($B42=\"\",\"\",SUM(IF(AS!$C$5:$CD$5=\"HOT\",IF(AS!$C43:$CD43=\"|\",1*AS!$C$4:$CD$4,0),0)))","v":""},"",{"$f":"IF(OR($A42=\"\",SUM(IF(AS!$C$5:$CD$5=\"HOT\",IF(AS!$C43:$CD43=\"\",1,0)))=COUNTIF(AS!$C$5:$CD$5,\"HOT\")),\"\",SUM(D43:D$86))","v":""},{"$f":"IF($B42=\"\",\"\",SUM(IF(AS!$C$5:$CD$5=\"COLD\",IF(AS!$C43:$CD43=\"|\",1*AS!$C$4:$CD$4,0),0)))","v":""},"",{"$f":"IF(OR($A42=\"\",SUM(IF(AS!$C$5:$CD$5=\"COLD\",IF(AS!$C43:$CD43=\"\",1,0)))=COUNTIF(AS!$C$5:$CD$5,\"COLD\")),\"\",PT!$P$8+SUM(G43:G$86))","v":""}]
[{"$f":"AS!B44","v":""},"",{"$f":"IF($B43=\"\",\"\",SUM(IF(AS!$C$5:$CD$5=\"HOT\",IF(AS!$C44:$CD44=\"|\",1*AS!$C$4:$CD$4,0),0)))","v":""},"",{"$f":"IF(OR($A43=\"\",SUM(IF(AS!$C$5:$CD$5=\"HOT\",IF(AS!$C44:$CD44=\"\",1,0)))=COUNTIF(AS!$C$5:$CD$5,\"HOT\")),\"\",SUM(D44:D$86))","v":""},{"$f":"IF($B43=\"\",\"\",SUM(IF(AS!$C$5:$CD$5=\"COLD\",IF(AS!$C44:$CD44=\"|\",1*AS!$C$4:$CD$4,0),0)))","v":""},"",{"$f":"IF(OR($A43=\"\",SUM(IF(AS!$C$5:$CD$5=\"COLD\",IF(AS!$C44:$CD44=\"\",1,0)))=COUNTIF(AS!$C$5:$CD$5,\"COLD\")),\"\",PT!$P$8+SUM(G44:G$86))","v":""}]
[{"$f":"AS!B45","v":""},"",{"$f":"IF($B44=\"\",\"\",SUM(IF(AS!$C$5:$CD$5=\"HOT\",IF(AS!$C45:$CD45=\"|\",1*AS!$C$4:$CD$4,0),0)))","v":""},"",{"$f":"IF(OR($A44=\"\",SUM(IF(AS!$C$5:$CD$5=\"HOT\",IF(AS!$C45:$CD45=\"\",1,0)))=COUNTIF(AS!$C$5:$CD$5,\"HOT\")),\"\",SUM(D45:D$86))","v":""},{"$f":"IF($B44=\"\",\"\",SUM(IF(AS!$C$5:$CD$5=\"COLD\",IF(AS!$C45:$CD45=\"|\",1*AS!$C$4:$CD$4,0),0)))","v":""},"",{"$f":"IF(OR($A44=\"\",SUM(IF(AS!$C$5:$CD$5=\"COLD\",IF(AS!$C45:$CD45=\"\",1,0)))=COUNTIF(AS!$C$5:$CD$5,\"COLD\")),\"\",PT!$P$8+SUM(G45:G$86))","v":""}]
[{"$f":"AS!B46","v":""},"",{"$f":"IF($B45=\"\",\"\",SUM(IF(AS!$C$5:$CD$5=\"HOT\",IF(AS!$C46:$CD46=\"|\",1*AS!$C$4:$CD$4,0),0)))","v":""},"",{"$f":"IF(OR($A45=\"\",SUM(IF(AS!$C$5:$CD$5=\"HOT\",IF(AS!$C46:$CD46=\"\",1,0)))=COUNTIF(AS!$C$5:$CD$5,\"HOT\")),\"\",SUM(D46:D$86))","v":""},{"$f":"IF($B45=\"\",\"\",SUM(IF(AS!$C$5:$CD$5=\"COLD\",IF(AS!$C46:$CD46=\"|\",1*AS!$C$4:$CD$4,0),0)))","v":""},"",{"$f":"IF(OR($A45=\"\",SUM(IF(AS!$C$5:$CD$5=\"COLD\",IF(AS!$C46:$CD46=\"\",1,0)))=COUNTIF(AS!$C$5:$CD$5,\"COLD\")),\"\",PT!$P$8+SUM(G46:G$86))","v":""}]
[{"$f":"AS!B47","v":""},"",{"$f":"IF($B46=\"\",\"\",SUM(IF(AS!$C$5:$CD$5=\"HOT\",IF(AS!$C47:$CD47=\"|\",1*AS!$C$4:$CD$4,0),0)))","v":""},"",{"$f":"IF(OR($A46=\"\",SUM(IF(AS!$C$5:$CD$5=\"HOT\",IF(AS!$C47:$CD47=\"\",1,0)))=COUNTIF(AS!$C$5:$CD$5,\"HOT\")),\"\",SUM(D47:D$86))","v":""},{"$f":"IF($B46=\"\",\"\",SUM(IF(AS!$C$5:$CD$5=\"COLD\",IF(AS!$C47:$CD47=\"|\",1*AS!$C$4:$CD$4,0),0)))","v":""},"",{"$f":"IF(OR($A46=\"\",SUM(IF(AS!$C$5:$CD$5=\"COLD\",IF(AS!$C47:$CD47=\"\",1,0)))=COUNTIF(AS!$C$5:$CD$5,\"COLD\")),\"\",PT!$P$8+SUM(G47:G$86))","v":""}]
[{"$f":"AS!B48","v":""},"",{"$f":"IF($B47=\"\",\"\",SUM(IF(AS!$C$5:$CD$5=\"HOT\",IF(AS!$C48:$CD48=\"|\",1*AS!$C$4:$CD$4,0),0)))","v":""},"",{"$f":"IF(OR($A47=\"\",SUM(IF(AS!$C$5:$CD$5=\"HOT\",IF(AS!$C48:$CD48=\"\",1,0)))=COUNTIF(AS!$C$5:$CD$5,\"HOT\")),\"\",SUM(D48:D$86))","v":""},{"$f":"IF($B47=\"\",\"\",SUM(IF(AS!$C$5:$CD$5=\"COLD\",IF(AS!$C48:$CD48=\"|\",1*AS!$C$4:$CD$4,0),0)))","v":""},"",{"$f":"IF(OR($A47=\"\",SUM(IF(AS!$C$5:$CD$5=\"COLD\",IF(AS!$C48:$CD48=\"\",1,0)))=COUNTIF(AS!$C$5:$CD$5,\"COLD\")),\"\",PT!$P$8+SUM(G48:G$86))","v":""}]
[{"$f":"AS!B49","v":""},"",{"$f":"IF($B48=\"\",\"\",SUM(IF(AS!$C$5:$CD$5=\"HOT\",IF(AS!$C49:$CD49=\"|\",1*AS!$C$4:$CD$4,0),0)))","v":""},"",{"$f":"IF(OR($A48=\"\",SUM(IF(AS!$C$5:$CD$5=\"HOT\",IF(AS!$C49:$CD49=\"\",1,0)))=COUNTIF(AS!$C$5:$CD$5,\"HOT\")),\"\",SUM(D49:D$86))","v":""},{"$f":"IF($B48=\"\",\"\",SUM(IF(AS!$C$5:$CD$5=\"COLD\",IF(AS!$C49:$CD49=\"|\",1*AS!$C$4:$CD$4,0),0)))","v":""},"",{"$f":"IF(OR($A48=\"\",SUM(IF(AS!$C$5:$CD$5=\"COLD\",IF(AS!$C49:$CD49=\"\",1,0)))=COUNTIF(AS!$C$5:$CD$5,\"COLD\")),\"\",PT!$P$8+SUM(G49:G$86))","v":""}]
[{"$f":"AS!B50","v":""},"",{"$f":"IF($B49=\"\",\"\",SUM(IF(AS!$C$5:$CD$5=\"HOT\",IF(AS!$C50:$CD50=\"|\",1*AS!$C$4:$CD$4,0),0)))","v":""},"",{"$f":"IF(OR($A49=\"\",SUM(IF(AS!$C$5:$CD$5=\"HOT\",IF(AS!$C50:$CD50=\"\",1,0)))=COUNTIF(AS!$C$5:$CD$5,\"HOT\")),\"\",SUM(D50:D$86))","v":""},{"$f":"IF($B49=\"\",\"\",SUM(IF(AS!$C$5:$CD$5=\"COLD\",IF(AS!$C50:$CD50=\"|\",1*AS!$C$4:$CD$4,0),0)))","v":""},"",{"$f":"IF(OR($A49=\"\",SUM(IF(AS!$C$5:$CD$5=\"COLD\",IF(AS!$C50:$CD50=\"\",1,0)))=COUNTIF(AS!$C$5:$CD$5,\"COLD\")),\"\",PT!$P$8+SUM(G50:G$86))","v":""}]
[{"$f":"AS!B51","v":""},"",{"$f":"IF($B50=\"\",\"\",SUM(IF(AS!$C$5:$CD$5=\"HOT\",IF(AS!$C51:$CD51=\"|\",1*AS!$C$4:$CD$4,0),0)))","v":""},"",{"$f":"IF(OR($A50=\"\",SUM(IF(AS!$C$5:$CD$5=\"HOT\",IF(AS!$C51:$CD51=\"\",1,0)))=COUNTIF(AS!$C$5:$CD$5,\"HOT\")),\"\",SUM(D51:D$86))","v":""},{"$f":"IF($B50=\"\",\"\",SUM(IF(AS!$C$5:$CD$5=\"COLD\",IF(AS!$C51:$CD51=\"|\",1*AS!$C$4:$CD$4,0),0)))","v":""},"",{"$f":"IF(OR($A50=\"\",SUM(IF(AS!$C$5:$CD$5=\"COLD\",IF(AS!$C51:$CD51=\"\",1,0)))=COUNTIF(AS!$C$5:$CD$5,\"COLD\")),\"\",PT!$P$8+SUM(G51:G$86))","v":""}]
[{"$f":"AS!B52","v":""},"",{"$f":"IF($B51=\"\",\"\",SUM(IF(AS!$C$5:$CD$5=\"HOT\",IF(AS!$C52:$CD52=\"|\",1*AS!$C$4:$CD$4,0),0)))","v":""},"",{"$f":"IF(OR($A51=\"\",SUM(IF(AS!$C$5:$CD$5=\"HOT\",IF(AS!$C52:$CD52=\"\",1,0)))=COUNTIF(AS!$C$5:$CD$5,\"HOT\")),\"\",SUM(D52:D$86))","v":""},{"$f":"IF($B51=\"\",\"\",SUM(IF(AS!$C$5:$CD$5=\"COLD\",IF(AS!$C52:$CD52=\"|\",1*AS!$C$4:$CD$4,0),0)))","v":""},"",{"$f":"IF(OR($A51=\"\",SUM(IF(AS!$C$5:$CD$5=\"COLD\",IF(AS!$C52:$CD52=\"\",1,0)))=COUNTIF(AS!$C$5:$CD$5,\"COLD\")),\"\",PT!$P$8+SUM(G52:G$86))","v":""}]
[{"$f":"AS!B53","v":""},"",{"$f":"IF($B52=\"\",\"\",SUM(IF(AS!$C$5:$CD$5=\"HOT\",IF(AS!$C53:$CD53=\"|\",1*AS!$C$4:$CD$4,0),0)))","v":""},"",{"$f":"IF(OR($A52=\"\",SUM(IF(AS!$C$5:$CD$5=\"HOT\",IF(AS!$C53:$CD53=\"\",1,0)))=COUNTIF(AS!$C$5:$CD$5,\"HOT\")),\"\",SUM(D53:D$86))","v":""},{"$f":"IF($B52=\"\",\"\",SUM(IF(AS!$C$5:$CD$5=\"COLD\",IF(AS!$C53:$CD53=\"|\",1*AS!$C$4:$CD$4,0),0)))","v":""},"",{"$f":"IF(OR($A52=\"\",SUM(IF(AS!$C$5:$CD$5=\"COLD\",IF(AS!$C53:$CD53=\"\",1,0)))=COUNTIF(AS!$C$5:$CD$5,\"COLD\")),\"\",PT!$P$8+SUM(G53:G$86))","v":""}]
[{"$f":"AS!B54","v":""},"",{"$f":"IF($B53=\"\",\"\",SUM(IF(AS!$C$5:$CD$5=\"HOT\",IF(AS!$C54:$CD54=\"|\",1*AS!$C$4:$CD$4,0),0)))","v":""},"",{"$f":"IF(OR($A53=\"\",SUM(IF(AS!$C$5:$CD$5=\"HOT\",IF(AS!$C54:$CD54=\"\",1,0)))=COUNTIF(AS!$C$5:$CD$5,\"HOT\")),\"\",SUM(D54:D$86))","v":""},{"$f":"IF($B53=\"\",\"\",SUM(IF(AS!$C$5:$CD$5=\"COLD\",IF(AS!$C54:$CD54=\"|\",1*AS!$C$4:$CD$4,0),0)))","v":""},"",{"$f":"IF(OR($A53=\"\",SUM(IF(AS!$C$5:$CD$5=\"COLD\",IF(AS!$C54:$CD54=\"\",1,0)))=COUNTIF(AS!$C$5:$CD$5,\"COLD\")),\"\",PT!$P$8+SUM(G54:G$86))","v":""}]
[{"$f":"AS!B55","v":""},"",{"$f":"IF($B54=\"\",\"\",SUM(IF(AS!$C$5:$CD$5=\"HOT\",IF(AS!$C55:$CD55=\"|\",1*AS!$C$4:$CD$4,0),0)))","v":""},"",{"$f":"IF(OR($A54=\"\",SUM(IF(AS!$C$5:$CD$5=\"HOT\",IF(AS!$C55:$CD55=\"\",1,0)))=COUNTIF(AS!$C$5:$CD$5,\"HOT\")),\"\",SUM(D55:D$86))","v":""},{"$f":"IF($B54=\"\",\"\",SUM(IF(AS!$C$5:$CD$5=\"COLD\",IF(AS!$C55:$CD55=\"|\",1*AS!$C$4:$CD$4,0),0)))","v":""},"",{"$f":"IF(OR($A54=\"\",SUM(IF(AS!$C$5:$CD$5=\"COLD\",IF(AS!$C55:$CD55=\"\",1,0)))=COUNTIF(AS!$C$5:$CD$5,\"COLD\")),\"\",PT!$P$8+SUM(G55:G$86))","v":""}]
[{"$f":"AS!B56","v":""},"",{"$f":"IF($B55=\"\",\"\",SUM(IF(AS!$C$5:$CD$5=\"HOT\",IF(AS!$C56:$CD56=\"|\",1*AS!$C$4:$CD$4,0),0)))","v":""},"",{"$f":"IF(OR($A55=\"\",SUM(IF(AS!$C$5:$CD$5=\"HOT\",IF(AS!$C56:$CD56=\"\",1,0)))=COUNTIF(AS!$C$5:$CD$5,\"HOT\")),\"\",SUM(D56:D$86))","v":""},{"$f":"IF($B55=\"\",\"\",SUM(IF(AS!$C$5:$CD$5=\"COLD\",IF(AS!$C56:$CD56=\"|\",1*AS!$C$4:$CD$4,0),0)))","v":""},"",{"$f":"IF(OR($A55=\"\",SUM(IF(AS!$C$5:$CD$5=\"COLD\",IF(AS!$C56:$CD56=\"\",1,0)))=COUNTIF(AS!$C$5:$CD$5,\"COLD\")),\"\",PT!$P$8+SUM(G56:G$86))","v":""}]
[{"$f":"AS!B57","v":""},"",{"$f":"IF($B56=\"\",\"\",SUM(IF(AS!$C$5:$CD$5=\"HOT\",IF(AS!$C57:$CD57=\"|\",1*AS!$C$4:$CD$4,0),0)))","v":""},"",{"$f":"IF(OR($A56=\"\",SUM(IF(AS!$C$5:$CD$5=\"HOT\",IF(AS!$C57:$CD57=\"\",1,0)))=COUNTIF(AS!$C$5:$CD$5,\"HOT\")),\"\",SUM(D57:D$86))","v":""},{"$f":"IF($B56=\"\",\"\",SUM(IF(AS!$C$5:$CD$5=\"COLD\",IF(AS!$C57:$CD57=\"|\",1*AS!$C$4:$CD$4,0),0)))","v":""},"",{"$f":"IF(OR($A56=\"\",SUM(IF(AS!$C$5:$CD$5=\"COLD\",IF(AS!$C57:$CD57=\"\",1,0)))=COUNTIF(AS!$C$5:$CD$5,\"COLD\")),\"\",PT!$P$8+SUM(G57:G$86))","v":""}]
[{"$f":"AS!B58","v":""},"",{"$f":"IF($B57=\"\",\"\",SUM(IF(AS!$C$5:$CD$5=\"HOT\",IF(AS!$C58:$CD58=\"|\",1*AS!$C$4:$CD$4,0),0)))","v":""},"",{"$f":"IF(OR($A57=\"\",SUM(IF(AS!$C$5:$CD$5=\"HOT\",IF(AS!$C58:$CD58=\"\",1,0)))=COUNTIF(AS!$C$5:$CD$5,\"HOT\")),\"\",SUM(D58:D$86))","v":""},{"$f":"IF($B57=\"\",\"\",SUM(IF(AS!$C$5:$CD$5=\"COLD\",IF(AS!$C58:$CD58=\"|\",1*AS!$C$4:$CD$4,0),0)))","v":""},"",{"$f":"IF(OR($A57=\"\",SUM(IF(AS!$C$5:$CD$5=\"COLD\",IF(AS!$C58:$CD58=\"\",1,0)))=COUNTIF(AS!$C$5:$CD$5,\"COLD\")),\"\",PT!$P$8+SUM(G58:G$86))","v":""}]
[{"$f":"AS!B59","v":""},"",{"$f":"IF($B58=\"\",\"\",SUM(IF(AS!$C$5:$CD$5=\"HOT\",IF(AS!$C59:$CD59=\"|\",1*AS!$C$4:$CD$4,0),0)))","v":""},"",{"$f":"IF(OR($A58=\"\",SUM(IF(AS!$C$5:$CD$5=\"HOT\",IF(AS!$C59:$CD59=\"\",1,0)))=COUNTIF(AS!$C$5:$CD$5,\"HOT\")),\"\",SUM(D59:D$86))","v":""},{"$f":"IF($B58=\"\",\"\",SUM(IF(AS!$C$5:$CD$5=\"COLD\",IF(AS!$C59:$CD59=\"|\",1*AS!$C$4:$CD$4,0),0)))","v":""},"",{"$f":"IF(OR($A58=\"\",SUM(IF(AS!$C$5:$CD$5=\"COLD\",IF(AS!$C59:$CD59=\"\",1,0)))=COUNTIF(AS!$C$5:$CD$5,\"COLD\")),\"\",PT!$P$8+SUM(G59:G$86))","v":""}]
[{"$f":"AS!B60","v":""},"",{"$f":"IF($B59=\"\",\"\",SUM(IF(AS!$C$5:$CD$5=\"HOT\",IF(AS!$C60:$CD60=\"|\",1*AS!$C$4:$CD$4,0),0)))","v":""},"",{"$f":"IF(OR($A59=\"\",SUM(IF(AS!$C$5:$CD$5=\"HOT\",IF(AS!$C60:$CD60=\"\",1,0)))=COUNTIF(AS!$C$5:$CD$5,\"HOT\")),\"\",SUM(D60:D$86))","v":""},{"$f":"IF($B59=\"\",\"\",SUM(IF(AS!$C$5:$CD$5=\"COLD\",IF(AS!$C60:$CD60=\"|\",1*AS!$C$4:$CD$4,0),0)))","v":""},"",{"$f":"IF(OR($A59=\"\",SUM(IF(AS!$C$5:$CD$5=\"COLD\",IF(AS!$C60:$CD60=\"\",1,0)))=COUNTIF(AS!$C$5:$CD$5,\"COLD\")),\"\",PT!$P$8+SUM(G60:G$86))","v":""}]
[{"$f":"AS!B61","v":""},"",{"$f":"IF($B60=\"\",\"\",SUM(IF(AS!$C$5:$CD$5=\"HOT\",IF(AS!$C61:$CD61=\"|\",1*AS!$C$4:$CD$4,0),0)))","v":""},"",{"$f":"IF(OR($A60=\"\",SUM(IF(AS!$C$5:$CD$5=\"HOT\",IF(AS!$C61:$CD61=\"\",1,0)))=COUNTIF(AS!$C$5:$CD$5,\"HOT\")),\"\",SUM(D61:D$86))","v":""},{"$f":"IF($B60=\"\",\"\",SUM(IF(AS!$C$5:$CD$5=\"COLD\",IF(AS!$C61:$CD61=\"|\",1*AS!$C$4:$CD$4,0),0)))","v":""},"",{"$f":"IF(OR($A60=\"\",SUM(IF(AS!$C$5:$CD$5=\"COLD\",IF(AS!$C61:$CD61=\"\",1,0)))=COUNTIF(AS!$C$5:$CD$5,\"COLD\")),\"\",PT!$P$8+SUM(G61:G$86))","v":""}]
[{"$f":"AS!B62","v":""},"",{"$f":"IF($B61=\"\",\"\",SUM(IF(AS!$C$5:$CD$5=\"HOT\",IF(AS!$C62:$CD62=\"|\",1*AS!$C$4:$CD$4,0),0)))","v":""},"",{"$f":"IF(OR($A61=\"\",SUM(IF(AS!$C$5:$CD$5=\"HOT\",IF(AS!$C62:$CD62=\"\",1,0)))=COUNTIF(AS!$C$5:$CD$5,\"HOT\")),\"\",SUM(D62:D$86))","v":""},{"$f":"IF($B61=\"\",\"\",SUM(IF(AS!$C$5:$CD$5=\"COLD\",IF(AS!$C62:$CD62=\"|\",1*AS!$C$4:$CD$4,0),0)))","v":""},"",{"$f":"IF(OR($A61=\"\",SUM(IF(AS!$C$5:$CD$5=\"COLD\",IF(AS!$C62:$CD62=\"\",1,0)))=COUNTIF(AS!$C$5:$CD$5,\"COLD\")),\"\",PT!$P$8+SUM(G62:G$86))","v":""}]
[{"$f":"AS!B63","v":""},"",{"$f":"IF($B62=\"\",\"\",SUM(IF(AS!$C$5:$CD$5=\"HOT\",IF(AS!$C63:$CD63=\"|\",1*AS!$C$4:$CD$4,0),0)))","v":""},"",{"$f":"IF(OR($A62=\"\",SUM(IF(AS!$C$5:$CD$5=\"HOT\",IF(AS!$C63:$CD63=\"\",1,0)))=COUNTIF(AS!$C$5:$CD$5,\"HOT\")),\"\",SUM(D63:D$86))","v":""},{"$f":"IF($B62=\"\",\"\",SUM(IF(AS!$C$5:$CD$5=\"COLD\",IF(AS!$C63:$CD63=\"|\",1*AS!$C$4:$CD$4,0),0)))","v":""},"",{"$f":"IF(OR($A62=\"\",SUM(IF(AS!$C$5:$CD$5=\"COLD\",IF(AS!$C63:$CD63=\"\",1,0)))=COUNTIF(AS!$C$5:$CD$5,\"COLD\")),\"\",PT!$P$8+SUM(G63:G$86))","v":""}]
[{"$f":"AS!B64","v":""},"",{"$f":"IF($B63=\"\",\"\",SUM(IF(AS!$C$5:$CD$5=\"HOT\",IF(AS!$C64:$CD64=\"|\",1*AS!$C$4:$CD$4,0),0)))","v":""},"",{"$f":"IF(OR($A63=\"\",SUM(IF(AS!$C$5:$CD$5=\"HOT\",IF(AS!$C64:$CD64=\"\",1,0)))=COUNTIF(AS!$C$5:$CD$5,\"HOT\")),\"\",SUM(D64:D$86))","v":""},{"$f":"IF($B63=\"\",\"\",SUM(IF(AS!$C$5:$CD$5=\"COLD\",IF(AS!$C64:$CD64=\"|\",1*AS!$C$4:$CD$4,0),0)))","v":""},"",{"$f":"IF(OR($A63=\"\",SUM(IF(AS!$C$5:$CD$5=\"COLD\",IF(AS!$C64:$CD64=\"\",1,0)))=COUNTIF(AS!$C$5:$CD$5,\"COLD\")),\"\",PT!$P$8+SUM(G64:G$86))","v":""}]
[{"$f":"AS!B65","v":""},"",{"$f":"IF($B64=\"\",\"\",SUM(IF(AS!$C$5:$CD$5=\"HOT\",IF(AS!$C65:$CD65=\"|\",1*AS!$C$4:$CD$4,0),0)))","v":""},"",{"$f":"IF(OR($A64=\"\",SUM(IF(AS!$C$5:$CD$5=\"HOT\",IF(AS!$C65:$CD65=\"\",1,0)))=COUNTIF(AS!$C$5:$CD$5,\"HOT\")),\"\",SUM(D65:D$86))","v":""},{"$f":"IF($B64=\"\",\"\",SUM(IF(AS!$C$5:$CD$5=\"COLD\",IF(AS!$C65:$CD65=\"|\",1*AS!$C$4:$CD$4,0),0)))","v":""},"",{"$f":"IF(OR($A64=\"\",SUM(IF(AS!$C$5:$CD$5=\"COLD\",IF(AS!$C65:$CD65=\"\",1,0)))=COUNTIF(AS!$C$5:$CD$5,\"COLD\")),\"\",PT!$P$8+SUM(G65:G$86))","v":""}]
[{"$f":"AS!B66","v":""},"",{"$f":"IF($B65=\"\",\"\",SUM(IF(AS!$C$5:$CD$5=\"HOT\",IF(AS!$C66:$CD66=\"|\",1*AS!$C$4:$CD$4,0),0)))","v":""},"",{"$f":"IF(OR($A65=\"\",SUM(IF(AS!$C$5:$CD$5=\"HOT\",IF(AS!$C66:$CD66=\"\",1,0)))=COUNTIF(AS!$C$5:$CD$5,\"HOT\")),\"\",SUM(D66:D$86))","v":""},{"$f":"IF($B65=\"\",\"\",SUM(IF(AS!$C$5:$CD$5=\"COLD\",IF(AS!$C66:$CD66=\"|\",1*AS!$C$4:$CD$4,0),0)))","v":""},"",{"$f":"IF(OR($A65=\"\",SUM(IF(AS!$C$5:$CD$5=\"COLD\",IF(AS!$C66:$CD66=\"\",1,0)))=COUNTIF(AS!$C$5:$CD$5,\"COLD\")),\"\",PT!$P$8+SUM(G66:G$86))","v":""}]
[{"$f":"AS!B67","v":""},"",{"$f":"IF($B66=\"\",\"\",SUM(IF(AS!$C$5:$CD$5=\"HOT\",IF(AS!$C67:$CD67=\"|\",1*AS!$C$4:$CD$4,0),0)))","v":""},"",{"$f":"IF(OR($A66=\"\",SUM(IF(AS!$C$5:$CD$5=\"HOT\",IF(AS!$C67:$CD67=\"\",1,0)))=COUNTIF(AS!$C$5:$CD$5,\"HOT\")),\"\",SUM(D67:D$86))","v":""},{"$f":"IF($B66=\"\",\"\",SUM(IF(AS!$C$5:$CD$5=\"COLD\",IF(AS!$C67:$CD67=\"|\",1*AS!$C$4:$CD$4,0),0)))","v":""},"",{"$f":"IF(OR($A66=\"\",SUM(IF(AS!$C$5:$CD$5=\"COLD\",IF(AS!$C67:$CD67=\"\",1,0)))=COUNTIF(AS!$C$5:$CD$5,\"COLD\")),\"\",PT!$P$8+SUM(G67:G$86))","v":""}]
[{"$f":"AS!B68","v":""},"",{"$f":"IF($B67=\"\",\"\",SUM(IF(AS!$C$5:$CD$5=\"HOT\",IF(AS!$C68:$CD68=\"|\",1*AS!$C$4:$CD$4,0),0)))","v":""},"",{"$f":"IF(OR($A67=\"\",SUM(IF(AS!$C$5:$CD$5=\"HOT\",IF(AS!$C68:$CD68=\"\",1,0)))=COUNTIF(AS!$C$5:$CD$5,\"HOT\")),\"\",SUM(D68:D$86))","v":""},{"$f":"IF($B67=\"\",\"\",SUM(IF(AS!$C$5:$CD$5=\"COLD\",IF(AS!$C68:$CD68=\"|\",1*AS!$C$4:$CD$4,0),0)))","v":""},"",{"$f":"IF(OR($A67=\"\",SUM(IF(AS!$C$5:$CD$5=\"COLD\",IF(AS!$C68:$CD68=\"\",1,0)))=COUNTIF(AS!$C$5:$CD$5,\"COLD\")),\"\",PT!$P$8+SUM(G68:G$86))","v":""}]
[{"$f":"AS!B69","v":""},"",{"$f":"IF($B68=\"\",\"\",SUM(IF(AS!$C$5:$CD$5=\"HOT\",IF(AS!$C69:$CD69=\"|\",1*AS!$C$4:$CD$4,0),0)))","v":""},"",{"$f":"IF(OR($A68=\"\",SUM(IF(AS!$C$5:$CD$5=\"HOT\",IF(AS!$C69:$CD69=\"\",1,0)))=COUNTIF(AS!$C$5:$CD$5,\"HOT\")),\"\",SUM(D69:D$86))","v":""},{"$f":"IF($B68=\"\",\"\",SUM(IF(AS!$C$5:$CD$5=\"COLD\",IF(AS!$C69:$CD69=\"|\",1*AS!$C$4:$CD$4,0),0)))","v":""},"",{"$f":"IF(OR($A68=\"\",SUM(IF(AS!$C$5:$CD$5=\"COLD\",IF(AS!$C69:$CD69=\"\",1,0)))=COUNTIF(AS!$C$5:$CD$5,\"COLD\")),\"\",PT!$P$8+SUM(G69:G$86))","v":""}]
[{"$f":"AS!B70","v":""},"",{"$f":"IF($B69=\"\",\"\",SUM(IF(AS!$C$5:$CD$5=\"HOT\",IF(AS!$C70:$CD70=\"|\",1*AS!$C$4:$CD$4,0),0)))","v":""},"",{"$f":"IF(OR($A69=\"\",SUM(IF(AS!$C$5:$CD$5=\"HOT\",IF(AS!$C70:$CD70=\"\",1,0)))=COUNTIF(AS!$C$5:$CD$5,\"HOT\")),\"\",SUM(D70:D$86))","v":""},{"$f":"IF($B69=\"\",\"\",SUM(IF(AS!$C$5:$CD$5=\"COLD\",IF(AS!$C70:$CD70=\"|\",1*AS!$C$4:$CD$4,0),0)))","v":""},"",{"$f":"IF(OR($A69=\"\",SUM(IF(AS!$C$5:$CD$5=\"COLD\",IF(AS!$C70:$CD70=\"\",1,0)))=COUNTIF(AS!$C$5:$CD$5,\"COLD\")),\"\",PT!$P$8+SUM(G70:G$86))","v":""}]
[{"$f":"AS!B71","v":""},"",{"$f":"IF($B70=\"\",\"\",SUM(IF(AS!$C$5:$CD$5=\"HOT\",IF(AS!$C71:$CD71=\"|\",1*AS!$C$4:$CD$4,0),0)))","v":""},"",{"$f":"IF(OR($A70=\"\",SUM(IF(AS!$C$5:$CD$5=\"HOT\",IF(AS!$C71:$CD71=\"\",1,0)))=COUNTIF(AS!$C$5:$CD$5,\"HOT\")),\"\",SUM(D71:D$86))","v":""},{"$f":"IF($B70=\"\",\"\",SUM(IF(AS!$C$5:$CD$5=\"COLD\",IF(AS!$C71:$CD71=\"|\",1*AS!$C$4:$CD$4,0),0)))","v":""},"",{"$f":"IF(OR($A70=\"\",SUM(IF(AS!$C$5:$CD$5=\"COLD\",IF(AS!$C71:$CD71=\"\",1,0)))=COUNTIF(AS!$C$5:$CD$5,\"COLD\")),\"\",PT!$P$8+SUM(G71:G$86))","v":""}]
[{"$f":"AS!B72","v":""},"",{"$f":"IF($B71=\"\",\"\",SUM(IF(AS!$C$5:$CD$5=\"HOT\",IF(AS!$C72:$CD72=\"|\",1*AS!$C$4:$CD$4,0),0)))","v":""},"",{"$f":"IF(OR($A71=\"\",SUM(IF(AS!$C$5:$CD$5=\"HOT\",IF(AS!$C72:$CD72=\"\",1,0)))=COUNTIF(AS!$C$5:$CD$5,\"HOT\")),\"\",SUM(D72:D$86))","v":""},{"$f":"IF($B71=\"\",\"\",SUM(IF(AS!$C$5:$CD$5=\"COLD\",IF(AS!$C72:$CD72=\"|\",1*AS!$C$4:$CD$4,0),0)))","v":""},"",{"$f":"IF(OR($A71=\"\",SUM(IF(AS!$C$5:$CD$5=\"COLD\",IF(AS!$C72:$CD72=\"\",1,0)))=COUNTIF(AS!$C$5:$CD$5,\"COLD\")),\"\",PT!$P$8+SUM(G72:G$86))","v":""}]
[{"$f":"AS!B73","v":""},"",{"$f":"IF($B72=\"\",\"\",SUM(IF(AS!$C$5:$CD$5=\"HOT\",IF(AS!$C73:$CD73=\"|\",1*AS!$C$4:$CD$4,0),0)))","v":""},"",{"$f":"IF(OR($A72=\"\",SUM(IF(AS!$C$5:$CD$5=\"HOT\",IF(AS!$C73:$CD73=\"\",1,0)))=COUNTIF(AS!$C$5:$CD$5,\"HOT\")),\"\",SUM(D73:D$86))","v":""},{"$f":"IF($B72=\"\",\"\",SUM(IF(AS!$C$5:$CD$5=\"COLD\",IF(AS!$C73:$CD73=\"|\",1*AS!$C$4:$CD$4,0),0)))","v":""},"",{"$f":"IF(OR($A72=\"\",SUM(IF(AS!$C$5:$CD$5=\"COLD\",IF(AS!$C73:$CD73=\"\",1,0)))=COUNTIF(AS!$C$5:$CD$5,\"COLD\")),\"\",PT!$P$8+SUM(G73:G$86))","v":""}]
[{"$f":"AS!B74","v":""},"",{"$f":"IF($B73=\"\",\"\",SUM(IF(AS!$C$5:$CD$5=\"HOT\",IF(AS!$C74:$CD74=\"|\",1*AS!$C$4:$CD$4,0),0)))","v":""},"",{"$f":"IF(OR($A73=\"\",SUM(IF(AS!$C$5:$CD$5=\"HOT\",IF(AS!$C74:$CD74=\"\",1,0)))=COUNTIF(AS!$C$5:$CD$5,\"HOT\")),\"\",SUM(D74:D$86))","v":""},{"$f":"IF($B73=\"\",\"\",SUM(IF(AS!$C$5:$CD$5=\"COLD\",IF(AS!$C74:$CD74=\"|\",1*AS!$C$4:$CD$4,0),0)))","v":""},"",{"$f":"IF(OR($A73=\"\",SUM(IF(AS!$C$5:$CD$5=\"COLD\",IF(AS!$C74:$CD74=\"\",1,0)))=COUNTIF(AS!$C$5:$CD$5,\"COLD\")),\"\",PT!$P$8+SUM(G74:G$86))","v":""}]
[{"$f":"AS!B75","v":""},"",{"$f":"IF($B74=\"\",\"\",SUM(IF(AS!$C$5:$CD$5=\"HOT\",IF(AS!$C75:$CD75=\"|\",1*AS!$C$4:$CD$4,0),0)))","v":""},"",{"$f":"IF(OR($A74=\"\",SUM(IF(AS!$C$5:$CD$5=\"HOT\",IF(AS!$C75:$CD75=\"\",1,0)))=COUNTIF(AS!$C$5:$CD$5,\"HOT\")),\"\",SUM(D75:D$86))","v":""},{"$f":"IF($B74=\"\",\"\",SUM(IF(AS!$C$5:$CD$5=\"COLD\",IF(AS!$C75:$CD75=\"|\",1*AS!$C$4:$CD$4,0),0)))","v":""},"",{"$f":"IF(OR($A74=\"\",SUM(IF(AS!$C$5:$CD$5=\"COLD\",IF(AS!$C75:$CD75=\"\",1,0)))=COUNTIF(AS!$C$5:$CD$5,\"COLD\")),\"\",PT!$P$8+SUM(G75:G$86))","v":""}]
[{"$f":"AS!B76","v":""},"",{"$f":"IF($B75=\"\",\"\",SUM(IF(AS!$C$5:$CD$5=\"HOT\",IF(AS!$C76:$CD76=\"|\",1*AS!$C$4:$CD$4,0),0)))","v":""},"",{"$f":"IF(OR($A75=\"\",SUM(IF(AS!$C$5:$CD$5=\"HOT\",IF(AS!$C76:$CD76=\"\",1,0)))=COUNTIF(AS!$C$5:$CD$5,\"HOT\")),\"\",SUM(D76:D$86))","v":""},{"$f":"IF($B75=\"\",\"\",SUM(IF(AS!$C$5:$CD$5=\"COLD\",IF(AS!$C76:$CD76=\"|\",1*AS!$C$4:$CD$4,0),0)))","v":""},"",{"$f":"IF(OR($A75=\"\",SUM(IF(AS!$C$5:$CD$5=\"COLD\",IF(AS!$C76:$CD76=\"\",1,0)))=COUNTIF(AS!$C$5:$CD$5,\"COLD\")),\"\",PT!$P$8+SUM(G76:G$86))","v":""}]
[{"$f":"AS!B77","v":""},"",{"$f":"IF($B76=\"\",\"\",SUM(IF(AS!$C$5:$CD$5=\"HOT\",IF(AS!$C77:$CD77=\"|\",1*AS!$C$4:$CD$4,0),0)))","v":""},"",{"$f":"IF(OR($A76=\"\",SUM(IF(AS!$C$5:$CD$5=\"HOT\",IF(AS!$C77:$CD77=\"\",1,0)))=COUNTIF(AS!$C$5:$CD$5,\"HOT\")),\"\",SUM(D77:D$86))","v":""},{"$f":"IF($B76=\"\",\"\",SUM(IF(AS!$C$5:$CD$5=\"COLD\",IF(AS!$C77:$CD77=\"|\",1*AS!$C$4:$CD$4,0),0)))","v":""},"",{"$f":"IF(OR($A76=\"\",SUM(IF(AS!$C$5:$CD$5=\"COLD\",IF(AS!$C77:$CD77=\"\",1,0)))=COUNTIF(AS!$C$5:$CD$5,\"COLD\")),\"\",PT!$P$8+SUM(G77:G$86))","v":""}]
[{"$f":"AS!B78","v":""},"",{"$f":"IF($B77=\"\",\"\",SUM(IF(AS!$C$5:$CD$5=\"HOT\",IF(AS!$C78:$CD78=\"|\",1*AS!$C$4:$CD$4,0),0)))","v":""},"",{"$f":"IF(OR($A77=\"\",SUM(IF(AS!$C$5:$CD$5=\"HOT\",IF(AS!$C78:$CD78=\"\",1,0)))=COUNTIF(AS!$C$5:$CD$5,\"HOT\")),\"\",SUM(D78:D$86))","v":""},{"$f":"IF($B77=\"\",\"\",SUM(IF(AS!$C$5:$CD$5=\"COLD\",IF(AS!$C78:$CD78=\"|\",1*AS!$C$4:$CD$4,0),0)))","v":""},"",{"$f":"IF(OR($A77=\"\",SUM(IF(AS!$C$5:$CD$5=\"COLD\",IF(AS!$C78:$CD78=\"\",1,0)))=COUNTIF(AS!$C$5:$CD$5,\"COLD\")),\"\",PT!$P$8+SUM(G78:G$86))","v":""}]
[{"$f":"AS!B79","v":""},"",{"$f":"IF($B78=\"\",\"\",SUM(IF(AS!$C$5:$CD$5=\"HOT\",IF(AS!$C79:$CD79=\"|\",1*AS!$C$4:$CD$4,0),0)))","v":""},"",{"$f":"IF(OR($A78=\"\",SUM(IF(AS!$C$5:$CD$5=\"HOT\",IF(AS!$C79:$CD79=\"\",1,0)))=COUNTIF(AS!$C$5:$CD$5,\"HOT\")),\"\",SUM(D79:D$86))","v":""},{"$f":"IF($B78=\"\",\"\",SUM(IF(AS!$C$5:$CD$5=\"COLD\",IF(AS!$C79:$CD79=\"|\",1*AS!$C$4:$CD$4,0),0)))","v":""},"",{"$f":"IF(OR($A78=\"\",SUM(IF(AS!$C$5:$CD$5=\"COLD\",IF(AS!$C79:$CD79=\"\",1,0)))=COUNTIF(AS!$C$5:$CD$5,\"COLD\")),\"\",PT!$P$8+SUM(G79:G$86))","v":""}]
[{"$f":"AS!B80","v":""},"",{"$f":"IF($B79=\"\",\"\",SUM(IF(AS!$C$5:$CD$5=\"HOT\",IF(AS!$C80:$CD80=\"|\",1*AS!$C$4:$CD$4,0),0)))","v":""},"",{"$f":"IF(OR($A79=\"\",SUM(IF(AS!$C$5:$CD$5=\"HOT\",IF(AS!$C80:$CD80=\"\",1,0)))=COUNTIF(AS!$C$5:$CD$5,\"HOT\")),\"\",SUM(D80:D$86))","v":""},{"$f":"IF($B79=\"\",\"\",SUM(IF(AS!$C$5:$CD$5=\"COLD\",IF(AS!$C80:$CD80=\"|\",1*AS!$C$4:$CD$4,0),0)))","v":""},"",{"$f":"IF(OR($A79=\"\",SUM(IF(AS!$C$5:$CD$5=\"COLD\",IF(AS!$C80:$CD80=\"\",1,0)))=COUNTIF(AS!$C$5:$CD$5,\"COLD\")),\"\",PT!$P$8+SUM(G80:G$86))","v":""}]
[{"$f":"AS!B81","v":""},"",{"$f":"IF($B80=\"\",\"\",SUM(IF(AS!$C$5:$CD$5=\"HOT\",IF(AS!$C81:$CD81=\"|\",1*AS!$C$4:$CD$4,0),0)))","v":""},"",{"$f":"IF(OR($A80=\"\",SUM(IF(AS!$C$5:$CD$5=\"HOT\",IF(AS!$C81:$CD81=\"\",1,0)))=COUNTIF(AS!$C$5:$CD$5,\"HOT\")),\"\",SUM(D81:D$86))","v":""},{"$f":"IF($B80=\"\",\"\",SUM(IF(AS!$C$5:$CD$5=\"COLD\",IF(AS!$C81:$CD81=\"|\",1*AS!$C$4:$CD$4,0),0)))","v":""},"",{"$f":"IF(OR($A80=\"\",SUM(IF(AS!$C$5:$CD$5=\"COLD\",IF(AS!$C81:$CD81=\"\",1,0)))=COUNTIF(AS!$C$5:$CD$5,\"COLD\")),\"\",PT!$P$8+SUM(G81:G$86))","v":""}]
[{"$f":"AS!B82","v":""},"",{"$f":"IF($B81=\"\",\"\",SUM(IF(AS!$C$5:$CD$5=\"HOT\",IF(AS!$C82:$CD82=\"|\",1*AS!$C$4:$CD$4,0),0)))","v":""},"",{"$f":"IF(OR($A81=\"\",SUM(IF(AS!$C$5:$CD$5=\"HOT\",IF(AS!$C82:$CD82=\"\",1,0)))=COUNTIF(AS!$C$5:$CD$5,\"HOT\")),\"\",SUM(D82:D$86))","v":""},{"$f":"IF($B81=\"\",\"\",SUM(IF(AS!$C$5:$CD$5=\"COLD\",IF(AS!$C82:$CD82=\"|\",1*AS!$C$4:$CD$4,0),0)))","v":""},"",{"$f":"IF(OR($A81=\"\",SUM(IF(AS!$C$5:$CD$5=\"COLD\",IF(AS!$C82:$CD82=\"\",1,0)))=COUNTIF(AS!$C$5:$CD$5,\"COLD\")),\"\",PT!$P$8+SUM(G82:G$86))","v":""}]
[{"$f":"AS!B83","v":""},{"$f":"IF(A83=\"\",\"\",A81-A83)","v":""},{"$f":"IF($B82=\"\",\"\",SUM(IF(AS!$C$5:$CD$5=\"HOT\",IF(AS!$C83:$CD83=\"|\",1*AS!$C$4:$CD$4,0),0)))","v":""},{"$f":"IF(C82=\"\",\"\",C82*B82)","v":""},{"$f":"IF(OR($A82=\"\",SUM(IF(AS!$C$5:$CD$5=\"HOT\",IF(AS!$C83:$CD83=\"\",1,0)))=COUNTIF(AS!$C$5:$CD$5,\"HOT\")),\"\",SUM(D83:D$86))","v":""},{"$f":"IF($B82=\"\",\"\",SUM(IF(AS!$C$5:$CD$5=\"COLD\",IF(AS!$C83:$CD83=\"|\",1*AS!$C$4:$CD$4,0),0)))","v":""},{"$f":"IF(F82=\"\",\"\",F82*B82)","v":""},{"$f":"IF(OR($A82=\"\",SUM(IF(AS!$C$5:$CD$5=\"COLD\",IF(AS!$C83:$CD83=\"\",1,0)))=COUNTIF(AS!$C$5:$CD$5,\"COLD\")),\"\",PT!$P$8+SUM(G83:G$86))","v":""}]
[{"$f":"AS!B84","v":""},"",{"$f":"IF($B83=\"\",\"\",SUM(IF(AS!$C$5:$CD$5=\"HOT\",IF(AS!$C84:$CD84=\"|\",1*AS!$C$4:$CD$4,0),0)))","v":""},"",{"$f":"IF(OR($A83=\"\",SUM(IF(AS!$C$5:$CD$5=\"HOT\",IF(AS!$C84:$CD84=\"\",1,0)))=COUNTIF(AS!$C$5:$CD$5,\"HOT\")),\"\",SUM(D84:D$86))","v":""},{"$f":"IF($B83=\"\",\"\",SUM(IF(AS!$C$5:$CD$5=\"COLD\",IF(AS!$C84:$CD84=\"|\",1*AS!$C$4:$CD$4,0),0)))","v":""},"",{"$f":"IF(OR($A83=\"\",SUM(IF(AS!$C$5:$CD$5=\"COLD\",IF(AS!$C84:$CD84=\"\",1,0)))=COUNTIF(AS!$C$5:$CD$5,\"COLD\")),\"\",PT!$P$8+SUM(G84:G$86))","v":""}]
[{"$f":"AS!B85","v":""},"",{"$f":"IF($B84=\"\",\"\",SUM(IF(AS!$C$5:$CD$5=\"HOT\",IF(AS!$C85:$CD85=\"|\",1*AS!$C$4:$CD$4,0),0)))","v":""},"",{"$f":"IF(OR($A84=\"\",SUM(IF(AS!$C$5:$CD$5=\"HOT\",IF(AS!$C85:$CD85=\"\",1,0)))=COUNTIF(AS!$C$5:$CD$5,\"HOT\")),\"\",SUM(D85:D$86))","v":""},{"$f":"IF($B84=\"\",\"\",SUM(IF(AS!$C$5:$CD$5=\"COLD\",IF(AS!$C85:$CD85=\"|\",1*AS!$C$4:$CD$4,0),0)))","v":""},"",{"$f":"IF(OR($A84=\"\",SUM(IF(AS!$C$5:$CD$5=\"COLD\",IF(AS!$C85:$CD85=\"\",1,0)))=COUNTIF(AS!$C$5:$CD$5,\"COLD\")),\"\",PT!$P$8+SUM(G85:G$86))","v":""}]
[{"$f":"AS!B86","v":""},"",{"$f":"IF($B85=\"\",\"\",SUM(IF(AS!$C$5:$CD$5=\"HOT\",IF(AS!$C86:$CD86=\"|\",1*AS!$C$4:$CD$4,0),0)))","v":""},"",{"$f":"IF(OR($A85=\"\",SUM(IF(AS!$C$5:$CD$5=\"HOT\",IF(AS!$C86:$CD86=\"\",1,0)))=COUNTIF(AS!$C$5:$CD$5,\"HOT\")),\"\",SUM(D86:D$86))","v":""},{"$f":"IF($B85=\"\",\"\",SUM(IF(AS!$C$5:$CD$5=\"COLD\",IF(AS!$C86:$CD86=\"|\",1*AS!$C$4:$CD$4,0),0)))","v":""},"",{"$f":"IF(OR($A85=\"\",SUM(IF(AS!$C$5:$CD$5=\"COLD\",IF(AS!$C86:$CD86=\"\",1,0)))=COUNTIF(AS!$C$5:$CD$5,\"COLD\")),\"\",PT!$P$8+SUM(G86:G$86))","v":""}]
[{"$f":"AS!B87","v":""},"",{"$f":"IF($B86=\"\",\"\",SUM(IF(AS!$C$5:$CD$5=\"HOT\",IF(AS!$C87:$CD87=\"|\",1*AS!$C$4:$CD$4,0),0)))","v":""},"",{"$f":"IF(OR($A86=\"\",SUM(IF(AS!$C$5:$CD$5=\"HOT\",IF(AS!$C87:$CD87=\"\",1,0)))=COUNTIF(AS!$C$5:$CD$5,\"HOT\")),\"\",SUM(D$86:D87))","v":""},{"$f":"IF($B86=\"\",\"\",SUM(IF(AS!$C$5:$CD$5=\"COLD\",IF(AS!$C87:$CD87=\"|\",1*AS!$C$4:$CD$4,0),0)))","v":""},"",{"$f":"IF(OR($A86=\"\",SUM(IF(AS!$C$5:$CD$5=\"COLD\",IF(AS!$C87:$CD87=\"\",1,0)))=COUNTIF(AS!$C$5:$CD$5,\"COLD\")),\"\",PT!$P$8+SUM(G$86:G87))","v":""}]
[{"$f":"AS!B88","v":""},"",{"$f":"IF($B87=\"\",\"\",SUM(IF(AS!$C$5:$CD$5=\"HOT\",IF(AS!$C88:$CD88=\"|\",1*AS!$C$4:$CD$4,0),0)))","v":""},"",{"$f":"IF(OR($A87=\"\",SUM(IF(AS!$C$5:$CD$5=\"HOT\",IF(AS!$C88:$CD88=\"\",1,0)))=COUNTIF(AS!$C$5:$CD$5,\"HOT\")),\"\",SUM(D$86:D88))","v":""},{"$f":"IF($B87=\"\",\"\",SUM(IF(AS!$C$5:$CD$5=\"COLD\",IF(AS!$C88:$CD88=\"|\",1*AS!$C$4:$CD$4,0),0)))","v":""},"",{"$f":"IF(OR($A87=\"\",SUM(IF(AS!$C$5:$CD$5=\"COLD\",IF(AS!$C88:$CD88=\"\",1,0)))=COUNTIF(AS!$C$5:$CD$5,\"COLD\")),\"\",PT!$P$8+SUM(G$86:G88))","v":""}]
[{"$f":"AS!B89","v":""},"",{"$f":"IF($B88=\"\",\"\",SUM(IF(AS!$C$5:$CD$5=\"HOT\",IF(AS!$C89:$CD89=\"|\",1*AS!$C$4:$CD$4,0),0)))","v":""},"",{"$f":"IF(OR($A88=\"\",SUM(IF(AS!$C$5:$CD$5=\"HOT\",IF(AS!$C89:$CD89=\"\",1,0)))=COUNTIF(AS!$C$5:$CD$5,\"HOT\")),\"\",SUM(D$86:D89))","v":""},{"$f":"IF($B88=\"\",\"\",SUM(IF(AS!$C$5:$CD$5=\"COLD\",IF(AS!$C89:$CD89=\"|\",1*AS!$C$4:$CD$4,0),0)))","v":""},"",{"$f":"IF(OR($A88=\"\",SUM(IF(AS!$C$5:$CD$5=\"COLD\",IF(AS!$C89:$CD89=\"\",1,0)))=COUNTIF(AS!$C$5:$CD$5,\"COLD\")),\"\",PT!$P$8+SUM(G$86:G89))","v":""}]
[{"$f":"AS!B90","v":""},"",{"$f":"IF($B89=\"\",\"\",SUM(IF(AS!$C$5:$CD$5=\"HOT\",IF(AS!$C90:$CD90=\"|\",1*AS!$C$4:$CD$4,0),0)))","v":""},"",{"$f":"IF(OR($A89=\"\",SUM(IF(AS!$C$5:$CD$5=\"HOT\",IF(AS!$C90:$CD90=\"\",1,0)))=COUNTIF(AS!$C$5:$CD$5,\"HOT\")),\"\",SUM(D$86:D90))","v":""},{"$f":"IF($B89=\"\",\"\",SUM(IF(AS!$C$5:$CD$5=\"COLD\",IF(AS!$C90:$CD90=\"|\",1*AS!$C$4:$CD$4,0),0)))","v":""},"",{"$f":"IF(OR($A89=\"\",SUM(IF(AS!$C$5:$CD$5=\"COLD\",IF(AS!$C90:$CD90=\"\",1,0)))=COUNTIF(AS!$C$5:$CD$5,\"COLD\")),\"\",PT!$P$8+SUM(G$86:G90))","v":""}]
[{"$f":"AS!B91","v":""},"",{"$f":"IF($B90=\"\",\"\",SUM(IF(AS!$C$5:$CD$5=\"HOT\",IF(AS!$C91:$CD91=\"|\",1*AS!$C$4:$CD$4,0),0)))","v":""},"",{"$f":"IF(OR($A90=\"\",SUM(IF(AS!$C$5:$CD$5=\"HOT\",IF(AS!$C91:$CD91=\"\",1,0)))=COUNTIF(AS!$C$5:$CD$5,\"HOT\")),\"\",SUM(D$86:D91))","v":""},{"$f":"IF($B90=\"\",\"\",SUM(IF(AS!$C$5:$CD$5=\"COLD\",IF(AS!$C91:$CD91=\"|\",1*AS!$C$4:$CD$4,0),0)))","v":""},"",{"$f":"IF(OR($A90=\"\",SUM(IF(AS!$C$5:$CD$5=\"COLD\",IF(AS!$C91:$CD91=\"\",1,0)))=COUNTIF(AS!$C$5:$CD$5,\"COLD\")),\"\",PT!$P$8+SUM(G$86:G91))","v":""}]
[{"$f":"AS!B92","v":""},"",{"$f":"IF($B91=\"\",\"\",SUM(IF(AS!$C$5:$CD$5=\"HOT\",IF(AS!$C92:$CD92=\"|\",1*AS!$C$4:$CD$4,0),0)))","v":""},"",{"$f":"IF(OR($A91=\"\",SUM(IF(AS!$C$5:$CD$5=\"HOT\",IF(AS!$C92:$CD92=\"\",1,0)))=COUNTIF(AS!$C$5:$CD$5,\"HOT\")),\"\",SUM(D$86:D92))","v":""},{"$f":"IF($B91=\"\",\"\",SUM(IF(AS!$C$5:$CD$5=\"COLD\",IF(AS!$C92:$CD92=\"|\",1*AS!$C$4:$CD$4,0),0)))","v":""},"",{"$f":"IF(OR($A91=\"\",SUM(IF(AS!$C$5:$CD$5=\"COLD\",IF(AS!$C92:$CD92=\"\",1,0)))=COUNTIF(AS!$C$5:$CD$5,\"COLD\")),\"\",PT!$P$8+SUM(G$86:G92))","v":""}]
[{"$f":"AS!B93","v":""},"",{"$f":"IF($B92=\"\",\"\",SUM(IF(AS!$C$5:$CD$5=\"HOT\",IF(AS!$C93:$CD93=\"|\",1*AS!$C$4:$CD$4,0),0)))","v":""},"",{"$f":"IF(OR($A92=\"\",SUM(IF(AS!$C$5:$CD$5=\"HOT\",IF(AS!$C93:$CD93=\"\",1,0)))=COUNTIF(AS!$C$5:$CD$5,\"HOT\")),\"\",SUM(D$86:D93))","v":""},{"$f":"IF($B92=\"\",\"\",SUM(IF(AS!$C$5:$CD$5=\"COLD\",IF(AS!$C93:$CD93=\"|\",1*AS!$C$4:$CD$4,0),0)))","v":""},"",{"$f":"IF(OR($A92=\"\",SUM(IF(AS!$C$5:$CD$5=\"COLD\",IF(AS!$C93:$CD93=\"\",1,0)))=COUNTIF(AS!$C$5:$CD$5,\"COLD\")),\"\",PT!$P$8+SUM(G$86:G93))","v":""}]
[{"$f":"AS!B94","v":""},"",{"$f":"IF($B93=\"\",\"\",SUM(IF(AS!$C$5:$CD$5=\"HOT\",IF(AS!$C94:$CD94=\"|\",1*AS!$C$4:$CD$4,0),0)))","v":""},"",{"$f":"IF(OR($A93=\"\",SUM(IF(AS!$C$5:$CD$5=\"HOT\",IF(AS!$C94:$CD94=\"\",1,0)))=COUNTIF(AS!$C$5:$CD$5,\"HOT\")),\"\",SUM(D$86:D94))","v":""},{"$f":"IF($B93=\"\",\"\",SUM(IF(AS!$C$5:$CD$5=\"COLD\",IF(AS!$C94:$CD94=\"|\",1*AS!$C$4:$CD$4,0),0)))","v":""},"",{"$f":"IF(OR($A93=\"\",SUM(IF(AS!$C$5:$CD$5=\"COLD\",IF(AS!$C94:$CD94=\"\",1,0)))=COUNTIF(AS!$C$5:$CD$5,\"COLD\")),\"\",PT!$P$8+SUM(G$86:G94))","v":""}]
[{"$f":"AS!B95","v":""},"",{"$f":"IF($B94=\"\",\"\",SUM(IF(AS!$C$5:$CD$5=\"HOT\",IF(AS!$C95:$CD95=\"|\",1*AS!$C$4:$CD$4,0),0)))","v":""},"",{"$f":"IF(OR($A94=\"\",SUM(IF(AS!$C$5:$CD$5=\"HOT\",IF(AS!$C95:$CD95=\"\",1,0)))=COUNTIF(AS!$C$5:$CD$5,\"HOT\")),\"\",SUM(D$86:D95))","v":""},{"$f":"IF($B94=\"\",\"\",SUM(IF(AS!$C$5:$CD$5=\"COLD\",IF(AS!$C95:$CD95=\"|\",1*AS!$C$4:$CD$4,0),0)))","v":""},"",{"$f":"IF(OR($A94=\"\",SUM(IF(AS!$C$5:$CD$5=\"COLD\",IF(AS!$C95:$CD95=\"\",1,0)))=COUNTIF(AS!$C$5:$CD$5,\"COLD\")),\"\",PT!$P$8+SUM(G$86:G95))","v":""}]
[{"$f":"AS!B96","v":""},"",{"$f":"IF($B95=\"\",\"\",SUM(IF(AS!$C$5:$CD$5=\"HOT\",IF(AS!$C96:$CD96=\"|\",1*AS!$C$4:$CD$4,0),0)))","v":""},"",{"$f":"IF(OR($A95=\"\",SUM(IF(AS!$C$5:$CD$5=\"HOT\",IF(AS!$C96:$CD96=\"\",1,0)))=COUNTIF(AS!$C$5:$CD$5,\"HOT\")),\"\",SUM(D$86:D96))","v":""},{"$f":"IF($B95=\"\",\"\",SUM(IF(AS!$C$5:$CD$5=\"COLD\",IF(AS!$C96:$CD96=\"|\",1*AS!$C$4:$CD$4,0),0)))","v":""},"",{"$f":"IF(OR($A95=\"\",SUM(IF(AS!$C$5:$CD$5=\"COLD\",IF(AS!$C96:$CD96=\"\",1,0)))=COUNTIF(AS!$C$5:$CD$5,\"COLD\")),\"\",PT!$P$8+SUM(G$86:G96))","v":""}]
[{"$f":"AS!B97","v":""},"",{"$f":"IF($B96=\"\",\"\",SUM(IF(AS!$C$5:$CD$5=\"HOT\",IF(AS!$C97:$CD97=\"|\",1*AS!$C$4:$CD$4,0),0)))","v":""},"",{"$f":"IF(OR($A96=\"\",SUM(IF(AS!$C$5:$CD$5=\"HOT\",IF(AS!$C97:$CD97=\"\",1,0)))=COUNTIF(AS!$C$5:$CD$5,\"HOT\")),\"\",SUM(D$86:D97))","v":""},{"$f":"IF($B96=\"\",\"\",SUM(IF(AS!$C$5:$CD$5=\"COLD\",IF(AS!$C97:$CD97=\"|\",1*AS!$C$4:$CD$4,0),0)))","v":""},"",{"$f":"IF(OR($A96=\"\",SUM(IF(AS!$C$5:$CD$5=\"COLD\",IF(AS!$C97:$CD97=\"\",1,0)))=COUNTIF(AS!$C$5:$CD$5,\"COLD\")),\"\",PT!$P$8+SUM(G$86:G97))","v":""}]
[{"$f":"AS!B98","v":""},"",{"$f":"IF($B97=\"\",\"\",SUM(IF(AS!$C$5:$CD$5=\"HOT\",IF(AS!$C98:$CD98=\"|\",1*AS!$C$4:$CD$4,0),0)))","v":""},"",{"$f":"IF(OR($A97=\"\",SUM(IF(AS!$C$5:$CD$5=\"HOT\",IF(AS!$C98:$CD98=\"\",1,0)))=COUNTIF(AS!$C$5:$CD$5,\"HOT\")),\"\",SUM(D$86:D98))","v":""},{"$f":"IF($B97=\"\",\"\",SUM(IF(AS!$C$5:$CD$5=\"COLD\",IF(AS!$C98:$CD98=\"|\",1*AS!$C$4:$CD$4,0),0)))","v":""},"",{"$f":"IF(OR($A97=\"\",SUM(IF(AS!$C$5:$CD$5=\"COLD\",IF(AS!$C98:$CD98=\"\",1,0)))=COUNTIF(AS!$C$5:$CD$5,\"COLD\")),\"\",PT!$P$8+SUM(G$86:G98))","v":""}]
[{"$f":"AS!B99","v":""},"",{"$f":"IF($B98=\"\",\"\",SUM(IF(AS!$C$5:$CD$5=\"HOT\",IF(AS!$C99:$CD99=\"|\",1*AS!$C$4:$CD$4,0),0)))","v":""},"",{"$f":"IF(OR($A98=\"\",SUM(IF(AS!$C$5:$CD$5=\"HOT\",IF(AS!$C99:$CD99=\"\",1,0)))=COUNTIF(AS!$C$5:$CD$5,\"HOT\")),\"\",SUM(D$86:D99))","v":""},{"$f":"IF($B98=\"\",\"\",SUM(IF(AS!$C$5:$CD$5=\"COLD\",IF(AS!$C99:$CD99=\"|\",1*AS!$C$4:$CD$4,0),0)))","v":""},"",{"$f":"IF(OR($A98=\"\",SUM(IF(AS!$C$5:$CD$5=\"COLD\",IF(AS!$C99:$CD99=\"\",1,0)))=COUNTIF(AS!$C$5:$CD$5,\"COLD\")),\"\",PT!$P$8+SUM(G$86:G99))","v":""}]
[{"$f":"AS!B100","v":""},"",{"$f":"IF($B99=\"\",\"\",SUM(IF(AS!$C$5:$CD$5=\"HOT\",IF(AS!$C100:$CD100=\"|\",1*AS!$C$4:$CD$4,0),0)))","v":""},"",{"$f":"IF(OR($A99=\"\",SUM(IF(AS!$C$5:$CD$5=\"HOT\",IF(AS!$C100:$CD100=\"\",1,0)))=COUNTIF(AS!$C$5:$CD$5,\"HOT\")),\"\",SUM(D$86:D100))","v":""},{"$f":"IF($B99=\"\",\"\",SUM(IF(AS!$C$5:$CD$5=\"COLD\",IF(AS!$C100:$CD100=\"|\",1*AS!$C$4:$CD$4,0),0)))","v":""},"",{"$f":"IF(OR($A99=\"\",SUM(IF(AS!$C$5:$CD$5=\"COLD\",IF(AS!$C100:$CD100=\"\",1,0)))=COUNTIF(AS!$C$5:$CD$5,\"COLD\")),\"\",PT!$P$8+SUM(G$86:G100))","v":""}]
[{"$f":"AS!B101","v":""},"",{"$f":"IF($B100=\"\",\"\",SUM(IF(AS!$C$5:$CD$5=\"HOT\",IF(AS!$C101:$CD101=\"|\",1*AS!$C$4:$CD$4,0),0)))","v":""},"",{"$f":"IF(OR($A100=\"\",SUM(IF(AS!$C$5:$CD$5=\"HOT\",IF(AS!$C101:$CD101=\"\",1,0)))=COUNTIF(AS!$C$5:$CD$5,\"HOT\")),\"\",SUM(D$86:D101))","v":""},{"$f":"IF($B100=\"\",\"\",SUM(IF(AS!$C$5:$CD$5=\"COLD\",IF(AS!$C101:$CD101=\"|\",1*AS!$C$4:$CD$4,0),0)))","v":""},"",{"$f":"IF(OR($A100=\"\",SUM(IF(AS!$C$5:$CD$5=\"COLD\",IF(AS!$C101:$CD101=\"\",1,0)))=COUNTIF(AS!$C$5:$CD$5,\"COLD\")),\"\",PT!$P$8+SUM(G$86:G101))","v":""}]
[{"$f":"AS!B102","v":""},"",{"$f":"IF($B101=\"\",\"\",SUM(IF(AS!$C$5:$CD$5=\"HOT\",IF(AS!$C102:$CD102=\"|\",1*AS!$C$4:$CD$4,0),0)))","v":""},"",{"$f":"IF(OR($A101=\"\",SUM(IF(AS!$C$5:$CD$5=\"HOT\",IF(AS!$C102:$CD102=\"\",1,0)))=COUNTIF(AS!$C$5:$CD$5,\"HOT\")),\"\",SUM(D$86:D102))","v":""},{"$f":"IF($B101=\"\",\"\",SUM(IF(AS!$C$5:$CD$5=\"COLD\",IF(AS!$C102:$CD102=\"|\",1*AS!$C$4:$CD$4,0),0)))","v":""},"",{"$f":"IF(OR($A101=\"\",SUM(IF(AS!$C$5:$CD$5=\"COLD\",IF(AS!$C102:$CD102=\"\",1,0)))=COUNTIF(AS!$C$5:$CD$5,\"COLD\")),\"\",PT!$P$8+SUM(G$86:G102))","v":""}]
[{"$f":"AS!B103","v":""},"",{"$f":"IF($B102=\"\",\"\",SUM(IF(AS!$C$5:$CD$5=\"HOT\",IF(AS!$C103:$CD103=\"|\",1*AS!$C$4:$CD$4,0),0)))","v":""},"",{"$f":"IF(OR($A102=\"\",SUM(IF(AS!$C$5:$CD$5=\"HOT\",IF(AS!$C103:$CD103=\"\",1,0)))=COUNTIF(AS!$C$5:$CD$5,\"HOT\")),\"\",SUM(D$86:D103))","v":""},{"$f":"IF($B102=\"\",\"\",SUM(IF(AS!$C$5:$CD$5=\"COLD\",IF(AS!$C103:$CD103=\"|\",1*AS!$C$4:$CD$4,0),0)))","v":""},"",{"$f":"IF(OR($A102=\"\",SUM(IF(AS!$C$5:$CD$5=\"COLD\",IF(AS!$C103:$CD103=\"\",1,0)))=COUNTIF(AS!$C$5:$CD$5,\"COLD\")),\"\",PT!$P$8+SUM(G$86:G103))","v":""}]
[{"$f":"AS!B104","v":""},"",{"$f":"IF($B103=\"\",\"\",SUM(IF(AS!$C$5:$CD$5=\"HOT\",IF(AS!$C104:$CD104=\"|\",1*AS!$C$4:$CD$4,0),0)))","v":""},"",{"$f":"IF(OR($A103=\"\",SUM(IF(AS!$C$5:$CD$5=\"HOT\",IF(AS!$C104:$CD104=\"\",1,0)))=COUNTIF(AS!$C$5:$CD$5,\"HOT\")),\"\",SUM(D$86:D104))","v":""},{"$f":"IF($B103=\"\",\"\",SUM(IF(AS!$C$5:$CD$5=\"COLD\",IF(AS!$C104:$CD104=\"|\",1*AS!$C$4:$CD$4,0),0)))","v":""},"",{"$f":"IF(OR($A103=\"\",SUM(IF(AS!$C$5:$CD$5=\"COLD\",IF(AS!$C104:$CD104=\"\",1,0)))=COUNTIF(AS!$C$5:$CD$5,\"COLD\")),\"\",PT!$P$8+SUM(G$86:G104))","v":""}]
[{"$f":"AS!B105","v":""},"",{"$f":"IF($B104=\"\",\"\",SUM(IF(AS!$C$5:$CD$5=\"HOT\",IF(AS!$C105:$CD105=\"|\",1*AS!$C$4:$CD$4,0),0)))","v":""},"",{"$f":"IF(OR($A104=\"\",SUM(IF(AS!$C$5:$CD$5=\"HOT\",IF(AS!$C105:$CD105=\"\",1,0)))=COUNTIF(AS!$C$5:$CD$5,\"HOT\")),\"\",SUM(D$86:D105))","v":""},{"$f":"IF($B104=\"\",\"\",SUM(IF(AS!$C$5:$CD$5=\"COLD\",IF(AS!$C105:$CD105=\"|\",1*AS!$C$4:$CD$4,0),0)))","v":""},"",{"$f":"IF(OR($A104=\"\",SUM(IF(AS!$C$5:$CD$5=\"COLD\",IF(AS!$C105:$CD105=\"\",1,0)))=COUNTIF(AS!$C$5:$CD$5,\"COLD\")),\"\",PT!$P$8+SUM(G$86:G105))","v":""}]
[{"$f":"AS!B106","v":""},"",{"$f":"IF($B105=\"\",\"\",SUM(IF(AS!$C$5:$CD$5=\"HOT\",IF(AS!$C106:$CD106=\"|\",1*AS!$C$4:$CD$4,0),0)))","v":""},"",{"$f":"IF(OR($A105=\"\",SUM(IF(AS!$C$5:$CD$5=\"HOT\",IF(AS!$C106:$CD106=\"\",1,0)))=COUNTIF(AS!$C$5:$CD$5,\"HOT\")),\"\",SUM(D$86:D106))","v":""},{"$f":"IF($B105=\"\",\"\",SUM(IF(AS!$C$5:$CD$5=\"COLD\",IF(AS!$C106:$CD106=\"|\",1*AS!$C$4:$CD$4,0),0)))","v":""},"",{"$f":"IF(OR($A105=\"\",SUM(IF(AS!$C$5:$CD$5=\"COLD\",IF(AS!$C106:$CD106=\"\",1,0)))=COUNTIF(AS!$C$5:$CD$5,\"COLD\")),\"\",PT!$P$8+SUM(G$86:G106))","v":""}]
[{"$f":"AS!B107","v":""},{"$f":"IF(A107=\"\",\"\",A105-A107)","v":""},{"$f":"IF($B106=\"\",\"\",SUM(IF(AS!$C$5:$CD$5=\"HOT\",IF(AS!$C107:$CD107=\"|\",1*AS!$C$4:$CD$4,0),0)))","v":""},{"$f":"IF(C106=\"\",\"\",C106*B106)","v":""},{"$f":"IF(OR($A106=\"\",SUM(IF(AS!$C$5:$CD$5=\"HOT\",IF(AS!$C107:$CD107=\"\",1,0)))=COUNTIF(AS!$C$5:$CD$5,\"HOT\")),\"\",SUM(D$86:D107))","v":""},{"$f":"IF($B106=\"\",\"\",SUM(IF(AS!$C$5:$CD$5=\"COLD\",IF(AS!$C107:$CD107=\"|\",1*AS!$C$4:$CD$4,0),0)))","v":""},{"$f":"IF(F106=\"\",\"\",F106*B106)","v":""},{"$f":"IF(OR($A106=\"\",SUM(IF(AS!$C$5:$CD$5=\"COLD\",IF(AS!$C107:$CD107=\"\",1,0)))=COUNTIF(AS!$C$5:$CD$5,\"COLD\")),\"\",PT!$P$8+SUM(G$86:G107))","v":""}]
[{"$f":"AS!B108","v":""},"",{"$f":"IF($B107=\"\",\"\",SUM(IF(AS!$C$5:$CD$5=\"HOT\",IF(AS!$C108:$CD108=\"|\",1*AS!$C$4:$CD$4,0),0)))","v":""},"",{"$f":"IF(OR($A107=\"\",SUM(IF(AS!$C$5:$CD$5=\"HOT\",IF(AS!$C108:$CD108=\"\",1,0)))=COUNTIF(AS!$C$5:$CD$5,\"HOT\")),\"\",SUM(D$86:D108))","v":""},{"$f":"IF($B107=\"\",\"\",SUM(IF(AS!$C$5:$CD$5=\"COLD\",IF(AS!$C108:$CD108=\"|\",1*AS!$C$4:$CD$4,0),0)))","v":""},"",{"$f":"IF(OR($A107=\"\",SUM(IF(AS!$C$5:$CD$5=\"COLD\",IF(AS!$C108:$CD108=\"\",1,0)))=COUNTIF(AS!$C$5:$CD$5,\"COLD\")),\"\",PT!$P$8+SUM(G$86:G108))","v":""}]
[{"$f":"AS!B109","v":""},"",{"$f":"IF($B108=\"\",\"\",SUM(IF(AS!$C$5:$CD$5=\"HOT\",IF(AS!$C109:$CD109=\"|\",1*AS!$C$4:$CD$4,0),0)))","v":""},"",{"$f":"IF(OR($A108=\"\",SUM(IF(AS!$C$5:$CD$5=\"HOT\",IF(AS!$C109:$CD109=\"\",1,0)))=COUNTIF(AS!$C$5:$CD$5,\"HOT\")),\"\",SUM(D$86:D109))","v":""},{"$f":"IF($B108=\"\",\"\",SUM(IF(AS!$C$5:$CD$5=\"COLD\",IF(AS!$C109:$CD109=\"|\",1*AS!$C$4:$CD$4,0),0)))","v":""},"",{"$f":"IF(OR($A108=\"\",SUM(IF(AS!$C$5:$CD$5=\"COLD\",IF(AS!$C109:$CD109=\"\",1,0)))=COUNTIF(AS!$C$5:$CD$5,\"COLD\")),\"\",PT!$P$8+SUM(G$86:G109))","v":""}]
[{"$f":"AS!B110","v":""},"",{"$f":"IF($B109=\"\",\"\",SUM(IF(AS!$C$5:$CD$5=\"HOT\",IF(AS!$C110:$CD110=\"|\",1*AS!$C$4:$CD$4,0),0)))","v":""},"",{"$f":"IF(OR($A109=\"\",SUM(IF(AS!$C$5:$CD$5=\"HOT\",IF(AS!$C110:$CD110=\"\",1,0)))=COUNTIF(AS!$C$5:$CD$5,\"HOT\")),\"\",SUM(D$86:D110))","v":""},{"$f":"IF($B109=\"\",\"\",SUM(IF(AS!$C$5:$CD$5=\"COLD\",IF(AS!$C110:$CD110=\"|\",1*AS!$C$4:$CD$4,0),0)))","v":""},"",{"$f":"IF(OR($A109=\"\",SUM(IF(AS!$C$5:$CD$5=\"COLD\",IF(AS!$C110:$CD110=\"\",1,0)))=COUNTIF(AS!$C$5:$CD$5,\"COLD\")),\"\",PT!$P$8+SUM(G$86:G110))","v":""}]
[{"$f":"AS!B111","v":""},"",{"$f":"IF($B110=\"\",\"\",SUM(IF(AS!$C$5:$CD$5=\"HOT\",IF(AS!$C111:$CD111=\"|\",1*AS!$C$4:$CD$4,0),0)))","v":""},"",{"$f":"IF(OR($A110=\"\",SUM(IF(AS!$C$5:$CD$5=\"HOT\",IF(AS!$C111:$CD111=\"\",1,0)))=COUNTIF(AS!$C$5:$CD$5,\"HOT\")),\"\",SUM(D$86:D111))","v":""},{"$f":"IF($B110=\"\",\"\",SUM(IF(AS!$C$5:$CD$5=\"COLD\",IF(AS!$C111:$CD111=\"|\",1*AS!$C$4:$CD$4,0),0)))","v":""},"",{"$f":"IF(OR($A110=\"\",SUM(IF(AS!$C$5:$CD$5=\"COLD\",IF(AS!$C111:$CD111=\"\",1,0)))=COUNTIF(AS!$C$5:$CD$5,\"COLD\")),\"\",PT!$P$8+SUM(G$86:G111))","v":""}]
[{"$f":"AS!B112","v":""},"",{"$f":"IF($B111=\"\",\"\",SUM(IF(AS!$C$5:$CD$5=\"HOT\",IF(AS!$C112:$CD112=\"|\",1*AS!$C$4:$CD$4,0),0)))","v":""},"",{"$f":"IF(OR($A111=\"\",SUM(IF(AS!$C$5:$CD$5=\"HOT\",IF(AS!$C112:$CD112=\"\",1,0)))=COUNTIF(AS!$C$5:$CD$5,\"HOT\")),\"\",SUM(D$86:D112))","v":""},{"$f":"IF($B111=\"\",\"\",SUM(IF(AS!$C$5:$CD$5=\"COLD\",IF(AS!$C112:$CD112=\"|\",1*AS!$C$4:$CD$4,0),0)))","v":""},"",{"$f":"IF(OR($A111=\"\",SUM(IF(AS!$C$5:$CD$5=\"COLD\",IF(AS!$C112:$CD112=\"\",1,0)))=COUNTIF(AS!$C$5:$CD$5,\"COLD\")),\"\",PT!$P$8+SUM(G$86:G112))","v":""}]
[{"$f":"AS!B113","v":""},"",{"$f":"IF($B112=\"\",\"\",SUM(IF(AS!$C$5:$CD$5=\"HOT\",IF(AS!$C113:$CD113=\"|\",1*AS!$C$4:$CD$4,0),0)))","v":""},"",{"$f":"IF(OR($A112=\"\",SUM(IF(AS!$C$5:$CD$5=\"HOT\",IF(AS!$C113:$CD113=\"\",1,0)))=COUNTIF(AS!$C$5:$CD$5,\"HOT\")),\"\",SUM(D$86:D113))","v":""},{"$f":"IF($B112=\"\",\"\",SUM(IF(AS!$C$5:$CD$5=\"COLD\",IF(AS!$C113:$CD113=\"|\",1*AS!$C$4:$CD$4,0),0)))","v":""},"",{"$f":"IF(OR($A112=\"\",SUM(IF(AS!$C$5:$CD$5=\"COLD\",IF(AS!$C113:$CD113=\"\",1,0)))=COUNTIF(AS!$C$5:$CD$5,\"COLD\")),\"\",PT!$P$8+SUM(G$86:G113))","v":""}]
[{"$f":"AS!B114","v":""},"",{"$f":"IF($B113=\"\",\"\",SUM(IF(AS!$C$5:$CD$5=\"HOT\",IF(AS!$C114:$CD114=\"|\",1*AS!$C$4:$CD$4,0),0)))","v":""},"",{"$f":"IF(OR($A113=\"\",SUM(IF(AS!$C$5:$CD$5=\"HOT\",IF(AS!$C114:$CD114=\"\",1,0)))=COUNTIF(AS!$C$5:$CD$5,\"HOT\")),\"\",SUM(D$86:D114))","v":""},{"$f":"IF($B113=\"\",\"\",SUM(IF(AS!$C$5:$CD$5=\"COLD\",IF(AS!$C114:$CD114=\"|\",1*AS!$C$4:$CD$4,0),0)))","v":""},"",{"$f":"IF(OR($A113=\"\",SUM(IF(AS!$C$5:$CD$5=\"COLD\",IF(AS!$C114:$CD114=\"\",1,0)))=COUNTIF(AS!$C$5:$CD$5,\"COLD\")),\"\",PT!$P$8+SUM(G$86:G114))","v":""}]
[{"$f":"AS!B115","v":""},"",{"$f":"IF($B114=\"\",\"\",SUM(IF(AS!$C$5:$CD$5=\"HOT\",IF(AS!$C115:$CD115=\"|\",1*AS!$C$4:$CD$4,0),0)))","v":""},"",{"$f":"IF(OR($A114=\"\",SUM(IF(AS!$C$5:$CD$5=\"HOT\",IF(AS!$C115:$CD115=\"\",1,0)))=COUNTIF(AS!$C$5:$CD$5,\"HOT\")),\"\",SUM(D$86:D115))","v":""},{"$f":"IF($B114=\"\",\"\",SUM(IF(AS!$C$5:$CD$5=\"COLD\",IF(AS!$C115:$CD115=\"|\",1*AS!$C$4:$CD$4,0),0)))","v":""},"",{"$f":"IF(OR($A114=\"\",SUM(IF(AS!$C$5:$CD$5=\"COLD\",IF(AS!$C115:$CD115=\"\",1,0)))=COUNTIF(AS!$C$5:$CD$5,\"COLD\")),\"\",PT!$P$8+SUM(G$86:G115))","v":""}]
[{"$f":"AS!B116","v":""},"",{"$f":"IF($B115=\"\",\"\",SUM(IF(AS!$C$5:$CD$5=\"HOT\",IF(AS!$C116:$CD116=\"|\",1*AS!$C$4:$CD$4,0),0)))","v":""},"",{"$f":"IF(OR($A115=\"\",SUM(IF(AS!$C$5:$CD$5=\"HOT\",IF(AS!$C116:$CD116=\"\",1,0)))=COUNTIF(AS!$C$5:$CD$5,\"HOT\")),\"\",SUM(D$86:D116))","v":""},{"$f":"IF($B115=\"\",\"\",SUM(IF(AS!$C$5:$CD$5=\"COLD\",IF(AS!$C116:$CD116=\"|\",1*AS!$C$4:$CD$4,0),0)))","v":""},"",{"$f":"IF(OR($A115=\"\",SUM(IF(AS!$C$5:$CD$5=\"COLD\",IF(AS!$C116:$CD116=\"\",1,0)))=COUNTIF(AS!$C$5:$CD$5,\"COLD\")),\"\",PT!$P$8+SUM(G$86:G116))","v":""}]
[{"$f":"AS!B117","v":""},"",{"$f":"IF($B116=\"\",\"\",SUM(IF(AS!$C$5:$CD$5=\"HOT\",IF(AS!$C117:$CD117=\"|\",1*AS!$C$4:$CD$4,0),0)))","v":""},"",{"$f":"IF(OR($A116=\"\",SUM(IF(AS!$C$5:$CD$5=\"HOT\",IF(AS!$C117:$CD117=\"\",1,0)))=COUNTIF(AS!$C$5:$CD$5,\"HOT\")),\"\",SUM(D$86:D117))","v":""},{"$f":"IF($B116=\"\",\"\",SUM(IF(AS!$C$5:$CD$5=\"COLD\",IF(AS!$C117:$CD117=\"|\",1*AS!$C$4:$CD$4,0),0)))","v":""},"",{"$f":"IF(OR($A116=\"\",SUM(IF(AS!$C$5:$CD$5=\"COLD\",IF(AS!$C117:$CD117=\"\",1,0)))=COUNTIF(AS!$C$5:$CD$5,\"COLD\")),\"\",PT!$P$8+SUM(G$86:G117))","v":""}]
[{"$f":"AS!B118","v":""},"",{"$f":"IF($B117=\"\",\"\",SUM(IF(AS!$C$5:$CD$5=\"HOT\",IF(AS!$C118:$CD118=\"|\",1*AS!$C$4:$CD$4,0),0)))","v":""},"",{"$f":"IF(OR($A117=\"\",SUM(IF(AS!$C$5:$CD$5=\"HOT\",IF(AS!$C118:$CD118=\"\",1,0)))=COUNTIF(AS!$C$5:$CD$5,\"HOT\")),\"\",SUM(D$86:D118))","v":""},{"$f":"IF($B117=\"\",\"\",SUM(IF(AS!$C$5:$CD$5=\"COLD\",IF(AS!$C118:$CD118=\"|\",1*AS!$C$4:$CD$4,0),0)))","v":""},"",{"$f":"IF(OR($A117=\"\",SUM(IF(AS!$C$5:$CD$5=\"COLD\",IF(AS!$C118:$CD118=\"\",1,0)))=COUNTIF(AS!$C$5:$CD$5,\"COLD\")),\"\",PT!$P$8+SUM(G$86:G118))","v":""}]
[{"$f":"AS!B119","v":""},"",{"$f":"IF($B118=\"\",\"\",SUM(IF(AS!$C$5:$CD$5=\"HOT\",IF(AS!$C119:$CD119=\"|\",1*AS!$C$4:$CD$4,0),0)))","v":""},"",{"$f":"IF(OR($A118=\"\",SUM(IF(AS!$C$5:$CD$5=\"HOT\",IF(AS!$C119:$CD119=\"\",1,0)))=COUNTIF(AS!$C$5:$CD$5,\"HOT\")),\"\",SUM(D$86:D119))","v":""},{"$f":"IF($B118=\"\",\"\",SUM(IF(AS!$C$5:$CD$5=\"COLD\",IF(AS!$C119:$CD119=\"|\",1*AS!$C$4:$CD$4,0),0)))","v":""},"",{"$f":"IF(OR($A118=\"\",SUM(IF(AS!$C$5:$CD$5=\"COLD\",IF(AS!$C119:$CD119=\"\",1,0)))=COUNTIF(AS!$C$5:$CD$5,\"COLD\")),\"\",PT!$P$8+SUM(G$86:G119))","v":""}]
[{"$f":"AS!B120","v":""},"",{"$f":"IF($B119=\"\",\"\",SUM(IF(AS!$C$5:$CD$5=\"HOT\",IF(AS!$C120:$CD120=\"|\",1*AS!$C$4:$CD$4,0),0)))","v":""},"",{"$f":"IF(OR($A119=\"\",SUM(IF(AS!$C$5:$CD$5=\"HOT\",IF(AS!$C120:$CD120=\"\",1,0)))=COUNTIF(AS!$C$5:$CD$5,\"HOT\")),\"\",SUM(D$86:D120))","v":""},{"$f":"IF($B119=\"\",\"\",SUM(IF(AS!$C$5:$CD$5=\"COLD\",IF(AS!$C120:$CD120=\"|\",1*AS!$C$4:$CD$4,0),0)))","v":""},"",{"$f":"IF(OR($A119=\"\",SUM(IF(AS!$C$5:$CD$5=\"COLD\",IF(AS!$C120:$CD120=\"\",1,0)))=COUNTIF(AS!$C$5:$CD$5,\"COLD\")),\"\",PT!$P$8+SUM(G$86:G120))","v":""}]
[{"$f":"AS!B121","v":""},"",{"$f":"IF($B120=\"\",\"\",SUM(IF(AS!$C$5:$CD$5=\"HOT\",IF(AS!$C121:$CD121=\"|\",1*AS!$C$4:$CD$4,0),0)))","v":""},"",{"$f":"IF(OR($A120=\"\",SUM(IF(AS!$C$5:$CD$5=\"HOT\",IF(AS!$C121:$CD121=\"\",1,0)))=COUNTIF(AS!$C$5:$CD$5,\"HOT\")),\"\",SUM(D$86:D121))","v":""},{"$f":"IF($B120=\"\",\"\",SUM(IF(AS!$C$5:$CD$5=\"COLD\",IF(AS!$C121:$CD121=\"|\",1*AS!$C$4:$CD$4,0),0)))","v":""},"",{"$f":"IF(OR($A120=\"\",SUM(IF(AS!$C$5:$CD$5=\"COLD\",IF(AS!$C121:$CD121=\"\",1,0)))=COUNTIF(AS!$C$5:$CD$5,\"COLD\")),\"\",PT!$P$8+SUM(G$86:G121))","v":""}]
[{"$f":"AS!B122","v":""},"",{"$f":"IF($B121=\"\",\"\",SUM(IF(AS!$C$5:$CD$5=\"HOT\",IF(AS!$C122:$CD122=\"|\",1*AS!$C$4:$CD$4,0),0)))","v":""},"",{"$f":"IF(OR($A121=\"\",SUM(IF(AS!$C$5:$CD$5=\"HOT\",IF(AS!$C122:$CD122=\"\",1,0)))=COUNTIF(AS!$C$5:$CD$5,\"HOT\")),\"\",SUM(D$86:D122))","v":""},{"$f":"IF($B121=\"\",\"\",SUM(IF(AS!$C$5:$CD$5=\"COLD\",IF(AS!$C122:$CD122=\"|\",1*AS!$C$4:$CD$4,0),0)))","v":""},"",{"$f":"IF(OR($A121=\"\",SUM(IF(AS!$C$5:$CD$5=\"COLD\",IF(AS!$C122:$CD122=\"\",1,0)))=COUNTIF(AS!$C$5:$CD$5,\"COLD\")),\"\",PT!$P$8+SUM(G$86:G122))","v":""}]
[{"$f":"AS!B123","v":""},"",{"$f":"IF($B122=\"\",\"\",SUM(IF(AS!$C$5:$CD$5=\"HOT\",IF(AS!$C123:$CD123=\"|\",1*AS!$C$4:$CD$4,0),0)))","v":""},"",{"$f":"IF(OR($A122=\"\",SUM(IF(AS!$C$5:$CD$5=\"HOT\",IF(AS!$C123:$CD123=\"\",1,0)))=COUNTIF(AS!$C$5:$CD$5,\"HOT\")),\"\",SUM(D$86:D123))","v":""},{"$f":"IF($B122=\"\",\"\",SUM(IF(AS!$C$5:$CD$5=\"COLD\",IF(AS!$C123:$CD123=\"|\",1*AS!$C$4:$CD$4,0),0)))","v":""},"",{"$f":"IF(OR($A122=\"\",SUM(IF(AS!$C$5:$CD$5=\"COLD\",IF(AS!$C123:$CD123=\"\",1,0)))=COUNTIF(AS!$C$5:$CD$5,\"COLD\")),\"\",PT!$P$8+SUM(G$86:G123))","v":""}]
[{"$f":"AS!B124","v":""},"",{"$f":"IF($B123=\"\",\"\",SUM(IF(AS!$C$5:$CD$5=\"HOT\",IF(AS!$C124:$CD124=\"|\",1*AS!$C$4:$CD$4,0),0)))","v":""},"",{"$f":"IF(OR($A123=\"\",SUM(IF(AS!$C$5:$CD$5=\"HOT\",IF(AS!$C124:$CD124=\"\",1,0)))=COUNTIF(AS!$C$5:$CD$5,\"HOT\")),\"\",SUM(D$86:D124))","v":""},{"$f":"IF($B123=\"\",\"\",SUM(IF(AS!$C$5:$CD$5=\"COLD\",IF(AS!$C124:$CD124=\"|\",1*AS!$C$4:$CD$4,0),0)))","v":""},"",{"$f":"IF(OR($A123=\"\",SUM(IF(AS!$C$5:$CD$5=\"COLD\",IF(AS!$C124:$CD124=\"\",1,0)))=COUNTIF(AS!$C$5:$CD$5,\"COLD\")),\"\",PT!$P$8+SUM(G$86:G124))","v":""}]
[{"$f":"AS!B125","v":""},"",{"$f":"IF($B124=\"\",\"\",SUM(IF(AS!$C$5:$CD$5=\"HOT\",IF(AS!$C125:$CD125=\"|\",1*AS!$C$4:$CD$4,0),0)))","v":""},"",{"$f":"IF(OR($A124=\"\",SUM(IF(AS!$C$5:$CD$5=\"HOT\",IF(AS!$C125:$CD125=\"\",1,0)))=COUNTIF(AS!$C$5:$CD$5,\"HOT\")),\"\",SUM(D$86:D125))","v":""},{"$f":"IF($B124=\"\",\"\",SUM(IF(AS!$C$5:$CD$5=\"COLD\",IF(AS!$C125:$CD125=\"|\",1*AS!$C$4:$CD$4,0),0)))","v":""},"",{"$f":"IF(OR($A124=\"\",SUM(IF(AS!$C$5:$CD$5=\"COLD\",IF(AS!$C125:$CD125=\"\",1,0)))=COUNTIF(AS!$C$5:$CD$5,\"COLD\")),\"\",PT!$P$8+SUM(G$86:G125))","v":""}]
[{"$f":"AS!B126","v":""},"",{"$f":"IF($B125=\"\",\"\",SUM(IF(AS!$C$5:$CD$5=\"HOT\",IF(AS!$C126:$CD126=\"|\",1*AS!$C$4:$CD$4,0),0)))","v":""},"",{"$f":"IF(OR($A125=\"\",SUM(IF(AS!$C$5:$CD$5=\"HOT\",IF(AS!$C126:$CD126=\"\",1,0)))=COUNTIF(AS!$C$5:$CD$5,\"HOT\")),\"\",SUM(D$86:D126))","v":""},{"$f":"IF($B125=\"\",\"\",SUM(IF(AS!$C$5:$CD$5=\"COLD\",IF(AS!$C126:$CD126=\"|\",1*AS!$C$4:$CD$4,0),0)))","v":""},"",{"$f":"IF(OR($A125=\"\",SUM(IF(AS!$C$5:$CD$5=\"COLD\",IF(AS!$C126:$CD126=\"\",1,0)))=COUNTIF(AS!$C$5:$CD$5,\"COLD\")),\"\",PT!$P$8+SUM(G$86:G126))","v":""}]
[{"$f":"AS!B127","v":""},"",{"$f":"IF($B126=\"\",\"\",SUM(IF(AS!$C$5:$CD$5=\"HOT\",IF(AS!$C127:$CD127=\"|\",1*AS!$C$4:$CD$4,0),0)))","v":""},"",{"$f":"IF(OR($A126=\"\",SUM(IF(AS!$C$5:$CD$5=\"HOT\",IF(AS!$C127:$CD127=\"\",1,0)))=COUNTIF(AS!$C$5:$CD$5,\"HOT\")),\"\",SUM(D$86:D127))","v":""},{"$f":"IF($B126=\"\",\"\",SUM(IF(AS!$C$5:$CD$5=\"COLD\",IF(AS!$C127:$CD127=\"|\",1*AS!$C$4:$CD$4,0),0)))","v":""},"",{"$f":"IF(OR($A126=\"\",SUM(IF(AS!$C$5:$CD$5=\"COLD\",IF(AS!$C127:$CD127=\"\",1,0)))=COUNTIF(AS!$C$5:$CD$5,\"COLD\")),\"\",PT!$P$8+SUM(G$86:G127))","v":""}]
[{"$f":"AS!B128","v":""},"",{"$f":"IF($B127=\"\",\"\",SUM(IF(AS!$C$5:$CD$5=\"HOT\",IF(AS!$C128:$CD128=\"|\",1*AS!$C$4:$CD$4,0),0)))","v":""},"",{"$f":"IF(OR($A127=\"\",SUM(IF(AS!$C$5:$CD$5=\"HOT\",IF(AS!$C128:$CD128=\"\",1,0)))=COUNTIF(AS!$C$5:$CD$5,\"HOT\")),\"\",SUM(D$86:D128))","v":""},{"$f":"IF($B127=\"\",\"\",SUM(IF(AS!$C$5:$CD$5=\"COLD\",IF(AS!$C128:$CD128=\"|\",1*AS!$C$4:$CD$4,0),0)))","v":""},"",{"$f":"IF(OR($A127=\"\",SUM(IF(AS!$C$5:$CD$5=\"COLD\",IF(AS!$C128:$CD128=\"\",1,0)))=COUNTIF(AS!$C$5:$CD$5,\"COLD\")),\"\",PT!$P$8+SUM(G$86:G128))","v":""}]
[{"$f":"AS!B129","v":""},"",{"$f":"IF($B128=\"\",\"\",SUM(IF(AS!$C$5:$CD$5=\"HOT\",IF(AS!$C129:$CD129=\"|\",1*AS!$C$4:$CD$4,0),0)))","v":""},"",{"$f":"IF(OR($A128=\"\",SUM(IF(AS!$C$5:$CD$5=\"HOT\",IF(AS!$C129:$CD129=\"\",1,0)))=COUNTIF(AS!$C$5:$CD$5,\"HOT\")),\"\",SUM(D$86:D129))","v":""},{"$f":"IF($B128=\"\",\"\",SUM(IF(AS!$C$5:$CD$5=\"COLD\",IF(AS!$C129:$CD129=\"|\",1*AS!$C$4:$CD$4,0),0)))","v":""},"",{"$f":"IF(OR($A128=\"\",SUM(IF(AS!$C$5:$CD$5=\"COLD\",IF(AS!$C129:$CD129=\"\",1,0)))=COUNTIF(AS!$C$5:$CD$5,\"COLD\")),\"\",PT!$P$8+SUM(G$86:G129))","v":""}]
[{"$f":"AS!B130","v":""},"",{"$f":"IF($B129=\"\",\"\",SUM(IF(AS!$C$5:$CD$5=\"HOT\",IF(AS!$C130:$CD130=\"|\",1*AS!$C$4:$CD$4,0),0)))","v":""},"",{"$f":"IF(OR($A129=\"\",SUM(IF(AS!$C$5:$CD$5=\"HOT\",IF(AS!$C130:$CD130=\"\",1,0)))=COUNTIF(AS!$C$5:$CD$5,\"HOT\")),\"\",SUM(D$86:D130))","v":""},{"$f":"IF($B129=\"\",\"\",SUM(IF(AS!$C$5:$CD$5=\"COLD\",IF(AS!$C130:$CD130=\"|\",1*AS!$C$4:$CD$4,0),0)))","v":""},"",{"$f":"IF(OR($A129=\"\",SUM(IF(AS!$C$5:$CD$5=\"COLD\",IF(AS!$C130:$CD130=\"\",1,0)))=COUNTIF(AS!$C$5:$CD$5,\"COLD\")),\"\",PT!$P$8+SUM(G$86:G130))","v":""}]
[{"$f":"AS!B131","v":""},"",{"$f":"IF($B130=\"\",\"\",SUM(IF(AS!$C$5:$CD$5=\"HOT\",IF(AS!$C131:$CD131=\"|\",1*AS!$C$4:$CD$4,0),0)))","v":""},"",{"$f":"IF(OR($A130=\"\",SUM(IF(AS!$C$5:$CD$5=\"HOT\",IF(AS!$C131:$CD131=\"\",1,0)))=COUNTIF(AS!$C$5:$CD$5,\"HOT\")),\"\",SUM(D$86:D131))","v":""},{"$f":"IF($B130=\"\",\"\",SUM(IF(AS!$C$5:$CD$5=\"COLD\",IF(AS!$C131:$CD131=\"|\",1*AS!$C$4:$CD$4,0),0)))","v":""},"",{"$f":"IF(OR($A130=\"\",SUM(IF(AS!$C$5:$CD$5=\"COLD\",IF(AS!$C131:$CD131=\"\",1,0)))=COUNTIF(AS!$C$5:$CD$5,\"COLD\")),\"\",PT!$P$8+SUM(G$86:G131))","v":""}]
[{"$f":"AS!B132","v":""},"",{"$f":"IF($B131=\"\",\"\",SUM(IF(AS!$C$5:$CD$5=\"HOT\",IF(AS!$C132:$CD132=\"|\",1*AS!$C$4:$CD$4,0),0)))","v":""},"",{"$f":"IF(OR($A131=\"\",SUM(IF(AS!$C$5:$CD$5=\"HOT\",IF(AS!$C132:$CD132=\"\",1,0)))=COUNTIF(AS!$C$5:$CD$5,\"HOT\")),\"\",SUM(D$86:D132))","v":""},{"$f":"IF($B131=\"\",\"\",SUM(IF(AS!$C$5:$CD$5=\"COLD\",IF(AS!$C132:$CD132=\"|\",1*AS!$C$4:$CD$4,0),0)))","v":""},"",{"$f":"IF(OR($A131=\"\",SUM(IF(AS!$C$5:$CD$5=\"COLD\",IF(AS!$C132:$CD132=\"\",1,0)))=COUNTIF(AS!$C$5:$CD$5,\"COLD\")),\"\",PT!$P$8+SUM(G$86:G132))","v":""}]
[{"$f":"AS!B133","v":""},"",{"$f":"IF($B132=\"\",\"\",SUM(IF(AS!$C$5:$CD$5=\"HOT\",IF(AS!$C133:$CD133=\"|\",1*AS!$C$4:$CD$4,0),0)))","v":""},"",{"$f":"IF(OR($A132=\"\",SUM(IF(AS!$C$5:$CD$5=\"HOT\",IF(AS!$C133:$CD133=\"\",1,0)))=COUNTIF(AS!$C$5:$CD$5,\"HOT\")),\"\",SUM(D$86:D133))","v":""},{"$f":"IF($B132=\"\",\"\",SUM(IF(AS!$C$5:$CD$5=\"COLD\",IF(AS!$C133:$CD133=\"|\",1*AS!$C$4:$CD$4,0),0)))","v":""},"",{"$f":"IF(OR($A132=\"\",SUM(IF(AS!$C$5:$CD$5=\"COLD\",IF(AS!$C133:$CD133=\"\",1,0)))=COUNTIF(AS!$C$5:$CD$5,\"COLD\")),\"\",PT!$P$8+SUM(G$86:G133))","v":""}]
[{"$f":"AS!B134","v":""},"",{"$f":"IF($B133=\"\",\"\",SUM(IF(AS!$C$5:$CD$5=\"HOT\",IF(AS!$C134:$CD134=\"|\",1*AS!$C$4:$CD$4,0),0)))","v":""},"",{"$f":"IF(OR($A133=\"\",SUM(IF(AS!$C$5:$CD$5=\"HOT\",IF(AS!$C134:$CD134=\"\",1,0)))=COUNTIF(AS!$C$5:$CD$5,\"HOT\")),\"\",SUM(D$86:D134))","v":""},{"$f":"IF($B133=\"\",\"\",SUM(IF(AS!$C$5:$CD$5=\"COLD\",IF(AS!$C134:$CD134=\"|\",1*AS!$C$4:$CD$4,0),0)))","v":""},"",{"$f":"IF(OR($A133=\"\",SUM(IF(AS!$C$5:$CD$5=\"COLD\",IF(AS!$C134:$CD134=\"\",1,0)))=COUNTIF(AS!$C$5:$CD$5,\"COLD\")),\"\",PT!$P$8+SUM(G$86:G134))","v":""}]
[{"$f":"AS!B135","v":""},"",{"$f":"IF($B134=\"\",\"\",SUM(IF(AS!$C$5:$CD$5=\"HOT\",IF(AS!$C135:$CD135=\"|\",1*AS!$C$4:$CD$4,0),0)))","v":""},"",{"$f":"IF(OR($A134=\"\",SUM(IF(AS!$C$5:$CD$5=\"HOT\",IF(AS!$C135:$CD135=\"\",1,0)))=COUNTIF(AS!$C$5:$CD$5,\"HOT\")),\"\",SUM(D$86:D135))","v":""},{"$f":"IF($B134=\"\",\"\",SUM(IF(AS!$C$5:$CD$5=\"COLD\",IF(AS!$C135:$CD135=\"|\",1*AS!$C$4:$CD$4,0),0)))","v":""},"",{"$f":"IF(OR($A134=\"\",SUM(IF(AS!$C$5:$CD$5=\"COLD\",IF(AS!$C135:$CD135=\"\",1,0)))=COUNTIF(AS!$C$5:$CD$5,\"COLD\")),\"\",PT!$P$8+SUM(G$86:G135))","v":""}]
[{"$f":"AS!B136","v":""},"",{"$f":"IF($B135=\"\",\"\",SUM(IF(AS!$C$5:$CD$5=\"HOT\",IF(AS!$C136:$CD136=\"|\",1*AS!$C$4:$CD$4,0),0)))","v":""},"",{"$f":"IF(OR($A135=\"\",SUM(IF(AS!$C$5:$CD$5=\"HOT\",IF(AS!$C136:$CD136=\"\",1,0)))=COUNTIF(AS!$C$5:$CD$5,\"HOT\")),\"\",SUM(D$86:D136))","v":""},{"$f":"IF($B135=\"\",\"\",SUM(IF(AS!$C$5:$CD$5=\"COLD\",IF(AS!$C136:$CD136=\"|\",1*AS!$C$4:$CD$4,0),0)))","v":""},"",{"$f":"IF(OR($A135=\"\",SUM(IF(AS!$C$5:$CD$5=\"COLD\",IF(AS!$C136:$CD136=\"\",1,0)))=COUNTIF(AS!$C$5:$CD$5,\"COLD\")),\"\",PT!$P$8+SUM(G$86:G136))","v":""}]
[{"$f":"AS!B137","v":""},"",{"$f":"IF($B136=\"\",\"\",SUM(IF(AS!$C$5:$CD$5=\"HOT\",IF(AS!$C137:$CD137=\"|\",1*AS!$C$4:$CD$4,0),0)))","v":""},"",{"$f":"IF(OR($A136=\"\",SUM(IF(AS!$C$5:$CD$5=\"HOT\",IF(AS!$C137:$CD137=\"\",1,0)))=COUNTIF(AS!$C$5:$CD$5,\"HOT\")),\"\",SUM(D$86:D137))","v":""},{"$f":"IF($B136=\"\",\"\",SUM(IF(AS!$C$5:$CD$5=\"COLD\",IF(AS!$C137:$CD137=\"|\",1*AS!$C$4:$CD$4,0),0)))","v":""},"",{"$f":"IF(OR($A136=\"\",SUM(IF(AS!$C$5:$CD$5=\"COLD\",IF(AS!$C137:$CD137=\"\",1,0)))=COUNTIF(AS!$C$5:$CD$5,\"COLD\")),\"\",PT!$P$8+SUM(G$86:G137))","v":""}]
[{"$f":"AS!B138","v":""},"",{"$f":"IF($B137=\"\",\"\",SUM(IF(AS!$C$5:$CD$5=\"HOT\",IF(AS!$C138:$CD138=\"|\",1*AS!$C$4:$CD$4,0),0)))","v":""},"",{"$f":"IF(OR($A137=\"\",SUM(IF(AS!$C$5:$CD$5=\"HOT\",IF(AS!$C138:$CD138=\"\",1,0)))=COUNTIF(AS!$C$5:$CD$5,\"HOT\")),\"\",SUM(D$86:D138))","v":""},{"$f":"IF($B137=\"\",\"\",SUM(IF(AS!$C$5:$CD$5=\"COLD\",IF(AS!$C138:$CD138=\"|\",1*AS!$C$4:$CD$4,0),0)))","v":""},"",{"$f":"IF(OR($A137=\"\",SUM(IF(AS!$C$5:$CD$5=\"COLD\",IF(AS!$C138:$CD138=\"\",1,0)))=COUNTIF(AS!$C$5:$CD$5,\"COLD\")),\"\",PT!$P$8+SUM(G$86:G138))","v":""}]
[{"$f":"AS!B139","v":""},"",{"$f":"IF($B138=\"\",\"\",SUM(IF(AS!$C$5:$CD$5=\"HOT\",IF(AS!$C139:$CD139=\"|\",1*AS!$C$4:$CD$4,0),0)))","v":""},"",{"$f":"IF(OR($A138=\"\",SUM(IF(AS!$C$5:$CD$5=\"HOT\",IF(AS!$C139:$CD139=\"\",1,0)))=COUNTIF(AS!$C$5:$CD$5,\"HOT\")),\"\",SUM(D$86:D139))","v":""},{"$f":"IF($B138=\"\",\"\",SUM(IF(AS!$C$5:$CD$5=\"COLD\",IF(AS!$C139:$CD139=\"|\",1*AS!$C$4:$CD$4,0),0)))","v":""},"",{"$f":"IF(OR($A138=\"\",SUM(IF(AS!$C$5:$CD$5=\"COLD\",IF(AS!$C139:$CD139=\"\",1,0)))=COUNTIF(AS!$C$5:$CD$5,\"COLD\")),\"\",PT!$P$8+SUM(G$86:G139))","v":""}]
[{"$f":"AS!B140","v":""},"",{"$f":"IF($B139=\"\",\"\",SUM(IF(AS!$C$5:$CD$5=\"HOT\",IF(AS!$C140:$CD140=\"|\",1*AS!$C$4:$CD$4,0),0)))","v":""},"",{"$f":"IF(OR($A139=\"\",SUM(IF(AS!$C$5:$CD$5=\"HOT\",IF(AS!$C140:$CD140=\"\",1,0)))=COUNTIF(AS!$C$5:$CD$5,\"HOT\")),\"\",SUM(D$86:D140))","v":""},{"$f":"IF($B139=\"\",\"\",SUM(IF(AS!$C$5:$CD$5=\"COLD\",IF(AS!$C140:$CD140=\"|\",1*AS!$C$4:$CD$4,0),0)))","v":""},"",{"$f":"IF(OR($A139=\"\",SUM(IF(AS!$C$5:$CD$5=\"COLD\",IF(AS!$C140:$CD140=\"\",1,0)))=COUNTIF(AS!$C$5:$CD$5,\"COLD\")),\"\",PT!$P$8+SUM(G$86:G140))","v":""}]
[{"$f":"AS!B141","v":""},"",{"$f":"IF($B140=\"\",\"\",SUM(IF(AS!$C$5:$CD$5=\"HOT\",IF(AS!$C141:$CD141=\"|\",1*AS!$C$4:$CD$4,0),0)))","v":""},"",{"$f":"IF(OR($A140=\"\",SUM(IF(AS!$C$5:$CD$5=\"HOT\",IF(AS!$C141:$CD141=\"\",1,0)))=COUNTIF(AS!$C$5:$CD$5,\"HOT\")),\"\",SUM(D$86:D141))","v":""},{"$f":"IF($B140=\"\",\"\",SUM(IF(AS!$C$5:$CD$5=\"COLD\",IF(AS!$C141:$CD141=\"|\",1*AS!$C$4:$CD$4,0),0)))","v":""},"",{"$f":"IF(OR($A140=\"\",SUM(IF(AS!$C$5:$CD$5=\"COLD\",IF(AS!$C141:$CD141=\"\",1,0)))=COUNTIF(AS!$C$5:$CD$5,\"COLD\")),\"\",PT!$P$8+SUM(G$86:G141))","v":""}]
[{"$f":"AS!B142","v":""},"",{"$f":"IF($B141=\"\",\"\",SUM(IF(AS!$C$5:$CD$5=\"HOT\",IF(AS!$C142:$CD142=\"|\",1*AS!$C$4:$CD$4,0),0)))","v":""},"",{"$f":"IF(OR($A141=\"\",SUM(IF(AS!$C$5:$CD$5=\"HOT\",IF(AS!$C142:$CD142=\"\",1,0)))=COUNTIF(AS!$C$5:$CD$5,\"HOT\")),\"\",SUM(D$86:D142))","v":""},{"$f":"IF($B141=\"\",\"\",SUM(IF(AS!$C$5:$CD$5=\"COLD\",IF(AS!$C142:$CD142=\"|\",1*AS!$C$4:$CD$4,0),0)))","v":""},"",{"$f":"IF(OR($A141=\"\",SUM(IF(AS!$C$5:$CD$5=\"COLD\",IF(AS!$C142:$CD142=\"\",1,0)))=COUNTIF(AS!$C$5:$CD$5,\"COLD\")),\"\",PT!$P$8+SUM(G$86:G142))","v":""}]
[{"$f":"AS!B143","v":""},"",{"$f":"IF($B142=\"\",\"\",SUM(IF(AS!$C$5:$CD$5=\"HOT\",IF(AS!$C143:$CD143=\"|\",1*AS!$C$4:$CD$4,0),0)))","v":""},"",{"$f":"IF(OR($A142=\"\",SUM(IF(AS!$C$5:$CD$5=\"HOT\",IF(AS!$C143:$CD143=\"\",1,0)))=COUNTIF(AS!$C$5:$CD$5,\"HOT\")),\"\",SUM(D$86:D143))","v":""},{"$f":"IF($B142=\"\",\"\",SUM(IF(AS!$C$5:$CD$5=\"COLD\",IF(AS!$C143:$CD143=\"|\",1*AS!$C$4:$CD$4,0),0)))","v":""},"",{"$f":"IF(OR($A142=\"\",SUM(IF(AS!$C$5:$CD$5=\"COLD\",IF(AS!$C143:$CD143=\"\",1,0)))=COUNTIF(AS!$C$5:$CD$5,\"COLD\")),\"\",PT!$P$8+SUM(G$86:G143))","v":""}]
[{"$f":"AS!B144","v":""},"",{"$f":"IF($B143=\"\",\"\",SUM(IF(AS!$C$5:$CD$5=\"HOT\",IF(AS!$C144:$CD144=\"|\",1*AS!$C$4:$CD$4,0),0)))","v":""},"",{"$f":"IF(OR($A143=\"\",SUM(IF(AS!$C$5:$CD$5=\"HOT\",IF(AS!$C144:$CD144=\"\",1,0)))=COUNTIF(AS!$C$5:$CD$5,\"HOT\")),\"\",SUM(D$86:D144))","v":""},{"$f":"IF($B143=\"\",\"\",SUM(IF(AS!$C$5:$CD$5=\"COLD\",IF(AS!$C144:$CD144=\"|\",1*AS!$C$4:$CD$4,0),0)))","v":""},"",{"$f":"IF(OR($A143=\"\",SUM(IF(AS!$C$5:$CD$5=\"COLD\",IF(AS!$C144:$CD144=\"\",1,0)))=COUNTIF(AS!$C$5:$CD$5,\"COLD\")),\"\",PT!$P$8+SUM(G$86:G144))","v":""}]
[{"$f":"AS!B145","v":""},"",{"$f":"IF($B144=\"\",\"\",SUM(IF(AS!$C$5:$CD$5=\"HOT\",IF(AS!$C145:$CD145=\"|\",1*AS!$C$4:$CD$4,0),0)))","v":""},"",{"$f":"IF(OR($A144=\"\",SUM(IF(AS!$C$5:$CD$5=\"HOT\",IF(AS!$C145:$CD145=\"\",1,0)))=COUNTIF(AS!$C$5:$CD$5,\"HOT\")),\"\",SUM(D$86:D145))","v":""},{"$f":"IF($B144=\"\",\"\",SUM(IF(AS!$C$5:$CD$5=\"COLD\",IF(AS!$C145:$CD145=\"|\",1*AS!$C$4:$CD$4,0),0)))","v":""},"",{"$f":"IF(OR($A144=\"\",SUM(IF(AS!$C$5:$CD$5=\"COLD\",IF(AS!$C145:$CD145=\"\",1,0)))=COUNTIF(AS!$C$5:$CD$5,\"COLD\")),\"\",PT!$P$8+SUM(G$86:G145))","v":""}]
[{"$f":"AS!B146","v":""},"",{"$f":"IF($B145=\"\",\"\",SUM(IF(AS!$C$5:$CD$5=\"HOT\",IF(AS!$C146:$CD146=\"|\",1*AS!$C$4:$CD$4,0),0)))","v":""},"",{"$f":"IF(OR($A145=\"\",SUM(IF(AS!$C$5:$CD$5=\"HOT\",IF(AS!$C146:$CD146=\"\",1,0)))=COUNTIF(AS!$C$5:$CD$5,\"HOT\")),\"\",SUM(D$86:D146))","v":""},{"$f":"IF($B145=\"\",\"\",SUM(IF(AS!$C$5:$CD$5=\"COLD\",IF(AS!$C146:$CD146=\"|\",1*AS!$C$4:$CD$4,0),0)))","v":""},"",{"$f":"IF(OR($A145=\"\",SUM(IF(AS!$C$5:$CD$5=\"COLD\",IF(AS!$C146:$CD146=\"\",1,0)))=COUNTIF(AS!$C$5:$CD$5,\"COLD\")),\"\",PT!$P$8+SUM(G$86:G146))","v":""}]
[{"$f":"AS!B147","v":""},"",{"$f":"IF($B146=\"\",\"\",SUM(IF(AS!$C$5:$CD$5=\"HOT\",IF(AS!$C147:$CD147=\"|\",1*AS!$C$4:$CD$4,0),0)))","v":""},"",{"$f":"IF(OR($A146=\"\",SUM(IF(AS!$C$5:$CD$5=\"HOT\",IF(AS!$C147:$CD147=\"\",1,0)))=COUNTIF(AS!$C$5:$CD$5,\"HOT\")),\"\",SUM(D$86:D147))","v":""},{"$f":"IF($B146=\"\",\"\",SUM(IF(AS!$C$5:$CD$5=\"COLD\",IF(AS!$C147:$CD147=\"|\",1*AS!$C$4:$CD$4,0),0)))","v":""},"",{"$f":"IF(OR($A146=\"\",SUM(IF(AS!$C$5:$CD$5=\"COLD\",IF(AS!$C147:$CD147=\"\",1,0)))=COUNTIF(AS!$C$5:$CD$5,\"COLD\")),\"\",PT!$P$8+SUM(G$86:G147))","v":""}]
[{"$f":"AS!B148","v":""},"",{"$f":"IF($B147=\"\",\"\",SUM(IF(AS!$C$5:$CD$5=\"HOT\",IF(AS!$C148:$CD148=\"|\",1*AS!$C$4:$CD$4,0),0)))","v":""},"",{"$f":"IF(OR($A147=\"\",SUM(IF(AS!$C$5:$CD$5=\"HOT\",IF(AS!$C148:$CD148=\"\",1,0)))=COUNTIF(AS!$C$5:$CD$5,\"HOT\")),\"\",SUM(D$86:D148))","v":""},{"$f":"IF($B147=\"\",\"\",SUM(IF(AS!$C$5:$CD$5=\"COLD\",IF(AS!$C148:$CD148=\"|\",1*AS!$C$4:$CD$4,0),0)))","v":""},"",{"$f":"IF(OR($A147=\"\",SUM(IF(AS!$C$5:$CD$5=\"COLD\",IF(AS!$C148:$CD148=\"\",1,0)))=COUNTIF(AS!$C$5:$CD$5,\"COLD\")),\"\",PT!$P$8+SUM(G$86:G148))","v":""}]
[{"$f":"AS!B149","v":""},"",{"$f":"IF($B148=\"\",\"\",SUM(IF(AS!$C$5:$CD$5=\"HOT\",IF(AS!$C149:$CD149=\"|\",1*AS!$C$4:$CD$4,0),0)))","v":""},"",{"$f":"IF(OR($A148=\"\",SUM(IF(AS!$C$5:$CD$5=\"HOT\",IF(AS!$C149:$CD149=\"\",1,0)))=COUNTIF(AS!$C$5:$CD$5,\"HOT\")),\"\",SUM(D$86:D149))","v":""},{"$f":"IF($B148=\"\",\"\",SUM(IF(AS!$C$5:$CD$5=\"COLD\",IF(AS!$C149:$CD149=\"|\",1*AS!$C$4:$CD$4,0),0)))","v":""},"",{"$f":"IF(OR($A148=\"\",SUM(IF(AS!$C$5:$CD$5=\"COLD\",IF(AS!$C149:$CD149=\"\",1,0)))=COUNTIF(AS!$C$5:$CD$5,\"COLD\")),\"\",PT!$P$8+SUM(G$86:G149))","v":""}]
[{"$f":"AS!B150","v":""},"",{"$f":"IF($B149=\"\",\"\",SUM(IF(AS!$C$5:$CD$5=\"HOT\",IF(AS!$C150:$CD150=\"|\",1*AS!$C$4:$CD$4,0),0)))","v":""},"",{"$f":"IF(OR($A149=\"\",SUM(IF(AS!$C$5:$CD$5=\"HOT\",IF(AS!$C150:$CD150=\"\",1,0)))=COUNTIF(AS!$C$5:$CD$5,\"HOT\")),\"\",SUM(D$86:D150))","v":""},{"$f":"IF($B149=\"\",\"\",SUM(IF(AS!$C$5:$CD$5=\"COLD\",IF(AS!$C150:$CD150=\"|\",1*AS!$C$4:$CD$4,0),0)))","v":""},"",{"$f":"IF(OR($A149=\"\",SUM(IF(AS!$C$5:$CD$5=\"COLD\",IF(AS!$C150:$CD150=\"\",1,0)))=COUNTIF(AS!$C$5:$CD$5,\"COLD\")),\"\",PT!$P$8+SUM(G$86:G150))","v":""}]
[{"$f":"AS!B151","v":""},"",{"$f":"IF($B150=\"\",\"\",SUM(IF(AS!$C$5:$CD$5=\"HOT\",IF(AS!$C151:$CD151=\"|\",1*AS!$C$4:$CD$4,0),0)))","v":""},"",{"$f":"IF(OR($A150=\"\",SUM(IF(AS!$C$5:$CD$5=\"HOT\",IF(AS!$C151:$CD151=\"\",1,0)))=COUNTIF(AS!$C$5:$CD$5,\"HOT\")),\"\",SUM(D$86:D151))","v":""},{"$f":"IF($B150=\"\",\"\",SUM(IF(AS!$C$5:$CD$5=\"COLD\",IF(AS!$C151:$CD151=\"|\",1*AS!$C$4:$CD$4,0),0)))","v":""},"",{"$f":"IF(OR($A150=\"\",SUM(IF(AS!$C$5:$CD$5=\"COLD\",IF(AS!$C151:$CD151=\"\",1,0)))=COUNTIF(AS!$C$5:$CD$5,\"COLD\")),\"\",PT!$P$8+SUM(G$86:G151))","v":""}]
[{"$f":"AS!B152","v":""},"",{"$f":"IF($B151=\"\",\"\",SUM(IF(AS!$C$5:$CD$5=\"HOT\",IF(AS!$C152:$CD152=\"|\",1*AS!$C$4:$CD$4,0),0)))","v":""},"",{"$f":"IF(OR($A151=\"\",SUM(IF(AS!$C$5:$CD$5=\"HOT\",IF(AS!$C152:$CD152=\"\",1,0)))=COUNTIF(AS!$C$5:$CD$5,\"HOT\")),\"\",SUM(D$86:D152))","v":""},{"$f":"IF($B151=\"\",\"\",SUM(IF(AS!$C$5:$CD$5=\"COLD\",IF(AS!$C152:$CD152=\"|\",1*AS!$C$4:$CD$4,0),0)))","v":""},"",{"$f":"IF(OR($A151=\"\",SUM(IF(AS!$C$5:$CD$5=\"COLD\",IF(AS!$C152:$CD152=\"\",1,0)))=COUNTIF(AS!$C$5:$CD$5,\"COLD\")),\"\",PT!$P$8+SUM(G$86:G152))","v":""}]
[{"$f":"AS!B153","v":""},"",{"$f":"IF($B152=\"\",\"\",SUM(IF(AS!$C$5:$CD$5=\"HOT\",IF(AS!$C153:$CD153=\"|\",1*AS!$C$4:$CD$4,0),0)))","v":""},"",{"$f":"IF(OR($A152=\"\",SUM(IF(AS!$C$5:$CD$5=\"HOT\",IF(AS!$C153:$CD153=\"\",1,0)))=COUNTIF(AS!$C$5:$CD$5,\"HOT\")),\"\",SUM(D$86:D153))","v":""},{"$f":"IF($B152=\"\",\"\",SUM(IF(AS!$C$5:$CD$5=\"COLD\",IF(AS!$C153:$CD153=\"|\",1*AS!$C$4:$CD$4,0),0)))","v":""},"",{"$f":"IF(OR($A152=\"\",SUM(IF(AS!$C$5:$CD$5=\"COLD\",IF(AS!$C153:$CD153=\"\",1,0)))=COUNTIF(AS!$C$5:$CD$5,\"COLD\")),\"\",PT!$P$8+SUM(G$86:G153))","v":""}]
[{"$f":"AS!B154","v":""},"",{"$f":"IF($B153=\"\",\"\",SUM(IF(AS!$C$5:$CD$5=\"HOT\",IF(AS!$C154:$CD154=\"|\",1*AS!$C$4:$CD$4,0),0)))","v":""},"",{"$f":"IF(OR($A153=\"\",SUM(IF(AS!$C$5:$CD$5=\"HOT\",IF(AS!$C154:$CD154=\"\",1,0)))=COUNTIF(AS!$C$5:$CD$5,\"HOT\")),\"\",SUM(D$86:D154))","v":""},{"$f":"IF($B153=\"\",\"\",SUM(IF(AS!$C$5:$CD$5=\"COLD\",IF(AS!$C154:$CD154=\"|\",1*AS!$C$4:$CD$4,0),0)))","v":""},"",{"$f":"IF(OR($A153=\"\",SUM(IF(AS!$C$5:$CD$5=\"COLD\",IF(AS!$C154:$CD154=\"\",1,0)))=COUNTIF(AS!$C$5:$CD$5,\"COLD\")),\"\",PT!$P$8+SUM(G$86:G154))","v":""}]
[{"$f":"AS!B155","v":""},"",{"$f":"IF($B154=\"\",\"\",SUM(IF(AS!$C$5:$CD$5=\"HOT\",IF(AS!$C155:$CD155=\"|\",1*AS!$C$4:$CD$4,0),0)))","v":""},"",{"$f":"IF(OR($A154=\"\",SUM(IF(AS!$C$5:$CD$5=\"HOT\",IF(AS!$C155:$CD155=\"\",1,0)))=COUNTIF(AS!$C$5:$CD$5,\"HOT\")),\"\",SUM(D$86:D155))","v":""},{"$f":"IF($B154=\"\",\"\",SUM(IF(AS!$C$5:$CD$5=\"COLD\",IF(AS!$C155:$CD155=\"|\",1*AS!$C$4:$CD$4,0),0)))","v":""},"",{"$f":"IF(OR($A154=\"\",SUM(IF(AS!$C$5:$CD$5=\"COLD\",IF(AS!$C155:$CD155=\"\",1,0)))=COUNTIF(AS!$C$5:$CD$5,\"COLD\")),\"\",PT!$P$8+SUM(G$86:G155))","v":""}]
[{"$f":"AS!B156","v":""},"",{"$f":"IF($B155=\"\",\"\",SUM(IF(AS!$C$5:$CD$5=\"HOT\",IF(AS!$C156:$CD156=\"|\",1*AS!$C$4:$CD$4,0),0)))","v":""},"",{"$f":"IF(OR($A155=\"\",SUM(IF(AS!$C$5:$CD$5=\"HOT\",IF(AS!$C156:$CD156=\"\",1,0)))=COUNTIF(AS!$C$5:$CD$5,\"HOT\")),\"\",SUM(D$86:D156))","v":""},{"$f":"IF($B155=\"\",\"\",SUM(IF(AS!$C$5:$CD$5=\"COLD\",IF(AS!$C156:$CD156=\"|\",1*AS!$C$4:$CD$4,0),0)))","v":""},"",{"$f":"IF(OR($A155=\"\",SUM(IF(AS!$C$5:$CD$5=\"COLD\",IF(AS!$C156:$CD156=\"\",1,0)))=COUNTIF(AS!$C$5:$CD$5,\"COLD\")),\"\",PT!$P$8+SUM(G$86:G156))","v":""}]
[{"$f":"AS!B157","v":""},"",{"$f":"IF($B156=\"\",\"\",SUM(IF(AS!$C$5:$CD$5=\"HOT\",IF(AS!$C157:$CD157=\"|\",1*AS!$C$4:$CD$4,0),0)))","v":""},"",{"$f":"IF(OR($A156=\"\",SUM(IF(AS!$C$5:$CD$5=\"HOT\",IF(AS!$C157:$CD157=\"\",1,0)))=COUNTIF(AS!$C$5:$CD$5,\"HOT\")),\"\",SUM(D$86:D157))","v":""},{"$f":"IF($B156=\"\",\"\",SUM(IF(AS!$C$5:$CD$5=\"COLD\",IF(AS!$C157:$CD157=\"|\",1*AS!$C$4:$CD$4,0),0)))","v":""},"",{"$f":"IF(OR($A156=\"\",SUM(IF(AS!$C$5:$CD$5=\"COLD\",IF(AS!$C157:$CD157=\"\",1,0)))=COUNTIF(AS!$C$5:$CD$5,\"COLD\")),\"\",PT!$P$8+SUM(G$86:G157))","v":""}]
[{"$f":"AS!B158","v":""},"",{"$f":"IF($B157=\"\",\"\",SUM(IF(AS!$C$5:$CD$5=\"HOT\",IF(AS!$C158:$CD158=\"|\",1*AS!$C$4:$CD$4,0),0)))","v":""},"",{"$f":"IF(OR($A157=\"\",SUM(IF(AS!$C$5:$CD$5=\"HOT\",IF(AS!$C158:$CD158=\"\",1,0)))=COUNTIF(AS!$C$5:$CD$5,\"HOT\")),\"\",SUM(D$86:D158))","v":""},{"$f":"IF($B157=\"\",\"\",SUM(IF(AS!$C$5:$CD$5=\"COLD\",IF(AS!$C158:$CD158=\"|\",1*AS!$C$4:$CD$4,0),0)))","v":""},"",{"$f":"IF(OR($A157=\"\",SUM(IF(AS!$C$5:$CD$5=\"COLD\",IF(AS!$C158:$CD158=\"\",1,0)))=COUNTIF(AS!$C$5:$CD$5,\"COLD\")),\"\",PT!$P$8+SUM(G$86:G158))","v":""}]
[{"$f":"AS!B159","v":""},"",{"$f":"IF($B158=\"\",\"\",SUM(IF(AS!$C$5:$CD$5=\"HOT\",IF(AS!$C159:$CD159=\"|\",1*AS!$C$4:$CD$4,0),0)))","v":""},"",{"$f":"IF(OR($A158=\"\",SUM(IF(AS!$C$5:$CD$5=\"HOT\",IF(AS!$C159:$CD159=\"\",1,0)))=COUNTIF(AS!$C$5:$CD$5,\"HOT\")),\"\",SUM(D$86:D159))","v":""},{"$f":"IF($B158=\"\",\"\",SUM(IF(AS!$C$5:$CD$5=\"COLD\",IF(AS!$C159:$CD159=\"|\",1*AS!$C$4:$CD$4,0),0)))","v":""},"",{"$f":"IF(OR($A158=\"\",SUM(IF(AS!$C$5:$CD$5=\"COLD\",IF(AS!$C159:$CD159=\"\",1,0)))=COUNTIF(AS!$C$5:$CD$5,\"COLD\")),\"\",PT!$P$8+SUM(G$86:G159))","v":""}]
[{"$f":"AS!B160","v":""},"",{"$f":"IF($B159=\"\",\"\",SUM(IF(AS!$C$5:$CD$5=\"HOT\",IF(AS!$C160:$CD160=\"|\",1*AS!$C$4:$CD$4,0),0)))","v":""},"",{"$f":"IF(OR($A159=\"\",SUM(IF(AS!$C$5:$CD$5=\"HOT\",IF(AS!$C160:$CD160=\"\",1,0)))=COUNTIF(AS!$C$5:$CD$5,\"HOT\")),\"\",SUM(D$86:D160))","v":""},{"$f":"IF($B159=\"\",\"\",SUM(IF(AS!$C$5:$CD$5=\"COLD\",IF(AS!$C160:$CD160=\"|\",1*AS!$C$4:$CD$4,0),0)))","v":""},"",{"$f":"IF(OR($A159=\"\",SUM(IF(AS!$C$5:$CD$5=\"COLD\",IF(AS!$C160:$CD160=\"\",1,0)))=COUNTIF(AS!$C$5:$CD$5,\"COLD\")),\"\",PT!$P$8+SUM(G$86:G160))","v":""}]
[{"$f":"AS!B161","v":""},"",{"$f":"IF($B160=\"\",\"\",SUM(IF(AS!$C$5:$CD$5=\"HOT\",IF(AS!$C161:$CD161=\"|\",1*AS!$C$4:$CD$4,0),0)))","v":""},"",{"$f":"IF(OR($A160=\"\",SUM(IF(AS!$C$5:$CD$5=\"HOT\",IF(AS!$C161:$CD161=\"\",1,0)))=COUNTIF(AS!$C$5:$CD$5,\"HOT\")),\"\",SUM(D$86:D161))","v":""},{"$f":"IF($B160=\"\",\"\",SUM(IF(AS!$C$5:$CD$5=\"COLD\",IF(AS!$C161:$CD161=\"|\",1*AS!$C$4:$CD$4,0),0)))","v":""},"",{"$f":"IF(OR($A160=\"\",SUM(IF(AS!$C$5:$CD$5=\"COLD\",IF(AS!$C161:$CD161=\"\",1,0)))=COUNTIF(AS!$C$5:$CD$5,\"COLD\")),\"\",PT!$P$8+SUM(G$86:G161))","v":""}]
[{"$f":"AS!B162","v":""},"",{"$f":"IF($B161=\"\",\"\",SUM(IF(AS!$C$5:$CD$5=\"HOT\",IF(AS!$C162:$CD162=\"|\",1*AS!$C$4:$CD$4,0),0)))","v":""},"",{"$f":"IF(OR($A161=\"\",SUM(IF(AS!$C$5:$CD$5=\"HOT\",IF(AS!$C162:$CD162=\"\",1,0)))=COUNTIF(AS!$C$5:$CD$5,\"HOT\")),\"\",SUM(D$86:D162))","v":""},{"$f":"IF($B161=\"\",\"\",SUM(IF(AS!$C$5:$CD$5=\"COLD\",IF(AS!$C162:$CD162=\"|\",1*AS!$C$4:$CD$4,0),0)))","v":""},"",{"$f":"IF(OR($A161=\"\",SUM(IF(AS!$C$5:$CD$5=\"COLD\",IF(AS!$C162:$CD162=\"\",1,0)))=COUNTIF(AS!$C$5:$CD$5,\"COLD\")),\"\",PT!$P$8+SUM(G$86:G162))","v":""}]
[{"$f":"AS!B163","v":""},"",{"$f":"IF($B162=\"\",\"\",SUM(IF(AS!$C$5:$CD$5=\"HOT\",IF(AS!$C163:$CD163=\"|\",1*AS!$C$4:$CD$4,0),0)))","v":""},"",{"$f":"IF(OR($A162=\"\",SUM(IF(AS!$C$5:$CD$5=\"HOT\",IF(AS!$C163:$CD163=\"\",1,0)))=COUNTIF(AS!$C$5:$CD$5,\"HOT\")),\"\",SUM(D$86:D163))","v":""},{"$f":"IF($B162=\"\",\"\",SUM(IF(AS!$C$5:$CD$5=\"COLD\",IF(AS!$C163:$CD163=\"|\",1*AS!$C$4:$CD$4,0),0)))","v":""},"",{"$f":"IF(OR($A162=\"\",SUM(IF(AS!$C$5:$CD$5=\"COLD\",IF(AS!$C163:$CD163=\"\",1,0)))=COUNTIF(AS!$C$5:$CD$5,\"COLD\")),\"\",PT!$P$8+SUM(G$86:G163))","v":""}]
[{"$f":"AS!B164","v":""},"",{"$f":"IF($B163=\"\",\"\",SUM(IF(AS!$C$5:$CD$5=\"HOT\",IF(AS!$C164:$CD164=\"|\",1*AS!$C$4:$CD$4,0),0)))","v":""},"",{"$f":"IF(OR($A163=\"\",SUM(IF(AS!$C$5:$CD$5=\"HOT\",IF(AS!$C164:$CD164=\"\",1,0)))=COUNTIF(AS!$C$5:$CD$5,\"HOT\")),\"\",SUM(D$86:D164))","v":""},{"$f":"IF($B163=\"\",\"\",SUM(IF(AS!$C$5:$CD$5=\"COLD\",IF(AS!$C164:$CD164=\"|\",1*AS!$C$4:$CD$4,0),0)))","v":""},"",{"$f":"IF(OR($A163=\"\",SUM(IF(AS!$C$5:$CD$5=\"COLD\",IF(AS!$C164:$CD164=\"\",1,0)))=COUNTIF(AS!$C$5:$CD$5,\"COLD\")),\"\",PT!$P$8+SUM(G$86:G164))","v":""}]
[{"$f":"AS!B165","v":""},"",{"$f":"IF($B164=\"\",\"\",SUM(IF(AS!$C$5:$CD$5=\"HOT\",IF(AS!$C165:$CD165=\"|\",1*AS!$C$4:$CD$4,0),0)))","v":""},"",{"$f":"IF(OR($A164=\"\",SUM(IF(AS!$C$5:$CD$5=\"HOT\",IF(AS!$C165:$CD165=\"\",1,0)))=COUNTIF(AS!$C$5:$CD$5,\"HOT\")),\"\",SUM(D$86:D165))","v":""},{"$f":"IF($B164=\"\",\"\",SUM(IF(AS!$C$5:$CD$5=\"COLD\",IF(AS!$C165:$CD165=\"|\",1*AS!$C$4:$CD$4,0),0)))","v":""},"",{"$f":"IF(OR($A164=\"\",SUM(IF(AS!$C$5:$CD$5=\"COLD\",IF(AS!$C165:$CD165=\"\",1,0)))=COUNTIF(AS!$C$5:$CD$5,\"COLD\")),\"\",PT!$P$8+SUM(G$86:G165))","v":""}]
[{"$f":"AS!B166","v":""},"",{"$f":"IF($B165=\"\",\"\",SUM(IF(AS!$C$5:$CD$5=\"HOT\",IF(AS!$C166:$CD166=\"|\",1*AS!$C$4:$CD$4,0),0)))","v":""},"",{"$f":"IF(OR($A165=\"\",SUM(IF(AS!$C$5:$CD$5=\"HOT\",IF(AS!$C166:$CD166=\"\",1,0)))=COUNTIF(AS!$C$5:$CD$5,\"HOT\")),\"\",SUM(D$86:D166))","v":""},{"$f":"IF($B165=\"\",\"\",SUM(IF(AS!$C$5:$CD$5=\"COLD\",IF(AS!$C166:$CD166=\"|\",1*AS!$C$4:$CD$4,0),0)))","v":""},"",{"$f":"IF(OR($A165=\"\",SUM(IF(AS!$C$5:$CD$5=\"COLD\",IF(AS!$C166:$CD166=\"\",1,0)))=COUNTIF(AS!$C$5:$CD$5,\"COLD\")),\"\",PT!$P$8+SUM(G$86:G166))","v":""}]
[{"$f":"AS!B167","v":""},"",{"$f":"IF($B166=\"\",\"\",SUM(IF(AS!$C$5:$CD$5=\"HOT\",IF(AS!$C167:$CD167=\"|\",1*AS!$C$4:$CD$4,0),0)))","v":""},"",{"$f":"IF(OR($A166=\"\",SUM(IF(AS!$C$5:$CD$5=\"HOT\",IF(AS!$C167:$CD167=\"\",1,0)))=COUNTIF(AS!$C$5:$CD$5,\"HOT\")),\"\",SUM(D$86:D167))","v":""},{"$f":"IF($B166=\"\",\"\",SUM(IF(AS!$C$5:$CD$5=\"COLD\",IF(AS!$C167:$CD167=\"|\",1*AS!$C$4:$CD$4,0),0)))","v":""},"",{"$f":"IF(OR($A166=\"\",SUM(IF(AS!$C$5:$CD$5=\"COLD\",IF(AS!$C167:$CD167=\"\",1,0)))=COUNTIF(AS!$C$5:$CD$5,\"COLD\")),\"\",PT!$P$8+SUM(G$86:G167))","v":""}]
[{"$f":"AS!B168","v":""},"",{"$f":"IF($B167=\"\",\"\",SUM(IF(AS!$C$5:$CD$5=\"HOT\",IF(AS!$C168:$CD168=\"|\",1*AS!$C$4:$CD$4,0),0)))","v":""},"",{"$f":"IF(OR($A167=\"\",SUM(IF(AS!$C$5:$CD$5=\"HOT\",IF(AS!$C168:$CD168=\"\",1,0)))=COUNTIF(AS!$C$5:$CD$5,\"HOT\")),\"\",SUM(D$86:D168))","v":""},{"$f":"IF($B167=\"\",\"\",SUM(IF(AS!$C$5:$CD$5=\"COLD\",IF(AS!$C168:$CD168=\"|\",1*AS!$C$4:$CD$4,0),0)))","v":""},"",{"$f":"IF(OR($A167=\"\",SUM(IF(AS!$C$5:$CD$5=\"COLD\",IF(AS!$C168:$CD168=\"\",1,0)))=COUNTIF(AS!$C$5:$CD$5,\"COLD\")),\"\",PT!$P$8+SUM(G$86:G168))","v":""}]
[{"$f":"AS!B169","v":""},"",{"$f":"IF($B168=\"\",\"\",SUM(IF(AS!$C$5:$CD$5=\"HOT\",IF(AS!$C169:$CD169=\"|\",1*AS!$C$4:$CD$4,0),0)))","v":""},"",{"$f":"IF(OR($A168=\"\",SUM(IF(AS!$C$5:$CD$5=\"HOT\",IF(AS!$C169:$CD169=\"\",1,0)))=COUNTIF(AS!$C$5:$CD$5,\"HOT\")),\"\",SUM(D$86:D169))","v":""},{"$f":"IF($B168=\"\",\"\",SUM(IF(AS!$C$5:$CD$5=\"COLD\",IF(AS!$C169:$CD169=\"|\",1*AS!$C$4:$CD$4,0),0)))","v":""},"",{"$f":"IF(OR($A168=\"\",SUM(IF(AS!$C$5:$CD$5=\"COLD\",IF(AS!$C169:$CD169=\"\",1,0)))=COUNTIF(AS!$C$5:$CD$5,\"COLD\")),\"\",PT!$P$8+SUM(G$86:G169))","v":""}]
[{"$f":"AS!B170","v":""},"",{"$f":"IF($B169=\"\",\"\",SUM(IF(AS!$C$5:$CD$5=\"HOT\",IF(AS!$C170:$CD170=\"|\",1*AS!$C$4:$CD$4,0),0)))","v":""},"",{"$f":"IF(OR($A169=\"\",SUM(IF(AS!$C$5:$CD$5=\"HOT\",IF(AS!$C170:$CD170=\"\",1,0)))=COUNTIF(AS!$C$5:$CD$5,\"HOT\")),\"\",SUM(D$86:D170))","v":""},{"$f":"IF($B169=\"\",\"\",SUM(IF(AS!$C$5:$CD$5=\"COLD\",IF(AS!$C170:$CD170=\"|\",1*AS!$C$4:$CD$4,0),0)))","v":""},"",{"$f":"IF(OR($A169=\"\",SUM(IF(AS!$C$5:$CD$5=\"COLD\",IF(AS!$C170:$CD170=\"\",1,0)))=COUNTIF(AS!$C$5:$CD$5,\"COLD\")),\"\",PT!$P$8+SUM(G$86:G170))","v":""}]
[{"$f":"AS!B171","v":""},{"$f":"IF(A171=\"\",\"\",A169-A171)","v":""},{"$f":"IF($B170=\"\",\"\",SUM(IF(AS!$C$5:$CD$5=\"HOT\",IF(AS!$C171:$CD171=\"|\",1*AS!$C$4:$CD$4,0),0)))","v":""},{"$f":"IF(C170=\"\",\"\",C170*B170)","v":""},{"$f":"IF(OR($A170=\"\",SUM(IF(AS!$C$5:$CD$5=\"HOT\",IF(AS!$C171:$CD171=\"\",1,0)))=COUNTIF(AS!$C$5:$CD$5,\"HOT\")),\"\",SUM(D$86:D171))","v":""},{"$f":"IF($B170=\"\",\"\",SUM(IF(AS!$C$5:$CD$5=\"COLD\",IF(AS!$C171:$CD171=\"|\",1*AS!$C$4:$CD$4,0),0)))","v":""},{"$f":"IF(F170=\"\",\"\",F170*B170)","v":""},{"$f":"IF(OR($A170=\"\",SUM(IF(AS!$C$5:$CD$5=\"COLD\",IF(AS!$C171:$CD171=\"\",1,0)))=COUNTIF(AS!$C$5:$CD$5,\"COLD\")),\"\",PT!$P$8+SUM(G$86:G171))","v":""}]
[{"$f":"AS!B172","v":""},"",{"$f":"IF($B171=\"\",\"\",SUM(IF(AS!$C$5:$CD$5=\"HOT\",IF(AS!$C172:$CD172=\"|\",1*AS!$C$4:$CD$4,0),0)))","v":""},"",{"$f":"IF(OR($A171=\"\",SUM(IF(AS!$C$5:$CD$5=\"HOT\",IF(AS!$C172:$CD172=\"\",1,0)))=COUNTIF(AS!$C$5:$CD$5,\"HOT\")),\"\",SUM(D$86:D172))","v":""},{"$f":"IF($B171=\"\",\"\",SUM(IF(AS!$C$5:$CD$5=\"COLD\",IF(AS!$C172:$CD172=\"|\",1*AS!$C$4:$CD$4,0),0)))","v":""},"",{"$f":"IF(OR($A171=\"\",SUM(IF(AS!$C$5:$CD$5=\"COLD\",IF(AS!$C172:$CD172=\"\",1,0)))=COUNTIF(AS!$C$5:$CD$5,\"COLD\")),\"\",PT!$P$8+SUM(G$86:G172))","v":""}]
[{"$f":"AS!B173","v":""},"",{"$f":"IF($B172=\"\",\"\",SUM(IF(AS!$C$5:$CD$5=\"HOT\",IF(AS!$C173:$CD173=\"|\",1*AS!$C$4:$CD$4,0),0)))","v":""},"",{"$f":"IF(OR($A172=\"\",SUM(IF(AS!$C$5:$CD$5=\"HOT\",IF(AS!$C173:$CD173=\"\",1,0)))=COUNTIF(AS!$C$5:$CD$5,\"HOT\")),\"\",SUM(D$86:D173))","v":""},{"$f":"IF($B172=\"\",\"\",SUM(IF(AS!$C$5:$CD$5=\"COLD\",IF(AS!$C173:$CD173=\"|\",1*AS!$C$4:$CD$4,0),0)))","v":""},"",{"$f":"IF(OR($A172=\"\",SUM(IF(AS!$C$5:$CD$5=\"COLD\",IF(AS!$C173:$CD173=\"\",1,0)))=COUNTIF(AS!$C$5:$CD$5,\"COLD\")),\"\",PT!$P$8+SUM(G$86:G173))","v":""}]
[{"$f":"AS!B174","v":""},"",{"$f":"IF($B173=\"\",\"\",SUM(IF(AS!$C$5:$CD$5=\"HOT\",IF(AS!$C174:$CD174=\"|\",1*AS!$C$4:$CD$4,0),0)))","v":""},"",{"$f":"IF(OR($A173=\"\",SUM(IF(AS!$C$5:$CD$5=\"HOT\",IF(AS!$C174:$CD174=\"\",1,0)))=COUNTIF(AS!$C$5:$CD$5,\"HOT\")),\"\",SUM(D$86:D174))","v":""},{"$f":"IF($B173=\"\",\"\",SUM(IF(AS!$C$5:$CD$5=\"COLD\",IF(AS!$C174:$CD174=\"|\",1*AS!$C$4:$CD$4,0),0)))","v":""},"",{"$f":"IF(OR($A173=\"\",SUM(IF(AS!$C$5:$CD$5=\"COLD\",IF(AS!$C174:$CD174=\"\",1,0)))=COUNTIF(AS!$C$5:$CD$5,\"COLD\")),\"\",PT!$P$8+SUM(G$86:G174))","v":""}]
[{"$f":"AS!B175","v":""},"",{"$f":"IF($B174=\"\",\"\",SUM(IF(AS!$C$5:$CD$5=\"HOT\",IF(AS!$C175:$CD175=\"|\",1*AS!$C$4:$CD$4,0),0)))","v":""},"",{"$f":"IF(OR($A174=\"\",SUM(IF(AS!$C$5:$CD$5=\"HOT\",IF(AS!$C175:$CD175=\"\",1,0)))=COUNTIF(AS!$C$5:$CD$5,\"HOT\")),\"\",SUM(D$86:D175))","v":""},{"$f":"IF($B174=\"\",\"\",SUM(IF(AS!$C$5:$CD$5=\"COLD\",IF(AS!$C175:$CD175=\"|\",1*AS!$C$4:$CD$4,0),0)))","v":""},"",{"$f":"IF(OR($A174=\"\",SUM(IF(AS!$C$5:$CD$5=\"COLD\",IF(AS!$C175:$CD175=\"\",1,0)))=COUNTIF(AS!$C$5:$CD$5,\"COLD\")),\"\",PT!$P$8+SUM(G$86:G175))","v":""}]
[{"$f":"AS!B176","v":""},"",{"$f":"IF($B175=\"\",\"\",SUM(IF(AS!$C$5:$CD$5=\"HOT\",IF(AS!$C176:$CD176=\"|\",1*AS!$C$4:$CD$4,0),0)))","v":""},"",{"$f":"IF(OR($A175=\"\",SUM(IF(AS!$C$5:$CD$5=\"HOT\",IF(AS!$C176:$CD176=\"\",1,0)))=COUNTIF(AS!$C$5:$CD$5,\"HOT\")),\"\",SUM(D$86:D176))","v":""},{"$f":"IF($B175=\"\",\"\",SUM(IF(AS!$C$5:$CD$5=\"COLD\",IF(AS!$C176:$CD176=\"|\",1*AS!$C$4:$CD$4,0),0)))","v":""},"",{"$f":"IF(OR($A175=\"\",SUM(IF(AS!$C$5:$CD$5=\"COLD\",IF(AS!$C176:$CD176=\"\",1,0)))=COUNTIF(AS!$C$5:$CD$5,\"COLD\")),\"\",PT!$P$8+SUM(G$86:G176))","v":""}]
[{"$f":"AS!B177","v":""},"",{"$f":"IF($B176=\"\",\"\",SUM(IF(AS!$C$5:$CD$5=\"HOT\",IF(AS!$C177:$CD177=\"|\",1*AS!$C$4:$CD$4,0),0)))","v":""},"",{"$f":"IF(OR($A176=\"\",SUM(IF(AS!$C$5:$CD$5=\"HOT\",IF(AS!$C177:$CD177=\"\",1,0)))=COUNTIF(AS!$C$5:$CD$5,\"HOT\")),\"\",SUM(D$86:D177))","v":""},{"$f":"IF($B176=\"\",\"\",SUM(IF(AS!$C$5:$CD$5=\"COLD\",IF(AS!$C177:$CD177=\"|\",1*AS!$C$4:$CD$4,0),0)))","v":""},"",{"$f":"IF(OR($A176=\"\",SUM(IF(AS!$C$5:$CD$5=\"COLD\",IF(AS!$C177:$CD177=\"\",1,0)))=COUNTIF(AS!$C$5:$CD$5,\"COLD\")),\"\",PT!$P$8+SUM(G$86:G177))","v":""}]
[{"$f":"AS!B178","v":""},"",{"$f":"IF($B177=\"\",\"\",SUM(IF(AS!$C$5:$CD$5=\"HOT\",IF(AS!$C178:$CD178=\"|\",1*AS!$C$4:$CD$4,0),0)))","v":""},"",{"$f":"IF(OR($A177=\"\",SUM(IF(AS!$C$5:$CD$5=\"HOT\",IF(AS!$C178:$CD178=\"\",1,0)))=COUNTIF(AS!$C$5:$CD$5,\"HOT\")),\"\",SUM(D$86:D178))","v":""},{"$f":"IF($B177=\"\",\"\",SUM(IF(AS!$C$5:$CD$5=\"COLD\",IF(AS!$C178:$CD178=\"|\",1*AS!$C$4:$CD$4,0),0)))","v":""},"",{"$f":"IF(OR($A177=\"\",SUM(IF(AS!$C$5:$CD$5=\"COLD\",IF(AS!$C178:$CD178=\"\",1,0)))=COUNTIF(AS!$C$5:$CD$5,\"COLD\")),\"\",PT!$P$8+SUM(G$86:G178))","v":""}]
[{"$f":"AS!B179","v":""},"",{"$f":"IF($B178=\"\",\"\",SUM(IF(AS!$C$5:$CD$5=\"HOT\",IF(AS!$C179:$CD179=\"|\",1*AS!$C$4:$CD$4,0),0)))","v":""},"",{"$f":"IF(OR($A178=\"\",SUM(IF(AS!$C$5:$CD$5=\"HOT\",IF(AS!$C179:$CD179=\"\",1,0)))=COUNTIF(AS!$C$5:$CD$5,\"HOT\")),\"\",SUM(D$86:D179))","v":""},{"$f":"IF($B178=\"\",\"\",SUM(IF(AS!$C$5:$CD$5=\"COLD\",IF(AS!$C179:$CD179=\"|\",1*AS!$C$4:$CD$4,0),0)))","v":""},"",{"$f":"IF(OR($A178=\"\",SUM(IF(AS!$C$5:$CD$5=\"COLD\",IF(AS!$C179:$CD179=\"\",1,0)))=COUNTIF(AS!$C$5:$CD$5,\"COLD\")),\"\",PT!$P$8+SUM(G$86:G179))","v":""}]
[{"$f":"AS!B180","v":""},"",{"$f":"IF($B179=\"\",\"\",SUM(IF(AS!$C$5:$CD$5=\"HOT\",IF(AS!$C180:$CD180=\"|\",1*AS!$C$4:$CD$4,0),0)))","v":""},"",{"$f":"IF(OR($A179=\"\",SUM(IF(AS!$C$5:$CD$5=\"HOT\",IF(AS!$C180:$CD180=\"\",1,0)))=COUNTIF(AS!$C$5:$CD$5,\"HOT\")),\"\",SUM(D$86:D180))","v":""},{"$f":"IF($B179=\"\",\"\",SUM(IF(AS!$C$5:$CD$5=\"COLD\",IF(AS!$C180:$CD180=\"|\",1*AS!$C$4:$CD$4,0),0)))","v":""},"",{"$f":"IF(OR($A179=\"\",SUM(IF(AS!$C$5:$CD$5=\"COLD\",IF(AS!$C180:$CD180=\"\",1,0)))=COUNTIF(AS!$C$5:$CD$5,\"COLD\")),\"\",PT!$P$8+SUM(G$86:G180))","v":""}]
[{"$f":"AS!B181","v":""},"",{"$f":"IF($B180=\"\",\"\",SUM(IF(AS!$C$5:$CD$5=\"HOT\",IF(AS!$C181:$CD181=\"|\",1*AS!$C$4:$CD$4,0),0)))","v":""},"",{"$f":"IF(OR($A180=\"\",SUM(IF(AS!$C$5:$CD$5=\"HOT\",IF(AS!$C181:$CD181=\"\",1,0)))=COUNTIF(AS!$C$5:$CD$5,\"HOT\")),\"\",SUM(D$86:D181))","v":""},{"$f":"IF($B180=\"\",\"\",SUM(IF(AS!$C$5:$CD$5=\"COLD\",IF(AS!$C181:$CD181=\"|\",1*AS!$C$4:$CD$4,0),0)))","v":""},"",{"$f":"IF(OR($A180=\"\",SUM(IF(AS!$C$5:$CD$5=\"COLD\",IF(AS!$C181:$CD181=\"\",1,0)))=COUNTIF(AS!$C$5:$CD$5,\"COLD\")),\"\",PT!$P$8+SUM(G$86:G181))","v":""}]
[{"$f":"AS!B182","v":""},"",{"$f":"IF($B181=\"\",\"\",SUM(IF(AS!$C$5:$CD$5=\"HOT\",IF(AS!$C182:$CD182=\"|\",1*AS!$C$4:$CD$4,0),0)))","v":""},"",{"$f":"IF(OR($A181=\"\",SUM(IF(AS!$C$5:$CD$5=\"HOT\",IF(AS!$C182:$CD182=\"\",1,0)))=COUNTIF(AS!$C$5:$CD$5,\"HOT\")),\"\",SUM(D$86:D182))","v":""},{"$f":"IF($B181=\"\",\"\",SUM(IF(AS!$C$5:$CD$5=\"COLD\",IF(AS!$C182:$CD182=\"|\",1*AS!$C$4:$CD$4,0),0)))","v":""},"",{"$f":"IF(OR($A181=\"\",SUM(IF(AS!$C$5:$CD$5=\"COLD\",IF(AS!$C182:$CD182=\"\",1,0)))=COUNTIF(AS!$C$5:$CD$5,\"COLD\")),\"\",PT!$P$8+SUM(G$86:G182))","v":""}]
[{"$f":"AS!B183","v":""},"",{"$f":"IF($B182=\"\",\"\",SUM(IF(AS!$C$5:$CD$5=\"HOT\",IF(AS!$C183:$CD183=\"|\",1*AS!$C$4:$CD$4,0),0)))","v":""},"",{"$f":"IF(OR($A182=\"\",SUM(IF(AS!$C$5:$CD$5=\"HOT\",IF(AS!$C183:$CD183=\"\",1,0)))=COUNTIF(AS!$C$5:$CD$5,\"HOT\")),\"\",SUM(D$86:D183))","v":""},{"$f":"IF($B182=\"\",\"\",SUM(IF(AS!$C$5:$CD$5=\"COLD\",IF(AS!$C183:$CD183=\"|\",1*AS!$C$4:$CD$4,0),0)))","v":""},"",{"$f":"IF(OR($A182=\"\",SUM(IF(AS!$C$5:$CD$5=\"COLD\",IF(AS!$C183:$CD183=\"\",1,0)))=COUNTIF(AS!$C$5:$CD$5,\"COLD\")),\"\",PT!$P$8+SUM(G$86:G183))","v":""}]
[{"$f":"AS!B184","v":""},"",{"$f":"IF($B183=\"\",\"\",SUM(IF(AS!$C$5:$CD$5=\"HOT\",IF(AS!$C184:$CD184=\"|\",1*AS!$C$4:$CD$4,0),0)))","v":""},"",{"$f":"IF(OR($A183=\"\",SUM(IF(AS!$C$5:$CD$5=\"HOT\",IF(AS!$C184:$CD184=\"\",1,0)))=COUNTIF(AS!$C$5:$CD$5,\"HOT\")),\"\",SUM(D$86:D184))","v":""},{"$f":"IF($B183=\"\",\"\",SUM(IF(AS!$C$5:$CD$5=\"COLD\",IF(AS!$C184:$CD184=\"|\",1*AS!$C$4:$CD$4,0),0)))","v":""},"",{"$f":"IF(OR($A183=\"\",SUM(IF(AS!$C$5:$CD$5=\"COLD\",IF(AS!$C184:$CD184=\"\",1,0)))=COUNTIF(AS!$C$5:$CD$5,\"COLD\")),\"\",PT!$P$8+SUM(G$86:G184))","v":""}]
[{"$f":"AS!B185","v":""},"",{"$f":"IF($B184=\"\",\"\",SUM(IF(AS!$C$5:$CD$5=\"HOT\",IF(AS!$C185:$CD185=\"|\",1*AS!$C$4:$CD$4,0),0)))","v":""},"",{"$f":"IF(OR($A184=\"\",SUM(IF(AS!$C$5:$CD$5=\"HOT\",IF(AS!$C185:$CD185=\"\",1,0)))=COUNTIF(AS!$C$5:$CD$5,\"HOT\")),\"\",SUM(D$86:D185))","v":""},{"$f":"IF($B184=\"\",\"\",SUM(IF(AS!$C$5:$CD$5=\"COLD\",IF(AS!$C185:$CD185=\"|\",1*AS!$C$4:$CD$4,0),0)))","v":""},"",{"$f":"IF(OR($A184=\"\",SUM(IF(AS!$C$5:$CD$5=\"COLD\",IF(AS!$C185:$CD185=\"\",1,0)))=COUNTIF(AS!$C$5:$CD$5,\"COLD\")),\"\",PT!$P$8+SUM(G$86:G185))","v":""}]
[{"$f":"AS!B186","v":""},"",{"$f":"IF($B185=\"\",\"\",SUM(IF(AS!$C$5:$CD$5=\"HOT\",IF(AS!$C186:$CD186=\"|\",1*AS!$C$4:$CD$4,0),0)))","v":""},"",{"$f":"IF(OR($A185=\"\",SUM(IF(AS!$C$5:$CD$5=\"HOT\",IF(AS!$C186:$CD186=\"\",1,0)))=COUNTIF(AS!$C$5:$CD$5,\"HOT\")),\"\",SUM(D$86:D186))","v":""},{"$f":"IF($B185=\"\",\"\",SUM(IF(AS!$C$5:$CD$5=\"COLD\",IF(AS!$C186:$CD186=\"|\",1*AS!$C$4:$CD$4,0),0)))","v":""},"",{"$f":"IF(OR($A185=\"\",SUM(IF(AS!$C$5:$CD$5=\"COLD\",IF(AS!$C186:$CD186=\"\",1,0)))=COUNTIF(AS!$C$5:$CD$5,\"COLD\")),\"\",PT!$P$8+SUM(G$86:G186))","v":""}]
[{"$f":"AS!B187","v":""},"",{"$f":"IF($B186=\"\",\"\",SUM(IF(AS!$C$5:$CD$5=\"HOT\",IF(AS!$C187:$CD187=\"|\",1*AS!$C$4:$CD$4,0),0)))","v":""},"",{"$f":"IF(OR($A186=\"\",SUM(IF(AS!$C$5:$CD$5=\"HOT\",IF(AS!$C187:$CD187=\"\",1,0)))=COUNTIF(AS!$C$5:$CD$5,\"HOT\")),\"\",SUM(D$86:D187))","v":""},{"$f":"IF($B186=\"\",\"\",SUM(IF(AS!$C$5:$CD$5=\"COLD\",IF(AS!$C187:$CD187=\"|\",1*AS!$C$4:$CD$4,0),0)))","v":""},"",{"$f":"IF(OR($A186=\"\",SUM(IF(AS!$C$5:$CD$5=\"COLD\",IF(AS!$C187:$CD187=\"\",1,0)))=COUNTIF(AS!$C$5:$CD$5,\"COLD\")),\"\",PT!$P$8+SUM(G$86:G187))","v":""}]
[{"$f":"AS!B188","v":""},"",{"$f":"IF($B187=\"\",\"\",SUM(IF(AS!$C$5:$CD$5=\"HOT\",IF(AS!$C188:$CD188=\"|\",1*AS!$C$4:$CD$4,0),0)))","v":""},"",{"$f":"IF(OR($A187=\"\",SUM(IF(AS!$C$5:$CD$5=\"HOT\",IF(AS!$C188:$CD188=\"\",1,0)))=COUNTIF(AS!$C$5:$CD$5,\"HOT\")),\"\",SUM(D$86:D188))","v":""},{"$f":"IF($B187=\"\",\"\",SUM(IF(AS!$C$5:$CD$5=\"COLD\",IF(AS!$C188:$CD188=\"|\",1*AS!$C$4:$CD$4,0),0)))","v":""},"",{"$f":"IF(OR($A187=\"\",SUM(IF(AS!$C$5:$CD$5=\"COLD\",IF(AS!$C188:$CD188=\"\",1,0)))=COUNTIF(AS!$C$5:$CD$5,\"COLD\")),\"\",PT!$P$8+SUM(G$86:G188))","v":""}]
[{"$f":"AS!B189","v":""},"",{"$f":"IF($B188=\"\",\"\",SUM(IF(AS!$C$5:$CD$5=\"HOT\",IF(AS!$C189:$CD189=\"|\",1*AS!$C$4:$CD$4,0),0)))","v":""},"",{"$f":"IF(OR($A188=\"\",SUM(IF(AS!$C$5:$CD$5=\"HOT\",IF(AS!$C189:$CD189=\"\",1,0)))=COUNTIF(AS!$C$5:$CD$5,\"HOT\")),\"\",SUM(D$86:D189))","v":""},{"$f":"IF($B188=\"\",\"\",SUM(IF(AS!$C$5:$CD$5=\"COLD\",IF(AS!$C189:$CD189=\"|\",1*AS!$C$4:$CD$4,0),0)))","v":""},"",{"$f":"IF(OR($A188=\"\",SUM(IF(AS!$C$5:$CD$5=\"COLD\",IF(AS!$C189:$CD189=\"\",1,0)))=COUNTIF(AS!$C$5:$CD$5,\"COLD\")),\"\",PT!$P$8+SUM(G$86:G189))","v":""}]
[{"$f":"AS!B190","v":""},"",{"$f":"IF($B189=\"\",\"\",SUM(IF(AS!$C$5:$CD$5=\"HOT\",IF(AS!$C190:$CD190=\"|\",1*AS!$C$4:$CD$4,0),0)))","v":""},"",{"$f":"IF(OR($A189=\"\",SUM(IF(AS!$C$5:$CD$5=\"HOT\",IF(AS!$C190:$CD190=\"\",1,0)))=COUNTIF(AS!$C$5:$CD$5,\"HOT\")),\"\",SUM(D$86:D190))","v":""},{"$f":"IF($B189=\"\",\"\",SUM(IF(AS!$C$5:$CD$5=\"COLD\",IF(AS!$C190:$CD190=\"|\",1*AS!$C$4:$CD$4,0),0)))","v":""},"",{"$f":"IF(OR($A189=\"\",SUM(IF(AS!$C$5:$CD$5=\"COLD\",IF(AS!$C190:$CD190=\"\",1,0)))=COUNTIF(AS!$C$5:$CD$5,\"COLD\")),\"\",PT!$P$8+SUM(G$86:G190))","v":""}]
[{"$f":"AS!B191","v":""},"",{"$f":"IF($B190=\"\",\"\",SUM(IF(AS!$C$5:$CD$5=\"HOT\",IF(AS!$C191:$CD191=\"|\",1*AS!$C$4:$CD$4,0),0)))","v":""},"",{"$f":"IF(OR($A190=\"\",SUM(IF(AS!$C$5:$CD$5=\"HOT\",IF(AS!$C191:$CD191=\"\",1,0)))=COUNTIF(AS!$C$5:$CD$5,\"HOT\")),\"\",SUM(D$86:D191))","v":""},{"$f":"IF($B190=\"\",\"\",SUM(IF(AS!$C$5:$CD$5=\"COLD\",IF(AS!$C191:$CD191=\"|\",1*AS!$C$4:$CD$4,0),0)))","v":""},"",{"$f":"IF(OR($A190=\"\",SUM(IF(AS!$C$5:$CD$5=\"COLD\",IF(AS!$C191:$CD191=\"\",1,0)))=COUNTIF(AS!$C$5:$CD$5,\"COLD\")),\"\",PT!$P$8+SUM(G$86:G191))","v":""}]
[{"$f":"AS!B192","v":""},"",{"$f":"IF($B191=\"\",\"\",SUM(IF(AS!$C$5:$CD$5=\"HOT\",IF(AS!$C192:$CD192=\"|\",1*AS!$C$4:$CD$4,0),0)))","v":""},"",{"$f":"IF(OR($A191=\"\",SUM(IF(AS!$C$5:$CD$5=\"HOT\",IF(AS!$C192:$CD192=\"\",1,0)))=COUNTIF(AS!$C$5:$CD$5,\"HOT\")),\"\",SUM(D$86:D192))","v":""},{"$f":"IF($B191=\"\",\"\",SUM(IF(AS!$C$5:$CD$5=\"COLD\",IF(AS!$C192:$CD192=\"|\",1*AS!$C$4:$CD$4,0),0)))","v":""},"",{"$f":"IF(OR($A191=\"\",SUM(IF(AS!$C$5:$CD$5=\"COLD\",IF(AS!$C192:$CD192=\"\",1,0)))=COUNTIF(AS!$C$5:$CD$5,\"COLD\")),\"\",PT!$P$8+SUM(G$86:G192))","v":""}]
[{"$f":"AS!B193","v":""},"",{"$f":"IF($B192=\"\",\"\",SUM(IF(AS!$C$5:$CD$5=\"HOT\",IF(AS!$C193:$CD193=\"|\",1*AS!$C$4:$CD$4,0),0)))","v":""},"",{"$f":"IF(OR($A192=\"\",SUM(IF(AS!$C$5:$CD$5=\"HOT\",IF(AS!$C193:$CD193=\"\",1,0)))=COUNTIF(AS!$C$5:$CD$5,\"HOT\")),\"\",SUM(D$86:D193))","v":""},{"$f":"IF($B192=\"\",\"\",SUM(IF(AS!$C$5:$CD$5=\"COLD\",IF(AS!$C193:$CD193=\"|\",1*AS!$C$4:$CD$4,0),0)))","v":""},"",{"$f":"IF(OR($A192=\"\",SUM(IF(AS!$C$5:$CD$5=\"COLD\",IF(AS!$C193:$CD193=\"\",1,0)))=COUNTIF(AS!$C$5:$CD$5,\"COLD\")),\"\",PT!$P$8+SUM(G$86:G193))","v":""}]
[{"$f":"AS!B194","v":""},"",{"$f":"IF($B193=\"\",\"\",SUM(IF(AS!$C$5:$CD$5=\"HOT\",IF(AS!$C194:$CD194=\"|\",1*AS!$C$4:$CD$4,0),0)))","v":""},"",{"$f":"IF(OR($A193=\"\",SUM(IF(AS!$C$5:$CD$5=\"HOT\",IF(AS!$C194:$CD194=\"\",1,0)))=COUNTIF(AS!$C$5:$CD$5,\"HOT\")),\"\",SUM(D$86:D194))","v":""},{"$f":"IF($B193=\"\",\"\",SUM(IF(AS!$C$5:$CD$5=\"COLD\",IF(AS!$C194:$CD194=\"|\",1*AS!$C$4:$CD$4,0),0)))","v":""},"",{"$f":"IF(OR($A193=\"\",SUM(IF(AS!$C$5:$CD$5=\"COLD\",IF(AS!$C194:$CD194=\"\",1,0)))=COUNTIF(AS!$C$5:$CD$5,\"COLD\")),\"\",PT!$P$8+SUM(G$86:G194))","v":""}]
[{"$f":"AS!B195","v":""},"",{"$f":"IF($B194=\"\",\"\",SUM(IF(AS!$C$5:$CD$5=\"HOT\",IF(AS!$C195:$CD195=\"|\",1*AS!$C$4:$CD$4,0),0)))","v":""},"",{"$f":"IF(OR($A194=\"\",SUM(IF(AS!$C$5:$CD$5=\"HOT\",IF(AS!$C195:$CD195=\"\",1,0)))=COUNTIF(AS!$C$5:$CD$5,\"HOT\")),\"\",SUM(D$86:D195))","v":""},{"$f":"IF($B194=\"\",\"\",SUM(IF(AS!$C$5:$CD$5=\"COLD\",IF(AS!$C195:$CD195=\"|\",1*AS!$C$4:$CD$4,0),0)))","v":""},"",{"$f":"IF(OR($A194=\"\",SUM(IF(AS!$C$5:$CD$5=\"COLD\",IF(AS!$C195:$CD195=\"\",1,0)))=COUNTIF(AS!$C$5:$CD$5,\"COLD\")),\"\",PT!$P$8+SUM(G$86:G195))","v":""}]
[{"$f":"AS!B196","v":""},"",{"$f":"IF($B195=\"\",\"\",SUM(IF(AS!$C$5:$CD$5=\"HOT\",IF(AS!$C196:$CD196=\"|\",1*AS!$C$4:$CD$4,0),0)))","v":""},"",{"$f":"IF(OR($A195=\"\",SUM(IF(AS!$C$5:$CD$5=\"HOT\",IF(AS!$C196:$CD196=\"\",1,0)))=COUNTIF(AS!$C$5:$CD$5,\"HOT\")),\"\",SUM(D$86:D196))","v":""},{"$f":"IF($B195=\"\",\"\",SUM(IF(AS!$C$5:$CD$5=\"COLD\",IF(AS!$C196:$CD196=\"|\",1*AS!$C$4:$CD$4,0),0)))","v":""},"",{"$f":"IF(OR($A195=\"\",SUM(IF(AS!$C$5:$CD$5=\"COLD\",IF(AS!$C196:$CD196=\"\",1,0)))=COUNTIF(AS!$C$5:$CD$5,\"COLD\")),\"\",PT!$P$8+SUM(G$86:G196))","v":""}]
[{"$f":"AS!B197","v":""},"",{"$f":"IF($B196=\"\",\"\",SUM(IF(AS!$C$5:$CD$5=\"HOT\",IF(AS!$C197:$CD197=\"|\",1*AS!$C$4:$CD$4,0),0)))","v":""},"",{"$f":"IF(OR($A196=\"\",SUM(IF(AS!$C$5:$CD$5=\"HOT\",IF(AS!$C197:$CD197=\"\",1,0)))=COUNTIF(AS!$C$5:$CD$5,\"HOT\")),\"\",SUM(D$86:D197))","v":""},{"$f":"IF($B196=\"\",\"\",SUM(IF(AS!$C$5:$CD$5=\"COLD\",IF(AS!$C197:$CD197=\"|\",1*AS!$C$4:$CD$4,0),0)))","v":""},"",{"$f":"IF(OR($A196=\"\",SUM(IF(AS!$C$5:$CD$5=\"COLD\",IF(AS!$C197:$CD197=\"\",1,0)))=COUNTIF(AS!$C$5:$CD$5,\"COLD\")),\"\",PT!$P$8+SUM(G$86:G197))","v":""}]
[{"$f":"AS!B198","v":""},"",{"$f":"IF($B197=\"\",\"\",SUM(IF(AS!$C$5:$CD$5=\"HOT\",IF(AS!$C198:$CD198=\"|\",1*AS!$C$4:$CD$4,0),0)))","v":""},"",{"$f":"IF(OR($A197=\"\",SUM(IF(AS!$C$5:$CD$5=\"HOT\",IF(AS!$C198:$CD198=\"\",1,0)))=COUNTIF(AS!$C$5:$CD$5,\"HOT\")),\"\",SUM(D$86:D198))","v":""},{"$f":"IF($B197=\"\",\"\",SUM(IF(AS!$C$5:$CD$5=\"COLD\",IF(AS!$C198:$CD198=\"|\",1*AS!$C$4:$CD$4,0),0)))","v":""},"",{"$f":"IF(OR($A197=\"\",SUM(IF(AS!$C$5:$CD$5=\"COLD\",IF(AS!$C198:$CD198=\"\",1,0)))=COUNTIF(AS!$C$5:$CD$5,\"COLD\")),\"\",PT!$P$8+SUM(G$86:G198))","v":""}]
[{"$f":"AS!B199","v":""},"",{"$f":"IF($B198=\"\",\"\",SUM(IF(AS!$C$5:$CD$5=\"HOT\",IF(AS!$C199:$CD199=\"|\",1*AS!$C$4:$CD$4,0),0)))","v":""},"",{"$f":"IF(OR($A198=\"\",SUM(IF(AS!$C$5:$CD$5=\"HOT\",IF(AS!$C199:$CD199=\"\",1,0)))=COUNTIF(AS!$C$5:$CD$5,\"HOT\")),\"\",SUM(D$86:D199))","v":""},{"$f":"IF($B198=\"\",\"\",SUM(IF(AS!$C$5:$CD$5=\"COLD\",IF(AS!$C199:$CD199=\"|\",1*AS!$C$4:$CD$4,0),0)))","v":""},"",{"$f":"IF(OR($A198=\"\",SUM(IF(AS!$C$5:$CD$5=\"COLD\",IF(AS!$C199:$CD199=\"\",1,0)))=COUNTIF(AS!$C$5:$CD$5,\"COLD\")),\"\",PT!$P$8+SUM(G$86:G199))","v":""}]
[{"$f":"AS!B200","v":""},"",{"$f":"IF($B199=\"\",\"\",SUM(IF(AS!$C$5:$CD$5=\"HOT\",IF(AS!$C200:$CD200=\"|\",1*AS!$C$4:$CD$4,0),0)))","v":""},"",{"$f":"IF(OR($A199=\"\",SUM(IF(AS!$C$5:$CD$5=\"HOT\",IF(AS!$C200:$CD200=\"\",1,0)))=COUNTIF(AS!$C$5:$CD$5,\"HOT\")),\"\",SUM(D$86:D200))","v":""},{"$f":"IF($B199=\"\",\"\",SUM(IF(AS!$C$5:$CD$5=\"COLD\",IF(AS!$C200:$CD200=\"|\",1*AS!$C$4:$CD$4,0),0)))","v":""},"",{"$f":"IF(OR($A199=\"\",SUM(IF(AS!$C$5:$CD$5=\"COLD\",IF(AS!$C200:$CD200=\"\",1,0)))=COUNTIF(AS!$C$5:$CD$5,\"COLD\")),\"\",PT!$P$8+SUM(G$86:G200))","v":""}]
[{"$f":"AS!B201","v":""},"",{"$f":"IF($B200=\"\",\"\",SUM(IF(AS!$C$5:$CD$5=\"HOT\",IF(AS!$C201:$CD201=\"|\",1*AS!$C$4:$CD$4,0),0)))","v":""},"",{"$f":"IF(OR($A200=\"\",SUM(IF(AS!$C$5:$CD$5=\"HOT\",IF(AS!$C201:$CD201=\"\",1,0)))=COUNTIF(AS!$C$5:$CD$5,\"HOT\")),\"\",SUM(D$86:D201))","v":""},{"$f":"IF($B200=\"\",\"\",SUM(IF(AS!$C$5:$CD$5=\"COLD\",IF(AS!$C201:$CD201=\"|\",1*AS!$C$4:$CD$4,0),0)))","v":""},"",{"$f":"IF(OR($A200=\"\",SUM(IF(AS!$C$5:$CD$5=\"COLD\",IF(AS!$C201:$CD201=\"\",1,0)))=COUNTIF(AS!$C$5:$CD$5,\"COLD\")),\"\",PT!$P$8+SUM(G$86:G201))","v":""}]
[{"$f":"AS!B202","v":""},"",{"$f":"IF($B201=\"\",\"\",SUM(IF(AS!$C$5:$CD$5=\"HOT\",IF(AS!$C202:$CD202=\"|\",1*AS!$C$4:$CD$4,0),0)))","v":""},"",{"$f":"IF(OR($A201=\"\",SUM(IF(AS!$C$5:$CD$5=\"HOT\",IF(AS!$C202:$CD202=\"\",1,0)))=COUNTIF(AS!$C$5:$CD$5,\"HOT\")),\"\",SUM(D$86:D202))","v":""},{"$f":"IF($B201=\"\",\"\",SUM(IF(AS!$C$5:$CD$5=\"COLD\",IF(AS!$C202:$CD202=\"|\",1*AS!$C$4:$CD$4,0),0)))","v":""},"",{"$f":"IF(OR($A201=\"\",SUM(IF(AS!$C$5:$CD$5=\"COLD\",IF(AS!$C202:$CD202=\"\",1,0)))=COUNTIF(AS!$C$5:$CD$5,\"COLD\")),\"\",PT!$P$8+SUM(G$86:G202))","v":""}]
[{"$f":"AS!B203","v":""},"",{"$f":"IF($B202=\"\",\"\",SUM(IF(AS!$C$5:$CD$5=\"HOT\",IF(AS!$C203:$CD203=\"|\",1*AS!$C$4:$CD$4,0),0)))","v":""},"",{"$f":"IF(OR($A202=\"\",SUM(IF(AS!$C$5:$CD$5=\"HOT\",IF(AS!$C203:$CD203=\"\",1,0)))=COUNTIF(AS!$C$5:$CD$5,\"HOT\")),\"\",SUM(D$86:D203))","v":""},{"$f":"IF($B202=\"\",\"\",SUM(IF(AS!$C$5:$CD$5=\"COLD\",IF(AS!$C203:$CD203=\"|\",1*AS!$C$4:$CD$4,0),0)))","v":""},"",{"$f":"IF(OR($A202=\"\",SUM(IF(AS!$C$5:$CD$5=\"COLD\",IF(AS!$C203:$CD203=\"\",1,0)))=COUNTIF(AS!$C$5:$CD$5,\"COLD\")),\"\",PT!$P$8+SUM(G$86:G203))","v":""}]
[{"$f":"AS!B204","v":""},{"$f":"IF(A204=\"\",\"\",A202-A204)","v":""},{"$f":"IF($B203=\"\",\"\",SUM(IF(AS!$C$5:$CD$5=\"HOT\",IF(AS!$C204:$CD204=\"|\",1*AS!$C$4:$CD$4,0),0)))","v":""},"",{"$f":"IF(OR($A203=\"\",SUM(IF(AS!$C$5:$CD$5=\"HOT\",IF(AS!$C204:$CD204=\"\",1,0)))=COUNTIF(AS!$C$5:$CD$5,\"HOT\")),\"\",SUM(D$86:D204))","v":""},{"$f":"IF($B203=\"\",\"\",SUM(IF(AS!$C$5:$CD$5=\"COLD\",IF(AS!$C204:$CD204=\"|\",1*AS!$C$4:$CD$4,0),0)))","v":""},"",{"$f":"IF(OR($A203=\"\",SUM(IF(AS!$C$5:$CD$5=\"COLD\",IF(AS!$C204:$CD204=\"\",1,0)))=COUNTIF(AS!$C$5:$CD$5,\"COLD\")),\"\",PT!$P$8+SUM(G$86:G204))","v":""}]
[{"$f":"AS!B205","v":""}]

{"sheet":"SS","index":9,"n_rows":207,"n_cols":52,"rows_kept":207,"cut":false,"hidden":false,"merged":[[0,0,0,1],[3,0,3,1],[4,0,4,1],[2,0,2,1]]}
["Shifted Streams"]
[]
["Stream",null,{"$f":"IF(TRANSPOSE('A1'!A30:A80)=\"\",\"\",TRANSPOSE('A1'!A30:A80))","v":1},2,3,4,5,"","","","","","","","","","","","","","","","","","","","","","","","","","","","","","","","","","","","","","","","","","","","",""]
[{"$f":"\"mCp (\"&'A1'!H29&\")\"","v":"mCp (kW/K)"},null,{"$f":"IF(TRANSPOSE('A1'!H30:H80)=\"\",\"\",TRANSPOSE('A1'!H30:H80))","v":3},1.5,300,4,2,"","","","","","","","","","","","","","","","","","","","","","","","","","","","","","","","","","","","","","","","","","","","",""]
[{"$f":"SCC!$A$30","v":"Heat Flow (kW)"},null,{"$f":"IF(TRANSPOSE('A1'!I30:I80)=\"\",\"\",TRANSPOSE('A1'!I30:I80))","v":450},210,300,680,400,"","","","","","","","","","","","","","","","","","","","","","","","","","","","","","","","","","","","","","","","","","","","",""]
["Interval",{"$f":"\"Shifted Temp (\"&'A1'!T3&\")\"","v":"Shifted Temp (°C)"},{"$f":"IF(TRANSPOSE('A1'!J30:J80)=\"\",\"\",TRANSPOSE('A1'!J30:J80))","v":"HOT"},"HOT","HOT","COLD","COLD","","","","","","","","","","","","","","","","","","","","","","","","","","","","","","","","","","","","","","","","","","","","",""]
[null,{"$f":"IF(A8=\"\",\"\",(LARGE('A1'!$K$30:$L$103,A8)))","v":260},{"$f":"IF($C$6:$AZ$6=\"\",\"\",IF($C$6:$AZ$6=\"HOT\",IF(TRANSPOSE('A1'!$K$30:$K$80)=$B7,\"●\",IF(TRANSPOSE('A1'!$L$30:$L$80)=$B7,\"▼\",IF($C6:$AZ6=\"|\",\"|\",\"\"))),IF(TRANSPOSE('A1'!$K$30:$K$80)=$B7,\"●\",IF(TRANSPOSE('A1'!$L$30:$L$80)=$B7,\"▲\",IF($C6:$AZ6=\"|\",\"|\",\"\")))))","v":""},"","","","▲","","","","","","","","","","","","","","","","","","","","","","","","","","","","","","","","","","","","","","","","","","","","",""]
[{"$f":"IF((SUM(IF(FREQUENCY('A1'!$K$30:$L$103,'A1'!$K$30:$L$103)>0,1)))>1,1,\"\")","v":1},{"$f":"IF(A9=\"\",\"\",(LARGE('A1'!$K$30:$L$103,A9)))","v":""},{"$f":"IF($C$6:$AZ$6=\"\",\"\",IF($C$6:$AZ$6=\"HOT\",IF($C7:$AZ7=\"●\",\"|\",IF($C7:$AZ7=\"|\",\"|\",\"\")),IF($C7:$AZ7=\"▲\",\"|\",IF($C7:$AZ7=\"|\",\"|\",\"\"))))","v":""},"","","","|","","","","","","","","","","","","","","","","","","","","","","","","","","","","","","","","","","","","","","","","","","","","",""]
[{"$f":"IF(A7=\"\",\"\",IF((SUM(IF(FREQUENCY('A1'!$K$30:$L$103,'A1'!$K$30:$L$103)>0,1)))>(A7+1),(A7+1),\"\"))","v":""},{"$f":"IF(A8=\"\",\"\",(LARGE('A1'!$K$30:$L$103,(1+SUM(COUNTIF('A1'!$K$30:$L$103,B$7:B8))-(A8*COUNTIF('A1'!$K$30:$L$103,B$8))))))","v":230},{"$f":"IF($C$6:$AZ$6=\"\",\"\",IF($C$6:$AZ$6=\"HOT\",IF(TRANSPOSE('A1'!$K$30:$K$80)=$B9,\"●\",IF(TRANSPOSE('A1'!$L$30:$L$80)=$B9,\"▼\",IF($C8:$AZ8=\"|\",\"|\",\"\"))),IF(TRANSPOSE('A1'!$K$30:$K$80)=$B9,\"●\",IF(TRANSPOSE('A1'!$L$30:$L$80)=$B9,\"▲\",IF($C8:$AZ8=\"|\",\"|\",\"\")))))","v":""},"●","","","|","","","","","","","","","","","","","","","","","","","","","","","","","","","","","","","","","","","","","","","","","","","","",""]
[{"$f":"IF(A8=\"\",\"\",IF((SUM(IF(FREQUENCY('A1'!$K$30:$L$103,'A1'!$K$30:$L$103)>0,1)))>(A8+1),(A8+1),\"\"))","v":2},{"$f":"IF(A9=\"\",\"\",(LARGE('A1'!$K$30:$L$103,(1+SUM(COUNTIF('A1'!$K$30:$L$103,B$7:B9))-(A9*COUNTIF('A1'!$K$30:$L$103,B$8))))))","v":""},{"$f":"IF($C$6:$AZ$6=\"\",\"\",IF($C$6:$AZ$6=\"HOT\",IF($C9:$AZ9=\"●\",\"|\",IF($C9:$AZ9=\"|\",\"|\",\"\")),IF($C9:$AZ9=\"▲\",\"|\",IF($C9:$AZ9=\"|\",\"|\",\"\"))))","v":""},"|","","","|","","","","","","","","","","","","","","","","","","","","","","","","","","","","","","","","","","","","","","","","","","","","",""]
[{"$f":"IF(A9=\"\",\"\",IF((SUM(IF(FREQUENCY('A1'!$K$30:$L$103,'A1'!$K$30:$L$103)>0,1)))>(A9+1),(A9+1),\"\"))","v":""},{"$f":"IF(A10=\"\",\"\",(LARGE('A1'!$K$30:$L$103,(1+SUM(COUNTIF('A1'!$K$30:$L$103,B$7:B10))-(A10*COUNTIF('A1'!$K$30:$L$103,B$8))))))","v":210},{"$f":"IF($C$6:$AZ$6=\"\",\"\",IF($C$6:$AZ$6=\"HOT\",IF(TRANSPOSE('A1'!$K$30:$K$80)=$B11,\"●\",IF(TRANSPOSE('A1'!$L$30:$L$80)=$B11,\"▼\",IF($C10:$AZ10=\"|\",\"|\",\"\"))),IF(TRANSPOSE('A1'!$K$30:$K$80)=$B11,\"●\",IF(TRANSPOSE('A1'!$L$30:$L$80)=$B11,\"▲\",IF($C10:$AZ10=\"|\",\"|\",\"\")))))","v":""},"|","","▲","|","","","","","","","","","","","","","","","","","","","","","","","","","","","","","","","","","","","","","","","","","","","","",""]
[{"$f":"IF(A10=\"\",\"\",IF((SUM(IF(FREQUENCY('A1'!$K$30:$L$103,'A1'!$K$30:$L$103)>0,1)))>(A10+1),(A10+1),\"\"))","v":3},{"$f":"IF(A11=\"\",\"\",(LARGE('A1'!$K$30:$L$103,(1+SUM(COUNTIF('A1'!$K$30:$L$103,B$7:B11))-(A11*COUNTIF('A1'!$K$30:$L$103,B$8))))))","v":""},{"$f":"IF($C$6:$AZ$6=\"\",\"\",IF($C$6:$AZ$6=\"HOT\",IF($C11:$AZ11=\"●\",\"|\",IF($C11:$AZ11=\"|\",\"|\",\"\")),IF($C11:$AZ11=\"▲\",\"|\",IF($C11:$AZ11=\"|\",\"|\",\"\"))))","v":""},"|","","|","|","","","","","","","","","","","","","","","","","","","","","","","","","","","","","","","","","","","","","","","","","","","","",""]
[{"$f":"IF(A11=\"\",\"\",IF((SUM(IF(FREQUENCY('A1'!$K$30:$L$103,'A1'!$K$30:$L$103)>0,1)))>(A11+1),(A11+1),\"\"))","v":""},{"$f":"IF(A12=\"\",\"\",(LARGE('A1'!$K$30:$L$103,(1+SUM(COUNTIF('A1'!$K$30:$L$103,B$7:B12))-(A12*COUNTIF('A1'!$K$30:$L$103,B$8))))))","v":190},{"$f":"IF($C$6:$AZ$6=\"\",\"\",IF($C$6:$AZ$6=\"HOT\",IF(TRANSPOSE('A1'!$K$30:$K$80)=$B13,\"●\",IF(TRANSPOSE('A1'!$L$30:$L$80)=$B13,\"▼\",IF($C12:$AZ12=\"|\",\"|\",\"\"))),IF(TRANSPOSE('A1'!$K$30:$K$80)=$B13,\"●\",IF(TRANSPOSE('A1'!$L$30:$L$80)=$B13,\"▲\",IF($C12:$AZ12=\"|\",\"|\",\"\")))))","v":"●"},"|","","|","|","","","","","","","","","","","","","","","","","","","","","","","","","","","","","","","","","","","","","","","","","","","","",""]
[{"$f":"IF(A12=\"\",\"\",IF((SUM(IF(FREQUENCY('A1'!$K$30:$L$103,'A1'!$K$30:$L$103)>0,1)))>(A12+1),(A12+1),\"\"))","v":4},{"$f":"IF(A13=\"\",\"\",(LARGE('A1'!$K$30:$L$103,(1+SUM(COUNTIF('A1'!$K$30:$L$103,B$7:B13))-(A13*COUNTIF('A1'!$K$30:$L$103,B$8))))))","v":""},{"$f":"IF($C$6:$AZ$6=\"\",\"\",IF($C$6:$AZ$6=\"HOT\",IF($C13:$AZ13=\"●\",\"|\",IF($C13:$AZ13=\"|\",\"|\",\"\")),IF($C13:$AZ13=\"▲\",\"|\",IF($C13:$AZ13=\"|\",\"|\",\"\"))))","v":"|"},"|","","|","|","","","","","","","","","","","","","","","","","","","","","","","","","","","","","","","","","","","","","","","","","","","","",""]
[{"$f":"IF(A13=\"\",\"\",IF((SUM(IF(FREQUENCY('A1'!$K$30:$L$103,'A1'!$K$30:$L$103)>0,1)))>(A13+1),(A13+1),\"\"))","v":""},{"$f":"IF(A14=\"\",\"\",(LARGE('A1'!$K$30:$L$103,(1+SUM(COUNTIF('A1'!$K$30:$L$103,B$7:B14))-(A14*COUNTIF('A1'!$K$30:$L$103,B$8))))))","v":110},{"$f":"IF($C$6:$AZ$6=\"\",\"\",IF($C$6:$AZ$6=\"HOT\",IF(TRANSPOSE('A1'!$K$30:$K$80)=$B15,\"●\",IF(TRANSPOSE('A1'!$L$30:$L$80)=$B15,\"▼\",IF($C14:$AZ14=\"|\",\"|\",\"\"))),IF(TRANSPOSE('A1'!$K$30:$K$80)=$B15,\"●\",IF(TRANSPOSE('A1'!$L$30:$L$80)=$B15,\"▲\",IF($C14:$AZ14=\"|\",\"|\",\"\")))))","v":"|"},"|","●","|","|","","","","","","","","","","","","","","","","","","","","","","","","","","","","","","","","","","","","","","","","","","","","",""]
[{"$f":"IF(A14=\"\",\"\",IF((SUM(IF(FREQUENCY('A1'!$K$30:$L$103,'A1'!$K$30:$L$103)>0,1)))>(A14+1),(A14+1),\"\"))","v":5},{"$f":"IF(A15=\"\",\"\",(LARGE('A1'!$K$30:$L$103,(1+SUM(COUNTIF('A1'!$K$30:$L$103,B$7:B15))-(A15*COUNTIF('A1'!$K$30:$L$103,B$8))))))","v":""},{"$f":"IF($C$6:$AZ$6=\"\",\"\",IF($C$6:$AZ$6=\"HOT\",IF($C15:$AZ15=\"●\",\"|\",IF($C15:$AZ15=\"|\",\"|\",\"\")),IF($C15:$AZ15=\"▲\",\"|\",IF($C15:$AZ15=\"|\",\"|\",\"\"))))","v":"|"},"|","|","|","|","","","","","","","","","","","","","","","","","","","","","","","","","","","","","","","","","","","","","","","","","","","","",""]
[{"$f":"IF(A15=\"\",\"\",IF((SUM(IF(FREQUENCY('A1'!$K$30:$L$103,'A1'!$K$30:$L$103)>0,1)))>(A15+1),(A15+1),\"\"))","v":""},{"$f":"IF(A16=\"\",\"\",(LARGE('A1'!$K$30:$L$103,(1+SUM(COUNTIF('A1'!$K$30:$L$103,B$7:B16))-(A16*COUNTIF('A1'!$K$30:$L$103,B$8))))))","v":109},{"$f":"IF($C$6:$AZ$6=\"\",\"\",IF($C$6:$AZ$6=\"HOT\",IF(TRANSPOSE('A1'!$K$30:$K$80)=$B17,\"●\",IF(TRANSPOSE('A1'!$L$30:$L$80)=$B17,\"▼\",IF($C16:$AZ16=\"|\",\"|\",\"\"))),IF(TRANSPOSE('A1'!$K$30:$K$80)=$B17,\"●\",IF(TRANSPOSE('A1'!$L$30:$L$80)=$B17,\"▲\",IF($C16:$AZ16=\"|\",\"|\",\"\")))))","v":"|"},"|","▼","|","|","","","","","","","","","","","","","","","","","","","","","","","","","","","","","","","","","","","","","","","","","","","","",""]
[{"$f":"IF(A16=\"\",\"\",IF((SUM(IF(FREQUENCY('A1'!$K$30:$L$103,'A1'!$K$30:$L$103)>0,1)))>(A16+1),(A16+1),\"\"))","v":6},{"$f":"IF(A17=\"\",\"\",(LARGE('A1'!$K$30:$L$103,(1+SUM(COUNTIF('A1'!$K$30:$L$103,B$7:B17))-(A17*COUNTIF('A1'!$K$30:$L$103,B$8))))))","v":""},{"$f":"IF($C$6:$AZ$6=\"\",\"\",IF($C$6:$AZ$6=\"HOT\",IF($C17:$AZ17=\"●\",\"|\",IF($C17:$AZ17=\"|\",\"|\",\"\")),IF($C17:$AZ17=\"▲\",\"|\",IF($C17:$AZ17=\"|\",\"|\",\"\"))))","v":"|"},"|","","|","|","","","","","","","","","","","","","","","","","","","","","","","","","","","","","","","","","","","","","","","","","","","","",""]
[{"$f":"IF(A17=\"\",\"\",IF((SUM(IF(FREQUENCY('A1'!$K$30:$L$103,'A1'!$K$30:$L$103)>0,1)))>(A17+1),(A17+1),\"\"))","v":""},{"$f":"IF(A18=\"\",\"\",(LARGE('A1'!$K$30:$L$103,(1+SUM(COUNTIF('A1'!$K$30:$L$103,B$7:B18))-(A18*COUNTIF('A1'!$K$30:$L$103,B$8))))))","v":90},{"$f":"IF($C$6:$AZ$6=\"\",\"\",IF($C$6:$AZ$6=\"HOT\",IF(TRANSPOSE('A1'!$K$30:$K$80)=$B19,\"●\",IF(TRANSPOSE('A1'!$L$30:$L$80)=$B19,\"▼\",IF($C18:$AZ18=\"|\",\"|\",\"\"))),IF(TRANSPOSE('A1'!$K$30:$K$80)=$B19,\"●\",IF(TRANSPOSE('A1'!$L$30:$L$80)=$B19,\"▲\",IF($C18:$AZ18=\"|\",\"|\",\"\")))))","v":"|"},"▼","","|","|","","","","","","","","","","","","","","","","","","","","","","","","","","","","","","","","","","","","","","","","","","","","",""]
[{"$f":"IF(A18=\"\",\"\",IF((SUM(IF(FREQUENCY('A1'!$K$30:$L$103,'A1'!$K$30:$L$103)>0,1)))>(A18+1),(A18+1),\"\"))","v":7},{"$f":"IF(A19=\"\",\"\",(LARGE('A1'!$K$30:$L$103,(1+SUM(COUNTIF('A1'!$K$30:$L$103,B$7:B19))-(A19*COUNTIF('A1'!$K$30:$L$103,B$8))))))","v":""},{"$f":"IF($C$6:$AZ$6=\"\",\"\",IF($C$6:$AZ$6=\"HOT\",IF($C19:$AZ19=\"●\",\"|\",IF($C19:$AZ19=\"|\",\"|\",\"\")),IF($C19:$AZ19=\"▲\",\"|\",IF($C19:$AZ19=\"|\",\"|\",\"\"))))","v":"|"},"","","|","|","","","","","","","","","","","","","","","","","","","","","","","","","","","","","","","","","","","","","","","","","","","","",""]
[{"$f":"IF(A19=\"\",\"\",IF((SUM(IF(FREQUENCY('A1'!$K$30:$L$103,'A1'!$K$30:$L$103)>0,1)))>(A19+1),(A19+1),\"\"))","v":""},{"$f":"IF(A20=\"\",\"\",(LARGE('A1'!$K$30:$L$103,(1+SUM(COUNTIF('A1'!$K$30:$L$103,B$7:B20))-(A20*COUNTIF('A1'!$K$30:$L$103,B$8))))))","v":60},{"$f":"IF($C$6:$AZ$6=\"\",\"\",IF($C$6:$AZ$6=\"HOT\",IF(TRANSPOSE('A1'!$K$30:$K$80)=$B21,\"●\",IF(TRANSPOSE('A1'!$L$30:$L$80)=$B21,\"▼\",IF($C20:$AZ20=\"|\",\"|\",\"\"))),IF(TRANSPOSE('A1'!$K$30:$K$80)=$B21,\"●\",IF(TRANSPOSE('A1'!$L$30:$L$80)=$B21,\"▲\",IF($C20:$AZ20=\"|\",\"|\",\"\")))))","v":"|"},"","","|","●","","","","","","","","","","","","","","","","","","","","","","","","","","","","","","","","","","","","","","","","","","","","",""]
[{"$f":"IF(A20=\"\",\"\",IF((SUM(IF(FREQUENCY('A1'!$K$30:$L$103,'A1'!$K$30:$L$103)>0,1)))>(A20+1),(A20+1),\"\"))","v":8},{"$f":"IF(A21=\"\",\"\",(LARGE('A1'!$K$30:$L$103,(1+SUM(COUNTIF('A1'!$K$30:$L$103,B$7:B21))-(A21*COUNTIF('A1'!$K$30:$L$103,B$8))))))","v":""},{"$f":"IF($C$6:$AZ$6=\"\",\"\",IF($C$6:$AZ$6=\"HOT\",IF($C21:$AZ21=\"●\",\"|\",IF($C21:$AZ21=\"|\",\"|\",\"\")),IF($C21:$AZ21=\"▲\",\"|\",IF($C21:$AZ21=\"|\",\"|\",\"\"))))","v":"|"},"","","|","","","","","","","","","","","","","","","","","","","","","","","","","","","","","","","","","","","","","","","","","","","","","",""]
[{"$f":"IF(A21=\"\",\"\",IF((SUM(IF(FREQUENCY('A1'!$K$30:$L$103,'A1'!$K$30:$L$103)>0,1)))>(A21+1),(A21+1),\"\"))","v":""},{"$f":"IF(A22=\"\",\"\",(LARGE('A1'!$K$30:$L$103,(1+SUM(COUNTIF('A1'!$K$30:$L$103,B$7:B22))-(A22*COUNTIF('A1'!$K$30:$L$103,B$8))))))","v":40},{"$f":"IF($C$6:$AZ$6=\"\",\"\",IF($C$6:$AZ$6=\"HOT\",IF(TRANSPOSE('A1'!$K$30:$K$80)=$B23,\"●\",IF(TRANSPOSE('A1'!$L$30:$L$80)=$B23,\"▼\",IF($C22:$AZ22=\"|\",\"|\",\"\"))),IF(TRANSPOSE('A1'!$K$30:$K$80)=$B23,\"●\",IF(TRANSPOSE('A1'!$L$30:$L$80)=$B23,\"▲\",IF($C22:$AZ22=\"|\",\"|\",\"\")))))","v":"▼"},"","","●","","","","","","","","","","","","","","","","","","","","","","","","","","","","","","","","","","","","","","","","","","","","","",""]
[{"$f":"IF(A22=\"\",\"\",IF((SUM(IF(FREQUENCY('A1'!$K$30:$L$103,'A1'!$K$30:$L$103)>0,1)))>(A22+1),(A22+1),\"\"))","v":""},{"$f":"IF(A23=\"\",\"\",(LARGE('A1'!$K$30:$L$103,(1+SUM(COUNTIF('A1'!$K$30:$L$103,B$7:B23))-(A23*COUNTIF('A1'!$K$30:$L$103,B$8))))))","v":""},{"$f":"IF($C$6:$AZ$6=\"\",\"\",IF($C$6:$AZ$6=\"HOT\",IF($C23:$AZ23=\"●\",\"|\",IF($C23:$AZ23=\"|\",\"|\",\"\")),IF($C23:$AZ23=\"▲\",\"|\",IF($C23:$AZ23=\"|\",\"|\",\"\"))))","v":""},"","","","","","","","","","","","","","","","","","","","","","","","","","","","","","","","","","","","","","","","","","","","","","","","",""]
[{"$f":"IF(A23=\"\",\"\",IF((SUM(IF(FREQUENCY('A1'!$K$30:$L$103,'A1'!$K$30:$L$103)>0,1)))>(A23+1),(A23+1),\"\"))","v":""},{"$f":"IF(A24=\"\",\"\",(LARGE('A1'!$K$30:$L$103,(1+SUM(COUNTIF('A1'!$K$30:$L$103,B$7:B24))-(A24*COUNTIF('A1'!$K$30:$L$103,B$8))))))","v":""},{"$f":"IF($C$6:$AZ$6=\"\",\"\",IF($C$6:$AZ$6=\"HOT\",IF(TRANSPOSE('A1'!$K$30:$K$80)=$B25,\"●\",IF(TRANSPOSE('A1'!$L$30:$L$80)=$B25,\"▼\",IF($C24:$AZ24=\"|\",\"|\",\"\"))),IF(TRANSPOSE('A1'!$K$30:$K$80)=$B25,\"●\",IF(TRANSPOSE('A1'!$L$30:$L$80)=$B25,\"▲\",IF($C24:$AZ24=\"|\",\"|\",\"\")))))","v":""},"","","","","","","","","","","","","","","","","","","","","","","","","","","","","","","","","","","","","","","","","","","","","","","","",""]
[{"$f":"IF(A24=\"\",\"\",IF((SUM(IF(FREQUENCY('A1'!$K$30:$L$103,'A1'!$K$30:$L$103)>0,1)))>(A24+1),(A24+1),\"\"))","v":""},{"$f":"IF(A25=\"\",\"\",(LARGE('A1'!$K$30:$L$103,(1+SUM(COUNTIF('A1'!$K$30:$L$103,B$7:B25))-(A25*COUNTIF('A1'!$K$30:$L$103,B$8))))))","v":""},{"$f":"IF($C$6:$AZ$6=\"\",\"\",IF($C$6:$AZ$6=\"HOT\",IF($C25:$AZ25=\"●\",\"|\",IF($C25:$AZ25=\"|\",\"|\",\"\")),IF($C25:$AZ25=\"▲\",\"|\",IF($C25:$AZ25=\"|\",\"|\",\"\"))))","v":""},"","","","","","","","","","","","","","","","","","","","","","","","","","","","","","","","","","","","","","","","","","","","","","","","",""]
[{"$f":"IF(A25=\"\",\"\",IF((SUM(IF(FREQUENCY('A1'!$K$30:$L$103,'A1'!$K$30:$L$103)>0,1)))>(A25+1),(A25+1),\"\"))","v":""},{"$f":"IF(A26=\"\",\"\",(LARGE('A1'!$K$30:$L$103,(1+SUM(COUNTIF('A1'!$K$30:$L$103,B$7:B26))-(A26*COUNTIF('A1'!$K$30:$L$103,B$8))))))","v":""},{"$f":"IF($C$6:$AZ$6=\"\",\"\",IF($C$6:$AZ$6=\"HOT\",IF(TRANSPOSE('A1'!$K$30:$K$80)=$B27,\"●\",IF(TRANSPOSE('A1'!$L$30:$L$80)=$B27,\"▼\",IF($C26:$AZ26=\"|\",\"|\",\"\"))),IF(TRANSPOSE('A1'!$K$30:$K$80)=$B27,\"●\",IF(TRANSPOSE('A1'!$L$30:$L$80)=$B27,\"▲\",IF($C26:$AZ26=\"|\",\"|\",\"\")))))","v":""},"","","","","","","","","","","","","","","","","","","","","","","","","","","","","","","","","","","","","","","","","","","","","","","","",""]
[{"$f":"IF(A26=\"\",\"\",IF((SUM(IF(FREQUENCY('A1'!$K$30:$L$103,'A1'!$K$30:$L$103)>0,1)))>(A26+1),(A26+1),\"\"))","v":""},{"$f":"IF(A27=\"\",\"\",(LARGE('A1'!$K$30:$L$103,(1+SUM(COUNTIF('A1'!$K$30:$L$103,B$7:B27))-(A27*COUNTIF('A1'!$K$30:$L$103,B$8))))))","v":""},{"$f":"IF($C$6:$AZ$6=\"\",\"\",IF($C$6:$AZ$6=\"HOT\",IF($C27:$AZ27=\"●\",\"|\",IF($C27:$AZ27=\"|\",\"|\",\"\")),IF($C27:$AZ27=\"▲\",\"|\",IF($C27:$AZ27=\"|\",\"|\",\"\"))))","v":""},"","","","","","","","","","","","","","","","","","","","","","","","","","","","","","","","","","","","","","","","","","","","","","","","",""]
[{"$f":"IF(A27=\"\",\"\",IF((SUM(IF(FREQUENCY('A1'!$K$30:$L$103,'A1'!$K$30:$L$103)>0,1)))>(A27+1),(A27+1),\"\"))","v":""},{"$f":"IF(A28=\"\",\"\",(LARGE('A1'!$K$30:$L$103,(1+SUM(COUNTIF('A1'!$K$30:$L$103,B$7:B28))-(A28*COUNTIF('A1'!$K$30:$L$103,B$8))))))","v":""},{"$f":"IF($C$6:$AZ$6=\"\",\"\",IF($C$6:$AZ$6=\"HOT\",IF(TRANSPOSE('A1'!$K$30:$K$80)=$B29,\"●\",IF(TRANSPOSE('A1'!$L$30:$L$80)=$B29,\"▼\",IF($C28:$AZ28=\"|\",\"|\",\"\"))),IF(TRANSPOSE('A1'!$K$30:$K$80)=$B29,\"●\",IF(TRANSPOSE('A1'!$L$30:$L$80)=$B29,\"▲\",IF($C28:$AZ28=\"|\",\"|\",\"\")))))","v":""},"","","","","","","","","","","","","","","","","","","","","","","","","","","","","","","","","","","","","","","","","","","","","","","","",""]
[{"$f":"IF(A28=\"\",\"\",IF((SUM(IF(FREQUENCY('A1'!$K$30:$L$103,'A1'!$K$30:$L$103)>0,1)))>(A28+1),(A28+1),\"\"))","v":""},{"$f":"IF(A29=\"\",\"\",(LARGE('A1'!$K$30:$L$103,(1+SUM(COUNTIF('A1'!$K$30:$L$103,B$7:B29))-(A29*COUNTIF('A1'!$K$30:$L$103,B$8))))))","v":""},{"$f":"IF($C$6:$AZ$6=\"\",\"\",IF($C$6:$AZ$6=\"HOT\",IF($C29:$AZ29=\"●\",\"|\",IF($C29:$AZ29=\"|\",\"|\",\"\")),IF($C29:$AZ29=\"▲\",\"|\",IF($C29:$AZ29=\"|\",\"|\",\"\"))))","v":""},"","","","","","","","","","","","","","","","","","","","","","","","","","","","","","","","","","","","","","","","","","","","","","","","",""]
[{"$f":"IF(A29=\"\",\"\",IF((SUM(IF(FREQUENCY('A1'!$K$30:$L$103,'A1'!$K$30:$L$103)>0,1)))>(A29+1),(A29+1),\"\"))","v":""},{"$f":"IF(A30=\"\",\"\",(LARGE('A1'!$K$30:$L$103,(1+SUM(COUNTIF('A1'!$K$30:$L$103,B$7:B30))-(A30*COUNTIF('A1'!$K$30:$L$103,B$8))))))","v":""},{"$f":"IF($C$6:$AZ$6=\"\",\"\",IF($C$6:$AZ$6=\"HOT\",IF(TRANSPOSE('A1'!$K$30:$K$80)=$B31,\"●\",IF(TRANSPOSE('A1'!$L$30:$L$80)=$B31,\"▼\",IF($C30:$AZ30=\"|\",\"|\",\"\"))),IF(TRANSPOSE('A1'!$K$30:$K$80)=$B31,\"●\",IF(TRANSPOSE('A1'!$L$30:$L$80)=$B31,\"▲\",IF($C30:$AZ30=\"|\",\"|\",\"\")))))","v":""},"","","","","","","","","","","","","","","","","","","","","","","","","","","","","","","","","","","","","","","","","","","","","","","","",""]
[{"$f":"IF(A30=\"\",\"\",IF((SUM(IF(FREQUENCY('A1'!$K$30:$L$103,'A1'!$K$30:$L$103)>0,1)))>(A30+1),(A30+1),\"\"))","v":""},{"$f":"IF(A31=\"\",\"\",(LARGE('A1'!$K$30:$L$103,(1+SUM(COUNTIF('A1'!$K$30:$L$103,B$7:B31))-(A31*COUNTIF('A1'!$K$30:$L$103,B$8))))))","v":""},{"$f":"IF($C$6:$AZ$6=\"\",\"\",IF($C$6:$AZ$6=\"HOT\",IF($C31:$AZ31=\"●\",\"|\",IF($C31:$AZ31=\"|\",\"|\",\"\")),IF($C31:$AZ31=\"▲\",\"|\",IF($C31:$AZ31=\"|\",\"|\",\"\"))))","v":""},"","","","","","","","","","","","","","","","","","","","","","","","","","","","","","","","","","","","","","","","","","","","","","","","",""]
[{"$f":"IF(A31=\"\",\"\",IF((SUM(IF(FREQUENCY('A1'!$K$30:$L$103,'A1'!$K$30:$L$103)>0,1)))>(A31+1),(A31+1),\"\"))","v":""},{"$f":"IF(A32=\"\",\"\",(LARGE('A1'!$K$30:$L$103,(1+SUM(COUNTIF('A1'!$K$30:$L$103,B$7:B32))-(A32*COUNTIF('A1'!$K$30:$L$103,B$8))))))","v":""},{"$f":"IF($C$6:$AZ$6=\"\",\"\",IF($C$6:$AZ$6=\"HOT\",IF(TRANSPOSE('A1'!$K$30:$K$80)=$B33,\"●\",IF(TRANSPOSE('A1'!$L$30:$L$80)=$B33,\"▼\",IF($C32:$AZ32=\"|\",\"|\",\"\"))),IF(TRANSPOSE('A1'!$K$30:$K$80)=$B33,\"●\",IF(TRANSPOSE('A1'!$L$30:$L$80)=$B33,\"▲\",IF($C32:$AZ32=\"|\",\"|\",\"\")))))","v":""},"","","","","","","","","","","","","","","","","","","","","","","","","","","","","","","","","","","","","","","","","","","","","","","","",""]
[{"$f":"IF(A32=\"\",\"\",IF((SUM(IF(FREQUENCY('A1'!$K$30:$L$103,'A1'!$K$30:$L$103)>0,1)))>(A32+1),(A32+1),\"\"))","v":""},{"$f":"IF(A33=\"\",\"\",(LARGE('A1'!$K$30:$L$103,(1+SUM(COUNTIF('A1'!$K$30:$L$103,B$7:B33))-(A33*COUNTIF('A1'!$K$30:$L$103,B$8))))))","v":""},{"$f":"IF($C$6:$AZ$6=\"\",\"\",IF($C$6:$AZ$6=\"HOT\",IF($C33:$AZ33=\"●\",\"|\",IF($C33:$AZ33=\"|\",\"|\",\"\")),IF($C33:$AZ33=\"▲\",\"|\",IF($C33:$AZ33=\"|\",\"|\",\"\"))))","v":""},"","","","","","","","","","","","","","","","","","","","","","","","","","","","","","","","","","","","","","","","","","","","","","","","",""]
[{"$f":"IF(A33=\"\",\"\",IF((SUM(IF(FREQUENCY('A1'!$K$30:$L$103,'A1'!$K$30:$L$103)>0,1)))>(A33+1),(A33+1),\"\"))","v":""},{"$f":"IF(A34=\"\",\"\",(LARGE('A1'!$K$30:$L$103,(1+SUM(COUNTIF('A1'!$K$30:$L$103,B$7:B34))-(A34*COUNTIF('A1'!$K$30:$L$103,B$8))))))","v":""},{"$f":"IF($C$6:$AZ$6=\"\",\"\",IF($C$6:$AZ$6=\"HOT\",IF(TRANSPOSE('A1'!$K$30:$K$80)=$B35,\"●\",IF(TRANSPOSE('A1'!$L$30:$L$80)=$B35,\"▼\",IF($C34:$AZ34=\"|\",\"|\",\"\"))),IF(TRANSPOSE('A1'!$K$30:$K$80)=$B35,\"●\",IF(TRANSPOSE('A1'!$L$30:$L$80)=$B35,\"▲\",IF($C34:$AZ34=\"|\",\"|\",\"\")))))","v":""},"","","","","","","","","","","","","","","","","","","","","","","","","","","","","","","","","","","","","","","","","","","","","","","","",""]
[{"$f":"IF(A34=\"\",\"\",IF((SUM(IF(FREQUENCY('A1'!$K$30:$L$103,'A1'!$K$30:$L$103)>0,1)))>(A34+1),(A34+1),\"\"))","v":""},{"$f":"IF(A35=\"\",\"\",(LARGE('A1'!$K$30:$L$103,(1+SUM(COUNTIF('A1'!$K$30:$L$103,B$7:B35))-(A35*COUNTIF('A1'!$K$30:$L$103,B$8))))))","v":""},{"$f":"IF($C$6:$AZ$6=\"\",\"\",IF($C$6:$AZ$6=\"HOT\",IF($C35:$AZ35=\"●\",\"|\",IF($C35:$AZ35=\"|\",\"|\",\"\")),IF($C35:$AZ35=\"▲\",\"|\",IF($C35:$AZ35=\"|\",\"|\",\"\"))))","v":""},"","","","","","","","","","","","","","","","","","","","","","","","","","","","","","","","","","","","","","","","","","","","","","","","",""]
[{"$f":"IF(A35=\"\",\"\",IF((SUM(IF(FREQUENCY('A1'!$K$30:$L$103,'A1'!$K$30:$L$103)>0,1)))>(A35+1),(A35+1),\"\"))","v":""},{"$f":"IF(A36=\"\",\"\",(LARGE('A1'!$K$30:$L$103,(1+SUM(COUNTIF('A1'!$K$30:$L$103,B$7:B36))-(A36*COUNTIF('A1'!$K$30:$L$103,B$8))))))","v":""},{"$f":"IF($C$6:$AZ$6=\"\",\"\",IF($C$6:$AZ$6=\"HOT\",IF(TRANSPOSE('A1'!$K$30:$K$80)=$B37,\"●\",IF(TRANSPOSE('A1'!$L$30:$L$80)=$B37,\"▼\",IF($C36:$AZ36=\"|\",\"|\",\"\"))),IF(TRANSPOSE('A1'!$K$30:$K$80)=$B37,\"●\",IF(TRANSPOSE('A1'!$L$30:$L$80)=$B37,\"▲\",IF($C36:$AZ36=\"|\",\"|\",\"\")))))","v":""},"","","","","","","","","","","","","","","","","","","","","","","","","","","","","","","","","","","","","","","","","","","","","","","","",""]
[{"$f":"IF(A36=\"\",\"\",IF((SUM(IF(FREQUENCY('A1'!$K$30:$L$103,'A1'!$K$30:$L$103)>0,1)))>(A36+1),(A36+1),\"\"))","v":""},{"$f":"IF(A37=\"\",\"\",(LARGE('A1'!$K$30:$L$103,(1+SUM(COUNTIF('A1'!$K$30:$L$103,B$7:B37))-(A37*COUNTIF('A1'!$K$30:$L$103,B$8))))))","v":""},{"$f":"IF($C$6:$AZ$6=\"\",\"\",IF($C$6:$AZ$6=\"HOT\",IF($C37:$AZ37=\"●\",\"|\",IF($C37:$AZ37=\"|\",\"|\",\"\")),IF($C37:$AZ37=\"▲\",\"|\",IF($C37:$AZ37=\"|\",\"|\",\"\"))))","v":""},"","","","","","","","","","","","","","","","","","","","","","","","","","","","","","","","","","","","","","","","","","","","","","","","",""]
[{"$f":"IF(A37=\"\",\"\",IF((SUM(IF(FREQUENCY('A1'!$K$30:$L$103,'A1'!$K$30:$L$103)>0,1)))>(A37+1),(A37+1),\"\"))","v":""},{"$f":"IF(A38=\"\",\"\",(LARGE('A1'!$K$30:$L$103,(1+SUM(COUNTIF('A1'!$K$30:$L$103,B$7:B38))-(A38*COUNTIF('A1'!$K$30:$L$103,B$8))))))","v":""},{"$f":"IF($C$6:$AZ$6=\"\",\"\",IF($C$6:$AZ$6=\"HOT\",IF(TRANSPOSE('A1'!$K$30:$K$80)=$B39,\"●\",IF(TRANSPOSE('A1'!$L$30:$L$80)=$B39,\"▼\",IF($C38:$AZ38=\"|\",\"|\",\"\"))),IF(TRANSPOSE('A1'!$K$30:$K$80)=$B39,\"●\",IF(TRANSPOSE('A1'!$L$30:$L$80)=$B39,\"▲\",IF($C38:$AZ38=\"|\",\"|\",\"\")))))","v":""},"","","","","","","","","","","","","","","","","","","","","","","","","","","","","","","","","","","","","","","","","","","","","","","","",""]
[{"$f":"IF(A38=\"\",\"\",IF((SUM(IF(FREQUENCY('A1'!$K$30:$L$103,'A1'!$K$30:$L$103)>0,1)))>(A38+1),(A38+1),\"\"))","v":""},{"$f":"IF(A39=\"\",\"\",(LARGE('A1'!$K$30:$L$103,(1+SUM(COUNTIF('A1'!$K$30:$L$103,B$7:B39))-(A39*COUNTIF('A1'!$K$30:$L$103,B$8))))))","v":""},{"$f":"IF($C$6:$AZ$6=\"\",\"\",IF($C$6:$AZ$6=\"HOT\",IF($C39:$AZ39=\"●\",\"|\",IF($C39:$AZ39=\"|\",\"|\",\"\")),IF($C39:$AZ39=\"▲\",\"|\",IF($C39:$AZ39=\"|\",\"|\",\"\"))))","v":""},"","","","","","","","","","","","","","","","","","","","","","","","","","","","","","","","","","","","","","","","","","","","","","","","",""]
[{"$f":"IF(A39=\"\",\"\",IF((SUM(IF(FREQUENCY('A1'!$K$30:$L$103,'A1'!$K$30:$L$103)>0,1)))>(A39+1),(A39+1),\"\"))","v":""},{"$f":"IF(A40=\"\",\"\",(LARGE('A1'!$K$30:$L$103,(1+SUM(COUNTIF('A1'!$K$30:$L$103,B$7:B40))-(A40*COUNTIF('A1'!$K$30:$L$103,B$8))))))","v":""},{"$f":"IF($C$6:$AZ$6=\"\",\"\",IF($C$6:$AZ$6=\"HOT\",IF(TRANSPOSE('A1'!$K$30:$K$80)=$B41,\"●\",IF(TRANSPOSE('A1'!$L$30:$L$80)=$B41,\"▼\",IF($C40:$AZ40=\"|\",\"|\",\"\"))),IF(TRANSPOSE('A1'!$K$30:$K$80)=$B41,\"●\",IF(TRANSPOSE('A1'!$L$30:$L$80)=$B41,\"▲\",IF($C40:$AZ40=\"|\",\"|\",\"\")))))","v":""},"","","","","","","","","","","","","","","","","","","","","","","","","","","","","","","","","","","","","","","","","","","","","","","","",""]
[{"$f":"IF(A40=\"\",\"\",IF((SUM(IF(FREQUENCY('A1'!$K$30:$L$103,'A1'!$K$30:$L$103)>0,1)))>(A40+1),(A40+1),\"\"))","v":""},{"$f":"IF(A41=\"\",\"\",(LARGE('A1'!$K$30:$L$103,(1+SUM(COUNTIF('A1'!$K$30:$L$103,B$7:B41))-(A41*COUNTIF('A1'!$K$30:$L$103,B$8))))))","v":""},{"$f":"IF($C$6:$AZ$6=\"\",\"\",IF($C$6:$AZ$6=\"HOT\",IF($C41:$AZ41=\"●\",\"|\",IF($C41:$AZ41=\"|\",\"|\",\"\")),IF($C41:$AZ41=\"▲\",\"|\",IF($C41:$AZ41=\"|\",\"|\",\"\"))))","v":""},"","","","","","","","","","","","","","","","","","","","","","","","","","","","","","","","","","","","","","","","","","","","","","","","",""]
[{"$f":"IF(A41=\"\",\"\",IF((SUM(IF(FREQUENCY('A1'!$K$30:$L$103,'A1'!$K$30:$L$103)>0,1)))>(A41+1),(A41+1),\"\"))","v":""},{"$f":"IF(A42=\"\",\"\",(LARGE('A1'!$K$30:$L$103,(1+SUM(COUNTIF('A1'!$K$30:$L$103,B$7:B42))-(A42*COUNTIF('A1'!$K$30:$L$103,B$8))))))","v":""},{"$f":"IF($C$6:$AZ$6=\"\",\"\",IF($C$6:$AZ$6=\"HOT\",IF(TRANSPOSE('A1'!$K$30:$K$80)=$B43,\"●\",IF(TRANSPOSE('A1'!$L$30:$L$80)=$B43,\"▼\",IF($C42:$AZ42=\"|\",\"|\",\"\"))),IF(TRANSPOSE('A1'!$K$30:$K$80)=$B43,\"●\",IF(TRANSPOSE('A1'!$L$30:$L$80)=$B43,\"▲\",IF($C42:$AZ42=\"|\",\"|\",\"\")))))","v":""},"","","","","","","","","","","","","","","","","","","","","","","","","","","","","","","","","","","","","","","","","","","","","","","","",""]
[{"$f":"IF(A42=\"\",\"\",IF((SUM(IF(FREQUENCY('A1'!$K$30:$L$103,'A1'!$K$30:$L$103)>0,1)))>(A42+1),(A42+1),\"\"))","v":""},{"$f":"IF(A43=\"\",\"\",(LARGE('A1'!$K$30:$L$103,(1+SUM(COUNTIF('A1'!$K$30:$L$103,B$7:B43))-(A43*COUNTIF('A1'!$K$30:$L$103,B$8))))))","v":""},{"$f":"IF($C$6:$AZ$6=\"\",\"\",IF($C$6:$AZ$6=\"HOT\",IF($C43:$AZ43=\"●\",\"|\",IF($C43:$AZ43=\"|\",\"|\",\"\")),IF($C43:$AZ43=\"▲\",\"|\",IF($C43:$AZ43=\"|\",\"|\",\"\"))))","v":""},"","","","","","","","","","","","","","","","","","","","","","","","","","","","","","","","","","","","","","","","","","","","","","","","",""]
[{"$f":"IF(A43=\"\",\"\",IF((SUM(IF(FREQUENCY('A1'!$K$30:$L$103,'A1'!$K$30:$L$103)>0,1)))>(A43+1),(A43+1),\"\"))","v":""},{"$f":"IF(A44=\"\",\"\",(LARGE('A1'!$K$30:$L$103,(1+SUM(COUNTIF('A1'!$K$30:$L$103,B$7:B44))-(A44*COUNTIF('A1'!$K$30:$L$103,B$8))))))","v":""},{"$f":"IF($C$6:$AZ$6=\"\",\"\",IF($C$6:$AZ$6=\"HOT\",IF(TRANSPOSE('A1'!$K$30:$K$80)=$B45,\"●\",IF(TRANSPOSE('A1'!$L$30:$L$80)=$B45,\"▼\",IF($C44:$AZ44=\"|\",\"|\",\"\"))),IF(TRANSPOSE('A1'!$K$30:$K$80)=$B45,\"●\",IF(TRANSPOSE('A1'!$L$30:$L$80)=$B45,\"▲\",IF($C44:$AZ44=\"|\",\"|\",\"\")))))","v":""},"","","","","","","","","","","","","","","","","","","","","","","","","","","","","","","","","","","","","","","","","","","","","","","","",""]
[{"$f":"IF(A44=\"\",\"\",IF((SUM(IF(FREQUENCY('A1'!$K$30:$L$103,'A1'!$K$30:$L$103)>0,1)))>(A44+1),(A44+1),\"\"))","v":""},{"$f":"IF(A45=\"\",\"\",(LARGE('A1'!$K$30:$L$103,(1+SUM(COUNTIF('A1'!$K$30:$L$103,B$7:B45))-(A45*COUNTIF('A1'!$K$30:$L$103,B$8))))))","v":""},{"$f":"IF($C$6:$AZ$6=\"\",\"\",IF($C$6:$AZ$6=\"HOT\",IF($C45:$AZ45=\"●\",\"|\",IF($C45:$AZ45=\"|\",\"|\",\"\")),IF($C45:$AZ45=\"▲\",\"|\",IF($C45:$AZ45=\"|\",\"|\",\"\"))))","v":""},"","","","","","","","","","","","","","","","","","","","","","","","","","","","","","","","","","","","","","","","","","","","","","","","",""]
[{"$f":"IF(A45=\"\",\"\",IF((SUM(IF(FREQUENCY('A1'!$K$30:$L$103,'A1'!$K$30:$L$103)>0,1)))>(A45+1),(A45+1),\"\"))","v":""},{"$f":"IF(A46=\"\",\"\",(LARGE('A1'!$K$30:$L$103,(1+SUM(COUNTIF('A1'!$K$30:$L$103,B$7:B46))-(A46*COUNTIF('A1'!$K$30:$L$103,B$8))))))","v":""},{"$f":"IF($C$6:$AZ$6=\"\",\"\",IF($C$6:$AZ$6=\"HOT\",IF(TRANSPOSE('A1'!$K$30:$K$80)=$B47,\"●\",IF(TRANSPOSE('A1'!$L$30:$L$80)=$B47,\"▼\",IF($C46:$AZ46=\"|\",\"|\",\"\"))),IF(TRANSPOSE('A1'!$K$30:$K$80)=$B47,\"●\",IF(TRANSPOSE('A1'!$L$30:$L$80)=$B47,\"▲\",IF($C46:$AZ46=\"|\",\"|\",\"\")))))","v":""},"","","","","","","","","","","","","","","","","","","","","","","","","","","","","","","","","","","","","","","","","","","","","","","","",""]
[{"$f":"IF(A46=\"\",\"\",IF((SUM(IF(FREQUENCY('A1'!$K$30:$L$103,'A1'!$K$30:$L$103)>0,1)))>(A46+1),(A46+1),\"\"))","v":""},{"$f":"IF(A47=\"\",\"\",(LARGE('A1'!$K$30:$L$103,(1+SUM(COUNTIF('A1'!$K$30:$L$103,B$7:B47))-(A47*COUNTIF('A1'!$K$30:$L$103,B$8))))))","v":""},{"$f":"IF($C$6:$AZ$6=\"\",\"\",IF($C$6:$AZ$6=\"HOT\",IF($C47:$AZ47=\"●\",\"|\",IF($C47:$AZ47=\"|\",\"|\",\"\")),IF($C47:$AZ47=\"▲\",\"|\",IF($C47:$AZ47=\"|\",\"|\",\"\"))))","v":""},"","","","","","","","","","","","","","","","","","","","","","","","","","","","","","","","","","","","","","","","","","","","","","","","",""]
[{"$f":"IF(A47=\"\",\"\",IF((SUM(IF(FREQUENCY('A1'!$K$30:$L$103,'A1'!$K$30:$L$103)>0,1)))>(A47+1),(A47+1),\"\"))","v":""},{"$f":"IF(A48=\"\",\"\",(LARGE('A1'!$K$30:$L$103,(1+SUM(COUNTIF('A1'!$K$30:$L$103,B$7:B48))-(A48*COUNTIF('A1'!$K$30:$L$103,B$8))))))","v":""},{"$f":"IF($C$6:$AZ$6=\"\",\"\",IF($C$6:$AZ$6=\"HOT\",IF(TRANSPOSE('A1'!$K$30:$K$80)=$B49,\"●\",IF(TRANSPOSE('A1'!$L$30:$L$80)=$B49,\"▼\",IF($C48:$AZ48=\"|\",\"|\",\"\"))),IF(TRANSPOSE('A1'!$K$30:$K$80)=$B49,\"●\",IF(TRANSPOSE('A1'!$L$30:$L$80)=$B49,\"▲\",IF($C48:$AZ48=\"|\",\"|\",\"\")))))","v":""},"","","","","","","","","","","","","","","","","","","","","","","","","","","","","","","","","","","","","","","","","","","","","","","","",""]
[{"$f":"IF(A48=\"\",\"\",IF((SUM(IF(FREQUENCY('A1'!$K$30:$L$103,'A1'!$K$30:$L$103)>0,1)))>(A48+1),(A48+1),\"\"))","v":""},{"$f":"IF(A49=\"\",\"\",(LARGE('A1'!$K$30:$L$103,(1+SUM(COUNTIF('A1'!$K$30:$L$103,B$7:B49))-(A49*COUNTIF('A1'!$K$30:$L$103,B$8))))))","v":""},{"$f":"IF($C$6:$AZ$6=\"\",\"\",IF($C$6:$AZ$6=\"HOT\",IF($C49:$AZ49=\"●\",\"|\",IF($C49:$AZ49=\"|\",\"|\",\"\")),IF($C49:$AZ49=\"▲\",\"|\",IF($C49:$AZ49=\"|\",\"|\",\"\"))))","v":""},"","","","","","","","","","","","","","","","","","","","","","","","","","","","","","","","","","","","","","","","","","","","","","","","",""]
[{"$f":"IF(A49=\"\",\"\",IF((SUM(IF(FREQUENCY('A1'!$K$30:$L$103,'A1'!$K$30:$L$103)>0,1)))>(A49+1),(A49+1),\"\"))","v":""},{"$f":"IF(A50=\"\",\"\",(LARGE('A1'!$K$30:$L$103,(1+SUM(COUNTIF('A1'!$K$30:$L$103,B$7:B50))-(A50*COUNTIF('A1'!$K$30:$L$103,B$8))))))","v":""},{"$f":"IF($C$6:$AZ$6=\"\",\"\",IF($C$6:$AZ$6=\"HOT\",IF(TRANSPOSE('A1'!$K$30:$K$80)=$B51,\"●\",IF(TRANSPOSE('A1'!$L$30:$L$80)=$B51,\"▼\",IF($C50:$AZ50=\"|\",\"|\",\"\"))),IF(TRANSPOSE('A1'!$K$30:$K$80)=$B51,\"●\",IF(TRANSPOSE('A1'!$L$30:$L$80)=$B51,\"▲\",IF($C50:$AZ50=\"|\",\"|\",\"\")))))","v":""},"","","","","","","","","","","","","","","","","","","","","","","","","","","","","","","","","","","","","","","","","","","","","","","","",""]
[{"$f":"IF(A50=\"\",\"\",IF((SUM(IF(FREQUENCY('A1'!$K$30:$L$103,'A1'!$K$30:$L$103)>0,1)))>(A50+1),(A50+1),\"\"))","v":""},{"$f":"IF(A51=\"\",\"\",(LARGE('A1'!$K$30:$L$103,(1+SUM(COUNTIF('A1'!$K$30:$L$103,B$7:B51))-(A51*COUNTIF('A1'!$K$30:$L$103,B$8))))))","v":""},{"$f":"IF($C$6:$AZ$6=\"\",\"\",IF($C$6:$AZ$6=\"HOT\",IF($C51:$AZ51=\"●\",\"|\",IF($C51:$AZ51=\"|\",\"|\",\"\")),IF($C51:$AZ51=\"▲\",\"|\",IF($C51:$AZ51=\"|\",\"|\",\"\"))))","v":""},"","","","","","","","","","","","","","","","","","","","","","","","","","","","","","","","","","","","","","","","","","","","","","","","",""]
[{"$f":"IF(A51=\"\",\"\",IF((SUM(IF(FREQUENCY('A1'!$K$30:$L$103,'A1'!$K$30:$L$103)>0,1)))>(A51+1),(A51+1),\"\"))","v":""},{"$f":"IF(A52=\"\",\"\",(LARGE('A1'!$K$30:$L$103,(1+SUM(COUNTIF('A1'!$K$30:$L$103,B$7:B52))-(A52*COUNTIF('A1'!$K$30:$L$103,B$8))))))","v":""},{"$f":"IF($C$6:$AZ$6=\"\",\"\",IF($C$6:$AZ$6=\"HOT\",IF(TRANSPOSE('A1'!$K$30:$K$80)=$B53,\"●\",IF(TRANSPOSE('A1'!$L$30:$L$80)=$B53,\"▼\",IF($C52:$AZ52=\"|\",\"|\",\"\"))),IF(TRANSPOSE('A1'!$K$30:$K$80)=$B53,\"●\",IF(TRANSPOSE('A1'!$L$30:$L$80)=$B53,\"▲\",IF($C52:$AZ52=\"|\",\"|\",\"\")))))","v":""},"","","","","","","","","","","","","","","","","","","","","","","","","","","","","","","","","","","","","","","","","","","","","","","","",""]
[{"$f":"IF(A52=\"\",\"\",IF((SUM(IF(FREQUENCY('A1'!$K$30:$L$103,'A1'!$K$30:$L$103)>0,1)))>(A52+1),(A52+1),\"\"))","v":""},{"$f":"IF(A53=\"\",\"\",(LARGE('A1'!$K$30:$L$103,(1+SUM(COUNTIF('A1'!$K$30:$L$103,B$7:B53))-(A53*COUNTIF('A1'!$K$30:$L$103,B$8))))))","v":""},{"$f":"IF($C$6:$AZ$6=\"\",\"\",IF($C$6:$AZ$6=\"HOT\",IF($C53:$AZ53=\"●\",\"|\",IF($C53:$AZ53=\"|\",\"|\",\"\")),IF($C53:$AZ53=\"▲\",\"|\",IF($C53:$AZ53=\"|\",\"|\",\"\"))))","v":""},"","","","","","","","","","","","","","","","","","","","","","","","","","","","","","","","","","","","","","","","","","","","","","","","",""]
[{"$f":"IF(A53=\"\",\"\",IF((SUM(IF(FREQUENCY('A1'!$K$30:$L$103,'A1'!$K$30:$L$103)>0,1)))>(A53+1),(A53+1),\"\"))","v":""},{"$f":"IF(A54=\"\",\"\",(LARGE('A1'!$K$30:$L$103,(1+SUM(COUNTIF('A1'!$K$30:$L$103,B$7:B54))-(A54*COUNTIF('A1'!$K$30:$L$103,B$8))))))","v":""},{"$f":"IF($C$6:$AZ$6=\"\",\"\",IF($C$6:$AZ$6=\"HOT\",IF(TRANSPOSE('A1'!$K$30:$K$80)=$B55,\"●\",IF(TRANSPOSE('A1'!$L$30:$L$80)=$B55,\"▼\",IF($C54:$AZ54=\"|\",\"|\",\"\"))),IF(TRANSPOSE('A1'!$K$30:$K$80)=$B55,\"●\",IF(TRANSPOSE('A1'!$L$30:$L$80)=$B55,\"▲\",IF($C54:$AZ54=\"|\",\"|\",\"\")))))","v":""},"","","","","","","","","","","","","","","","","","","","","","","","","","","","","","","","","","","","","","","","","","","","","","","","",""]
[{"$f":"IF(A54=\"\",\"\",IF((SUM(IF(FREQUENCY('A1'!$K$30:$L$103,'A1'!$K$30:$L$103)>0,1)))>(A54+1),(A54+1),\"\"))","v":""},{"$f":"IF(A55=\"\",\"\",(LARGE('A1'!$K$30:$L$103,(1+SUM(COUNTIF('A1'!$K$30:$L$103,B$7:B55))-(A55*COUNTIF('A1'!$K$30:$L$103,B$8))))))","v":""},{"$f":"IF($C$6:$AZ$6=\"\",\"\",IF($C$6:$AZ$6=\"HOT\",IF($C55:$AZ55=\"●\",\"|\",IF($C55:$AZ55=\"|\",\"|\",\"\")),IF($C55:$AZ55=\"▲\",\"|\",IF($C55:$AZ55=\"|\",\"|\",\"\"))))","v":""},"","","","","","","","","","","","","","","","","","","","","","","","","","","","","","","","","","","","","","","","","","","","","","","","",""]
[{"$f":"IF(A55=\"\",\"\",IF((SUM(IF(FREQUENCY('A1'!$K$30:$L$103,'A1'!$K$30:$L$103)>0,1)))>(A55+1),(A55+1),\"\"))","v":""},{"$f":"IF(A56=\"\",\"\",(LARGE('A1'!$K$30:$L$103,(1+SUM(COUNTIF('A1'!$K$30:$L$103,B$7:B56))-(A56*COUNTIF('A1'!$K$30:$L$103,B$8))))))","v":""},{"$f":"IF($C$6:$AZ$6=\"\",\"\",IF($C$6:$AZ$6=\"HOT\",IF(TRANSPOSE('A1'!$K$30:$K$80)=$B57,\"●\",IF(TRANSPOSE('A1'!$L$30:$L$80)=$B57,\"▼\",IF($C56:$AZ56=\"|\",\"|\",\"\"))),IF(TRANSPOSE('A1'!$K$30:$K$80)=$B57,\"●\",IF(TRANSPOSE('A1'!$L$30:$L$80)=$B57,\"▲\",IF($C56:$AZ56=\"|\",\"|\",\"\")))))","v":""},"","","","","","","","","","","","","","","","","","","","","","","","","","","","","","","","","","","","","","","","","","","","","","","","",""]
[{"$f":"IF(A56=\"\",\"\",IF((SUM(IF(FREQUENCY('A1'!$K$30:$L$103,'A1'!$K$30:$L$103)>0,1)))>(A56+1),(A56+1),\"\"))","v":""},{"$f":"IF(A57=\"\",\"\",(LARGE('A1'!$K$30:$L$103,(1+SUM(COUNTIF('A1'!$K$30:$L$103,B$7:B57))-(A57*COUNTIF('A1'!$K$30:$L$103,B$8))))))","v":""},{"$f":"IF($C$6:$AZ$6=\"\",\"\",IF($C$6:$AZ$6=\"HOT\",IF($C57:$AZ57=\"●\",\"|\",IF($C57:$AZ57=\"|\",\"|\",\"\")),IF($C57:$AZ57=\"▲\",\"|\",IF($C57:$AZ57=\"|\",\"|\",\"\"))))","v":""},"","","","","","","","","","","","","","","","","","","","","","","","","","","","","","","","","","","","","","","","","","","","","","","","",""]
[{"$f":"IF(A57=\"\",\"\",IF((SUM(IF(FREQUENCY('A1'!$K$30:$L$103,'A1'!$K$30:$L$103)>0,1)))>(A57+1),(A57+1),\"\"))","v":""},{"$f":"IF(A58=\"\",\"\",(LARGE('A1'!$K$30:$L$103,(1+SUM(COUNTIF('A1'!$K$30:$L$103,B$7:B58))-(A58*COUNTIF('A1'!$K$30:$L$103,B$8))))))","v":""},{"$f":"IF($C$6:$AZ$6=\"\",\"\",IF($C$6:$AZ$6=\"HOT\",IF(TRANSPOSE('A1'!$K$30:$K$80)=$B59,\"●\",IF(TRANSPOSE('A1'!$L$30:$L$80)=$B59,\"▼\",IF($C58:$AZ58=\"|\",\"|\",\"\"))),IF(TRANSPOSE('A1'!$K$30:$K$80)=$B59,\"●\",IF(TRANSPOSE('A1'!$L$30:$L$80)=$B59,\"▲\",IF($C58:$AZ58=\"|\",\"|\",\"\")))))","v":""},"","","","","","","","","","","","","","","","","","","","","","","","","","","","","","","","","","","","","","","","","","","","","","","","",""]
[{"$f":"IF(A58=\"\",\"\",IF((SUM(IF(FREQUENCY('A1'!$K$30:$L$103,'A1'!$K$30:$L$103)>0,1)))>(A58+1),(A58+1),\"\"))","v":""},{"$f":"IF(A59=\"\",\"\",(LARGE('A1'!$K$30:$L$103,(1+SUM(COUNTIF('A1'!$K$30:$L$103,B$7:B59))-(A59*COUNTIF('A1'!$K$30:$L$103,B$8))))))","v":""},{"$f":"IF($C$6:$AZ$6=\"\",\"\",IF($C$6:$AZ$6=\"HOT\",IF($C59:$AZ59=\"●\",\"|\",IF($C59:$AZ59=\"|\",\"|\",\"\")),IF($C59:$AZ59=\"▲\",\"|\",IF($C59:$AZ59=\"|\",\"|\",\"\"))))","v":""},"","","","","","","","","","","","","","","","","","","","","","","","","","","","","","","","","","","","","","","","","","","","","","","","",""]
[{"$f":"IF(A59=\"\",\"\",IF((SUM(IF(FREQUENCY('A1'!$K$30:$L$103,'A1'!$K$30:$L$103)>0,1)))>(A59+1),(A59+1),\"\"))","v":""},{"$f":"IF(A60=\"\",\"\",(LARGE('A1'!$K$30:$L$103,(1+SUM(COUNTIF('A1'!$K$30:$L$103,B$7:B60))-(A60*COUNTIF('A1'!$K$30:$L$103,B$8))))))","v":""},{"$f":"IF($C$6:$AZ$6=\"\",\"\",IF($C$6:$AZ$6=\"HOT\",IF(TRANSPOSE('A1'!$K$30:$K$80)=$B61,\"●\",IF(TRANSPOSE('A1'!$L$30:$L$80)=$B61,\"▼\",IF($C60:$AZ60=\"|\",\"|\",\"\"))),IF(TRANSPOSE('A1'!$K$30:$K$80)=$B61,\"●\",IF(TRANSPOSE('A1'!$L$30:$L$80)=$B61,\"▲\",IF($C60:$AZ60=\"|\",\"|\",\"\")))))","v":""},"","","","","","","","","","","","","","","","","","","","","","","","","","","","","","","","","","","","","","","","","","","","","","","","",""]
[{"$f":"IF(A60=\"\",\"\",IF((SUM(IF(FREQUENCY('A1'!$K$30:$L$103,'A1'!$K$30:$L$103)>0,1)))>(A60+1),(A60+1),\"\"))","v":""},{"$f":"IF(A61=\"\",\"\",(LARGE('A1'!$K$30:$L$103,(1+SUM(COUNTIF('A1'!$K$30:$L$103,B$7:B61))-(A61*COUNTIF('A1'!$K$30:$L$103,B$8))))))","v":""},{"$f":"IF($C$6:$AZ$6=\"\",\"\",IF($C$6:$AZ$6=\"HOT\",IF($C61:$AZ61=\"●\",\"|\",IF($C61:$AZ61=\"|\",\"|\",\"\")),IF($C61:$AZ61=\"▲\",\"|\",IF($C61:$AZ61=\"|\",\"|\",\"\"))))","v":""},"","","","","","","","","","","","","","","","","","","","","","","","","","","","","","","","","","","","","","","","","","","","","","","","",""]
[{"$f":"IF(A61=\"\",\"\",IF((SUM(IF(FREQUENCY('A1'!$K$30:$L$103,'A1'!$K$30:$L$103)>0,1)))>(A61+1),(A61+1),\"\"))","v":""},{"$f":"IF(A62=\"\",\"\",(LARGE('A1'!$K$30:$L$103,(1+SUM(COUNTIF('A1'!$K$30:$L$103,B$7:B62))-(A62*COUNTIF('A1'!$K$30:$L$103,B$8))))))","v":""},{"$f":"IF($C$6:$AZ$6=\"\",\"\",IF($C$6:$AZ$6=\"HOT\",IF(TRANSPOSE('A1'!$K$30:$K$80)=$B63,\"●\",IF(TRANSPOSE('A1'!$L$30:$L$80)=$B63,\"▼\",IF($C62:$AZ62=\"|\",\"|\",\"\"))),IF(TRANSPOSE('A1'!$K$30:$K$80)=$B63,\"●\",IF(TRANSPOSE('A1'!$L$30:$L$80)=$B63,\"▲\",IF($C62:$AZ62=\"|\",\"|\",\"\")))))","v":""},"","","","","","","","","","","","","","","","","","","","","","","","","","","","","","","","","","","","","","","","","","","","","","","","",""]
[{"$f":"IF(A62=\"\",\"\",IF((SUM(IF(FREQUENCY('A1'!$K$30:$L$103,'A1'!$K$30:$L$103)>0,1)))>(A62+1),(A62+1),\"\"))","v":""},{"$f":"IF(A63=\"\",\"\",(LARGE('A1'!$K$30:$L$103,(1+SUM(COUNTIF('A1'!$K$30:$L$103,B$7:B63))-(A63*COUNTIF('A1'!$K$30:$L$103,B$8))))))","v":""},{"$f":"IF($C$6:$AZ$6=\"\",\"\",IF($C$6:$AZ$6=\"HOT\",IF($C63:$AZ63=\"●\",\"|\",IF($C63:$AZ63=\"|\",\"|\",\"\")),IF($C63:$AZ63=\"▲\",\"|\",IF($C63:$AZ63=\"|\",\"|\",\"\"))))","v":""},"","","","","","","","","","","","","","","","","","","","","","","","","","","","","","","","","","","","","","","","","","","","","","","","",""]
[{"$f":"IF(A63=\"\",\"\",IF((SUM(IF(FREQUENCY('A1'!$K$30:$L$103,'A1'!$K$30:$L$103)>0,1)))>(A63+1),(A63+1),\"\"))","v":""},{"$f":"IF(A64=\"\",\"\",(LARGE('A1'!$K$30:$L$103,(1+SUM(COUNTIF('A1'!$K$30:$L$103,B$7:B64))-(A64*COUNTIF('A1'!$K$30:$L$103,B$8))))))","v":""},{"$f":"IF($C$6:$AZ$6=\"\",\"\",IF($C$6:$AZ$6=\"HOT\",IF(TRANSPOSE('A1'!$K$30:$K$80)=$B65,\"●\",IF(TRANSPOSE('A1'!$L$30:$L$80)=$B65,\"▼\",IF($C64:$AZ64=\"|\",\"|\",\"\"))),IF(TRANSPOSE('A1'!$K$30:$K$80)=$B65,\"●\",IF(TRANSPOSE('A1'!$L$30:$L$80)=$B65,\"▲\",IF($C64:$AZ64=\"|\",\"|\",\"\")))))","v":""},"","","","","","","","","","","","","","","","","","","","","","","","","","","","","","","","","","","","","","","","","","","","","","","","",""]
[{"$f":"IF(A64=\"\",\"\",IF((SUM(IF(FREQUENCY('A1'!$K$30:$L$103,'A1'!$K$30:$L$103)>0,1)))>(A64+1),(A64+1),\"\"))","v":""},{"$f":"IF(A65=\"\",\"\",(LARGE('A1'!$K$30:$L$103,(1+SUM(COUNTIF('A1'!$K$30:$L$103,B$7:B65))-(A65*COUNTIF('A1'!$K$30:$L$103,B$8))))))","v":""},{"$f":"IF($C$6:$AZ$6=\"\",\"\",IF($C$6:$AZ$6=\"HOT\",IF($C65:$AZ65=\"●\",\"|\",IF($C65:$AZ65=\"|\",\"|\",\"\")),IF($C65:$AZ65=\"▲\",\"|\",IF($C65:$AZ65=\"|\",\"|\",\"\"))))","v":""},"","","","","","","","","","","","","","","","","","","","","","","","","","","","","","","","","","","","","","","","","","","","","","","","",""]
[{"$f":"IF(A65=\"\",\"\",IF((SUM(IF(FREQUENCY('A1'!$K$30:$L$103,'A1'!$K$30:$L$103)>0,1)))>(A65+1),(A65+1),\"\"))","v":""},{"$f":"IF(A66=\"\",\"\",(LARGE('A1'!$K$30:$L$103,(1+SUM(COUNTIF('A1'!$K$30:$L$103,B$7:B66))-(A66*COUNTIF('A1'!$K$30:$L$103,B$8))))))","v":""},{"$f":"IF($C$6:$AZ$6=\"\",\"\",IF($C$6:$AZ$6=\"HOT\",IF(TRANSPOSE('A1'!$K$30:$K$80)=$B67,\"●\",IF(TRANSPOSE('A1'!$L$30:$L$80)=$B67,\"▼\",IF($C66:$AZ66=\"|\",\"|\",\"\"))),IF(TRANSPOSE('A1'!$K$30:$K$80)=$B67,\"●\",IF(TRANSPOSE('A1'!$L$30:$L$80)=$B67,\"▲\",IF($C66:$AZ66=\"|\",\"|\",\"\")))))","v":""},"","","","","","","","","","","","","","","","","","","","","","","","","","","","","","","","","","","","","","","","","","","","","","","","",""]
[{"$f":"IF(A66=\"\",\"\",IF((SUM(IF(FREQUENCY('A1'!$K$30:$L$103,'A1'!$K$30:$L$103)>0,1)))>(A66+1),(A66+1),\"\"))","v":""},{"$f":"IF(A67=\"\",\"\",(LARGE('A1'!$K$30:$L$103,(1+SUM(COUNTIF('A1'!$K$30:$L$103,B$7:B67))-(A67*COUNTIF('A1'!$K$30:$L$103,B$8))))))","v":""},{"$f":"IF($C$6:$AZ$6=\"\",\"\",IF($C$6:$AZ$6=\"HOT\",IF($C67:$AZ67=\"●\",\"|\",IF($C67:$AZ67=\"|\",\"|\",\"\")),IF($C67:$AZ67=\"▲\",\"|\",IF($C67:$AZ67=\"|\",\"|\",\"\"))))","v":""},"","","","","","","","","","","","","","","","","","","","","","","","","","","","","","","","","","","","","","","","","","","","","","","","",""]
[{"$f":"IF(A67=\"\",\"\",IF((SUM(IF(FREQUENCY('A1'!$K$30:$L$103,'A1'!$K$30:$L$103)>0,1)))>(A67+1),(A67+1),\"\"))","v":""},{"$f":"IF(A68=\"\",\"\",(LARGE('A1'!$K$30:$L$103,(1+SUM(COUNTIF('A1'!$K$30:$L$103,B$7:B68))-(A68*COUNTIF('A1'!$K$30:$L$103,B$8))))))","v":""},{"$f":"IF($C$6:$AZ$6=\"\",\"\",IF($C$6:$AZ$6=\"HOT\",IF(TRANSPOSE('A1'!$K$30:$K$80)=$B69,\"●\",IF(TRANSPOSE('A1'!$L$30:$L$80)=$B69,\"▼\",IF($C68:$AZ68=\"|\",\"|\",\"\"))),IF(TRANSPOSE('A1'!$K$30:$K$80)=$B69,\"●\",IF(TRANSPOSE('A1'!$L$30:$L$80)=$B69,\"▲\",IF($C68:$AZ68=\"|\",\"|\",\"\")))))","v":""},"","","","","","","","","","","","","","","","","","","","","","","","","","","","","","","","","","","","","","","","","","","","","","","","",""]
[{"$f":"IF(A68=\"\",\"\",IF((SUM(IF(FREQUENCY('A1'!$K$30:$L$103,'A1'!$K$30:$L$103)>0,1)))>(A68+1),(A68+1),\"\"))","v":""},{"$f":"IF(A69=\"\",\"\",(LARGE('A1'!$K$30:$L$103,(1+SUM(COUNTIF('A1'!$K$30:$L$103,B$7:B69))-(A69*COUNTIF('A1'!$K$30:$L$103,B$8))))))","v":""},{"$f":"IF($C$6:$AZ$6=\"\",\"\",IF($C$6:$AZ$6=\"HOT\",IF($C69:$AZ69=\"●\",\"|\",IF($C69:$AZ69=\"|\",\"|\",\"\")),IF($C69:$AZ69=\"▲\",\"|\",IF($C69:$AZ69=\"|\",\"|\",\"\"))))","v":""},"","","","","","","","","","","","","","","","","","","","","","","","","","","","","","","","","","","","","","","","","","","","","","","","",""]
[{"$f":"IF(A69=\"\",\"\",IF((SUM(IF(FREQUENCY('A1'!$K$30:$L$103,'A1'!$K$30:$L$103)>0,1)))>(A69+1),(A69+1),\"\"))","v":""},{"$f":"IF(A70=\"\",\"\",(LARGE('A1'!$K$30:$L$103,(1+SUM(COUNTIF('A1'!$K$30:$L$103,B$7:B70))-(A70*COUNTIF('A1'!$K$30:$L$103,B$8))))))","v":""},{"$f":"IF($C$6:$AZ$6=\"\",\"\",IF($C$6:$AZ$6=\"HOT\",IF(TRANSPOSE('A1'!$K$30:$K$80)=$B71,\"●\",IF(TRANSPOSE('A1'!$L$30:$L$80)=$B71,\"▼\",IF($C70:$AZ70=\"|\",\"|\",\"\"))),IF(TRANSPOSE('A1'!$K$30:$K$80)=$B71,\"●\",IF(TRANSPOSE('A1'!$L$30:$L$80)=$B71,\"▲\",IF($C70:$AZ70=\"|\",\"|\",\"\")))))","v":""},"","","","","","","","","","","","","","","","","","","","","","","","","","","","","","","","","","","","","","","","","","","","","","","","",""]
[{"$f":"IF(A70=\"\",\"\",IF((SUM(IF(FREQUENCY('A1'!$K$30:$L$103,'A1'!$K$30:$L$103)>0,1)))>(A70+1),(A70+1),\"\"))","v":""},{"$f":"IF(A71=\"\",\"\",(LARGE('A1'!$K$30:$L$103,(1+SUM(COUNTIF('A1'!$K$30:$L$103,B$7:B71))-(A71*COUNTIF('A1'!$K$30:$L$103,B$8))))))","v":""},{"$f":"IF($C$6:$AZ$6=\"\",\"\",IF($C$6:$AZ$6=\"HOT\",IF($C71:$AZ71=\"●\",\"|\",IF($C71:$AZ71=\"|\",\"|\",\"\")),IF($C71:$AZ71=\"▲\",\"|\",IF($C71:$AZ71=\"|\",\"|\",\"\"))))","v":""},"","","","","","","","","","","","","","","","","","","","","","","","","","","","","","","","","","","","","","","","","","","","","","","","",""]
[{"$f":"IF(A71=\"\",\"\",IF((SUM(IF(FREQUENCY('A1'!$K$30:$L$103,'A1'!$K$30:$L$103)>0,1)))>(A71+1),(A71+1),\"\"))","v":""},{"$f":"IF(A72=\"\",\"\",(LARGE('A1'!$K$30:$L$103,(1+SUM(COUNTIF('A1'!$K$30:$L$103,B$7:B72))-(A72*COUNTIF('A1'!$K$30:$L$103,B$8))))))","v":""},{"$f":"IF($C$6:$AZ$6=\"\",\"\",IF($C$6:$AZ$6=\"HOT\",IF(TRANSPOSE('A1'!$K$30:$K$80)=$B73,\"●\",IF(TRANSPOSE('A1'!$L$30:$L$80)=$B73,\"▼\",IF($C72:$AZ72=\"|\",\"|\",\"\"))),IF(TRANSPOSE('A1'!$K$30:$K$80)=$B73,\"●\",IF(TRANSPOSE('A1'!$L$30:$L$80)=$B73,\"▲\",IF($C72:$AZ72=\"|\",\"|\",\"\")))))","v":""},"","","","","","","","","","","","","","","","","","","","","","","","","","","","","","","","","","","","","","","","","","","","","","","","",""]
[{"$f":"IF(A72=\"\",\"\",IF((SUM(IF(FREQUENCY('A1'!$K$30:$L$103,'A1'!$K$30:$L$103)>0,1)))>(A72+1),(A72+1),\"\"))","v":""},{"$f":"IF(A73=\"\",\"\",(LARGE('A1'!$K$30:$L$103,(1+SUM(COUNTIF('A1'!$K$30:$L$103,B$7:B73))-(A73*COUNTIF('A1'!$K$30:$L$103,B$8))))))","v":""},{"$f":"IF($C$6:$AZ$6=\"\",\"\",IF($C$6:$AZ$6=\"HOT\",IF($C73:$AZ73=\"●\",\"|\",IF($C73:$AZ73=\"|\",\"|\",\"\")),IF($C73:$AZ73=\"▲\",\"|\",IF($C73:$AZ73=\"|\",\"|\",\"\"))))","v":""},"","","","","","","","","","","","","","","","","","","","","","","","","","","","","","","","","","","","","","","","","","","","","","","","",""]
[{"$f":"IF(A73=\"\",\"\",IF((SUM(IF(FREQUENCY('A1'!$K$30:$L$103,'A1'!$K$30:$L$103)>0,1)))>(A73+1),(A73+1),\"\"))","v":""},{"$f":"IF(A74=\"\",\"\",(LARGE('A1'!$K$30:$L$103,(1+SUM(COUNTIF('A1'!$K$30:$L$103,B$7:B74))-(A74*COUNTIF('A1'!$K$30:$L$103,B$8))))))","v":""},{"$f":"IF($C$6:$AZ$6=\"\",\"\",IF($C$6:$AZ$6=\"HOT\",IF(TRANSPOSE('A1'!$K$30:$K$80)=$B75,\"●\",IF(TRANSPOSE('A1'!$L$30:$L$80)=$B75,\"▼\",IF($C74:$AZ74=\"|\",\"|\",\"\"))),IF(TRANSPOSE('A1'!$K$30:$K$80)=$B75,\"●\",IF(TRANSPOSE('A1'!$L$30:$L$80)=$B75,\"▲\",IF($C74:$AZ74=\"|\",\"|\",\"\")))))","v":""},"","","","","","","","","","","","","","","","","","","","","","","","","","","","","","","","","","","","","","","","","","","","","","","","",""]
[{"$f":"IF(A74=\"\",\"\",IF((SUM(IF(FREQUENCY('A1'!$K$30:$L$103,'A1'!$K$30:$L$103)>0,1)))>(A74+1),(A74+1),\"\"))","v":""},{"$f":"IF(A75=\"\",\"\",(LARGE('A1'!$K$30:$L$103,(1+SUM(COUNTIF('A1'!$K$30:$L$103,B$7:B75))-(A75*COUNTIF('A1'!$K$30:$L$103,B$8))))))","v":""},{"$f":"IF($C$6:$AZ$6=\"\",\"\",IF($C$6:$AZ$6=\"HOT\",IF($C75:$AZ75=\"●\",\"|\",IF($C75:$AZ75=\"|\",\"|\",\"\")),IF($C75:$AZ75=\"▲\",\"|\",IF($C75:$AZ75=\"|\",\"|\",\"\"))))","v":""},"","","","","","","","","","","","","","","","","","","","","","","","","","","","","","","","","","","","","","","","","","","","","","","","",""]
[{"$f":"IF(A75=\"\",\"\",IF((SUM(IF(FREQUENCY('A1'!$K$30:$L$103,'A1'!$K$30:$L$103)>0,1)))>(A75+1),(A75+1),\"\"))","v":""},{"$f":"IF(A76=\"\",\"\",(LARGE('A1'!$K$30:$L$103,(1+SUM(COUNTIF('A1'!$K$30:$L$103,B$7:B76))-(A76*COUNTIF('A1'!$K$30:$L$103,B$8))))))","v":""},{"$f":"IF($C$6:$AZ$6=\"\",\"\",IF($C$6:$AZ$6=\"HOT\",IF(TRANSPOSE('A1'!$K$30:$K$80)=$B77,\"●\",IF(TRANSPOSE('A1'!$L$30:$L$80)=$B77,\"▼\",IF($C76:$AZ76=\"|\",\"|\",\"\"))),IF(TRANSPOSE('A1'!$K$30:$K$80)=$B77,\"●\",IF(TRANSPOSE('A1'!$L$30:$L$80)=$B77,\"▲\",IF($C76:$AZ76=\"|\",\"|\",\"\")))))","v":""},"","","","","","","","","","","","","","","","","","","","","","","","","","","","","","","","","","","","","","","","","","","","","","","","",""]
[{"$f":"IF(A76=\"\",\"\",IF((SUM(IF(FREQUENCY('A1'!$K$30:$L$103,'A1'!$K$30:$L$103)>0,1)))>(A76+1),(A76+1),\"\"))","v":""},{"$f":"IF(A77=\"\",\"\",(LARGE('A1'!$K$30:$L$103,(1+SUM(COUNTIF('A1'!$K$30:$L$103,B$7:B77))-(A77*COUNTIF('A1'!$K$30:$L$103,B$8))))))","v":""},{"$f":"IF($C$6:$AZ$6=\"\",\"\",IF($C$6:$AZ$6=\"HOT\",IF($C77:$AZ77=\"●\",\"|\",IF($C77:$AZ77=\"|\",\"|\",\"\")),IF($C77:$AZ77=\"▲\",\"|\",IF($C77:$AZ77=\"|\",\"|\",\"\"))))","v":""},"","","","","","","","","","","","","","","","","","","","","","","","","","","","","","","","","","","","","","","","","","","","","","","","",""]
[{"$f":"IF(A77=\"\",\"\",IF((SUM(IF(FREQUENCY('A1'!$K$30:$L$103,'A1'!$K$30:$L$103)>0,1)))>(A77+1),(A77+1),\"\"))","v":""},{"$f":"IF(A78=\"\",\"\",(LARGE('A1'!$K$30:$L$103,(1+SUM(COUNTIF('A1'!$K$30:$L$103,B$7:B78))-(A78*COUNTIF('A1'!$K$30:$L$103,B$8))))))","v":""},{"$f":"IF($C$6:$AZ$6=\"\",\"\",IF($C$6:$AZ$6=\"HOT\",IF(TRANSPOSE('A1'!$K$30:$K$80)=$B79,\"●\",IF(TRANSPOSE('A1'!$L$30:$L$80)=$B79,\"▼\",IF($C78:$AZ78=\"|\",\"|\",\"\"))),IF(TRANSPOSE('A1'!$K$30:$K$80)=$B79,\"●\",IF(TRANSPOSE('A1'!$L$30:$L$80)=$B79,\"▲\",IF($C78:$AZ78=\"|\",\"|\",\"\")))))","v":""},"","","","","","","","","","","","","","","","","","","","","","","","","","","","","","","","","","","","","","","","","","","","","","","","",""]
[{"$f":"IF(A78=\"\",\"\",IF((SUM(IF(FREQUENCY('A1'!$K$30:$L$103,'A1'!$K$30:$L$103)>0,1)))>(A78+1),(A78+1),\"\"))","v":""},{"$f":"IF(A79=\"\",\"\",(LARGE('A1'!$K$30:$L$103,(1+SUM(COUNTIF('A1'!$K$30:$L$103,B$7:B79))-(A79*COUNTIF('A1'!$K$30:$L$103,B$8))))))","v":""},{"$f":"IF($C$6:$AZ$6=\"\",\"\",IF($C$6:$AZ$6=\"HOT\",IF($C79:$AZ79=\"●\",\"|\",IF($C79:$AZ79=\"|\",\"|\",\"\")),IF($C79:$AZ79=\"▲\",\"|\",IF($C79:$AZ79=\"|\",\"|\",\"\"))))","v":""},"","","","","","","","","","","","","","","","","","","","","","","","","","","","","","","","","","","","","","","","","","","","","","","","",""]
[{"$f":"IF(A79=\"\",\"\",IF((SUM(IF(FREQUENCY('A1'!$K$30:$L$103,'A1'!$K$30:$L$103)>0,1)))>(A79+1),(A79+1),\"\"))","v":""},{"$f":"IF(A80=\"\",\"\",(LARGE('A1'!$K$30:$L$103,(1+SUM(COUNTIF('A1'!$K$30:$L$103,B$7:B80))-(A80*COUNTIF('A1'!$K$30:$L$103,B$8))))))","v":""},{"$f":"IF($C$6:$AZ$6=\"\",\"\",IF($C$6:$AZ$6=\"HOT\",IF(TRANSPOSE('A1'!$K$30:$K$80)=$B81,\"●\",IF(TRANSPOSE('A1'!$L$30:$L$80)=$B81,\"▼\",IF($C80:$AZ80=\"|\",\"|\",\"\"))),IF(TRANSPOSE('A1'!$K$30:$K$80)=$B81,\"●\",IF(TRANSPOSE('A1'!$L$30:$L$80)=$B81,\"▲\",IF($C80:$AZ80=\"|\",\"|\",\"\")))))","v":""},"","","","","","","","","","","","","","","","","","","","","","","","","","","","","","","","","","","","","","","","","","","","","","","","",""]
[{"$f":"IF(A80=\"\",\"\",IF((SUM(IF(FREQUENCY('A1'!$K$30:$L$103,'A1'!$K$30:$L$103)>0,1)))>(A80+1),(A80+1),\"\"))","v":""},{"$f":"IF(A81=\"\",\"\",(LARGE('A1'!$K$30:$L$103,(1+SUM(COUNTIF('A1'!$K$30:$L$103,B$7:B81))-(A81*COUNTIF('A1'!$K$30:$L$103,B$8))))))","v":""},{"$f":"IF($C$6:$AZ$6=\"\",\"\",IF($C$6:$AZ$6=\"HOT\",IF($C81:$AZ81=\"●\",\"|\",IF($C81:$AZ81=\"|\",\"|\",\"\")),IF($C81:$AZ81=\"▲\",\"|\",IF($C81:$AZ81=\"|\",\"|\",\"\"))))","v":""},"","","","","","","","","","","","","","","","","","","","","","","","","","","","","","","","","","","","","","","","","","","","","","","","",""]
[{"$f":"IF(A81=\"\",\"\",IF((SUM(IF(FREQUENCY('A1'!$K$30:$L$103,'A1'!$K$30:$L$103)>0,1)))>(A81+1),(A81+1),\"\"))","v":""},{"$f":"IF(A82=\"\",\"\",(LARGE('A1'!$K$30:$L$103,(1+SUM(COUNTIF('A1'!$K$30:$L$103,B$7:B82))-(A82*COUNTIF('A1'!$K$30:$L$103,B$8))))))","v":""},{"$f":"IF($C$6:$AZ$6=\"\",\"\",IF($C$6:$AZ$6=\"HOT\",IF(TRANSPOSE('A1'!$K$30:$K$80)=$B83,\"●\",IF(TRANSPOSE('A1'!$L$30:$L$80)=$B83,\"▼\",IF($C82:$AZ82=\"|\",\"|\",\"\"))),IF(TRANSPOSE('A1'!$K$30:$K$80)=$B83,\"●\",IF(TRANSPOSE('A1'!$L$30:$L$80)=$B83,\"▲\",IF($C82:$AZ82=\"|\",\"|\",\"\")))))","v":""},"","","","","","","","","","","","","","","","","","","","","","","","","","","","","","","","","","","","","","","","","","","","","","","","",""]
[{"$f":"IF(A82=\"\",\"\",IF((SUM(IF(FREQUENCY('A1'!$K$30:$L$103,'A1'!$K$30:$L$103)>0,1)))>(A82+1),(A82+1),\"\"))","v":""},{"$f":"IF(A83=\"\",\"\",(LARGE('A1'!$K$30:$L$103,(1+SUM(COUNTIF('A1'!$K$30:$L$103,B$7:B83))-(A83*COUNTIF('A1'!$K$30:$L$103,B$8))))))","v":""},{"$f":"IF($C$6:$AZ$6=\"\",\"\",IF($C$6:$AZ$6=\"HOT\",IF($C83:$AZ83=\"●\",\"|\",IF($C83:$AZ83=\"|\",\"|\",\"\")),IF($C83:$AZ83=\"▲\",\"|\",IF($C83:$AZ83=\"|\",\"|\",\"\"))))","v":""},"","","","","","","","","","","","","","","","","","","","","","","","","","","","","","","","","","","","","","","","","","","","","","","","",""]
[{"$f":"IF(A83=\"\",\"\",IF((SUM(IF(FREQUENCY('A1'!$K$30:$L$103,'A1'!$K$30:$L$103)>0,1)))>(A83+1),(A83+1),\"\"))","v":""},{"$f":"IF(A84=\"\",\"\",(LARGE('A1'!$K$30:$L$103,(1+SUM(COUNTIF('A1'!$K$30:$L$103,B$7:B84))-(A84*COUNTIF('A1'!$K$30:$L$103,B$8))))))","v":""},{"$f":"IF($C$6:$AZ$6=\"\",\"\",IF($C$6:$AZ$6=\"HOT\",IF(TRANSPOSE('A1'!$K$30:$K$80)=$B85,\"●\",IF(TRANSPOSE('A1'!$L$30:$L$80)=$B85,\"▼\",IF($C84:$AZ84=\"|\",\"|\",\"\"))),IF(TRANSPOSE('A1'!$K$30:$K$80)=$B85,\"●\",IF(TRANSPOSE('A1'!$L$30:$L$80)=$B85,\"▲\",IF($C84:$AZ84=\"|\",\"|\",\"\")))))","v":""},"","","","","","","","","","","","","","","","","","","","","","","","","","","","","","","","","","","","","","","","","","","","","","","","",""]
[{"$f":"IF(A84=\"\",\"\",IF((SUM(IF(FREQUENCY('A1'!$K$30:$L$103,'A1'!$K$30:$L$103)>0,1)))>(A84+1),(A84+1),\"\"))","v":""},{"$f":"IF(A85=\"\",\"\",(LARGE('A1'!$K$30:$L$103,(1+SUM(COUNTIF('A1'!$K$30:$L$103,B$7:B85))-(A85*COUNTIF('A1'!$K$30:$L$103,B$8))))))","v":""},{"$f":"IF($C$6:$AZ$6=\"\",\"\",IF($C$6:$AZ$6=\"HOT\",IF($C85:$AZ85=\"●\",\"|\",IF($C85:$AZ85=\"|\",\"|\",\"\")),IF($C85:$AZ85=\"▲\",\"|\",IF($C85:$AZ85=\"|\",\"|\",\"\"))))","v":""},"","","","","","","","","","","","","","","","","","","","","","","","","","","","","","","","","","","","","","","","","","","","","","","","",""]
[{"$f":"IF(A85=\"\",\"\",IF((SUM(IF(FREQUENCY('A1'!$K$30:$L$103,'A1'!$K$30:$L$103)>0,1)))>(A85+1),(A85+1),\"\"))","v":""},{"$f":"IF(A86=\"\",\"\",(LARGE('A1'!$K$30:$L$103,(1+SUM(COUNTIF('A1'!$K$30:$L$103,B$7:B86))-(A86*COUNTIF('A1'!$K$30:$L$103,B$8))))))","v":""},{"$f":"IF($C$6:$AZ$6=\"\",\"\",IF($C$6:$AZ$6=\"HOT\",IF(TRANSPOSE('A1'!$K$30:$K$80)=$B87,\"●\",IF(TRANSPOSE('A1'!$L$30:$L$80)=$B87,\"▼\",IF($C86:$AZ86=\"|\",\"|\",\"\"))),IF(TRANSPOSE('A1'!$K$30:$K$80)=$B87,\"●\",IF(TRANSPOSE('A1'!$L$30:$L$80)=$B87,\"▲\",IF($C86:$AZ86=\"|\",\"|\",\"\")))))","v":""},"","","","","","","","","","","","","","","","","","","","","","","","","","","","","","","","","","","","","","","","","","","","","","","","",""]
[{"$f":"IF(A86=\"\",\"\",IF((SUM(IF(FREQUENCY('A1'!$K$30:$L$103,'A1'!$K$30:$L$103)>0,1)))>(A86+1),(A86+1),\"\"))","v":""},{"$f":"IF(A87=\"\",\"\",(LARGE('A1'!$K$30:$L$103,(1+SUM(COUNTIF('A1'!$K$30:$L$103,B$7:B87))-(A87*COUNTIF('A1'!$K$30:$L$103,B$8))))))","v":""},{"$f":"IF($C$6:$AZ$6=\"\",\"\",IF($C$6:$AZ$6=\"HOT\",IF($C87:$AZ87=\"●\",\"|\",IF($C87:$AZ87=\"|\",\"|\",\"\")),IF($C87:$AZ87=\"▲\",\"|\",IF($C87:$AZ87=\"|\",\"|\",\"\"))))","v":""},"","","","","","","","","","","","","","","","","","","","","","","","","","","","","","","","","","","","","","","","","","","","","","","","",""]
[{"$f":"IF(A87=\"\",\"\",IF((SUM(IF(FREQUENCY('A1'!$K$30:$L$103,'A1'!$K$30:$L$103)>0,1)))>(A87+1),(A87+1),\"\"))","v":""},{"$f":"IF(A88=\"\",\"\",(LARGE('A1'!$K$30:$L$103,(1+SUM(COUNTIF('A1'!$K$30:$L$103,B$7:B88))-(A88*COUNTIF('A1'!$K$30:$L$103,B$8))))))","v":""},{"$f":"IF($C$6:$AZ$6=\"\",\"\",IF($C$6:$AZ$6=\"HOT\",IF(TRANSPOSE('A1'!$K$30:$K$80)=$B89,\"●\",IF(TRANSPOSE('A1'!$L$30:$L$80)=$B89,\"▼\",IF($C88:$AZ88=\"|\",\"|\",\"\"))),IF(TRANSPOSE('A1'!$K$30:$K$80)=$B89,\"●\",IF(TRANSPOSE('A1'!$L$30:$L$80)=$B89,\"▲\",IF($C88:$AZ88=\"|\",\"|\",\"\")))))","v":""},"","","","","","","","","","","","","","","","","","","","","","","","","","","","","","","","","","","","","","","","","","","","","","","","",""]
[{"$f":"IF(A88=\"\",\"\",IF((SUM(IF(FREQUENCY('A1'!$K$30:$L$103,'A1'!$K$30:$L$103)>0,1)))>(A88+1),(A88+1),\"\"))","v":""},{"$f":"IF(A89=\"\",\"\",(LARGE('A1'!$K$30:$L$103,(1+SUM(COUNTIF('A1'!$K$30:$L$103,B$7:B89))-(A89*COUNTIF('A1'!$K$30:$L$103,B$8))))))","v":""},{"$f":"IF($C$6:$AZ$6=\"\",\"\",IF($C$6:$AZ$6=\"HOT\",IF($C89:$AZ89=\"●\",\"|\",IF($C89:$AZ89=\"|\",\"|\",\"\")),IF($C89:$AZ89=\"▲\",\"|\",IF($C89:$AZ89=\"|\",\"|\",\"\"))))","v":""},"","","","","","","","","","","","","","","","","","","","","","","","","","","","","","","","","","","","","","","","","","","","","","","","",""]
[{"$f":"IF(A89=\"\",\"\",IF((SUM(IF(FREQUENCY('A1'!$K$30:$L$103,'A1'!$K$30:$L$103)>0,1)))>(A89+1),(A89+1),\"\"))","v":""},{"$f":"IF(A90=\"\",\"\",(LARGE('A1'!$K$30:$L$103,(1+SUM(COUNTIF('A1'!$K$30:$L$103,B$7:B90))-(A90*COUNTIF('A1'!$K$30:$L$103,B$8))))))","v":""},{"$f":"IF($C$6:$AZ$6=\"\",\"\",IF($C$6:$AZ$6=\"HOT\",IF(TRANSPOSE('A1'!$K$30:$K$80)=$B91,\"●\",IF(TRANSPOSE('A1'!$L$30:$L$80)=$B91,\"▼\",IF($C90:$AZ90=\"|\",\"|\",\"\"))),IF(TRANSPOSE('A1'!$K$30:$K$80)=$B91,\"●\",IF(TRANSPOSE('A1'!$L$30:$L$80)=$B91,\"▲\",IF($C90:$AZ90=\"|\",\"|\",\"\")))))","v":""},"","","","","","","","","","","","","","","","","","","","","","","","","","","","","","","","","","","","","","","","","","","","","","","","",""]
[{"$f":"IF(A90=\"\",\"\",IF((SUM(IF(FREQUENCY('A1'!$K$30:$L$103,'A1'!$K$30:$L$103)>0,1)))>(A90+1),(A90+1),\"\"))","v":""},{"$f":"IF(A91=\"\",\"\",(LARGE('A1'!$K$30:$L$103,(1+SUM(COUNTIF('A1'!$K$30:$L$103,B$7:B91))-(A91*COUNTIF('A1'!$K$30:$L$103,B$8))))))","v":""},{"$f":"IF($C$6:$AZ$6=\"\",\"\",IF($C$6:$AZ$6=\"HOT\",IF($C91:$AZ91=\"●\",\"|\",IF($C91:$AZ91=\"|\",\"|\",\"\")),IF($C91:$AZ91=\"▲\",\"|\",IF($C91:$AZ91=\"|\",\"|\",\"\"))))","v":""},"","","","","","","","","","","","","","","","","","","","","","","","","","","","","","","","","","","","","","","","","","","","","","","","",""]
[{"$f":"IF(A91=\"\",\"\",IF((SUM(IF(FREQUENCY('A1'!$K$30:$L$103,'A1'!$K$30:$L$103)>0,1)))>(A91+1),(A91+1),\"\"))","v":""},{"$f":"IF(A92=\"\",\"\",(LARGE('A1'!$K$30:$L$103,(1+SUM(COUNTIF('A1'!$K$30:$L$103,B$7:B92))-(A92*COUNTIF('A1'!$K$30:$L$103,B$8))))))","v":""},{"$f":"IF($C$6:$AZ$6=\"\",\"\",IF($C$6:$AZ$6=\"HOT\",IF(TRANSPOSE('A1'!$K$30:$K$80)=$B93,\"●\",IF(TRANSPOSE('A1'!$L$30:$L$80)=$B93,\"▼\",IF($C92:$AZ92=\"|\",\"|\",\"\"))),IF(TRANSPOSE('A1'!$K$30:$K$80)=$B93,\"●\",IF(TRANSPOSE('A1'!$L$30:$L$80)=$B93,\"▲\",IF($C92:$AZ92=\"|\",\"|\",\"\")))))","v":""},"","","","","","","","","","","","","","","","","","","","","","","","","","","","","","","","","","","","","","","","","","","","","","","","",""]
[{"$f":"IF(A92=\"\",\"\",IF((SUM(IF(FREQUENCY('A1'!$K$30:$L$103,'A1'!$K$30:$L$103)>0,1)))>(A92+1),(A92+1),\"\"))","v":""},{"$f":"IF(A93=\"\",\"\",(LARGE('A1'!$K$30:$L$103,(1+SUM(COUNTIF('A1'!$K$30:$L$103,B$7:B93))-(A93*COUNTIF('A1'!$K$30:$L$103,B$8))))))","v":""},{"$f":"IF($C$6:$AZ$6=\"\",\"\",IF($C$6:$AZ$6=\"HOT\",IF($C93:$AZ93=\"●\",\"|\",IF($C93:$AZ93=\"|\",\"|\",\"\")),IF($C93:$AZ93=\"▲\",\"|\",IF($C93:$AZ93=\"|\",\"|\",\"\"))))","v":""},"","","","","","","","","","","","","","","","","","","","","","","","","","","","","","","","","","","","","","","","","","","","","","","","",""]
[{"$f":"IF(A93=\"\",\"\",IF((SUM(IF(FREQUENCY('A1'!$K$30:$L$103,'A1'!$K$30:$L$103)>0,1)))>(A93+1),(A93+1),\"\"))","v":""},{"$f":"IF(A94=\"\",\"\",(LARGE('A1'!$K$30:$L$103,(1+SUM(COUNTIF('A1'!$K$30:$L$103,B$7:B94))-(A94*COUNTIF('A1'!$K$30:$L$103,B$8))))))","v":""},{"$f":"IF($C$6:$AZ$6=\"\",\"\",IF($C$6:$AZ$6=\"HOT\",IF(TRANSPOSE('A1'!$K$30:$K$80)=$B95,\"●\",IF(TRANSPOSE('A1'!$L$30:$L$80)=$B95,\"▼\",IF($C94:$AZ94=\"|\",\"|\",\"\"))),IF(TRANSPOSE('A1'!$K$30:$K$80)=$B95,\"●\",IF(TRANSPOSE('A1'!$L$30:$L$80)=$B95,\"▲\",IF($C94:$AZ94=\"|\",\"|\",\"\")))))","v":""},"","","","","","","","","","","","","","","","","","","","","","","","","","","","","","","","","","","","","","","","","","","","","","","","",""]
[{"$f":"IF(A94=\"\",\"\",IF((SUM(IF(FREQUENCY('A1'!$K$30:$L$103,'A1'!$K$30:$L$103)>0,1)))>(A94+1),(A94+1),\"\"))","v":""},{"$f":"IF(A95=\"\",\"\",(LARGE('A1'!$K$30:$L$103,(1+SUM(COUNTIF('A1'!$K$30:$L$103,B$7:B95))-(A95*COUNTIF('A1'!$K$30:$L$103,B$8))))))","v":""},{"$f":"IF($C$6:$AZ$6=\"\",\"\",IF($C$6:$AZ$6=\"HOT\",IF($C95:$AZ95=\"●\",\"|\",IF($C95:$AZ95=\"|\",\"|\",\"\")),IF($C95:$AZ95=\"▲\",\"|\",IF($C95:$AZ95=\"|\",\"|\",\"\"))))","v":""},"","","","","","","","","","","","","","","","","","","","","","","","","","","","","","","","","","","","","","","","","","","","","","","","",""]
[{"$f":"IF(A95=\"\",\"\",IF((SUM(IF(FREQUENCY('A1'!$K$30:$L$103,'A1'!$K$30:$L$103)>0,1)))>(A95+1),(A95+1),\"\"))","v":""},{"$f":"IF(A96=\"\",\"\",(LARGE('A1'!$K$30:$L$103,(1+SUM(COUNTIF('A1'!$K$30:$L$103,B$7:B96))-(A96*COUNTIF('A1'!$K$30:$L$103,B$8))))))","v":""},{"$f":"IF($C$6:$AZ$6=\"\",\"\",IF($C$6:$AZ$6=\"HOT\",IF(TRANSPOSE('A1'!$K$30:$K$80)=$B97,\"●\",IF(TRANSPOSE('A1'!$L$30:$L$80)=$B97,\"▼\",IF($C96:$AZ96=\"|\",\"|\",\"\"))),IF(TRANSPOSE('A1'!$K$30:$K$80)=$B97,\"●\",IF(TRANSPOSE('A1'!$L$30:$L$80)=$B97,\"▲\",IF($C96:$AZ96=\"|\",\"|\",\"\")))))","v":""},"","","","","","","","","","","","","","","","","","","","","","","","","","","","","","","","","","","","","","","","","","","","","","","","",""]
[{"$f":"IF(A96=\"\",\"\",IF((SUM(IF(FREQUENCY('A1'!$K$30:$L$103,'A1'!$K$30:$L$103)>0,1)))>(A96+1),(A96+1),\"\"))","v":""},{"$f":"IF(A97=\"\",\"\",(LARGE('A1'!$K$30:$L$103,(1+SUM(COUNTIF('A1'!$K$30:$L$103,B$7:B97))-(A97*COUNTIF('A1'!$K$30:$L$103,B$8))))))","v":""},{"$f":"IF($C$6:$AZ$6=\"\",\"\",IF($C$6:$AZ$6=\"HOT\",IF($C97:$AZ97=\"●\",\"|\",IF($C97:$AZ97=\"|\",\"|\",\"\")),IF($C97:$AZ97=\"▲\",\"|\",IF($C97:$AZ97=\"|\",\"|\",\"\"))))","v":""},"","","","","","","","","","","","","","","","","","","","","","","","","","","","","","","","","","","","","","","","","","","","","","","","",""]
[{"$f":"IF(A97=\"\",\"\",IF((SUM(IF(FREQUENCY('A1'!$K$30:$L$103,'A1'!$K$30:$L$103)>0,1)))>(A97+1),(A97+1),\"\"))","v":""},{"$f":"IF(A98=\"\",\"\",(LARGE('A1'!$K$30:$L$103,(1+SUM(COUNTIF('A1'!$K$30:$L$103,B$7:B98))-(A98*COUNTIF('A1'!$K$30:$L$103,B$8))))))","v":""},{"$f":"IF($C$6:$AZ$6=\"\",\"\",IF($C$6:$AZ$6=\"HOT\",IF(TRANSPOSE('A1'!$K$30:$K$80)=$B99,\"●\",IF(TRANSPOSE('A1'!$L$30:$L$80)=$B99,\"▼\",IF($C98:$AZ98=\"|\",\"|\",\"\"))),IF(TRANSPOSE('A1'!$K$30:$K$80)=$B99,\"●\",IF(TRANSPOSE('A1'!$L$30:$L$80)=$B99,\"▲\",IF($C98:$AZ98=\"|\",\"|\",\"\")))))","v":""},"","","","","","","","","","","","","","","","","","","","","","","","","","","","","","","","","","","","","","","","","","","","","","","","",""]
[{"$f":"IF(A98=\"\",\"\",IF((SUM(IF(FREQUENCY('A1'!$K$30:$L$103,'A1'!$K$30:$L$103)>0,1)))>(A98+1),(A98+1),\"\"))","v":""},{"$f":"IF(A99=\"\",\"\",(LARGE('A1'!$K$30:$L$103,(1+SUM(COUNTIF('A1'!$K$30:$L$103,B$7:B99))-(A99*COUNTIF('A1'!$K$30:$L$103,B$8))))))","v":""},{"$f":"IF($C$6:$AZ$6=\"\",\"\",IF($C$6:$AZ$6=\"HOT\",IF($C99:$AZ99=\"●\",\"|\",IF($C99:$AZ99=\"|\",\"|\",\"\")),IF($C99:$AZ99=\"▲\",\"|\",IF($C99:$AZ99=\"|\",\"|\",\"\"))))","v":""},"","","","","","","","","","","","","","","","","","","","","","","","","","","","","","","","","","","","","","","","","","","","","","","","",""]
[{"$f":"IF(A99=\"\",\"\",IF((SUM(IF(FREQUENCY('A1'!$K$30:$L$103,'A1'!$K$30:$L$103)>0,1)))>(A99+1),(A99+1),\"\"))","v":""},{"$f":"IF(A100=\"\",\"\",(LARGE('A1'!$K$30:$L$103,(1+SUM(COUNTIF('A1'!$K$30:$L$103,B$7:B100))-(A100*COUNTIF('A1'!$K$30:$L$103,B$8))))))","v":""},{"$f":"IF($C$6:$AZ$6=\"\",\"\",IF($C$6:$AZ$6=\"HOT\",IF(TRANSPOSE('A1'!$K$30:$K$80)=$B101,\"●\",IF(TRANSPOSE('A1'!$L$30:$L$80)=$B101,\"▼\",IF($C100:$AZ100=\"|\",\"|\",\"\"))),IF(TRANSPOSE('A1'!$K$30:$K$80)=$B101,\"●\",IF(TRANSPOSE('A1'!$L$30:$L$80)=$B101,\"▲\",IF($C100:$AZ100=\"|\",\"|\",\"\")))))","v":""},"","","","","","","","","","","","","","","","","","","","","","","","","","","","","","","","","","","","","","","","","","","","","","","","",""]
[{"$f":"IF(A100=\"\",\"\",IF((SUM(IF(FREQUENCY('A1'!$K$30:$L$103,'A1'!$K$30:$L$103)>0,1)))>(A100+1),(A100+1),\"\"))","v":""},{"$f":"IF(A101=\"\",\"\",(LARGE('A1'!$K$30:$L$103,(1+SUM(COUNTIF('A1'!$K$30:$L$103,B$7:B101))-(A101*COUNTIF('A1'!$K$30:$L$103,B$8))))))","v":""},{"$f":"IF($C$6:$AZ$6=\"\",\"\",IF($C$6:$AZ$6=\"HOT\",IF($C101:$AZ101=\"●\",\"|\",IF($C101:$AZ101=\"|\",\"|\",\"\")),IF($C101:$AZ101=\"▲\",\"|\",IF($C101:$AZ101=\"|\",\"|\",\"\"))))","v":""},"","","","","","","","","","","","","","","","","","","","","","","","","","","","","","","","","","","","","","","","","","","","","","","","",""]
[{"$f":"IF(A101=\"\",\"\",IF((SUM(IF(FREQUENCY('A1'!$K$30:$L$103,'A1'!$K$30:$L$103)>0,1)))>(A101+1),(A101+1),\"\"))","v":""},{"$f":"IF(A102=\"\",\"\",(LARGE('A1'!$K$30:$L$103,(1+SUM(COUNTIF('A1'!$K$30:$L$103,B$7:B102))-(A102*COUNTIF('A1'!$K$30:$L$103,B$8))))))","v":""},{"$f":"IF($C$6:$AZ$6=\"\",\"\",IF($C$6:$AZ$6=\"HOT\",IF(TRANSPOSE('A1'!$K$30:$K$80)=$B103,\"●\",IF(TRANSPOSE('A1'!$L$30:$L$80)=$B103,\"▼\",IF($C102:$AZ102=\"|\",\"|\",\"\"))),IF(TRANSPOSE('A1'!$K$30:$K$80)=$B103,\"●\",IF(TRANSPOSE('A1'!$L$30:$L$80)=$B103,\"▲\",IF($C102:$AZ102=\"|\",\"|\",\"\")))))","v":""},"","","","","","","","","","","","","","","","","","","","","","","","","","","","","","","","","","","","","","","","","","","","","","","","",""]
[{"$f":"IF(A102=\"\",\"\",IF((SUM(IF(FREQUENCY('A1'!$K$30:$L$103,'A1'!$K$30:$L$103)>0,1)))>(A102+1),(A102+1),\"\"))","v":""},{"$f":"IF(A103=\"\",\"\",(LARGE('A1'!$K$30:$L$103,(1+SUM(COUNTIF('A1'!$K$30:$L$103,B$7:B103))-(A103*COUNTIF('A1'!$K$30:$L$103,B$8))))))","v":""},{"$f":"IF($C$6:$AZ$6=\"\",\"\",IF($C$6:$AZ$6=\"HOT\",IF($C103:$AZ103=\"●\",\"|\",IF($C103:$AZ103=\"|\",\"|\",\"\")),IF($C103:$AZ103=\"▲\",\"|\",IF($C103:$AZ103=\"|\",\"|\",\"\"))))","v":""},"","","","","","","","","","","","","","","","","","","","","","","","","","","","","","","","","","","","","","","","","","","","","","","","",""]
[{"$f":"IF(A103=\"\",\"\",IF((SUM(IF(FREQUENCY('A1'!$K$30:$L$103,'A1'!$K$30:$L$103)>0,1)))>(A103+1),(A103+1),\"\"))","v":""},{"$f":"IF(A104=\"\",\"\",(LARGE('A1'!$K$30:$L$103,(1+SUM(COUNTIF('A1'!$K$30:$L$103,B$7:B104))-(A104*COUNTIF('A1'!$K$30:$L$103,B$8))))))","v":""},{"$f":"IF($C$6:$AZ$6=\"\",\"\",IF($C$6:$AZ$6=\"HOT\",IF(TRANSPOSE('A1'!$K$30:$K$80)=$B105,\"●\",IF(TRANSPOSE('A1'!$L$30:$L$80)=$B105,\"▼\",IF($C104:$AZ104=\"|\",\"|\",\"\"))),IF(TRANSPOSE('A1'!$K$30:$K$80)=$B105,\"●\",IF(TRANSPOSE('A1'!$L$30:$L$80)=$B105,\"▲\",IF($C104:$AZ104=\"|\",\"|\",\"\")))))","v":""},"","","","","","","","","","","","","","","","","","","","","","","","","","","","","","","","","","","","","","","","","","","","","","","","",""]
[{"$f":"IF(A104=\"\",\"\",IF((SUM(IF(FREQUENCY('A1'!$K$30:$L$103,'A1'!$K$30:$L$103)>0,1)))>(A104+1),(A104+1),\"\"))","v":""},{"$f":"IF(A105=\"\",\"\",(LARGE('A1'!$K$30:$L$103,(1+SUM(COUNTIF('A1'!$K$30:$L$103,B$7:B105))-(A105*COUNTIF('A1'!$K$30:$L$103,B$8))))))","v":""},{"$f":"IF($C$6:$AZ$6=\"\",\"\",IF($C$6:$AZ$6=\"HOT\",IF($C105:$AZ105=\"●\",\"|\",IF($C105:$AZ105=\"|\",\"|\",\"\")),IF($C105:$AZ105=\"▲\",\"|\",IF($C105:$AZ105=\"|\",\"|\",\"\"))))","v":""},"","","","","","","","","","","","","","","","","","","","","","","","","","","","","","","","","","","","","","","","","","","","","","","","",""]
[{"$f":"IF(A105=\"\",\"\",IF((SUM(IF(FREQUENCY('A1'!$K$30:$L$103,'A1'!$K$30:$L$103)>0,1)))>(A105+1),(A105+1),\"\"))","v":""},{"$f":"IF(A106=\"\",\"\",(LARGE('A1'!$K$30:$L$103,(1+SUM(COUNTIF('A1'!$K$30:$L$103,B$7:B106))-(A106*COUNTIF('A1'!$K$30:$L$103,B$8))))))","v":""},{"$f":"IF($C$6:$AZ$6=\"\",\"\",IF($C$6:$AZ$6=\"HOT\",IF(TRANSPOSE('A1'!$K$30:$K$80)=$B107,\"●\",IF(TRANSPOSE('A1'!$L$30:$L$80)=$B107,\"▼\",IF($C106:$AZ106=\"|\",\"|\",\"\"))),IF(TRANSPOSE('A1'!$K$30:$K$80)=$B107,\"●\",IF(TRANSPOSE('A1'!$L$30:$L$80)=$B107,\"▲\",IF($C106:$AZ106=\"|\",\"|\",\"\")))))","v":""},"","","","","","","","","","","","","","","","","","","","","","","","","","","","","","","","","","","","","","","","","","","","","","","","",""]
[{"$f":"IF(A106=\"\",\"\",IF((SUM(IF(FREQUENCY('A1'!$K$30:$L$103,'A1'!$K$30:$L$103)>0,1)))>(A106+1),(A106+1),\"\"))","v":""},{"$f":"IF(A107=\"\",\"\",(LARGE('A1'!$K$30:$L$103,(1+SUM(COUNTIF('A1'!$K$30:$L$103,B$7:B107))-(A107*COUNTIF('A1'!$K$30:$L$103,B$8))))))","v":""},{"$f":"IF($C$6:$AZ$6=\"\",\"\",IF($C$6:$AZ$6=\"HOT\",IF($C107:$AZ107=\"●\",\"|\",IF($C107:$AZ107=\"|\",\"|\",\"\")),IF($C107:$AZ107=\"▲\",\"|\",IF($C107:$AZ107=\"|\",\"|\",\"\"))))","v":""},"","","","","","","","","","","","","","","","","","","","","","","","","","","","","","","","","","","","","","","","","","","","","","","","",""]
[{"$f":"IF(A107=\"\",\"\",IF((SUM(IF(FREQUENCY('A1'!$K$30:$L$103,'A1'!$K$30:$L$103)>0,1)))>(A107+1),(A107+1),\"\"))","v":""},{"$f":"IF(A108=\"\",\"\",(LARGE('A1'!$K$30:$L$103,(1+SUM(COUNTIF('A1'!$K$30:$L$103,B$7:B108))-(A108*COUNTIF('A1'!$K$30:$L$103,B$8))))))","v":""},{"$f":"IF($C$6:$AZ$6=\"\",\"\",IF($C$6:$AZ$6=\"HOT\",IF(TRANSPOSE('A1'!$K$30:$K$80)=$B109,\"●\",IF(TRANSPOSE('A1'!$L$30:$L$80)=$B109,\"▼\",IF($C108:$AZ108=\"|\",\"|\",\"\"))),IF(TRANSPOSE('A1'!$K$30:$K$80)=$B109,\"●\",IF(TRANSPOSE('A1'!$L$30:$L$80)=$B109,\"▲\",IF($C108:$AZ108=\"|\",\"|\",\"\")))))","v":""},"","","","","","","","","","","","","","","","","","","","","","","","","","","","","","","","","","","","","","","","","","","","","","","","",""]
[{"$f":"IF(A108=\"\",\"\",IF((SUM(IF(FREQUENCY('A1'!$K$30:$L$103,'A1'!$K$30:$L$103)>0,1)))>(A108+1),(A108+1),\"\"))","v":""},{"$f":"IF(A109=\"\",\"\",(LARGE('A1'!$K$30:$L$103,(1+SUM(COUNTIF('A1'!$K$30:$L$103,B$7:B109))-(A109*COUNTIF('A1'!$K$30:$L$103,B$8))))))","v":""},{"$f":"IF($C$6:$AZ$6=\"\",\"\",IF($C$6:$AZ$6=\"HOT\",IF($C109:$AZ109=\"●\",\"|\",IF($C109:$AZ109=\"|\",\"|\",\"\")),IF($C109:$AZ109=\"▲\",\"|\",IF($C109:$AZ109=\"|\",\"|\",\"\"))))","v":""},"","","","","","","","","","","","","","","","","","","","","","","","","","","","","","","","","","","","","","","","","","","","","","","","",""]
[{"$f":"IF(A109=\"\",\"\",IF((SUM(IF(FREQUENCY('A1'!$K$30:$L$103,'A1'!$K$30:$L$103)>0,1)))>(A109+1),(A109+1),\"\"))","v":""},{"$f":"IF(A110=\"\",\"\",(LARGE('A1'!$K$30:$L$103,(1+SUM(COUNTIF('A1'!$K$30:$L$103,B$7:B110))-(A110*COUNTIF('A1'!$K$30:$L$103,B$8))))))","v":""},{"$f":"IF($C$6:$AZ$6=\"\",\"\",IF($C$6:$AZ$6=\"HOT\",IF(TRANSPOSE('A1'!$K$30:$K$80)=$B111,\"●\",IF(TRANSPOSE('A1'!$L$30:$L$80)=$B111,\"▼\",IF($C110:$AZ110=\"|\",\"|\",\"\"))),IF(TRANSPOSE('A1'!$K$30:$K$80)=$B111,\"●\",IF(TRANSPOSE('A1'!$L$30:$L$80)=$B111,\"▲\",IF($C110:$AZ110=\"|\",\"|\",\"\")))))","v":""},"","","","","","","","","","","","","","","","","","","","","","","","","","","","","","","","","","","","","","","","","","","","","","","","",""]
[{"$f":"IF(A110=\"\",\"\",IF((SUM(IF(FREQUENCY('A1'!$K$30:$L$103,'A1'!$K$30:$L$103)>0,1)))>(A110+1),(A110+1),\"\"))","v":""},{"$f":"IF(A111=\"\",\"\",(LARGE('A1'!$K$30:$L$103,(1+SUM(COUNTIF('A1'!$K$30:$L$103,B$7:B111))-(A111*COUNTIF('A1'!$K$30:$L$103,B$8))))))","v":""},{"$f":"IF($C$6:$AZ$6=\"\",\"\",IF($C$6:$AZ$6=\"HOT\",IF($C111:$AZ111=\"●\",\"|\",IF($C111:$AZ111=\"|\",\"|\",\"\")),IF($C111:$AZ111=\"▲\",\"|\",IF($C111:$AZ111=\"|\",\"|\",\"\"))))","v":""},"","","","","","","","","","","","","","","","","","","","","","","","","","","","","","","","","","","","","","","","","","","","","","","","",""]
[{"$f":"IF(A111=\"\",\"\",IF((SUM(IF(FREQUENCY('A1'!$K$30:$L$103,'A1'!$K$30:$L$103)>0,1)))>(A111+1),(A111+1),\"\"))","v":""},{"$f":"IF(A112=\"\",\"\",(LARGE('A1'!$K$30:$L$103,(1+SUM(COUNTIF('A1'!$K$30:$L$103,B$7:B112))-(A112*COUNTIF('A1'!$K$30:$L$103,B$8))))))","v":""},{"$f":"IF($C$6:$AZ$6=\"\",\"\",IF($C$6:$AZ$6=\"HOT\",IF(TRANSPOSE('A1'!$K$30:$K$80)=$B113,\"●\",IF(TRANSPOSE('A1'!$L$30:$L$80)=$B113,\"▼\",IF($C112:$AZ112=\"|\",\"|\",\"\"))),IF(TRANSPOSE('A1'!$K$30:$K$80)=$B113,\"●\",IF(TRANSPOSE('A1'!$L$30:$L$80)=$B113,\"▲\",IF($C112:$AZ112=\"|\",\"|\",\"\")))))","v":""},"","","","","","","","","","","","","","","","","","","","","","","","","","","","","","","","","","","","","","","","","","","","","","","","",""]
[{"$f":"IF(A112=\"\",\"\",IF((SUM(IF(FREQUENCY('A1'!$K$30:$L$103,'A1'!$K$30:$L$103)>0,1)))>(A112+1),(A112+1),\"\"))","v":""},{"$f":"IF(A113=\"\",\"\",(LARGE('A1'!$K$30:$L$103,(1+SUM(COUNTIF('A1'!$K$30:$L$103,B$7:B113))-(A113*COUNTIF('A1'!$K$30:$L$103,B$8))))))","v":""},{"$f":"IF($C$6:$AZ$6=\"\",\"\",IF($C$6:$AZ$6=\"HOT\",IF($C113:$AZ113=\"●\",\"|\",IF($C113:$AZ113=\"|\",\"|\",\"\")),IF($C113:$AZ113=\"▲\",\"|\",IF($C113:$AZ113=\"|\",\"|\",\"\"))))","v":""},"","","","","","","","","","","","","","","","","","","","","","","","","","","","","","","","","","","","","","","","","","","","","","","","",""]
[{"$f":"IF(A113=\"\",\"\",IF((SUM(IF(FREQUENCY('A1'!$K$30:$L$103,'A1'!$K$30:$L$103)>0,1)))>(A113+1),(A113+1),\"\"))","v":""},{"$f":"IF(A114=\"\",\"\",(LARGE('A1'!$K$30:$L$103,(1+SUM(COUNTIF('A1'!$K$30:$L$103,B$7:B114))-(A114*COUNTIF('A1'!$K$30:$L$103,B$8))))))","v":""},{"$f":"IF($C$6:$AZ$6=\"\",\"\",IF($C$6:$AZ$6=\"HOT\",IF(TRANSPOSE('A1'!$K$30:$K$80)=$B115,\"●\",IF(TRANSPOSE('A1'!$L$30:$L$80)=$B115,\"▼\",IF($C114:$AZ114=\"|\",\"|\",\"\"))),IF(TRANSPOSE('A1'!$K$30:$K$80)=$B115,\"●\",IF(TRANSPOSE('A1'!$L$30:$L$80)=$B115,\"▲\",IF($C114:$AZ114=\"|\",\"|\",\"\")))))","v":""},"","","","","","","","","","","","","","","","","","","","","","","","","","","","","","","","","","","","","","","","","","","","","","","","",""]
[{"$f":"IF(A114=\"\",\"\",IF((SUM(IF(FREQUENCY('A1'!$K$30:$L$103,'A1'!$K$30:$L$103)>0,1)))>(A114+1),(A114+1),\"\"))","v":""},{"$f":"IF(A115=\"\",\"\",(LARGE('A1'!$K$30:$L$103,(1+SUM(COUNTIF('A1'!$K$30:$L$103,B$7:B115))-(A115*COUNTIF('A1'!$K$30:$L$103,B$8))))))","v":""},{"$f":"IF($C$6:$AZ$6=\"\",\"\",IF($C$6:$AZ$6=\"HOT\",IF($C115:$AZ115=\"●\",\"|\",IF($C115:$AZ115=\"|\",\"|\",\"\")),IF($C115:$AZ115=\"▲\",\"|\",IF($C115:$AZ115=\"|\",\"|\",\"\"))))","v":""},"","","","","","","","","","","","","","","","","","","","","","","","","","","","","","","","","","","","","","","","","","","","","","","","",""]
[{"$f":"IF(A115=\"\",\"\",IF((SUM(IF(FREQUENCY('A1'!$K$30:$L$103,'A1'!$K$30:$L$103)>0,1)))>(A115+1),(A115+1),\"\"))","v":""},{"$f":"IF(A116=\"\",\"\",(LARGE('A1'!$K$30:$L$103,(1+SUM(COUNTIF('A1'!$K$30:$L$103,B$7:B116))-(A116*COUNTIF('A1'!$K$30:$L$103,B$8))))))","v":""},{"$f":"IF($C$6:$AZ$6=\"\",\"\",IF($C$6:$AZ$6=\"HOT\",IF(TRANSPOSE('A1'!$K$30:$K$80)=$B117,\"●\",IF(TRANSPOSE('A1'!$L$30:$L$80)=$B117,\"▼\",IF($C116:$AZ116=\"|\",\"|\",\"\"))),IF(TRANSPOSE('A1'!$K$30:$K$80)=$B117,\"●\",IF(TRANSPOSE('A1'!$L$30:$L$80)=$B117,\"▲\",IF($C116:$AZ116=\"|\",\"|\",\"\")))))","v":""},"","","","","","","","","","","","","","","","","","","","","","","","","","","","","","","","","","","","","","","","","","","","","","","","",""]
[{"$f":"IF(A116=\"\",\"\",IF((SUM(IF(FREQUENCY('A1'!$K$30:$L$103,'A1'!$K$30:$L$103)>0,1)))>(A116+1),(A116+1),\"\"))","v":""},{"$f":"IF(A117=\"\",\"\",(LARGE('A1'!$K$30:$L$103,(1+SUM(COUNTIF('A1'!$K$30:$L$103,B$7:B117))-(A117*COUNTIF('A1'!$K$30:$L$103,B$8))))))","v":""},{"$f":"IF($C$6:$AZ$6=\"\",\"\",IF($C$6:$AZ$6=\"HOT\",IF($C117:$AZ117=\"●\",\"|\",IF($C117:$AZ117=\"|\",\"|\",\"\")),IF($C117:$AZ117=\"▲\",\"|\",IF($C117:$AZ117=\"|\",\"|\",\"\"))))","v":""},"","","","","","","","","","","","","","","","","","","","","","","","","","","","","","","","","","","","","","","","","","","","","","","","",""]
[{"$f":"IF(A117=\"\",\"\",IF((SUM(IF(FREQUENCY('A1'!$K$30:$L$103,'A1'!$K$30:$L$103)>0,1)))>(A117+1),(A117+1),\"\"))","v":""},{"$f":"IF(A118=\"\",\"\",(LARGE('A1'!$K$30:$L$103,(1+SUM(COUNTIF('A1'!$K$30:$L$103,B$7:B118))-(A118*COUNTIF('A1'!$K$30:$L$103,B$8))))))","v":""},{"$f":"IF($C$6:$AZ$6=\"\",\"\",IF($C$6:$AZ$6=\"HOT\",IF(TRANSPOSE('A1'!$K$30:$K$80)=$B119,\"●\",IF(TRANSPOSE('A1'!$L$30:$L$80)=$B119,\"▼\",IF($C118:$AZ118=\"|\",\"|\",\"\"))),IF(TRANSPOSE('A1'!$K$30:$K$80)=$B119,\"●\",IF(TRANSPOSE('A1'!$L$30:$L$80)=$B119,\"▲\",IF($C118:$AZ118=\"|\",\"|\",\"\")))))","v":""},"","","","","","","","","","","","","","","","","","","","","","","","","","","","","","","","","","","","","","","","","","","","","","","","",""]
[{"$f":"IF(A118=\"\",\"\",IF((SUM(IF(FREQUENCY('A1'!$K$30:$L$103,'A1'!$K$30:$L$103)>0,1)))>(A118+1),(A118+1),\"\"))","v":""},{"$f":"IF(A119=\"\",\"\",(LARGE('A1'!$K$30:$L$103,(1+SUM(COUNTIF('A1'!$K$30:$L$103,B$7:B119))-(A119*COUNTIF('A1'!$K$30:$L$103,B$8))))))","v":""},{"$f":"IF($C$6:$AZ$6=\"\",\"\",IF($C$6:$AZ$6=\"HOT\",IF($C119:$AZ119=\"●\",\"|\",IF($C119:$AZ119=\"|\",\"|\",\"\")),IF($C119:$AZ119=\"▲\",\"|\",IF($C119:$AZ119=\"|\",\"|\",\"\"))))","v":""},"","","","","","","","","","","","","","","","","","","","","","","","","","","","","","","","","","","","","","","","","","","","","","","","",""]
[{"$f":"IF(A119=\"\",\"\",IF((SUM(IF(FREQUENCY('A1'!$K$30:$L$103,'A1'!$K$30:$L$103)>0,1)))>(A119+1),(A119+1),\"\"))","v":""},{"$f":"IF(A120=\"\",\"\",(LARGE('A1'!$K$30:$L$103,(1+SUM(COUNTIF('A1'!$K$30:$L$103,B$7:B120))-(A120*COUNTIF('A1'!$K$30:$L$103,B$8))))))","v":""},{"$f":"IF($C$6:$AZ$6=\"\",\"\",IF($C$6:$AZ$6=\"HOT\",IF(TRANSPOSE('A1'!$K$30:$K$80)=$B121,\"●\",IF(TRANSPOSE('A1'!$L$30:$L$80)=$B121,\"▼\",IF($C120:$AZ120=\"|\",\"|\",\"\"))),IF(TRANSPOSE('A1'!$K$30:$K$80)=$B121,\"●\",IF(TRANSPOSE('A1'!$L$30:$L$80)=$B121,\"▲\",IF($C120:$AZ120=\"|\",\"|\",\"\")))))","v":""},"","","","","","","","","","","","","","","","","","","","","","","","","","","","","","","","","","","","","","","","","","","","","","","","",""]
[{"$f":"IF(A120=\"\",\"\",IF((SUM(IF(FREQUENCY('A1'!$K$30:$L$103,'A1'!$K$30:$L$103)>0,1)))>(A120+1),(A120+1),\"\"))","v":""},{"$f":"IF(A121=\"\",\"\",(LARGE('A1'!$K$30:$L$103,(1+SUM(COUNTIF('A1'!$K$30:$L$103,B$7:B121))-(A121*COUNTIF('A1'!$K$30:$L$103,B$8))))))","v":""},{"$f":"IF($C$6:$AZ$6=\"\",\"\",IF($C$6:$AZ$6=\"HOT\",IF($C121:$AZ121=\"●\",\"|\",IF($C121:$AZ121=\"|\",\"|\",\"\")),IF($C121:$AZ121=\"▲\",\"|\",IF($C121:$AZ121=\"|\",\"|\",\"\"))))","v":""},"","","","","","","","","","","","","","","","","","","","","","","","","","","","","","","","","","","","","","","","","","","","","","","","",""]
[{"$f":"IF(A121=\"\",\"\",IF((SUM(IF(FREQUENCY('A1'!$K$30:$L$103,'A1'!$K$30:$L$103)>0,1)))>(A121+1),(A121+1),\"\"))","v":""},{"$f":"IF(A122=\"\",\"\",(LARGE('A1'!$K$30:$L$103,(1+SUM(COUNTIF('A1'!$K$30:$L$103,B$7:B122))-(A122*COUNTIF('A1'!$K$30:$L$103,B$8))))))","v":""},{"$f":"IF($C$6:$AZ$6=\"\",\"\",IF($C$6:$AZ$6=\"HOT\",IF(TRANSPOSE('A1'!$K$30:$K$80)=$B123,\"●\",IF(TRANSPOSE('A1'!$L$30:$L$80)=$B123,\"▼\",IF($C122:$AZ122=\"|\",\"|\",\"\"))),IF(TRANSPOSE('A1'!$K$30:$K$80)=$B123,\"●\",IF(TRANSPOSE('A1'!$L$30:$L$80)=$B123,\"▲\",IF($C122:$AZ122=\"|\",\"|\",\"\")))))","v":""},"","","","","","","","","","","","","","","","","","","","","","","","","","","","","","","","","","","","","","","","","","","","","","","","",""]
[{"$f":"IF(A122=\"\",\"\",IF((SUM(IF(FREQUENCY('A1'!$K$30:$L$103,'A1'!$K$30:$L$103)>0,1)))>(A122+1),(A122+1),\"\"))","v":""},{"$f":"IF(A123=\"\",\"\",(LARGE('A1'!$K$30:$L$103,(1+SUM(COUNTIF('A1'!$K$30:$L$103,B$7:B123))-(A123*COUNTIF('A1'!$K$30:$L$103,B$8))))))","v":""},{"$f":"IF($C$6:$AZ$6=\"\",\"\",IF($C$6:$AZ$6=\"HOT\",IF($C123:$AZ123=\"●\",\"|\",IF($C123:$AZ123=\"|\",\"|\",\"\")),IF($C123:$AZ123=\"▲\",\"|\",IF($C123:$AZ123=\"|\",\"|\",\"\"))))","v":""},"","","","","","","","","","","","","","","","","","","","","","","","","","","","","","","","","","","","","","","","","","","","","","","","",""]
[{"$f":"IF(A123=\"\",\"\",IF((SUM(IF(FREQUENCY('A1'!$K$30:$L$103,'A1'!$K$30:$L$103)>0,1)))>(A123+1),(A123+1),\"\"))","v":""},{"$f":"IF(A124=\"\",\"\",(LARGE('A1'!$K$30:$L$103,(1+SUM(COUNTIF('A1'!$K$30:$L$103,B$7:B124))-(A124*COUNTIF('A1'!$K$30:$L$103,B$8))))))","v":""},{"$f":"IF($C$6:$AZ$6=\"\",\"\",IF($C$6:$AZ$6=\"HOT\",IF(TRANSPOSE('A1'!$K$30:$K$80)=$B125,\"●\",IF(TRANSPOSE('A1'!$L$30:$L$80)=$B125,\"▼\",IF($C124:$AZ124=\"|\",\"|\",\"\"))),IF(TRANSPOSE('A1'!$K$30:$K$80)=$B125,\"●\",IF(TRANSPOSE('A1'!$L$30:$L$80)=$B125,\"▲\",IF($C124:$AZ124=\"|\",\"|\",\"\")))))","v":""},"","","","","","","","","","","","","","","","","","","","","","","","","","","","","","","","","","","","","","","","","","","","","","","","",""]
[{"$f":"IF(A124=\"\",\"\",IF((SUM(IF(FREQUENCY('A1'!$K$30:$L$103,'A1'!$K$30:$L$103)>0,1)))>(A124+1),(A124+1),\"\"))","v":""},{"$f":"IF(A125=\"\",\"\",(LARGE('A1'!$K$30:$L$103,(1+SUM(COUNTIF('A1'!$K$30:$L$103,B$7:B125))-(A125*COUNTIF('A1'!$K$30:$L$103,B$8))))))","v":""},{"$f":"IF($C$6:$AZ$6=\"\",\"\",IF($C$6:$AZ$6=\"HOT\",IF($C125:$AZ125=\"●\",\"|\",IF($C125:$AZ125=\"|\",\"|\",\"\")),IF($C125:$AZ125=\"▲\",\"|\",IF($C125:$AZ125=\"|\",\"|\",\"\"))))","v":""},"","","","","","","","","","","","","","","","","","","","","","","","","","","","","","","","","","","","","","","","","","","","","","","","",""]
[{"$f":"IF(A125=\"\",\"\",IF((SUM(IF(FREQUENCY('A1'!$K$30:$L$103,'A1'!$K$30:$L$103)>0,1)))>(A125+1),(A125+1),\"\"))","v":""},{"$f":"IF(A126=\"\",\"\",(LARGE('A1'!$K$30:$L$103,(1+SUM(COUNTIF('A1'!$K$30:$L$103,B$7:B126))-(A126*COUNTIF('A1'!$K$30:$L$103,B$8))))))","v":""},{"$f":"IF($C$6:$AZ$6=\"\",\"\",IF($C$6:$AZ$6=\"HOT\",IF(TRANSPOSE('A1'!$K$30:$K$80)=$B127,\"●\",IF(TRANSPOSE('A1'!$L$30:$L$80)=$B127,\"▼\",IF($C126:$AZ126=\"|\",\"|\",\"\"))),IF(TRANSPOSE('A1'!$K$30:$K$80)=$B127,\"●\",IF(TRANSPOSE('A1'!$L$30:$L$80)=$B127,\"▲\",IF($C126:$AZ126=\"|\",\"|\",\"\")))))","v":""},"","","","","","","","","","","","","","","","","","","","","","","","","","","","","","","","","","","","","","","","","","","","","","","","",""]
[{"$f":"IF(A126=\"\",\"\",IF((SUM(IF(FREQUENCY('A1'!$K$30:$L$103,'A1'!$K$30:$L$103)>0,1)))>(A126+1),(A126+1),\"\"))","v":""},{"$f":"IF(A127=\"\",\"\",(LARGE('A1'!$K$30:$L$103,(1+SUM(COUNTIF('A1'!$K$30:$L$103,B$7:B127))-(A127*COUNTIF('A1'!$K$30:$L$103,B$8))))))","v":""},{"$f":"IF($C$6:$AZ$6=\"\",\"\",IF($C$6:$AZ$6=\"HOT\",IF($C127:$AZ127=\"●\",\"|\",IF($C127:$AZ127=\"|\",\"|\",\"\")),IF($C127:$AZ127=\"▲\",\"|\",IF($C127:$AZ127=\"|\",\"|\",\"\"))))","v":""},"","","","","","","","","","","","","","","","","","","","","","","","","","","","","","","","","","","","","","","","","","","","","","","","",""]
[{"$f":"IF(A127=\"\",\"\",IF((SUM(IF(FREQUENCY('A1'!$K$30:$L$103,'A1'!$K$30:$L$103)>0,1)))>(A127+1),(A127+1),\"\"))","v":""},{"$f":"IF(A128=\"\",\"\",(LARGE('A1'!$K$30:$L$103,(1+SUM(COUNTIF('A1'!$K$30:$L$103,B$7:B128))-(A128*COUNTIF('A1'!$K$30:$L$103,B$8))))))","v":""},{"$f":"IF($C$6:$AZ$6=\"\",\"\",IF($C$6:$AZ$6=\"HOT\",IF(TRANSPOSE('A1'!$K$30:$K$80)=$B129,\"●\",IF(TRANSPOSE('A1'!$L$30:$L$80)=$B129,\"▼\",IF($C128:$AZ128=\"|\",\"|\",\"\"))),IF(TRANSPOSE('A1'!$K$30:$K$80)=$B129,\"●\",IF(TRANSPOSE('A1'!$L$30:$L$80)=$B129,\"▲\",IF($C128:$AZ128=\"|\",\"|\",\"\")))))","v":""},"","","","","","","","","","","","","","","","","","","","","","","","","","","","","","","","","","","","","","","","","","","","","","","","",""]
[{"$f":"IF(A128=\"\",\"\",IF((SUM(IF(FREQUENCY('A1'!$K$30:$L$103,'A1'!$K$30:$L$103)>0,1)))>(A128+1),(A128+1),\"\"))","v":""},{"$f":"IF(A129=\"\",\"\",(LARGE('A1'!$K$30:$L$103,(1+SUM(COUNTIF('A1'!$K$30:$L$103,B$7:B129))-(A129*COUNTIF('A1'!$K$30:$L$103,B$8))))))","v":""},{"$f":"IF($C$6:$AZ$6=\"\",\"\",IF($C$6:$AZ$6=\"HOT\",IF($C129:$AZ129=\"●\",\"|\",IF($C129:$AZ129=\"|\",\"|\",\"\")),IF($C129:$AZ129=\"▲\",\"|\",IF($C129:$AZ129=\"|\",\"|\",\"\"))))","v":""},"","","","","","","","","","","","","","","","","","","","","","","","","","","","","","","","","","","","","","","","","","","","","","","","",""]
[{"$f":"IF(A129=\"\",\"\",IF((SUM(IF(FREQUENCY('A1'!$K$30:$L$103,'A1'!$K$30:$L$103)>0,1)))>(A129+1),(A129+1),\"\"))","v":""},{"$f":"IF(A130=\"\",\"\",(LARGE('A1'!$K$30:$L$103,(1+SUM(COUNTIF('A1'!$K$30:$L$103,B$7:B130))-(A130*COUNTIF('A1'!$K$30:$L$103,B$8))))))","v":""},{"$f":"IF($C$6:$AZ$6=\"\",\"\",IF($C$6:$AZ$6=\"HOT\",IF(TRANSPOSE('A1'!$K$30:$K$80)=$B131,\"●\",IF(TRANSPOSE('A1'!$L$30:$L$80)=$B131,\"▼\",IF($C130:$AZ130=\"|\",\"|\",\"\"))),IF(TRANSPOSE('A1'!$K$30:$K$80)=$B131,\"●\",IF(TRANSPOSE('A1'!$L$30:$L$80)=$B131,\"▲\",IF($C130:$AZ130=\"|\",\"|\",\"\")))))","v":""},"","","","","","","","","","","","","","","","","","","","","","","","","","","","","","","","","","","","","","","","","","","","","","","","",""]
[{"$f":"IF(A130=\"\",\"\",IF((SUM(IF(FREQUENCY('A1'!$K$30:$L$103,'A1'!$K$30:$L$103)>0,1)))>(A130+1),(A130+1),\"\"))","v":""},{"$f":"IF(A131=\"\",\"\",(LARGE('A1'!$K$30:$L$103,(1+SUM(COUNTIF('A1'!$K$30:$L$103,B$7:B131))-(A131*COUNTIF('A1'!$K$30:$L$103,B$8))))))","v":""},{"$f":"IF($C$6:$AZ$6=\"\",\"\",IF($C$6:$AZ$6=\"HOT\",IF($C131:$AZ131=\"●\",\"|\",IF($C131:$AZ131=\"|\",\"|\",\"\")),IF($C131:$AZ131=\"▲\",\"|\",IF($C131:$AZ131=\"|\",\"|\",\"\"))))","v":""},"","","","","","","","","","","","","","","","","","","","","","","","","","","","","","","","","","","","","","","","","","","","","","","","",""]
[{"$f":"IF(A131=\"\",\"\",IF((SUM(IF(FREQUENCY('A1'!$K$30:$L$103,'A1'!$K$30:$L$103)>0,1)))>(A131+1),(A131+1),\"\"))","v":""},{"$f":"IF(A132=\"\",\"\",(LARGE('A1'!$K$30:$L$103,(1+SUM(COUNTIF('A1'!$K$30:$L$103,B$7:B132))-(A132*COUNTIF('A1'!$K$30:$L$103,B$8))))))","v":""},{"$f":"IF($C$6:$AZ$6=\"\",\"\",IF($C$6:$AZ$6=\"HOT\",IF(TRANSPOSE('A1'!$K$30:$K$80)=$B133,\"●\",IF(TRANSPOSE('A1'!$L$30:$L$80)=$B133,\"▼\",IF($C132:$AZ132=\"|\",\"|\",\"\"))),IF(TRANSPOSE('A1'!$K$30:$K$80)=$B133,\"●\",IF(TRANSPOSE('A1'!$L$30:$L$80)=$B133,\"▲\",IF($C132:$AZ132=\"|\",\"|\",\"\")))))","v":""},"","","","","","","","","","","","","","","","","","","","","","","","","","","","","","","","","","","","","","","","","","","","","","","","",""]
[{"$f":"IF(A132=\"\",\"\",IF((SUM(IF(FREQUENCY('A1'!$K$30:$L$103,'A1'!$K$30:$L$103)>0,1)))>(A132+1),(A132+1),\"\"))","v":""},{"$f":"IF(A133=\"\",\"\",(LARGE('A1'!$K$30:$L$103,(1+SUM(COUNTIF('A1'!$K$30:$L$103,B$7:B133))-(A133*COUNTIF('A1'!$K$30:$L$103,B$8))))))","v":""},{"$f":"IF($C$6:$AZ$6=\"\",\"\",IF($C$6:$AZ$6=\"HOT\",IF($C133:$AZ133=\"●\",\"|\",IF($C133:$AZ133=\"|\",\"|\",\"\")),IF($C133:$AZ133=\"▲\",\"|\",IF($C133:$AZ133=\"|\",\"|\",\"\"))))","v":""},"","","","","","","","","","","","","","","","","","","","","","","","","","","","","","","","","","","","","","","","","","","","","","","","",""]
[{"$f":"IF(A133=\"\",\"\",IF((SUM(IF(FREQUENCY('A1'!$K$30:$L$103,'A1'!$K$30:$L$103)>0,1)))>(A133+1),(A133+1),\"\"))","v":""},{"$f":"IF(A134=\"\",\"\",(LARGE('A1'!$K$30:$L$103,(1+SUM(COUNTIF('A1'!$K$30:$L$103,B$7:B134))-(A134*COUNTIF('A1'!$K$30:$L$103,B$8))))))","v":""},{"$f":"IF($C$6:$AZ$6=\"\",\"\",IF($C$6:$AZ$6=\"HOT\",IF(TRANSPOSE('A1'!$K$30:$K$80)=$B135,\"●\",IF(TRANSPOSE('A1'!$L$30:$L$80)=$B135,\"▼\",IF($C134:$AZ134=\"|\",\"|\",\"\"))),IF(TRANSPOSE('A1'!$K$30:$K$80)=$B135,\"●\",IF(TRANSPOSE('A1'!$L$30:$L$80)=$B135,\"▲\",IF($C134:$AZ134=\"|\",\"|\",\"\")))))","v":""},"","","","","","","","","","","","","","","","","","","","","","","","","","","","","","","","","","","","","","","","","","","","","","","","",""]
[{"$f":"IF(A134=\"\",\"\",IF((SUM(IF(FREQUENCY('A1'!$K$30:$L$103,'A1'!$K$30:$L$103)>0,1)))>(A134+1),(A134+1),\"\"))","v":""},{"$f":"IF(A135=\"\",\"\",(LARGE('A1'!$K$30:$L$103,(1+SUM(COUNTIF('A1'!$K$30:$L$103,B$7:B135))-(A135*COUNTIF('A1'!$K$30:$L$103,B$8))))))","v":""},{"$f":"IF($C$6:$AZ$6=\"\",\"\",IF($C$6:$AZ$6=\"HOT\",IF($C135:$AZ135=\"●\",\"|\",IF($C135:$AZ135=\"|\",\"|\",\"\")),IF($C135:$AZ135=\"▲\",\"|\",IF($C135:$AZ135=\"|\",\"|\",\"\"))))","v":""},"","","","","","","","","","","","","","","","","","","","","","","","","","","","","","","","","","","","","","","","","","","","","","","","",""]
[{"$f":"IF(A135=\"\",\"\",IF((SUM(IF(FREQUENCY('A1'!$K$30:$L$103,'A1'!$K$30:$L$103)>0,1)))>(A135+1),(A135+1),\"\"))","v":""},{"$f":"IF(A136=\"\",\"\",(LARGE('A1'!$K$30:$L$103,(1+SUM(COUNTIF('A1'!$K$30:$L$103,B$7:B136))-(A136*COUNTIF('A1'!$K$30:$L$103,B$8))))))","v":""},{"$f":"IF($C$6:$AZ$6=\"\",\"\",IF($C$6:$AZ$6=\"HOT\",IF(TRANSPOSE('A1'!$K$30:$K$80)=$B137,\"●\",IF(TRANSPOSE('A1'!$L$30:$L$80)=$B137,\"▼\",IF($C136:$AZ136=\"|\",\"|\",\"\"))),IF(TRANSPOSE('A1'!$K$30:$K$80)=$B137,\"●\",IF(TRANSPOSE('A1'!$L$30:$L$80)=$B137,\"▲\",IF($C136:$AZ136=\"|\",\"|\",\"\")))))","v":""},"","","","","","","","","","","","","","","","","","","","","","","","","","","","","","","","","","","","","","","","","","","","","","","","",""]
[{"$f":"IF(A136=\"\",\"\",IF((SUM(IF(FREQUENCY('A1'!$K$30:$L$103,'A1'!$K$30:$L$103)>0,1)))>(A136+1),(A136+1),\"\"))","v":""},{"$f":"IF(A137=\"\",\"\",(LARGE('A1'!$K$30:$L$103,(1+SUM(COUNTIF('A1'!$K$30:$L$103,B$7:B137))-(A137*COUNTIF('A1'!$K$30:$L$103,B$8))))))","v":""},{"$f":"IF($C$6:$AZ$6=\"\",\"\",IF($C$6:$AZ$6=\"HOT\",IF($C137:$AZ137=\"●\",\"|\",IF($C137:$AZ137=\"|\",\"|\",\"\")),IF($C137:$AZ137=\"▲\",\"|\",IF($C137:$AZ137=\"|\",\"|\",\"\"))))","v":""},"","","","","","","","","","","","","","","","","","","","","","","","","","","","","","","","","","","","","","","","","","","","","","","","",""]
[{"$f":"IF(A137=\"\",\"\",IF((SUM(IF(FREQUENCY('A1'!$K$30:$L$103,'A1'!$K$30:$L$103)>0,1)))>(A137+1),(A137+1),\"\"))","v":""},{"$f":"IF(A138=\"\",\"\",(LARGE('A1'!$K$30:$L$103,(1+SUM(COUNTIF('A1'!$K$30:$L$103,B$7:B138))-(A138*COUNTIF('A1'!$K$30:$L$103,B$8))))))","v":""},{"$f":"IF($C$6:$AZ$6=\"\",\"\",IF($C$6:$AZ$6=\"HOT\",IF(TRANSPOSE('A1'!$K$30:$K$80)=$B139,\"●\",IF(TRANSPOSE('A1'!$L$30:$L$80)=$B139,\"▼\",IF($C138:$AZ138=\"|\",\"|\",\"\"))),IF(TRANSPOSE('A1'!$K$30:$K$80)=$B139,\"●\",IF(TRANSPOSE('A1'!$L$30:$L$80)=$B139,\"▲\",IF($C138:$AZ138=\"|\",\"|\",\"\")))))","v":""},"","","","","","","","","","","","","","","","","","","","","","","","","","","","","","","","","","","","","","","","","","","","","","","","",""]
[{"$f":"IF(A138=\"\",\"\",IF((SUM(IF(FREQUENCY('A1'!$K$30:$L$103,'A1'!$K$30:$L$103)>0,1)))>(A138+1),(A138+1),\"\"))","v":""},{"$f":"IF(A139=\"\",\"\",(LARGE('A1'!$K$30:$L$103,(1+SUM(COUNTIF('A1'!$K$30:$L$103,B$7:B139))-(A139*COUNTIF('A1'!$K$30:$L$103,B$8))))))","v":""},{"$f":"IF($C$6:$AZ$6=\"\",\"\",IF($C$6:$AZ$6=\"HOT\",IF($C139:$AZ139=\"●\",\"|\",IF($C139:$AZ139=\"|\",\"|\",\"\")),IF($C139:$AZ139=\"▲\",\"|\",IF($C139:$AZ139=\"|\",\"|\",\"\"))))","v":""},"","","","","","","","","","","","","","","","","","","","","","","","","","","","","","","","","","","","","","","","","","","","","","","","",""]
[{"$f":"IF(A139=\"\",\"\",IF((SUM(IF(FREQUENCY('A1'!$K$30:$L$103,'A1'!$K$30:$L$103)>0,1)))>(A139+1),(A139+1),\"\"))","v":""},{"$f":"IF(A140=\"\",\"\",(LARGE('A1'!$K$30:$L$103,(1+SUM(COUNTIF('A1'!$K$30:$L$103,B$7:B140))-(A140*COUNTIF('A1'!$K$30:$L$103,B$8))))))","v":""},{"$f":"IF($C$6:$AZ$6=\"\",\"\",IF($C$6:$AZ$6=\"HOT\",IF(TRANSPOSE('A1'!$K$30:$K$80)=$B141,\"●\",IF(TRANSPOSE('A1'!$L$30:$L$80)=$B141,\"▼\",IF($C140:$AZ140=\"|\",\"|\",\"\"))),IF(TRANSPOSE('A1'!$K$30:$K$80)=$B141,\"●\",IF(TRANSPOSE('A1'!$L$30:$L$80)=$B141,\"▲\",IF($C140:$AZ140=\"|\",\"|\",\"\")))))","v":""},"","","","","","","","","","","","","","","","","","","","","","","","","","","","","","","","","","","","","","","","","","","","","","","","",""]
[{"$f":"IF(A140=\"\",\"\",IF((SUM(IF(FREQUENCY('A1'!$K$30:$L$103,'A1'!$K$30:$L$103)>0,1)))>(A140+1),(A140+1),\"\"))","v":""},{"$f":"IF(A141=\"\",\"\",(LARGE('A1'!$K$30:$L$103,(1+SUM(COUNTIF('A1'!$K$30:$L$103,B$7:B141))-(A141*COUNTIF('A1'!$K$30:$L$103,B$8))))))","v":""},{"$f":"IF($C$6:$AZ$6=\"\",\"\",IF($C$6:$AZ$6=\"HOT\",IF($C141:$AZ141=\"●\",\"|\",IF($C141:$AZ141=\"|\",\"|\",\"\")),IF($C141:$AZ141=\"▲\",\"|\",IF($C141:$AZ141=\"|\",\"|\",\"\"))))","v":""},"","","","","","","","","","","","","","","","","","","","","","","","","","","","","","","","","","","","","","","","","","","","","","","","",""]
[{"$f":"IF(A141=\"\",\"\",IF((SUM(IF(FREQUENCY('A1'!$K$30:$L$103,'A1'!$K$30:$L$103)>0,1)))>(A141+1),(A141+1),\"\"))","v":""},{"$f":"IF(A142=\"\",\"\",(LARGE('A1'!$K$30:$L$103,(1+SUM(COUNTIF('A1'!$K$30:$L$103,B$7:B142))-(A142*COUNTIF('A1'!$K$30:$L$103,B$8))))))","v":""},{"$f":"IF($C$6:$AZ$6=\"\",\"\",IF($C$6:$AZ$6=\"HOT\",IF(TRANSPOSE('A1'!$K$30:$K$80)=$B143,\"●\",IF(TRANSPOSE('A1'!$L$30:$L$80)=$B143,\"▼\",IF($C142:$AZ142=\"|\",\"|\",\"\"))),IF(TRANSPOSE('A1'!$K$30:$K$80)=$B143,\"●\",IF(TRANSPOSE('A1'!$L$30:$L$80)=$B143,\"▲\",IF($C142:$AZ142=\"|\",\"|\",\"\")))))","v":""},"","","","","","","","","","","","","","","","","","","","","","","","","","","","","","","","","","","","","","","","","","","","","","","","",""]
[{"$f":"IF(A142=\"\",\"\",IF((SUM(IF(FREQUENCY('A1'!$K$30:$L$103,'A1'!$K$30:$L$103)>0,1)))>(A142+1),(A142+1),\"\"))","v":""},{"$f":"IF(A143=\"\",\"\",(LARGE('A1'!$K$30:$L$103,(1+SUM(COUNTIF('A1'!$K$30:$L$103,B$7:B143))-(A143*COUNTIF('A1'!$K$30:$L$103,B$8))))))","v":""},{"$f":"IF($C$6:$AZ$6=\"\",\"\",IF($C$6:$AZ$6=\"HOT\",IF($C143:$AZ143=\"●\",\"|\",IF($C143:$AZ143=\"|\",\"|\",\"\")),IF($C143:$AZ143=\"▲\",\"|\",IF($C143:$AZ143=\"|\",\"|\",\"\"))))","v":""},"","","","","","","","","","","","","","","","","","","","","","","","","","","","","","","","","","","","","","","","","","","","","","","","",""]
[{"$f":"IF(A143=\"\",\"\",IF((SUM(IF(FREQUENCY('A1'!$K$30:$L$103,'A1'!$K$30:$L$103)>0,1)))>(A143+1),(A143+1),\"\"))","v":""},{"$f":"IF(A144=\"\",\"\",(LARGE('A1'!$K$30:$L$103,(1+SUM(COUNTIF('A1'!$K$30:$L$103,B$7:B144))-(A144*COUNTIF('A1'!$K$30:$L$103,B$8))))))","v":""},{"$f":"IF($C$6:$AZ$6=\"\",\"\",IF($C$6:$AZ$6=\"HOT\",IF(TRANSPOSE('A1'!$K$30:$K$80)=$B145,\"●\",IF(TRANSPOSE('A1'!$L$30:$L$80)=$B145,\"▼\",IF($C144:$AZ144=\"|\",\"|\",\"\"))),IF(TRANSPOSE('A1'!$K$30:$K$80)=$B145,\"●\",IF(TRANSPOSE('A1'!$L$30:$L$80)=$B145,\"▲\",IF($C144:$AZ144=\"|\",\"|\",\"\")))))","v":""},"","","","","","","","","","","","","","","","","","","","","","","","","","","","","","","","","","","","","","","","","","","","","","","","",""]
[{"$f":"IF(A144=\"\",\"\",IF((SUM(IF(FREQUENCY('A1'!$K$30:$L$103,'A1'!$K$30:$L$103)>0,1)))>(A144+1),(A144+1),\"\"))","v":""},{"$f":"IF(A145=\"\",\"\",(LARGE('A1'!$K$30:$L$103,(1+SUM(COUNTIF('A1'!$K$30:$L$103,B$7:B145))-(A145*COUNTIF('A1'!$K$30:$L$103,B$8))))))","v":""},{"$f":"IF($C$6:$AZ$6=\"\",\"\",IF($C$6:$AZ$6=\"HOT\",IF($C145:$AZ145=\"●\",\"|\",IF($C145:$AZ145=\"|\",\"|\",\"\")),IF($C145:$AZ145=\"▲\",\"|\",IF($C145:$AZ145=\"|\",\"|\",\"\"))))","v":""},"","","","","","","","","","","","","","","","","","","","","","","","","","","","","","","","","","","","","","","","","","","","","","","","",""]
[{"$f":"IF(A145=\"\",\"\",IF((SUM(IF(FREQUENCY('A1'!$K$30:$L$103,'A1'!$K$30:$L$103)>0,1)))>(A145+1),(A145+1),\"\"))","v":""},{"$f":"IF(A146=\"\",\"\",(LARGE('A1'!$K$30:$L$103,(1+SUM(COUNTIF('A1'!$K$30:$L$103,B$7:B146))-(A146*COUNTIF('A1'!$K$30:$L$103,B$8))))))","v":""},{"$f":"IF($C$6:$AZ$6=\"\",\"\",IF($C$6:$AZ$6=\"HOT\",IF(TRANSPOSE('A1'!$K$30:$K$80)=$B147,\"●\",IF(TRANSPOSE('A1'!$L$30:$L$80)=$B147,\"▼\",IF($C146:$AZ146=\"|\",\"|\",\"\"))),IF(TRANSPOSE('A1'!$K$30:$K$80)=$B147,\"●\",IF(TRANSPOSE('A1'!$L$30:$L$80)=$B147,\"▲\",IF($C146:$AZ146=\"|\",\"|\",\"\")))))","v":""},"","","","","","","","","","","","","","","","","","","","","","","","","","","","","","","","","","","","","","","","","","","","","","","","",""]
[{"$f":"IF(A146=\"\",\"\",IF((SUM(IF(FREQUENCY('A1'!$K$30:$L$103,'A1'!$K$30:$L$103)>0,1)))>(A146+1),(A146+1),\"\"))","v":""},{"$f":"IF(A147=\"\",\"\",(LARGE('A1'!$K$30:$L$103,(1+SUM(COUNTIF('A1'!$K$30:$L$103,B$7:B147))-(A147*COUNTIF('A1'!$K$30:$L$103,B$8))))))","v":""},{"$f":"IF($C$6:$AZ$6=\"\",\"\",IF($C$6:$AZ$6=\"HOT\",IF($C147:$AZ147=\"●\",\"|\",IF($C147:$AZ147=\"|\",\"|\",\"\")),IF($C147:$AZ147=\"▲\",\"|\",IF($C147:$AZ147=\"|\",\"|\",\"\"))))","v":""},"","","","","","","","","","","","","","","","","","","","","","","","","","","","","","","","","","","","","","","","","","","","","","","","",""]
[{"$f":"IF(A147=\"\",\"\",IF((SUM(IF(FREQUENCY('A1'!$K$30:$L$103,'A1'!$K$30:$L$103)>0,1)))>(A147+1),(A147+1),\"\"))","v":""},{"$f":"IF(A148=\"\",\"\",(LARGE('A1'!$K$30:$L$103,(1+SUM(COUNTIF('A1'!$K$30:$L$103,B$7:B148))-(A148*COUNTIF('A1'!$K$30:$L$103,B$8))))))","v":""},{"$f":"IF($C$6:$AZ$6=\"\",\"\",IF($C$6:$AZ$6=\"HOT\",IF(TRANSPOSE('A1'!$K$30:$K$80)=$B149,\"●\",IF(TRANSPOSE('A1'!$L$30:$L$80)=$B149,\"▼\",IF($C148:$AZ148=\"|\",\"|\",\"\"))),IF(TRANSPOSE('A1'!$K$30:$K$80)=$B149,\"●\",IF(TRANSPOSE('A1'!$L$30:$L$80)=$B149,\"▲\",IF($C148:$AZ148=\"|\",\"|\",\"\")))))","v":""},"","","","","","","","","","","","","","","","","","","","","","","","","","","","","","","","","","","","","","","","","","","","","","","","",""]
[{"$f":"IF(A148=\"\",\"\",IF((SUM(IF(FREQUENCY('A1'!$K$30:$L$103,'A1'!$K$30:$L$103)>0,1)))>(A148+1),(A148+1),\"\"))","v":""},{"$f":"IF(A149=\"\",\"\",(LARGE('A1'!$K$30:$L$103,(1+SUM(COUNTIF('A1'!$K$30:$L$103,B$7:B149))-(A149*COUNTIF('A1'!$K$30:$L$103,B$8))))))","v":""},{"$f":"IF($C$6:$AZ$6=\"\",\"\",IF($C$6:$AZ$6=\"HOT\",IF($C149:$AZ149=\"●\",\"|\",IF($C149:$AZ149=\"|\",\"|\",\"\")),IF($C149:$AZ149=\"▲\",\"|\",IF($C149:$AZ149=\"|\",\"|\",\"\"))))","v":""},"","","","","","","","","","","","","","","","","","","","","","","","","","","","","","","","","","","","","","","","","","","","","","","","",""]
[{"$f":"IF(A149=\"\",\"\",IF((SUM(IF(FREQUENCY('A1'!$K$30:$L$103,'A1'!$K$30:$L$103)>0,1)))>(A149+1),(A149+1),\"\"))","v":""},{"$f":"IF(A150=\"\",\"\",(LARGE('A1'!$K$30:$L$103,(1+SUM(COUNTIF('A1'!$K$30:$L$103,B$7:B150))-(A150*COUNTIF('A1'!$K$30:$L$103,B$8))))))","v":""},{"$f":"IF($C$6:$AZ$6=\"\",\"\",IF($C$6:$AZ$6=\"HOT\",IF(TRANSPOSE('A1'!$K$30:$K$80)=$B151,\"●\",IF(TRANSPOSE('A1'!$L$30:$L$80)=$B151,\"▼\",IF($C150:$AZ150=\"|\",\"|\",\"\"))),IF(TRANSPOSE('A1'!$K$30:$K$80)=$B151,\"●\",IF(TRANSPOSE('A1'!$L$30:$L$80)=$B151,\"▲\",IF($C150:$AZ150=\"|\",\"|\",\"\")))))","v":""},"","","","","","","","","","","","","","","","","","","","","","","","","","","","","","","","","","","","","","","","","","","","","","","","",""]
[{"$f":"IF(A150=\"\",\"\",IF((SUM(IF(FREQUENCY('A1'!$K$30:$L$103,'A1'!$K$30:$L$103)>0,1)))>(A150+1),(A150+1),\"\"))","v":""},{"$f":"IF(A151=\"\",\"\",(LARGE('A1'!$K$30:$L$103,(1+SUM(COUNTIF('A1'!$K$30:$L$103,B$7:B151))-(A151*COUNTIF('A1'!$K$30:$L$103,B$8))))))","v":""},{"$f":"IF($C$6:$AZ$6=\"\",\"\",IF($C$6:$AZ$6=\"HOT\",IF($C151:$AZ151=\"●\",\"|\",IF($C151:$AZ151=\"|\",\"|\",\"\")),IF($C151:$AZ151=\"▲\",\"|\",IF($C151:$AZ151=\"|\",\"|\",\"\"))))","v":""},"","","","","","","","","","","","","","","","","","","","","","","","","","","","","","","","","","","","","","","","","","","","","","","","",""]
[{"$f":"IF(A151=\"\",\"\",IF((SUM(IF(FREQUENCY('A1'!$K$30:$L$103,'A1'!$K$30:$L$103)>0,1)))>(A151+1),(A151+1),\"\"))","v":""},{"$f":"IF(A152=\"\",\"\",(LARGE('A1'!$K$30:$L$103,(1+SUM(COUNTIF('A1'!$K$30:$L$103,B$7:B152))-(A152*COUNTIF('A1'!$K$30:$L$103,B$8))))))","v":""},{"$f":"IF($C$6:$AZ$6=\"\",\"\",IF($C$6:$AZ$6=\"HOT\",IF(TRANSPOSE('A1'!$K$30:$K$80)=$B153,\"●\",IF(TRANSPOSE('A1'!$L$30:$L$80)=$B153,\"▼\",IF($C152:$AZ152=\"|\",\"|\",\"\"))),IF(TRANSPOSE('A1'!$K$30:$K$80)=$B153,\"●\",IF(TRANSPOSE('A1'!$L$30:$L$80)=$B153,\"▲\",IF($C152:$AZ152=\"|\",\"|\",\"\")))))","v":""},"","","","","","","","","","","","","","","","","","","","","","","","","","","","","","","","","","","","","","","","","","","","","","","","",""]
[{"$f":"IF(A152=\"\",\"\",IF((SUM(IF(FREQUENCY('A1'!$K$30:$L$103,'A1'!$K$30:$L$103)>0,1)))>(A152+1),(A152+1),\"\"))","v":""},{"$f":"IF(A153=\"\",\"\",(LARGE('A1'!$K$30:$L$103,(1+SUM(COUNTIF('A1'!$K$30:$L$103,B$7:B153))-(A153*COUNTIF('A1'!$K$30:$L$103,B$8))))))","v":""},{"$f":"IF($C$6:$AZ$6=\"\",\"\",IF($C$6:$AZ$6=\"HOT\",IF($C153:$AZ153=\"●\",\"|\",IF($C153:$AZ153=\"|\",\"|\",\"\")),IF($C153:$AZ153=\"▲\",\"|\",IF($C153:$AZ153=\"|\",\"|\",\"\"))))","v":""},"","","","","","","","","","","","","","","","","","","","","","","","","","","","","","","","","","","","","","","","","","","","","","","","",""]
[{"$f":"IF(A153=\"\",\"\",IF((SUM(IF(FREQUENCY('A1'!$K$30:$L$103,'A1'!$K$30:$L$103)>0,1)))>(A153+1),(A153+1),\"\"))","v":""},{"$f":"IF(A154=\"\",\"\",(LARGE('A1'!$K$30:$L$103,(1+SUM(COUNTIF('A1'!$K$30:$L$103,B$7:B154))-(A154*COUNTIF('A1'!$K$30:$L$103,B$8))))))","v":""},{"$f":"IF($C$6:$AZ$6=\"\",\"\",IF($C$6:$AZ$6=\"HOT\",IF(TRANSPOSE('A1'!$K$30:$K$80)=$B155,\"●\",IF(TRANSPOSE('A1'!$L$30:$L$80)=$B155,\"▼\",IF($C154:$AZ154=\"|\",\"|\",\"\"))),IF(TRANSPOSE('A1'!$K$30:$K$80)=$B155,\"●\",IF(TRANSPOSE('A1'!$L$30:$L$80)=$B155,\"▲\",IF($C154:$AZ154=\"|\",\"|\",\"\")))))","v":""},"","","","","","","","","","","","","","","","","","","","","","","","","","","","","","","","","","","","","","","","","","","","","","","","",""]
[{"$f":"IF(A154=\"\",\"\",IF((SUM(IF(FREQUENCY('A1'!$K$30:$L$103,'A1'!$K$30:$L$103)>0,1)))>(A154+1),(A154+1),\"\"))","v":""},{"$f":"IF(A155=\"\",\"\",(LARGE('A1'!$K$30:$L$103,(1+SUM(COUNTIF('A1'!$K$30:$L$103,B$7:B155))-(A155*COUNTIF('A1'!$K$30:$L$103,B$8))))))","v":""},{"$f":"IF($C$6:$AZ$6=\"\",\"\",IF($C$6:$AZ$6=\"HOT\",IF($C155:$AZ155=\"●\",\"|\",IF($C155:$AZ155=\"|\",\"|\",\"\")),IF($C155:$AZ155=\"▲\",\"|\",IF($C155:$AZ155=\"|\",\"|\",\"\"))))","v":""},"","","","","","","","","","","","","","","","","","","","","","","","","","","","","","","","","","","","","","","","","","","","","","","","",""]
[{"$f":"IF(A155=\"\",\"\",IF((SUM(IF(FREQUENCY('A1'!$K$30:$L$103,'A1'!$K$30:$L$103)>0,1)))>(A155+1),(A155+1),\"\"))","v":""},{"$f":"IF(A156=\"\",\"\",(LARGE('A1'!$K$30:$L$103,(1+SUM(COUNTIF('A1'!$K$30:$L$103,B$7:B156))-(A156*COUNTIF('A1'!$K$30:$L$103,B$8))))))","v":""},{"$f":"IF($C$6:$AZ$6=\"\",\"\",IF($C$6:$AZ$6=\"HOT\",IF(TRANSPOSE('A1'!$K$30:$K$80)=$B157,\"●\",IF(TRANSPOSE('A1'!$L$30:$L$80)=$B157,\"▼\",IF($C156:$AZ156=\"|\",\"|\",\"\"))),IF(TRANSPOSE('A1'!$K$30:$K$80)=$B157,\"●\",IF(TRANSPOSE('A1'!$L$30:$L$80)=$B157,\"▲\",IF($C156:$AZ156=\"|\",\"|\",\"\")))))","v":""},"","","","","","","","","","","","","","","","","","","","","","","","","","","","","","","","","","","","","","","","","","","","","","","","",""]
[{"$f":"IF(A156=\"\",\"\",IF((SUM(IF(FREQUENCY('A1'!$K$30:$L$103,'A1'!$K$30:$L$103)>0,1)))>(A156+1),(A156+1),\"\"))","v":""},{"$f":"IF(A157=\"\",\"\",(LARGE('A1'!$K$30:$L$103,(1+SUM(COUNTIF('A1'!$K$30:$L$103,B$7:B157))-(A157*COUNTIF('A1'!$K$30:$L$103,B$8))))))","v":""},{"$f":"IF($C$6:$AZ$6=\"\",\"\",IF($C$6:$AZ$6=\"HOT\",IF($C157:$AZ157=\"●\",\"|\",IF($C157:$AZ157=\"|\",\"|\",\"\")),IF($C157:$AZ157=\"▲\",\"|\",IF($C157:$AZ157=\"|\",\"|\",\"\"))))","v":""},"","","","","","","","","","","","","","","","","","","","","","","","","","","","","","","","","","","","","","","","","","","","","","","","",""]
[{"$f":"IF(A157=\"\",\"\",IF((SUM(IF(FREQUENCY('A1'!$K$30:$L$103,'A1'!$K$30:$L$103)>0,1)))>(A157+1),(A157+1),\"\"))","v":""},{"$f":"IF(A158=\"\",\"\",(LARGE('A1'!$K$30:$L$103,(1+SUM(COUNTIF('A1'!$K$30:$L$103,B$7:B158))-(A158*COUNTIF('A1'!$K$30:$L$103,B$8))))))","v":""},{"$f":"IF($C$6:$AZ$6=\"\",\"\",IF($C$6:$AZ$6=\"HOT\",IF(TRANSPOSE('A1'!$K$30:$K$80)=$B159,\"●\",IF(TRANSPOSE('A1'!$L$30:$L$80)=$B159,\"▼\",IF($C158:$AZ158=\"|\",\"|\",\"\"))),IF(TRANSPOSE('A1'!$K$30:$K$80)=$B159,\"●\",IF(TRANSPOSE('A1'!$L$30:$L$80)=$B159,\"▲\",IF($C158:$AZ158=\"|\",\"|\",\"\")))))","v":""},"","","","","","","","","","","","","","","","","","","","","","","","","","","","","","","","","","","","","","","","","","","","","","","","",""]
[{"$f":"IF(A158=\"\",\"\",IF((SUM(IF(FREQUENCY('A1'!$K$30:$L$103,'A1'!$K$30:$L$103)>0,1)))>(A158+1),(A158+1),\"\"))","v":""},{"$f":"IF(A159=\"\",\"\",(LARGE('A1'!$K$30:$L$103,(1+SUM(COUNTIF('A1'!$K$30:$L$103,B$7:B159))-(A159*COUNTIF('A1'!$K$30:$L$103,B$8))))))","v":""},{"$f":"IF($C$6:$AZ$6=\"\",\"\",IF($C$6:$AZ$6=\"HOT\",IF($C159:$AZ159=\"●\",\"|\",IF($C159:$AZ159=\"|\",\"|\",\"\")),IF($C159:$AZ159=\"▲\",\"|\",IF($C159:$AZ159=\"|\",\"|\",\"\"))))","v":""},"","","","","","","","","","","","","","","","","","","","","","","","","","","","","","","","","","","","","","","","","","","","","","","","",""]
[{"$f":"IF(A159=\"\",\"\",IF((SUM(IF(FREQUENCY('A1'!$K$30:$L$103,'A1'!$K$30:$L$103)>0,1)))>(A159+1),(A159+1),\"\"))","v":""},{"$f":"IF(A160=\"\",\"\",(LARGE('A1'!$K$30:$L$103,(1+SUM(COUNTIF('A1'!$K$30:$L$103,B$7:B160))-(A160*COUNTIF('A1'!$K$30:$L$103,B$8))))))","v":""},{"$f":"IF($C$6:$AZ$6=\"\",\"\",IF($C$6:$AZ$6=\"HOT\",IF(TRANSPOSE('A1'!$K$30:$K$80)=$B161,\"●\",IF(TRANSPOSE('A1'!$L$30:$L$80)=$B161,\"▼\",IF($C160:$AZ160=\"|\",\"|\",\"\"))),IF(TRANSPOSE('A1'!$K$30:$K$80)=$B161,\"●\",IF(TRANSPOSE('A1'!$L$30:$L$80)=$B161,\"▲\",IF($C160:$AZ160=\"|\",\"|\",\"\")))))","v":""},"","","","","","","","","","","","","","","","","","","","","","","","","","","","","","","","","","","","","","","","","","","","","","","","",""]
[{"$f":"IF(A160=\"\",\"\",IF((SUM(IF(FREQUENCY('A1'!$K$30:$L$103,'A1'!$K$30:$L$103)>0,1)))>(A160+1),(A160+1),\"\"))","v":""},{"$f":"IF(A161=\"\",\"\",(LARGE('A1'!$K$30:$L$103,(1+SUM(COUNTIF('A1'!$K$30:$L$103,B$7:B161))-(A161*COUNTIF('A1'!$K$30:$L$103,B$8))))))","v":""},{"$f":"IF($C$6:$AZ$6=\"\",\"\",IF($C$6:$AZ$6=\"HOT\",IF($C161:$AZ161=\"●\",\"|\",IF($C161:$AZ161=\"|\",\"|\",\"\")),IF($C161:$AZ161=\"▲\",\"|\",IF($C161:$AZ161=\"|\",\"|\",\"\"))))","v":""},"","","","","","","","","","","","","","","","","","","","","","","","","","","","","","","","","","","","","","","","","","","","","","","","",""]
[{"$f":"IF(A161=\"\",\"\",IF((SUM(IF(FREQUENCY('A1'!$K$30:$L$103,'A1'!$K$30:$L$103)>0,1)))>(A161+1),(A161+1),\"\"))","v":""},{"$f":"IF(A162=\"\",\"\",(LARGE('A1'!$K$30:$L$103,(1+SUM(COUNTIF('A1'!$K$30:$L$103,B$7:B162))-(A162*COUNTIF('A1'!$K$30:$L$103,B$8))))))","v":""},{"$f":"IF($C$6:$AZ$6=\"\",\"\",IF($C$6:$AZ$6=\"HOT\",IF(TRANSPOSE('A1'!$K$30:$K$80)=$B163,\"●\",IF(TRANSPOSE('A1'!$L$30:$L$80)=$B163,\"▼\",IF($C162:$AZ162=\"|\",\"|\",\"\"))),IF(TRANSPOSE('A1'!$K$30:$K$80)=$B163,\"●\",IF(TRANSPOSE('A1'!$L$30:$L$80)=$B163,\"▲\",IF($C162:$AZ162=\"|\",\"|\",\"\")))))","v":""},"","","","","","","","","","","","","","","","","","","","","","","","","","","","","","","","","","","","","","","","","","","","","","","","",""]
[{"$f":"IF(A162=\"\",\"\",IF((SUM(IF(FREQUENCY('A1'!$K$30:$L$103,'A1'!$K$30:$L$103)>0,1)))>(A162+1),(A162+1),\"\"))","v":""},{"$f":"IF(A163=\"\",\"\",(LARGE('A1'!$K$30:$L$103,(1+SUM(COUNTIF('A1'!$K$30:$L$103,B$7:B163))-(A163*COUNTIF('A1'!$K$30:$L$103,B$8))))))","v":""},{"$f":"IF($C$6:$AZ$6=\"\",\"\",IF($C$6:$AZ$6=\"HOT\",IF($C163:$AZ163=\"●\",\"|\",IF($C163:$AZ163=\"|\",\"|\",\"\")),IF($C163:$AZ163=\"▲\",\"|\",IF($C163:$AZ163=\"|\",\"|\",\"\"))))","v":""},"","","","","","","","","","","","","","","","","","","","","","","","","","","","","","","","","","","","","","","","","","","","","","","","",""]
[{"$f":"IF(A163=\"\",\"\",IF((SUM(IF(FREQUENCY('A1'!$K$30:$L$103,'A1'!$K$30:$L$103)>0,1)))>(A163+1),(A163+1),\"\"))","v":""},{"$f":"IF(A164=\"\",\"\",(LARGE('A1'!$K$30:$L$103,(1+SUM(COUNTIF('A1'!$K$30:$L$103,B$7:B164))-(A164*COUNTIF('A1'!$K$30:$L$103,B$8))))))","v":""},{"$f":"IF($C$6:$AZ$6=\"\",\"\",IF($C$6:$AZ$6=\"HOT\",IF(TRANSPOSE('A1'!$K$30:$K$80)=$B165,\"●\",IF(TRANSPOSE('A1'!$L$30:$L$80)=$B165,\"▼\",IF($C164:$AZ164=\"|\",\"|\",\"\"))),IF(TRANSPOSE('A1'!$K$30:$K$80)=$B165,\"●\",IF(TRANSPOSE('A1'!$L$30:$L$80)=$B165,\"▲\",IF($C164:$AZ164=\"|\",\"|\",\"\")))))","v":""},"","","","","","","","","","","","","","","","","","","","","","","","","","","","","","","","","","","","","","","","","","","","","","","","",""]
[{"$f":"IF(A164=\"\",\"\",IF((SUM(IF(FREQUENCY('A1'!$K$30:$L$103,'A1'!$K$30:$L$103)>0,1)))>(A164+1),(A164+1),\"\"))","v":""},{"$f":"IF(A165=\"\",\"\",(LARGE('A1'!$K$30:$L$103,(1+SUM(COUNTIF('A1'!$K$30:$L$103,B$7:B165))-(A165*COUNTIF('A1'!$K$30:$L$103,B$8))))))","v":""},{"$f":"IF($C$6:$AZ$6=\"\",\"\",IF($C$6:$AZ$6=\"HOT\",IF($C165:$AZ165=\"●\",\"|\",IF($C165:$AZ165=\"|\",\"|\",\"\")),IF($C165:$AZ165=\"▲\",\"|\",IF($C165:$AZ165=\"|\",\"|\",\"\"))))","v":""},"","","","","","","","","","","","","","","","","","","","","","","","","","","","","","","","","","","","","","","","","","","","","","","","",""]
[{"$f":"IF(A165=\"\",\"\",IF((SUM(IF(FREQUENCY('A1'!$K$30:$L$103,'A1'!$K$30:$L$103)>0,1)))>(A165+1),(A165+1),\"\"))","v":""},{"$f":"IF(A166=\"\",\"\",(LARGE('A1'!$K$30:$L$103,(1+SUM(COUNTIF('A1'!$K$30:$L$103,B$7:B166))-(A166*COUNTIF('A1'!$K$30:$L$103,B$8))))))","v":""},{"$f":"IF($C$6:$AZ$6=\"\",\"\",IF($C$6:$AZ$6=\"HOT\",IF(TRANSPOSE('A1'!$K$30:$K$80)=$B167,\"●\",IF(TRANSPOSE('A1'!$L$30:$L$80)=$B167,\"▼\",IF($C166:$AZ166=\"|\",\"|\",\"\"))),IF(TRANSPOSE('A1'!$K$30:$K$80)=$B167,\"●\",IF(TRANSPOSE('A1'!$L$30:$L$80)=$B167,\"▲\",IF($C166:$AZ166=\"|\",\"|\",\"\")))))","v":""},"","","","","","","","","","","","","","","","","","","","","","","","","","","","","","","","","","","","","","","","","","","","","","","","",""]
[{"$f":"IF(A166=\"\",\"\",IF((SUM(IF(FREQUENCY('A1'!$K$30:$L$103,'A1'!$K$30:$L$103)>0,1)))>(A166+1),(A166+1),\"\"))","v":""},{"$f":"IF(A167=\"\",\"\",(LARGE('A1'!$K$30:$L$103,(1+SUM(COUNTIF('A1'!$K$30:$L$103,B$7:B167))-(A167*COUNTIF('A1'!$K$30:$L$103,B$8))))))","v":""},{"$f":"IF($C$6:$AZ$6=\"\",\"\",IF($C$6:$AZ$6=\"HOT\",IF($C167:$AZ167=\"●\",\"|\",IF($C167:$AZ167=\"|\",\"|\",\"\")),IF($C167:$AZ167=\"▲\",\"|\",IF($C167:$AZ167=\"|\",\"|\",\"\"))))","v":""},"","","","","","","","","","","","","","","","","","","","","","","","","","","","","","","","","","","","","","","","","","","","","","","","",""]
[{"$f":"IF(A167=\"\",\"\",IF((SUM(IF(FREQUENCY('A1'!$K$30:$L$103,'A1'!$K$30:$L$103)>0,1)))>(A167+1),(A167+1),\"\"))","v":""},{"$f":"IF(A168=\"\",\"\",(LARGE('A1'!$K$30:$L$103,(1+SUM(COUNTIF('A1'!$K$30:$L$103,B$7:B168))-(A168*COUNTIF('A1'!$K$30:$L$103,B$8))))))","v":""},{"$f":"IF($C$6:$AZ$6=\"\",\"\",IF($C$6:$AZ$6=\"HOT\",IF(TRANSPOSE('A1'!$K$30:$K$80)=$B169,\"●\",IF(TRANSPOSE('A1'!$L$30:$L$80)=$B169,\"▼\",IF($C168:$AZ168=\"|\",\"|\",\"\"))),IF(TRANSPOSE('A1'!$K$30:$K$80)=$B169,\"●\",IF(TRANSPOSE('A1'!$L$30:$L$80)=$B169,\"▲\",IF($C168:$AZ168=\"|\",\"|\",\"\")))))","v":""},"","","","","","","","","","","","","","","","","","","","","","","","","","","","","","","","","","","","","","","","","","","","","","","","",""]
[{"$f":"IF(A168=\"\",\"\",IF((SUM(IF(FREQUENCY('A1'!$K$30:$L$103,'A1'!$K$30:$L$103)>0,1)))>(A168+1),(A168+1),\"\"))","v":""},{"$f":"IF(A169=\"\",\"\",(LARGE('A1'!$K$30:$L$103,(1+SUM(COUNTIF('A1'!$K$30:$L$103,B$7:B169))-(A169*COUNTIF('A1'!$K$30:$L$103,B$8))))))","v":""},{"$f":"IF($C$6:$AZ$6=\"\",\"\",IF($C$6:$AZ$6=\"HOT\",IF($C169:$AZ169=\"●\",\"|\",IF($C169:$AZ169=\"|\",\"|\",\"\")),IF($C169:$AZ169=\"▲\",\"|\",IF($C169:$AZ169=\"|\",\"|\",\"\"))))","v":""},"","","","","","","","","","","","","","","","","","","","","","","","","","","","","","","","","","","","","","","","","","","","","","","","",""]
[{"$f":"IF(A169=\"\",\"\",IF((SUM(IF(FREQUENCY('A1'!$K$30:$L$103,'A1'!$K$30:$L$103)>0,1)))>(A169+1),(A169+1),\"\"))","v":""},{"$f":"IF(A170=\"\",\"\",(LARGE('A1'!$K$30:$L$103,(1+SUM(COUNTIF('A1'!$K$30:$L$103,B$7:B170))-(A170*COUNTIF('A1'!$K$30:$L$103,B$8))))))","v":""},{"$f":"IF($C$6:$AZ$6=\"\",\"\",IF($C$6:$AZ$6=\"HOT\",IF(TRANSPOSE('A1'!$K$30:$K$80)=$B171,\"●\",IF(TRANSPOSE('A1'!$L$30:$L$80)=$B171,\"▼\",IF($C170:$AZ170=\"|\",\"|\",\"\"))),IF(TRANSPOSE('A1'!$K$30:$K$80)=$B171,\"●\",IF(TRANSPOSE('A1'!$L$30:$L$80)=$B171,\"▲\",IF($C170:$AZ170=\"|\",\"|\",\"\")))))","v":""},"","","","","","","","","","","","","","","","","","","","","","","","","","","","","","","","","","","","","","","","","","","","","","","","",""]
[{"$f":"IF(A170=\"\",\"\",IF((SUM(IF(FREQUENCY('A1'!$K$30:$L$103,'A1'!$K$30:$L$103)>0,1)))>(A170+1),(A170+1),\"\"))","v":""},{"$f":"IF(A171=\"\",\"\",(LARGE('A1'!$K$30:$L$103,(1+SUM(COUNTIF('A1'!$K$30:$L$103,B$7:B171))-(A171*COUNTIF('A1'!$K$30:$L$103,B$8))))))","v":""},{"$f":"IF($C$6:$AZ$6=\"\",\"\",IF($C$6:$AZ$6=\"HOT\",IF($C171:$AZ171=\"●\",\"|\",IF($C171:$AZ171=\"|\",\"|\",\"\")),IF($C171:$AZ171=\"▲\",\"|\",IF($C171:$AZ171=\"|\",\"|\",\"\"))))","v":""},"","","","","","","","","","","","","","","","","","","","","","","","","","","","","","","","","","","","","","","","","","","","","","","","",""]
[{"$f":"IF(A171=\"\",\"\",IF((SUM(IF(FREQUENCY('A1'!$K$30:$L$103,'A1'!$K$30:$L$103)>0,1)))>(A171+1),(A171+1),\"\"))","v":""},{"$f":"IF(A172=\"\",\"\",(LARGE('A1'!$K$30:$L$103,(1+SUM(COUNTIF('A1'!$K$30:$L$103,B$7:B172))-(A172*COUNTIF('A1'!$K$30:$L$103,B$8))))))","v":""},{"$f":"IF($C$6:$AZ$6=\"\",\"\",IF($C$6:$AZ$6=\"HOT\",IF(TRANSPOSE('A1'!$K$30:$K$80)=$B173,\"●\",IF(TRANSPOSE('A1'!$L$30:$L$80)=$B173,\"▼\",IF($C172:$AZ172=\"|\",\"|\",\"\"))),IF(TRANSPOSE('A1'!$K$30:$K$80)=$B173,\"●\",IF(TRANSPOSE('A1'!$L$30:$L$80)=$B173,\"▲\",IF($C172:$AZ172=\"|\",\"|\",\"\")))))","v":""},"","","","","","","","","","","","","","","","","","","","","","","","","","","","","","","","","","","","","","","","","","","","","","","","",""]
[{"$f":"IF(A172=\"\",\"\",IF((SUM(IF(FREQUENCY('A1'!$K$30:$L$103,'A1'!$K$30:$L$103)>0,1)))>(A172+1),(A172+1),\"\"))","v":""},{"$f":"IF(A173=\"\",\"\",(LARGE('A1'!$K$30:$L$103,(1+SUM(COUNTIF('A1'!$K$30:$L$103,B$7:B173))-(A173*COUNTIF('A1'!$K$30:$L$103,B$8))))))","v":""},{"$f":"IF($C$6:$AZ$6=\"\",\"\",IF($C$6:$AZ$6=\"HOT\",IF($C173:$AZ173=\"●\",\"|\",IF($C173:$AZ173=\"|\",\"|\",\"\")),IF($C173:$AZ173=\"▲\",\"|\",IF($C173:$AZ173=\"|\",\"|\",\"\"))))","v":""},"","","","","","","","","","","","","","","","","","","","","","","","","","","","","","","","","","","","","","","","","","","","","","","","",""]
[{"$f":"IF(A173=\"\",\"\",IF((SUM(IF(FREQUENCY('A1'!$K$30:$L$103,'A1'!$K$30:$L$103)>0,1)))>(A173+1),(A173+1),\"\"))","v":""},{"$f":"IF(A174=\"\",\"\",(LARGE('A1'!$K$30:$L$103,(1+SUM(COUNTIF('A1'!$K$30:$L$103,B$7:B174))-(A174*COUNTIF('A1'!$K$30:$L$103,B$8))))))","v":""},{"$f":"IF($C$6:$AZ$6=\"\",\"\",IF($C$6:$AZ$6=\"HOT\",IF(TRANSPOSE('A1'!$K$30:$K$80)=$B175,\"●\",IF(TRANSPOSE('A1'!$L$30:$L$80)=$B175,\"▼\",IF($C174:$AZ174=\"|\",\"|\",\"\"))),IF(TRANSPOSE('A1'!$K$30:$K$80)=$B175,\"●\",IF(TRANSPOSE('A1'!$L$30:$L$80)=$B175,\"▲\",IF($C174:$AZ174=\"|\",\"|\",\"\")))))","v":""},"","","","","","","","","","","","","","","","","","","","","","","","","","","","","","","","","","","","","","","","","","","","","","","","",""]
[{"$f":"IF(A174=\"\",\"\",IF((SUM(IF(FREQUENCY('A1'!$K$30:$L$103,'A1'!$K$30:$L$103)>0,1)))>(A174+1),(A174+1),\"\"))","v":""},{"$f":"IF(A175=\"\",\"\",(LARGE('A1'!$K$30:$L$103,(1+SUM(COUNTIF('A1'!$K$30:$L$103,B$7:B175))-(A175*COUNTIF('A1'!$K$30:$L$103,B$8))))))","v":""},{"$f":"IF($C$6:$AZ$6=\"\",\"\",IF($C$6:$AZ$6=\"HOT\",IF($C175:$AZ175=\"●\",\"|\",IF($C175:$AZ175=\"|\",\"|\",\"\")),IF($C175:$AZ175=\"▲\",\"|\",IF($C175:$AZ175=\"|\",\"|\",\"\"))))","v":""},"","","","","","","","","","","","","","","","","","","","","","","","","","","","","","","","","","","","","","","","","","","","","","","","",""]
[{"$f":"IF(A175=\"\",\"\",IF((SUM(IF(FREQUENCY('A1'!$K$30:$L$103,'A1'!$K$30:$L$103)>0,1)))>(A175+1),(A175+1),\"\"))","v":""},{"$f":"IF(A176=\"\",\"\",(LARGE('A1'!$K$30:$L$103,(1+SUM(COUNTIF('A1'!$K$30:$L$103,B$7:B176))-(A176*COUNTIF('A1'!$K$30:$L$103,B$8))))))","v":""},{"$f":"IF($C$6:$AZ$6=\"\",\"\",IF($C$6:$AZ$6=\"HOT\",IF(TRANSPOSE('A1'!$K$30:$K$80)=$B177,\"●\",IF(TRANSPOSE('A1'!$L$30:$L$80)=$B177,\"▼\",IF($C176:$AZ176=\"|\",\"|\",\"\"))),IF(TRANSPOSE('A1'!$K$30:$K$80)=$B177,\"●\",IF(TRANSPOSE('A1'!$L$30:$L$80)=$B177,\"▲\",IF($C176:$AZ176=\"|\",\"|\",\"\")))))","v":""},"","","","","","","","","","","","","","","","","","","","","","","","","","","","","","","","","","","","","","","","","","","","","","","","",""]
[{"$f":"IF(A176=\"\",\"\",IF((SUM(IF(FREQUENCY('A1'!$K$30:$L$103,'A1'!$K$30:$L$103)>0,1)))>(A176+1),(A176+1),\"\"))","v":""},{"$f":"IF(A177=\"\",\"\",(LARGE('A1'!$K$30:$L$103,(1+SUM(COUNTIF('A1'!$K$30:$L$103,B$7:B177))-(A177*COUNTIF('A1'!$K$30:$L$103,B$8))))))","v":""},{"$f":"IF($C$6:$AZ$6=\"\",\"\",IF($C$6:$AZ$6=\"HOT\",IF($C177:$AZ177=\"●\",\"|\",IF($C177:$AZ177=\"|\",\"|\",\"\")),IF($C177:$AZ177=\"▲\",\"|\",IF($C177:$AZ177=\"|\",\"|\",\"\"))))","v":""},"","","","","","","","","","","","","","","","","","","","","","","","","","","","","","","","","","","","","","","","","","","","","","","","",""]
[{"$f":"IF(A177=\"\",\"\",IF((SUM(IF(FREQUENCY('A1'!$K$30:$L$103,'A1'!$K$30:$L$103)>0,1)))>(A177+1),(A177+1),\"\"))","v":""},{"$f":"IF(A178=\"\",\"\",(LARGE('A1'!$K$30:$L$103,(1+SUM(COUNTIF('A1'!$K$30:$L$103,B$7:B178))-(A178*COUNTIF('A1'!$K$30:$L$103,B$8))))))","v":""},{"$f":"IF($C$6:$AZ$6=\"\",\"\",IF($C$6:$AZ$6=\"HOT\",IF(TRANSPOSE('A1'!$K$30:$K$80)=$B179,\"●\",IF(TRANSPOSE('A1'!$L$30:$L$80)=$B179,\"▼\",IF($C178:$AZ178=\"|\",\"|\",\"\"))),IF(TRANSPOSE('A1'!$K$30:$K$80)=$B179,\"●\",IF(TRANSPOSE('A1'!$L$30:$L$80)=$B179,\"▲\",IF($C178:$AZ178=\"|\",\"|\",\"\")))))","v":""},"","","","","","","","","","","","","","","","","","","","","","","","","","","","","","","","","","","","","","","","","","","","","","","","",""]
[{"$f":"IF(A178=\"\",\"\",IF((SUM(IF(FREQUENCY('A1'!$K$30:$L$103,'A1'!$K$30:$L$103)>0,1)))>(A178+1),(A178+1),\"\"))","v":""},{"$f":"IF(A179=\"\",\"\",(LARGE('A1'!$K$30:$L$103,(1+SUM(COUNTIF('A1'!$K$30:$L$103,B$7:B179))-(A179*COUNTIF('A1'!$K$30:$L$103,B$8))))))","v":""},{"$f":"IF($C$6:$AZ$6=\"\",\"\",IF($C$6:$AZ$6=\"HOT\",IF($C179:$AZ179=\"●\",\"|\",IF($C179:$AZ179=\"|\",\"|\",\"\")),IF($C179:$AZ179=\"▲\",\"|\",IF($C179:$AZ179=\"|\",\"|\",\"\"))))","v":""},"","","","","","","","","","","","","","","","","","","","","","","","","","","","","","","","","","","","","","","","","","","","","","","","",""]
[{"$f":"IF(A179=\"\",\"\",IF((SUM(IF(FREQUENCY('A1'!$K$30:$L$103,'A1'!$K$30:$L$103)>0,1)))>(A179+1),(A179+1),\"\"))","v":""},{"$f":"IF(A180=\"\",\"\",(LARGE('A1'!$K$30:$L$103,(1+SUM(COUNTIF('A1'!$K$30:$L$103,B$7:B180))-(A180*COUNTIF('A1'!$K$30:$L$103,B$8))))))","v":""},{"$f":"IF($C$6:$AZ$6=\"\",\"\",IF($C$6:$AZ$6=\"HOT\",IF(TRANSPOSE('A1'!$K$30:$K$80)=$B181,\"●\",IF(TRANSPOSE('A1'!$L$30:$L$80)=$B181,\"▼\",IF($C180:$AZ180=\"|\",\"|\",\"\"))),IF(TRANSPOSE('A1'!$K$30:$K$80)=$B181,\"●\",IF(TRANSPOSE('A1'!$L$30:$L$80)=$B181,\"▲\",IF($C180:$AZ180=\"|\",\"|\",\"\")))))","v":""},"","","","","","","","","","","","","","","","","","","","","","","","","","","","","","","","","","","","","","","","","","","","","","","","",""]
[{"$f":"IF(A180=\"\",\"\",IF((SUM(IF(FREQUENCY('A1'!$K$30:$L$103,'A1'!$K$30:$L$103)>0,1)))>(A180+1),(A180+1),\"\"))","v":""},{"$f":"IF(A181=\"\",\"\",(LARGE('A1'!$K$30:$L$103,(1+SUM(COUNTIF('A1'!$K$30:$L$103,B$7:B181))-(A181*COUNTIF('A1'!$K$30:$L$103,B$8))))))","v":""},{"$f":"IF($C$6:$AZ$6=\"\",\"\",IF($C$6:$AZ$6=\"HOT\",IF($C181:$AZ181=\"●\",\"|\",IF($C181:$AZ181=\"|\",\"|\",\"\")),IF($C181:$AZ181=\"▲\",\"|\",IF($C181:$AZ181=\"|\",\"|\",\"\"))))","v":""},"","","","","","","","","","","","","","","","","","","","","","","","","","","","","","","","","","","","","","","","","","","","","","","","",""]
[{"$f":"IF(A181=\"\",\"\",IF((SUM(IF(FREQUENCY('A1'!$K$30:$L$103,'A1'!$K$30:$L$103)>0,1)))>(A181+1),(A181+1),\"\"))","v":""},{"$f":"IF(A182=\"\",\"\",(LARGE('A1'!$K$30:$L$103,(1+SUM(COUNTIF('A1'!$K$30:$L$103,B$7:B182))-(A182*COUNTIF('A1'!$K$30:$L$103,B$8))))))","v":""},{"$f":"IF($C$6:$AZ$6=\"\",\"\",IF($C$6:$AZ$6=\"HOT\",IF(TRANSPOSE('A1'!$K$30:$K$80)=$B183,\"●\",IF(TRANSPOSE('A1'!$L$30:$L$80)=$B183,\"▼\",IF($C182:$AZ182=\"|\",\"|\",\"\"))),IF(TRANSPOSE('A1'!$K$30:$K$80)=$B183,\"●\",IF(TRANSPOSE('A1'!$L$30:$L$80)=$B183,\"▲\",IF($C182:$AZ182=\"|\",\"|\",\"\")))))","v":""},"","","","","","","","","","","","","","","","","","","","","","","","","","","","","","","","","","","","","","","","","","","","","","","","",""]
[{"$f":"IF(A182=\"\",\"\",IF((SUM(IF(FREQUENCY('A1'!$K$30:$L$103,'A1'!$K$30:$L$103)>0,1)))>(A182+1),(A182+1),\"\"))","v":""},{"$f":"IF(A183=\"\",\"\",(LARGE('A1'!$K$30:$L$103,(1+SUM(COUNTIF('A1'!$K$30:$L$103,B$7:B183))-(A183*COUNTIF('A1'!$K$30:$L$103,B$8))))))","v":""},{"$f":"IF($C$6:$AZ$6=\"\",\"\",IF($C$6:$AZ$6=\"HOT\",IF($C183:$AZ183=\"●\",\"|\",IF($C183:$AZ183=\"|\",\"|\",\"\")),IF($C183:$AZ183=\"▲\",\"|\",IF($C183:$AZ183=\"|\",\"|\",\"\"))))","v":""},"","","","","","","","","","","","","","","","","","","","","","","","","","","","","","","","","","","","","","","","","","","","","","","","",""]
[{"$f":"IF(A183=\"\",\"\",IF((SUM(IF(FREQUENCY('A1'!$K$30:$L$103,'A1'!$K$30:$L$103)>0,1)))>(A183+1),(A183+1),\"\"))","v":""},{"$f":"IF(A184=\"\",\"\",(LARGE('A1'!$K$30:$L$103,(1+SUM(COUNTIF('A1'!$K$30:$L$103,B$7:B184))-(A184*COUNTIF('A1'!$K$30:$L$103,B$8))))))","v":""},{"$f":"IF($C$6:$AZ$6=\"\",\"\",IF($C$6:$AZ$6=\"HOT\",IF(TRANSPOSE('A1'!$K$30:$K$80)=$B185,\"●\",IF(TRANSPOSE('A1'!$L$30:$L$80)=$B185,\"▼\",IF($C184:$AZ184=\"|\",\"|\",\"\"))),IF(TRANSPOSE('A1'!$K$30:$K$80)=$B185,\"●\",IF(TRANSPOSE('A1'!$L$30:$L$80)=$B185,\"▲\",IF($C184:$AZ184=\"|\",\"|\",\"\")))))","v":""},"","","","","","","","","","","","","","","","","","","","","","","","","","","","","","","","","","","","","","","","","","","","","","","","",""]
[{"$f":"IF(A184=\"\",\"\",IF((SUM(IF(FREQUENCY('A1'!$K$30:$L$103,'A1'!$K$30:$L$103)>0,1)))>(A184+1),(A184+1),\"\"))","v":""},{"$f":"IF(A185=\"\",\"\",(LARGE('A1'!$K$30:$L$103,(1+SUM(COUNTIF('A1'!$K$30:$L$103,B$7:B185))-(A185*COUNTIF('A1'!$K$30:$L$103,B$8))))))","v":""},{"$f":"IF($C$6:$AZ$6=\"\",\"\",IF($C$6:$AZ$6=\"HOT\",IF($C185:$AZ185=\"●\",\"|\",IF($C185:$AZ185=\"|\",\"|\",\"\")),IF($C185:$AZ185=\"▲\",\"|\",IF($C185:$AZ185=\"|\",\"|\",\"\"))))","v":""},"","","","","","","","","","","","","","","","","","","","","","","","","","","","","","","","","","","","","","","","","","","","","","","","",""]
[{"$f":"IF(A185=\"\",\"\",IF((SUM(IF(FREQUENCY('A1'!$K$30:$L$103,'A1'!$K$30:$L$103)>0,1)))>(A185+1),(A185+1),\"\"))","v":""},{"$f":"IF(A186=\"\",\"\",(LARGE('A1'!$K$30:$L$103,(1+SUM(COUNTIF('A1'!$K$30:$L$103,B$7:B186))-(A186*COUNTIF('A1'!$K$30:$L$103,B$8))))))","v":""},{"$f":"IF($C$6:$AZ$6=\"\",\"\",IF($C$6:$AZ$6=\"HOT\",IF(TRANSPOSE('A1'!$K$30:$K$80)=$B187,\"●\",IF(TRANSPOSE('A1'!$L$30:$L$80)=$B187,\"▼\",IF($C186:$AZ186=\"|\",\"|\",\"\"))),IF(TRANSPOSE('A1'!$K$30:$K$80)=$B187,\"●\",IF(TRANSPOSE('A1'!$L$30:$L$80)=$B187,\"▲\",IF($C186:$AZ186=\"|\",\"|\",\"\")))))","v":""},"","","","","","","","","","","","","","","","","","","","","","","","","","","","","","","","","","","","","","","","","","","","","","","","",""]
[{"$f":"IF(A186=\"\",\"\",IF((SUM(IF(FREQUENCY('A1'!$K$30:$L$103,'A1'!$K$30:$L$103)>0,1)))>(A186+1),(A186+1),\"\"))","v":""},{"$f":"IF(A187=\"\",\"\",(LARGE('A1'!$K$30:$L$103,(1+SUM(COUNTIF('A1'!$K$30:$L$103,B$7:B187))-(A187*COUNTIF('A1'!$K$30:$L$103,B$8))))))","v":""},{"$f":"IF($C$6:$AZ$6=\"\",\"\",IF($C$6:$AZ$6=\"HOT\",IF($C187:$AZ187=\"●\",\"|\",IF($C187:$AZ187=\"|\",\"|\",\"\")),IF($C187:$AZ187=\"▲\",\"|\",IF($C187:$AZ187=\"|\",\"|\",\"\"))))","v":""},"","","","","","","","","","","","","","","","","","","","","","","","","","","","","","","","","","","","","","","","","","","","","","","","",""]
[{"$f":"IF(A187=\"\",\"\",IF((SUM(IF(FREQUENCY('A1'!$K$30:$L$103,'A1'!$K$30:$L$103)>0,1)))>(A187+1),(A187+1),\"\"))","v":""},{"$f":"IF(A188=\"\",\"\",(LARGE('A1'!$K$30:$L$103,(1+SUM(COUNTIF('A1'!$K$30:$L$103,B$7:B188))-(A188*COUNTIF('A1'!$K$30:$L$103,B$8))))))","v":""},{"$f":"IF($C$6:$AZ$6=\"\",\"\",IF($C$6:$AZ$6=\"HOT\",IF(TRANSPOSE('A1'!$K$30:$K$80)=$B189,\"●\",IF(TRANSPOSE('A1'!$L$30:$L$80)=$B189,\"▼\",IF($C188:$AZ188=\"|\",\"|\",\"\"))),IF(TRANSPOSE('A1'!$K$30:$K$80)=$B189,\"●\",IF(TRANSPOSE('A1'!$L$30:$L$80)=$B189,\"▲\",IF($C188:$AZ188=\"|\",\"|\",\"\")))))","v":""},"","","","","","","","","","","","","","","","","","","","","","","","","","","","","","","","","","","","","","","","","","","","","","","","",""]
[{"$f":"IF(A188=\"\",\"\",IF((SUM(IF(FREQUENCY('A1'!$K$30:$L$103,'A1'!$K$30:$L$103)>0,1)))>(A188+1),(A188+1),\"\"))","v":""},{"$f":"IF(A189=\"\",\"\",(LARGE('A1'!$K$30:$L$103,(1+SUM(COUNTIF('A1'!$K$30:$L$103,B$7:B189))-(A189*COUNTIF('A1'!$K$30:$L$103,B$8))))))","v":""},{"$f":"IF($C$6:$AZ$6=\"\",\"\",IF($C$6:$AZ$6=\"HOT\",IF($C189:$AZ189=\"●\",\"|\",IF($C189:$AZ189=\"|\",\"|\",\"\")),IF($C189:$AZ189=\"▲\",\"|\",IF($C189:$AZ189=\"|\",\"|\",\"\"))))","v":""},"","","","","","","","","","","","","","","","","","","","","","","","","","","","","","","","","","","","","","","","","","","","","","","","",""]
[{"$f":"IF(A189=\"\",\"\",IF((SUM(IF(FREQUENCY('A1'!$K$30:$L$103,'A1'!$K$30:$L$103)>0,1)))>(A189+1),(A189+1),\"\"))","v":""},{"$f":"IF(A190=\"\",\"\",(LARGE('A1'!$K$30:$L$103,(1+SUM(COUNTIF('A1'!$K$30:$L$103,B$7:B190))-(A190*COUNTIF('A1'!$K$30:$L$103,B$8))))))","v":""},{"$f":"IF($C$6:$AZ$6=\"\",\"\",IF($C$6:$AZ$6=\"HOT\",IF(TRANSPOSE('A1'!$K$30:$K$80)=$B191,\"●\",IF(TRANSPOSE('A1'!$L$30:$L$80)=$B191,\"▼\",IF($C190:$AZ190=\"|\",\"|\",\"\"))),IF(TRANSPOSE('A1'!$K$30:$K$80)=$B191,\"●\",IF(TRANSPOSE('A1'!$L$30:$L$80)=$B191,\"▲\",IF($C190:$AZ190=\"|\",\"|\",\"\")))))","v":""},"","","","","","","","","","","","","","","","","","","","","","","","","","","","","","","","","","","","","","","","","","","","","","","","",""]
[{"$f":"IF(A190=\"\",\"\",IF((SUM(IF(FREQUENCY('A1'!$K$30:$L$103,'A1'!$K$30:$L$103)>0,1)))>(A190+1),(A190+1),\"\"))","v":""},{"$f":"IF(A191=\"\",\"\",(LARGE('A1'!$K$30:$L$103,(1+SUM(COUNTIF('A1'!$K$30:$L$103,B$7:B191))-(A191*COUNTIF('A1'!$K$30:$L$103,B$8))))))","v":""},{"$f":"IF($C$6:$AZ$6=\"\",\"\",IF($C$6:$AZ$6=\"HOT\",IF($C191:$AZ191=\"●\",\"|\",IF($C191:$AZ191=\"|\",\"|\",\"\")),IF($C191:$AZ191=\"▲\",\"|\",IF($C191:$AZ191=\"|\",\"|\",\"\"))))","v":""},"","","","","","","","","","","","","","","","","","","","","","","","","","","","","","","","","","","","","","","","","","","","","","","","",""]
[{"$f":"IF(A191=\"\",\"\",IF((SUM(IF(FREQUENCY('A1'!$K$30:$L$103,'A1'!$K$30:$L$103)>0,1)))>(A191+1),(A191+1),\"\"))","v":""},{"$f":"IF(A192=\"\",\"\",(LARGE('A1'!$K$30:$L$103,(1+SUM(COUNTIF('A1'!$K$30:$L$103,B$7:B192))-(A192*COUNTIF('A1'!$K$30:$L$103,B$8))))))","v":""},{"$f":"IF($C$6:$AZ$6=\"\",\"\",IF($C$6:$AZ$6=\"HOT\",IF(TRANSPOSE('A1'!$K$30:$K$80)=$B193,\"●\",IF(TRANSPOSE('A1'!$L$30:$L$80)=$B193,\"▼\",IF($C192:$AZ192=\"|\",\"|\",\"\"))),IF(TRANSPOSE('A1'!$K$30:$K$80)=$B193,\"●\",IF(TRANSPOSE('A1'!$L$30:$L$80)=$B193,\"▲\",IF($C192:$AZ192=\"|\",\"|\",\"\")))))","v":""},"","","","","","","","","","","","","","","","","","","","","","","","","","","","","","","","","","","","","","","","","","","","","","","","",""]
[{"$f":"IF(A192=\"\",\"\",IF((SUM(IF(FREQUENCY('A1'!$K$30:$L$103,'A1'!$K$30:$L$103)>0,1)))>(A192+1),(A192+1),\"\"))","v":""},{"$f":"IF(A193=\"\",\"\",(LARGE('A1'!$K$30:$L$103,(1+SUM(COUNTIF('A1'!$K$30:$L$103,B$7:B193))-(A193*COUNTIF('A1'!$K$30:$L$103,B$8))))))","v":""},{"$f":"IF($C$6:$AZ$6=\"\",\"\",IF($C$6:$AZ$6=\"HOT\",IF($C193:$AZ193=\"●\",\"|\",IF($C193:$AZ193=\"|\",\"|\",\"\")),IF($C193:$AZ193=\"▲\",\"|\",IF($C193:$AZ193=\"|\",\"|\",\"\"))))","v":""},"","","","","","","","","","","","","","","","","","","","","","","","","","","","","","","","","","","","","","","","","","","","","","","","",""]
[{"$f":"IF(A193=\"\",\"\",IF((SUM(IF(FREQUENCY('A1'!$K$30:$L$103,'A1'!$K$30:$L$103)>0,1)))>(A193+1),(A193+1),\"\"))","v":""},{"$f":"IF(A194=\"\",\"\",(LARGE('A1'!$K$30:$L$103,(1+SUM(COUNTIF('A1'!$K$30:$L$103,B$7:B194))-(A194*COUNTIF('A1'!$K$30:$L$103,B$8))))))","v":""},{"$f":"IF($C$6:$AZ$6=\"\",\"\",IF($C$6:$AZ$6=\"HOT\",IF(TRANSPOSE('A1'!$K$30:$K$80)=$B195,\"●\",IF(TRANSPOSE('A1'!$L$30:$L$80)=$B195,\"▼\",IF($C194:$AZ194=\"|\",\"|\",\"\"))),IF(TRANSPOSE('A1'!$K$30:$K$80)=$B195,\"●\",IF(TRANSPOSE('A1'!$L$30:$L$80)=$B195,\"▲\",IF($C194:$AZ194=\"|\",\"|\",\"\")))))","v":""},"","","","","","","","","","","","","","","","","","","","","","","","","","","","","","","","","","","","","","","","","","","","","","","","",""]
[{"$f":"IF(A194=\"\",\"\",IF((SUM(IF(FREQUENCY('A1'!$K$30:$L$103,'A1'!$K$30:$L$103)>0,1)))>(A194+1),(A194+1),\"\"))","v":""},{"$f":"IF(A195=\"\",\"\",(LARGE('A1'!$K$30:$L$103,(1+SUM(COUNTIF('A1'!$K$30:$L$103,B$7:B195))-(A195*COUNTIF('A1'!$K$30:$L$103,B$8))))))","v":""},{"$f":"IF($C$6:$AZ$6=\"\",\"\",IF($C$6:$AZ$6=\"HOT\",IF($C195:$AZ195=\"●\",\"|\",IF($C195:$AZ195=\"|\",\"|\",\"\")),IF($C195:$AZ195=\"▲\",\"|\",IF($C195:$AZ195=\"|\",\"|\",\"\"))))","v":""},"","","","","","","","","","","","","","","","","","","","","","","","","","","","","","","","","","","","","","","","","","","","","","","","",""]
[{"$f":"IF(A195=\"\",\"\",IF((SUM(IF(FREQUENCY('A1'!$K$30:$L$103,'A1'!$K$30:$L$103)>0,1)))>(A195+1),(A195+1),\"\"))","v":""},{"$f":"IF(A196=\"\",\"\",(LARGE('A1'!$K$30:$L$103,(1+SUM(COUNTIF('A1'!$K$30:$L$103,B$7:B196))-(A196*COUNTIF('A1'!$K$30:$L$103,B$8))))))","v":""},{"$f":"IF($C$6:$AZ$6=\"\",\"\",IF($C$6:$AZ$6=\"HOT\",IF(TRANSPOSE('A1'!$K$30:$K$80)=$B197,\"●\",IF(TRANSPOSE('A1'!$L$30:$L$80)=$B197,\"▼\",IF($C196:$AZ196=\"|\",\"|\",\"\"))),IF(TRANSPOSE('A1'!$K$30:$K$80)=$B197,\"●\",IF(TRANSPOSE('A1'!$L$30:$L$80)=$B197,\"▲\",IF($C196:$AZ196=\"|\",\"|\",\"\")))))","v":""},"","","","","","","","","","","","","","","","","","","","","","","","","","","","","","","","","","","","","","","","","","","","","","","","",""]
[{"$f":"IF(A196=\"\",\"\",IF((SUM(IF(FREQUENCY('A1'!$K$30:$L$103,'A1'!$K$30:$L$103)>0,1)))>(A196+1),(A196+1),\"\"))","v":""},{"$f":"IF(A197=\"\",\"\",(LARGE('A1'!$K$30:$L$103,(1+SUM(COUNTIF('A1'!$K$30:$L$103,B$7:B197))-(A197*COUNTIF('A1'!$K$30:$L$103,B$8))))))","v":""},{"$f":"IF($C$6:$AZ$6=\"\",\"\",IF($C$6:$AZ$6=\"HOT\",IF($C197:$AZ197=\"●\",\"|\",IF($C197:$AZ197=\"|\",\"|\",\"\")),IF($C197:$AZ197=\"▲\",\"|\",IF($C197:$AZ197=\"|\",\"|\",\"\"))))","v":""},"","","","","","","","","","","","","","","","","","","","","","","","","","","","","","","","","","","","","","","","","","","","","","","","",""]
[{"$f":"IF(A197=\"\",\"\",IF((SUM(IF(FREQUENCY('A1'!$K$30:$L$103,'A1'!$K$30:$L$103)>0,1)))>(A197+1),(A197+1),\"\"))","v":""},{"$f":"IF(A198=\"\",\"\",(LARGE('A1'!$K$30:$L$103,(1+SUM(COUNTIF('A1'!$K$30:$L$103,B$7:B198))-(A198*COUNTIF('A1'!$K$30:$L$103,B$8))))))","v":""},{"$f":"IF($C$6:$AZ$6=\"\",\"\",IF($C$6:$AZ$6=\"HOT\",IF(TRANSPOSE('A1'!$K$30:$K$80)=$B199,\"●\",IF(TRANSPOSE('A1'!$L$30:$L$80)=$B199,\"▼\",IF($C198:$AZ198=\"|\",\"|\",\"\"))),IF(TRANSPOSE('A1'!$K$30:$K$80)=$B199,\"●\",IF(TRANSPOSE('A1'!$L$30:$L$80)=$B199,\"▲\",IF($C198:$AZ198=\"|\",\"|\",\"\")))))","v":""},"","","","","","","","","","","","","","","","","","","","","","","","","","","","","","","","","","","","","","","","","","","","","","","","",""]
[{"$f":"IF(A198=\"\",\"\",IF((SUM(IF(FREQUENCY('A1'!$K$30:$L$103,'A1'!$K$30:$L$103)>0,1)))>(A198+1),(A198+1),\"\"))","v":""},{"$f":"IF(A199=\"\",\"\",(LARGE('A1'!$K$30:$L$103,(1+SUM(COUNTIF('A1'!$K$30:$L$103,B$7:B199))-(A199*COUNTIF('A1'!$K$30:$L$103,B$8))))))","v":""},{"$f":"IF($C$6:$AZ$6=\"\",\"\",IF($C$6:$AZ$6=\"HOT\",IF($C199:$AZ199=\"●\",\"|\",IF($C199:$AZ199=\"|\",\"|\",\"\")),IF($C199:$AZ199=\"▲\",\"|\",IF($C199:$AZ199=\"|\",\"|\",\"\"))))","v":""},"","","","","","","","","","","","","","","","","","","","","","","","","","","","","","","","","","","","","","","","","","","","","","","","",""]
[{"$f":"IF(A199=\"\",\"\",IF((SUM(IF(FREQUENCY('A1'!$K$30:$L$103,'A1'!$K$30:$L$103)>0,1)))>(A199+1),(A199+1),\"\"))","v":""},{"$f":"IF(A200=\"\",\"\",(LARGE('A1'!$K$30:$L$103,(1+SUM(COUNTIF('A1'!$K$30:$L$103,B$7:B200))-(A200*COUNTIF('A1'!$K$30:$L$103,B$8))))))","v":""},{"$f":"IF($C$6:$AZ$6=\"\",\"\",IF($C$6:$AZ$6=\"HOT\",IF(TRANSPOSE('A1'!$K$30:$K$80)=$B201,\"●\",IF(TRANSPOSE('A1'!$L$30:$L$80)=$B201,\"▼\",IF($C200:$AZ200=\"|\",\"|\",\"\"))),IF(TRANSPOSE('A1'!$K$30:$K$80)=$B201,\"●\",IF(TRANSPOSE('A1'!$L$30:$L$80)=$B201,\"▲\",IF($C200:$AZ200=\"|\",\"|\",\"\")))))","v":""},"","","","","","","","","","","","","","","","","","","","","","","","","","","","","","","","","","","","","","","","","","","","","","","","",""]
[{"$f":"IF(A200=\"\",\"\",IF((SUM(IF(FREQUENCY('A1'!$K$30:$L$103,'A1'!$K$30:$L$103)>0,1)))>(A200+1),(A200+1),\"\"))","v":""},{"$f":"IF(A201=\"\",\"\",(LARGE('A1'!$K$30:$L$103,(1+SUM(COUNTIF('A1'!$K$30:$L$103,B$7:B201))-(A201*COUNTIF('A1'!$K$30:$L$103,B$8))))))","v":""},{"$f":"IF($C$6:$AZ$6=\"\",\"\",IF($C$6:$AZ$6=\"HOT\",IF($C201:$AZ201=\"●\",\"|\",IF($C201:$AZ201=\"|\",\"|\",\"\")),IF($C201:$AZ201=\"▲\",\"|\",IF($C201:$AZ201=\"|\",\"|\",\"\"))))","v":""},"","","","","","","","","","","","","","","","","","","","","","","","","","","","","","","","","","","","","","","","","","","","","","","","",""]
[{"$f":"IF(A201=\"\",\"\",IF((SUM(IF(FREQUENCY('A1'!$K$30:$L$103,'A1'!$K$30:$L$103)>0,1)))>(A201+1),(A201+1),\"\"))","v":""},{"$f":"IF(A202=\"\",\"\",(LARGE('A1'!$K$30:$L$103,(1+SUM(COUNTIF('A1'!$K$30:$L$103,B$7:B202))-(A202*COUNTIF('A1'!$K$30:$L$103,B$8))))))","v":""},{"$f":"IF($C$6:$AZ$6=\"\",\"\",IF($C$6:$AZ$6=\"HOT\",IF(TRANSPOSE('A1'!$K$30:$K$80)=$B203,\"●\",IF(TRANSPOSE('A1'!$L$30:$L$80)=$B203,\"▼\",IF($C202:$AZ202=\"|\",\"|\",\"\"))),IF(TRANSPOSE('A1'!$K$30:$K$80)=$B203,\"●\",IF(TRANSPOSE('A1'!$L$30:$L$80)=$B203,\"▲\",IF($C202:$AZ202=\"|\",\"|\",\"\")))))","v":""},"","","","","","","","","","","","","","","","","","","","","","","","","","","","","","","","","","","","","","","","","","","","","","","","",""]
[{"$f":"IF(A202=\"\",\"\",IF((SUM(IF(FREQUENCY('A1'!$K$30:$L$103,'A1'!$K$30:$L$103)>0,1)))>(A202+1),(A202+1),\"\"))","v":""},{"$f":"IF(A203=\"\",\"\",(LARGE('A1'!$K$30:$L$103,(1+SUM(COUNTIF('A1'!$K$30:$L$103,B$7:B203))-(A203*COUNTIF('A1'!$K$30:$L$103,B$8))))))","v":""},{"$f":"IF($C$6:$AZ$6=\"\",\"\",IF($C$6:$AZ$6=\"HOT\",IF($C203:$AZ203=\"●\",\"|\",IF($C203:$AZ203=\"|\",\"|\",\"\")),IF($C203:$AZ203=\"▲\",\"|\",IF($C203:$AZ203=\"|\",\"|\",\"\"))))","v":""},"","","","","","","","","","","","","","","","","","","","","","","","","","","","","","","","","","","","","","","","","","","","","","","","",""]
[{"$f":"IF(A203=\"\",\"\",IF((SUM(IF(FREQUENCY('A1'!$K$30:$L$103,'A1'!$K$30:$L$103)>0,1)))>(A203+1),(A203+1),\"\"))","v":""},{"$f":"IF(A204=\"\",\"\",(LARGE('A1'!$K$30:$L$103,(1+SUM(COUNTIF('A1'!$K$30:$L$103,B$7:B204))-(A204*COUNTIF('A1'!$K$30:$L$103,B$8))))))","v":""},{"$f":"IF($C$6:$AZ$6=\"\",\"\",IF($C$6:$AZ$6=\"HOT\",IF(TRANSPOSE('A1'!$K$30:$K$80)=$B205,\"●\",IF(TRANSPOSE('A1'!$L$30:$L$80)=$B205,\"▼\",IF($C204:$AZ204=\"|\",\"|\",\"\"))),IF(TRANSPOSE('A1'!$K$30:$K$80)=$B205,\"●\",IF(TRANSPOSE('A1'!$L$30:$L$80)=$B205,\"▲\",IF($C204:$AZ204=\"|\",\"|\",\"\")))))","v":""},"","","","","","","","","","","","","","","","","","","","","","","","","","","","","","","","","","","","","","","","","","","","","","","","",""]
[{"$f":"IF(A204=\"\",\"\",IF((SUM(IF(FREQUENCY('A1'!$K$30:$L$103,'A1'!$K$30:$L$103)>0,1)))>(A204+1),(A204+1),\"\"))","v":""},{"$f":"IF(A205=\"\",\"\",(LARGE('A1'!$K$30:$L$103,(1+SUM(COUNTIF('A1'!$K$30:$L$103,B$7:B205))-(A205*COUNTIF('A1'!$K$30:$L$103,B$8))))))","v":""},{"$f":"IF($C$6:$AZ$6=\"\",\"\",IF($C$6:$AZ$6=\"HOT\",IF($C205:$AZ205=\"●\",\"|\",IF($C205:$AZ205=\"|\",\"|\",\"\")),IF($C205:$AZ205=\"▲\",\"|\",IF($C205:$AZ205=\"|\",\"|\",\"\"))))","v":""},"","","","","","","","","","","","","","","","","","","","","","","","","","","","","","","","","","","","","","","","","","","","","","","","",""]
[{"$f":"IF(A205=\"\",\"\",IF((SUM(IF(FREQUENCY('A1'!$K$30:$L$103,'A1'!$K$30:$L$103)>0,1)))>(A205+1),(A205+1),\"\"))","v":""},{"$f":"IF(A206=\"\",\"\",(LARGE('A1'!$K$30:$L$103,(1+SUM(COUNTIF('A1'!$K$30:$L$103,B$7:B206))-(A206*COUNTIF('A1'!$K$30:$L$103,B$8))))))","v":""},{"$f":"IF($C$6:$AZ$6=\"\",\"\",IF($C$6:$AZ$6=\"HOT\",IF(TRANSPOSE('A1'!$K$30:$K$80)=$B207,\"●\",IF(TRANSPOSE('A1'!$L$30:$L$80)=$B207,\"▼\",IF($C206:$AZ206=\"|\",\"|\",\"\"))),IF(TRANSPOSE('A1'!$K$30:$K$80)=$B207,\"●\",IF(TRANSPOSE('A1'!$L$30:$L$80)=$B207,\"▲\",IF($C206:$AZ206=\"|\",\"|\",\"\")))))","v":""},"","","","","","","","","","","","","","","","","","","","","","","","","","","","","","","","","","","","","","","","","","","","","","","","",""]

{"sheet":"ST","index":10,"n_rows":205,"n_cols":8,"rows_kept":205,"cut":false,"hidden":false,"merged":[]}
["Shifted Intervals Table"]
[]
["Shifted Temperature","T(i+1)-Ti","CpHot","dHHot","Hot Duty","CpCold","dHCold","Cold Duty"]
[null,{"$f":"'A1'!T3","v":"°C"},{"$f":"'A1'!T4","v":"kW/K"},{"$f":"'A1'!T5","v":"kW"},{"$f":"'A1'!T5","v":"kW"},{"$f":"'A1'!T4","v":"kW/K"},{"$f":"'A1'!T5","v":"kW"},{"$f":"'A1'!T5","v":"kW"}]
[{"$f":"SS!B7","v":260},{"$f":"IF(A6=\"\",\"\",A4-A6)","v":""},{"$f":"IF($B5=\"\",\"\",SUM(IF(SS!$C$6:$AZ$6=\"HOT\",IF(SS!$C7:$AZ7=\"|\",1*SS!$C$4:$AZ$4,0),0)))","v":""},{"$f":"IF(C5=\"\",\"\",C5*B5)","v":""},{"$f":"IF(OR($A5=\"\",SUM(IF(SS!$C$6:$AZ$6=\"HOT\",IF(SS!$C7:$AZ7=\"\",1,0)))=COUNTIF(SS!$C$6:$AZ$6,\"HOT\")),\"\",SUM(D6:D$106))","v":""},{"$f":"IF($B5=\"\",\"\",SUM(IF(SS!$C$6:$AZ$6=\"COLD\",IF(SS!$C7:$AZ7=\"|\",1*SS!$C$4:$AZ$4,0),0)))","v":""},{"$f":"IF(F5=\"\",\"\",F5*B5)","v":""},{"$f":"IF(OR($A5=\"\",SUM(IF(SS!$C$6:$AZ$6=\"COLD\",IF(SS!$C7:$AZ7=\"\",1,0)))=COUNTIF(SS!$C$6:$AZ$6,\"COLD\")),\"\",PT!$P$8+SUM(G6:G$106))","v":1240}]
[{"$f":"SS!B8","v":""},{"$f":"IF(A7=\"\",\"\",A5-A7)","v":30},{"$f":"IF($B6=\"\",\"\",SUM(IF(SS!$C$6:$AZ$6=\"HOT\",IF(SS!$C8:$AZ8=\"|\",1*SS!$C$4:$AZ$4,0),0)))","v":0},{"$f":"IF(C6=\"\",\"\",C6*B6)","v":0},{"$f":"IF(OR($A6=\"\",SUM(IF(SS!$C$6:$AZ$6=\"HOT\",IF(SS!$C8:$AZ8=\"\",1,0)))=COUNTIF(SS!$C$6:$AZ$6,\"HOT\")),\"\",SUM(D7:D$106))","v":""},{"$f":"IF($B6=\"\",\"\",SUM(IF(SS!$C$6:$AZ$6=\"COLD\",IF(SS!$C8:$AZ8=\"|\",1*SS!$C$4:$AZ$4,0),0)))","v":2},{"$f":"IF(F6=\"\",\"\",F6*B6)","v":60},{"$f":"IF(OR($A6=\"\",SUM(IF(SS!$C$6:$AZ$6=\"COLD\",IF(SS!$C8:$AZ8=\"\",1,0)))=COUNTIF(SS!$C$6:$AZ$6,\"COLD\")),\"\",PT!$P$8+SUM(G7:G$106))","v":""}]
[{"$f":"SS!B9","v":230},"",{"$f":"IF($B7=\"\",\"\",SUM(IF(SS!$C$6:$AZ$6=\"HOT\",IF(SS!$C9:$AZ9=\"|\",1*SS!$C$4:$AZ$4,0),0)))","v":""},"",{"$f":"IF(OR($A7=\"\",SUM(IF(SS!$C$6:$AZ$6=\"HOT\",IF(SS!$C9:$AZ9=\"\",1,0)))=COUNTIF(SS!$C$6:$AZ$6,\"HOT\")),\"\",SUM(D8:D$106))","v":960},{"$f":"IF($B7=\"\",\"\",SUM(IF(SS!$C$6:$AZ$6=\"COLD\",IF(SS!$C9:$AZ9=\"|\",1*SS!$C$4:$AZ$4,0),0)))","v":""},"",{"$f":"IF(OR($A7=\"\",SUM(IF(SS!$C$6:$AZ$6=\"COLD\",IF(SS!$C9:$AZ9=\"\",1,0)))=COUNTIF(SS!$C$6:$AZ$6,\"COLD\")),\"\",PT!$P$8+SUM(G8:G$106))","v":1180}]
[{"$f":"SS!B10","v":""},20,{"$f":"IF($B8=\"\",\"\",SUM(IF(SS!$C$6:$AZ$6=\"HOT\",IF(SS!$C10:$AZ10=\"|\",1*SS!$C$4:$AZ$4,0),0)))","v":1.5},30,{"$f":"IF(OR($A8=\"\",SUM(IF(SS!$C$6:$AZ$6=\"HOT\",IF(SS!$C10:$AZ10=\"\",1,0)))=COUNTIF(SS!$C$6:$AZ$6,\"HOT\")),\"\",SUM(D9:D$106))","v":""},{"$f":"IF($B8=\"\",\"\",SUM(IF(SS!$C$6:$AZ$6=\"COLD\",IF(SS!$C10:$AZ10=\"|\",1*SS!$C$4:$AZ$4,0),0)))","v":2},40,{"$f":"IF(OR($A8=\"\",SUM(IF(SS!$C$6:$AZ$6=\"COLD\",IF(SS!$C10:$AZ10=\"\",1,0)))=COUNTIF(SS!$C$6:$AZ$6,\"COLD\")),\"\",PT!$P$8+SUM(G9:G$106))","v":""}]
[{"$f":"SS!B11","v":210},"",{"$f":"IF($B9=\"\",\"\",SUM(IF(SS!$C$6:$AZ$6=\"HOT\",IF(SS!$C11:$AZ11=\"|\",1*SS!$C$4:$AZ$4,0),0)))","v":""},"",{"$f":"IF(OR($A9=\"\",SUM(IF(SS!$C$6:$AZ$6=\"HOT\",IF(SS!$C11:$AZ11=\"\",1,0)))=COUNTIF(SS!$C$6:$AZ$6,\"HOT\")),\"\",SUM(D10:D$106))","v":930},{"$f":"IF($B9=\"\",\"\",SUM(IF(SS!$C$6:$AZ$6=\"COLD\",IF(SS!$C11:$AZ11=\"|\",1*SS!$C$4:$AZ$4,0),0)))","v":""},"",{"$f":"IF(OR($A9=\"\",SUM(IF(SS!$C$6:$AZ$6=\"COLD\",IF(SS!$C11:$AZ11=\"\",1,0)))=COUNTIF(SS!$C$6:$AZ$6,\"COLD\")),\"\",PT!$P$8+SUM(G10:G$106))","v":1140}]
[{"$f":"SS!B12","v":""},20,{"$f":"IF($B10=\"\",\"\",SUM(IF(SS!$C$6:$AZ$6=\"HOT\",IF(SS!$C12:$AZ12=\"|\",1*SS!$C$4:$AZ$4,0),0)))","v":1.5},30,{"$f":"IF(OR($A10=\"\",SUM(IF(SS!$C$6:$AZ$6=\"HOT\",IF(SS!$C12:$AZ12=\"\",1,0)))=COUNTIF(SS!$C$6:$AZ$6,\"HOT\")),\"\",SUM(D11:D$106))","v":""},{"$f":"IF($B10=\"\",\"\",SUM(IF(SS!$C$6:$AZ$6=\"COLD\",IF(SS!$C12:$AZ12=\"|\",1*SS!$C$4:$AZ$4,0),0)))","v":6},120,{"$f":"IF(OR($A10=\"\",SUM(IF(SS!$C$6:$AZ$6=\"COLD\",IF(SS!$C12:$AZ12=\"\",1,0)))=COUNTIF(SS!$C$6:$AZ$6,\"COLD\")),\"\",PT!$P$8+SUM(G11:G$106))","v":""}]
[{"$f":"SS!B13","v":190},"",{"$f":"IF($B11=\"\",\"\",SUM(IF(SS!$C$6:$AZ$6=\"HOT\",IF(SS!$C13:$AZ13=\"|\",1*SS!$C$4:$AZ$4,0),0)))","v":""},"",{"$f":"IF(OR($A11=\"\",SUM(IF(SS!$C$6:$AZ$6=\"HOT\",IF(SS!$C13:$AZ13=\"\",1,0)))=COUNTIF(SS!$C$6:$AZ$6,\"HOT\")),\"\",SUM(D12:D$106))","v":900},{"$f":"IF($B11=\"\",\"\",SUM(IF(SS!$C$6:$AZ$6=\"COLD\",IF(SS!$C13:$AZ13=\"|\",1*SS!$C$4:$AZ$4,0),0)))","v":""},"",{"$f":"IF(OR($A11=\"\",SUM(IF(SS!$C$6:$AZ$6=\"COLD\",IF(SS!$C13:$AZ13=\"\",1,0)))=COUNTIF(SS!$C$6:$AZ$6,\"COLD\")),\"\",PT!$P$8+SUM(G12:G$106))","v":1020}]
[{"$f":"SS!B14","v":""},80,{"$f":"IF($B12=\"\",\"\",SUM(IF(SS!$C$6:$AZ$6=\"HOT\",IF(SS!$C14:$AZ14=\"|\",1*SS!$C$4:$AZ$4,0),0)))","v":4.5},360,{"$f":"IF(OR($A12=\"\",SUM(IF(SS!$C$6:$AZ$6=\"HOT\",IF(SS!$C14:$AZ14=\"\",1,0)))=COUNTIF(SS!$C$6:$AZ$6,\"HOT\")),\"\",SUM(D13:D$106))","v":""},{"$f":"IF($B12=\"\",\"\",SUM(IF(SS!$C$6:$AZ$6=\"COLD\",IF(SS!$C14:$AZ14=\"|\",1*SS!$C$4:$AZ$4,0),0)))","v":6},480,{"$f":"IF(OR($A12=\"\",SUM(IF(SS!$C$6:$AZ$6=\"COLD\",IF(SS!$C14:$AZ14=\"\",1,0)))=COUNTIF(SS!$C$6:$AZ$6,\"COLD\")),\"\",PT!$P$8+SUM(G13:G$106))","v":""}]
[{"$f":"SS!B15","v":110},"",{"$f":"IF($B13=\"\",\"\",SUM(IF(SS!$C$6:$AZ$6=\"HOT\",IF(SS!$C15:$AZ15=\"|\",1*SS!$C$4:$AZ$4,0),0)))","v":""},"",{"$f":"IF(OR($A13=\"\",SUM(IF(SS!$C$6:$AZ$6=\"HOT\",IF(SS!$C15:$AZ15=\"\",1,0)))=COUNTIF(SS!$C$6:$AZ$6,\"HOT\")),\"\",SUM(D14:D$106))","v":540},{"$f":"IF($B13=\"\",\"\",SUM(IF(SS!$C$6:$AZ$6=\"COLD\",IF(SS!$C15:$AZ15=\"|\",1*SS!$C$4:$AZ$4,0),0)))","v":""},"",{"$f":"IF(OR($A13=\"\",SUM(IF(SS!$C$6:$AZ$6=\"COLD\",IF(SS!$C15:$AZ15=\"\",1,0)))=COUNTIF(SS!$C$6:$AZ$6,\"COLD\")),\"\",PT!$P$8+SUM(G14:G$106))","v":540}]
[{"$f":"SS!B16","v":""},1,{"$f":"IF($B14=\"\",\"\",SUM(IF(SS!$C$6:$AZ$6=\"HOT\",IF(SS!$C16:$AZ16=\"|\",1*SS!$C$4:$AZ$4,0),0)))","v":304.5},304.5,{"$f":"IF(OR($A14=\"\",SUM(IF(SS!$C$6:$AZ$6=\"HOT\",IF(SS!$C16:$AZ16=\"\",1,0)))=COUNTIF(SS!$C$6:$AZ$6,\"HOT\")),\"\",SUM(D15:D$106))","v":""},{"$f":"IF($B14=\"\",\"\",SUM(IF(SS!$C$6:$AZ$6=\"COLD\",IF(SS!$C16:$AZ16=\"|\",1*SS!$C$4:$AZ$4,0),0)))","v":6},6,{"$f":"IF(OR($A14=\"\",SUM(IF(SS!$C$6:$AZ$6=\"COLD\",IF(SS!$C16:$AZ16=\"\",1,0)))=COUNTIF(SS!$C$6:$AZ$6,\"COLD\")),\"\",PT!$P$8+SUM(G15:G$106))","v":""}]
[{"$f":"SS!B17","v":109},"",{"$f":"IF($B15=\"\",\"\",SUM(IF(SS!$C$6:$AZ$6=\"HOT\",IF(SS!$C17:$AZ17=\"|\",1*SS!$C$4:$AZ$4,0),0)))","v":""},"",{"$f":"IF(OR($A15=\"\",SUM(IF(SS!$C$6:$AZ$6=\"HOT\",IF(SS!$C17:$AZ17=\"\",1,0)))=COUNTIF(SS!$C$6:$AZ$6,\"HOT\")),\"\",SUM(D16:D$106))","v":235.5},{"$f":"IF($B15=\"\",\"\",SUM(IF(SS!$C$6:$AZ$6=\"COLD\",IF(SS!$C17:$AZ17=\"|\",1*SS!$C$4:$AZ$4,0),0)))","v":""},"",{"$f":"IF(OR($A15=\"\",SUM(IF(SS!$C$6:$AZ$6=\"COLD\",IF(SS!$C17:$AZ17=\"\",1,0)))=COUNTIF(SS!$C$6:$AZ$6,\"COLD\")),\"\",PT!$P$8+SUM(G16:G$106))","v":534}]
[{"$f":"SS!B18","v":""},19,{"$f":"IF($B16=\"\",\"\",SUM(IF(SS!$C$6:$AZ$6=\"HOT\",IF(SS!$C18:$AZ18=\"|\",1*SS!$C$4:$AZ$4,0),0)))","v":4.5},85.5,{"$f":"IF(OR($A16=\"\",SUM(IF(SS!$C$6:$AZ$6=\"HOT\",IF(SS!$C18:$AZ18=\"\",1,0)))=COUNTIF(SS!$C$6:$AZ$6,\"HOT\")),\"\",SUM(D17:D$106))","v":""},{"$f":"IF($B16=\"\",\"\",SUM(IF(SS!$C$6:$AZ$6=\"COLD\",IF(SS!$C18:$AZ18=\"|\",1*SS!$C$4:$AZ$4,0),0)))","v":6},114,{"$f":"IF(OR($A16=\"\",SUM(IF(SS!$C$6:$AZ$6=\"COLD\",IF(SS!$C18:$AZ18=\"\",1,0)))=COUNTIF(SS!$C$6:$AZ$6,\"COLD\")),\"\",PT!$P$8+SUM(G17:G$106))","v":""}]
[{"$f":"SS!B19","v":90},"",{"$f":"IF($B17=\"\",\"\",SUM(IF(SS!$C$6:$AZ$6=\"HOT\",IF(SS!$C19:$AZ19=\"|\",1*SS!$C$4:$AZ$4,0),0)))","v":""},"",{"$f":"IF(OR($A17=\"\",SUM(IF(SS!$C$6:$AZ$6=\"HOT\",IF(SS!$C19:$AZ19=\"\",1,0)))=COUNTIF(SS!$C$6:$AZ$6,\"HOT\")),\"\",SUM(D18:D$106))","v":150},{"$f":"IF($B17=\"\",\"\",SUM(IF(SS!$C$6:$AZ$6=\"COLD\",IF(SS!$C19:$AZ19=\"|\",1*SS!$C$4:$AZ$4,0),0)))","v":""},"",{"$f":"IF(OR($A17=\"\",SUM(IF(SS!$C$6:$AZ$6=\"COLD\",IF(SS!$C19:$AZ19=\"\",1,0)))=COUNTIF(SS!$C$6:$AZ$6,\"COLD\")),\"\",PT!$P$8+SUM(G18:G$106))","v":420}]
[{"$f":"SS!B20","v":""},30,{"$f":"IF($B18=\"\",\"\",SUM(IF(SS!$C$6:$AZ$6=\"HOT\",IF(SS!$C20:$AZ20=\"|\",1*SS!$C$4:$AZ$4,0),0)))","v":3},90,{"$f":"IF(OR($A18=\"\",SUM(IF(SS!$C$6:$AZ$6=\"HOT\",IF(SS!$C20:$AZ20=\"\",1,0)))=COUNTIF(SS!$C$6:$AZ$6,\"HOT\")),\"\",SUM(D19:D$106))","v":""},{"$f":"IF($B18=\"\",\"\",SUM(IF(SS!$C$6:$AZ$6=\"COLD\",IF(SS!$C20:$AZ20=\"|\",1*SS!$C$4:$AZ$4,0),0)))","v":6},180,{"$f":"IF(OR($A18=\"\",SUM(IF(SS!$C$6:$AZ$6=\"COLD\",IF(SS!$C20:$AZ20=\"\",1,0)))=COUNTIF(SS!$C$6:$AZ$6,\"COLD\")),\"\",PT!$P$8+SUM(G19:G$106))","v":""}]
[{"$f":"SS!B21","v":60},"",{"$f":"IF($B19=\"\",\"\",SUM(IF(SS!$C$6:$AZ$6=\"HOT\",IF(SS!$C21:$AZ21=\"|\",1*SS!$C$4:$AZ$4,0),0)))","v":""},"",{"$f":"IF(OR($A19=\"\",SUM(IF(SS!$C$6:$AZ$6=\"HOT\",IF(SS!$C21:$AZ21=\"\",1,0)))=COUNTIF(SS!$C$6:$AZ$6,\"HOT\")),\"\",SUM(D20:D$106))","v":60},{"$f":"IF($B19=\"\",\"\",SUM(IF(SS!$C$6:$AZ$6=\"COLD\",IF(SS!$C21:$AZ21=\"|\",1*SS!$C$4:$AZ$4,0),0)))","v":""},"",{"$f":"IF(OR($A19=\"\",SUM(IF(SS!$C$6:$AZ$6=\"COLD\",IF(SS!$C21:$AZ21=\"\",1,0)))=COUNTIF(SS!$C$6:$AZ$6,\"COLD\")),\"\",PT!$P$8+SUM(G20:G$106))","v":240}]
[{"$f":"SS!B22","v":""},20,{"$f":"IF($B20=\"\",\"\",SUM(IF(SS!$C$6:$AZ$6=\"HOT\",IF(SS!$C22:$AZ22=\"|\",1*SS!$C$4:$AZ$4,0),0)))","v":3},60,{"$f":"IF(OR($A20=\"\",SUM(IF(SS!$C$6:$AZ$6=\"HOT\",IF(SS!$C22:$AZ22=\"\",1,0)))=COUNTIF(SS!$C$6:$AZ$6,\"HOT\")),\"\",SUM(D21:D$106))","v":""},{"$f":"IF($B20=\"\",\"\",SUM(IF(SS!$C$6:$AZ$6=\"COLD\",IF(SS!$C22:$AZ22=\"|\",1*SS!$C$4:$AZ$4,0),0)))","v":4},80,{"$f":"IF(OR($A20=\"\",SUM(IF(SS!$C$6:$AZ$6=\"COLD\",IF(SS!$C22:$AZ22=\"\",1,0)))=COUNTIF(SS!$C$6:$AZ$6,\"COLD\")),\"\",PT!$P$8+SUM(G21:G$106))","v":""}]
[{"$f":"SS!B23","v":40},"",{"$f":"IF($B21=\"\",\"\",SUM(IF(SS!$C$6:$AZ$6=\"HOT\",IF(SS!$C23:$AZ23=\"|\",1*SS!$C$4:$AZ$4,0),0)))","v":""},"",{"$f":"IF(OR($A21=\"\",SUM(IF(SS!$C$6:$AZ$6=\"HOT\",IF(SS!$C23:$AZ23=\"\",1,0)))=COUNTIF(SS!$C$6:$AZ$6,\"HOT\")),\"\",SUM(D22:D$106))","v":0},{"$f":"IF($B21=\"\",\"\",SUM(IF(SS!$C$6:$AZ$6=\"COLD\",IF(SS!$C23:$AZ23=\"|\",1*SS!$C$4:$AZ$4,0),0)))","v":""},"",{"$f":"IF(OR($A21=\"\",SUM(IF(SS!$C$6:$AZ$6=\"COLD\",IF(SS!$C23:$AZ23=\"\",1,0)))=COUNTIF(SS!$C$6:$AZ$6,\"COLD\")),\"\",PT!$P$8+SUM(G22:G$106))","v":160}]
[{"$f":"SS!B24","v":""},"",{"$f":"IF($B22=\"\",\"\",SUM(IF(SS!$C$6:$AZ$6=\"HOT\",IF(SS!$C24:$AZ24=\"|\",1*SS!$C$4:$AZ$4,0),0)))","v":""},"",{"$f":"IF(OR($A22=\"\",SUM(IF(SS!$C$6:$AZ$6=\"HOT\",IF(SS!$C24:$AZ24=\"\",1,0)))=COUNTIF(SS!$C$6:$AZ$6,\"HOT\")),\"\",SUM(D23:D$106))","v":""},{"$f":"IF($B22=\"\",\"\",SUM(IF(SS!$C$6:$AZ$6=\"COLD\",IF(SS!$C24:$AZ24=\"|\",1*SS!$C$4:$AZ$4,0),0)))","v":""},"",{"$f":"IF(OR($A22=\"\",SUM(IF(SS!$C$6:$AZ$6=\"COLD\",IF(SS!$C24:$AZ24=\"\",1,0)))=COUNTIF(SS!$C$6:$AZ$6,\"COLD\")),\"\",PT!$P$8+SUM(G23:G$106))","v":""}]
[{"$f":"SS!B25","v":""},"",{"$f":"IF($B23=\"\",\"\",SUM(IF(SS!$C$6:$AZ$6=\"HOT\",IF(SS!$C25:$AZ25=\"|\",1*SS!$C$4:$AZ$4,0),0)))","v":""},"",{"$f":"IF(OR($A23=\"\",SUM(IF(SS!$C$6:$AZ$6=\"HOT\",IF(SS!$C25:$AZ25=\"\",1,0)))=COUNTIF(SS!$C$6:$AZ$6,\"HOT\")),\"\",SUM(D24:D$106))","v":""},{"$f":"IF($B23=\"\",\"\",SUM(IF(SS!$C$6:$AZ$6=\"COLD\",IF(SS!$C25:$AZ25=\"|\",1*SS!$C$4:$AZ$4,0),0)))","v":""},"",{"$f":"IF(OR($A23=\"\",SUM(IF(SS!$C$6:$AZ$6=\"COLD\",IF(SS!$C25:$AZ25=\"\",1,0)))=COUNTIF(SS!$C$6:$AZ$6,\"COLD\")),\"\",PT!$P$8+SUM(G24:G$106))","v":""}]
[{"$f":"SS!B26","v":""},"",{"$f":"IF($B24=\"\",\"\",SUM(IF(SS!$C$6:$AZ$6=\"HOT\",IF(SS!$C26:$AZ26=\"|\",1*SS!$C$4:$AZ$4,0),0)))","v":""},"",{"$f":"IF(OR($A24=\"\",SUM(IF(SS!$C$6:$AZ$6=\"HOT\",IF(SS!$C26:$AZ26=\"\",1,0)))=COUNTIF(SS!$C$6:$AZ$6,\"HOT\")),\"\",SUM(D25:D$106))","v":""},{"$f":"IF($B24=\"\",\"\",SUM(IF(SS!$C$6:$AZ$6=\"COLD\",IF(SS!$C26:$AZ26=\"|\",1*SS!$C$4:$AZ$4,0),0)))","v":""},"",{"$f":"IF(OR($A24=\"\",SUM(IF(SS!$C$6:$AZ$6=\"COLD\",IF(SS!$C26:$AZ26=\"\",1,0)))=COUNTIF(SS!$C$6:$AZ$6,\"COLD\")),\"\",PT!$P$8+SUM(G25:G$106))","v":""}]
[{"$f":"SS!B27","v":""},"",{"$f":"IF($B25=\"\",\"\",SUM(IF(SS!$C$6:$AZ$6=\"HOT\",IF(SS!$C27:$AZ27=\"|\",1*SS!$C$4:$AZ$4,0),0)))","v":""},"",{"$f":"IF(OR($A25=\"\",SUM(IF(SS!$C$6:$AZ$6=\"HOT\",IF(SS!$C27:$AZ27=\"\",1,0)))=COUNTIF(SS!$C$6:$AZ$6,\"HOT\")),\"\",SUM(D26:D$106))","v":""},{"$f":"IF($B25=\"\",\"\",SUM(IF(SS!$C$6:$AZ$6=\"COLD\",IF(SS!$C27:$AZ27=\"|\",1*SS!$C$4:$AZ$4,0),0)))","v":""},"",{"$f":"IF(OR($A25=\"\",SUM(IF(SS!$C$6:$AZ$6=\"COLD\",IF(SS!$C27:$AZ27=\"\",1,0)))=COUNTIF(SS!$C$6:$AZ$6,\"COLD\")),\"\",PT!$P$8+SUM(G26:G$106))","v":""}]
[{"$f":"SS!B28","v":""},"",{"$f":"IF($B26=\"\",\"\",SUM(IF(SS!$C$6:$AZ$6=\"HOT\",IF(SS!$C28:$AZ28=\"|\",1*SS!$C$4:$AZ$4,0),0)))","v":""},"",{"$f":"IF(OR($A26=\"\",SUM(IF(SS!$C$6:$AZ$6=\"HOT\",IF(SS!$C28:$AZ28=\"\",1,0)))=COUNTIF(SS!$C$6:$AZ$6,\"HOT\")),\"\",SUM(D27:D$106))","v":""},{"$f":"IF($B26=\"\",\"\",SUM(IF(SS!$C$6:$AZ$6=\"COLD\",IF(SS!$C28:$AZ28=\"|\",1*SS!$C$4:$AZ$4,0),0)))","v":""},"",{"$f":"IF(OR($A26=\"\",SUM(IF(SS!$C$6:$AZ$6=\"COLD\",IF(SS!$C28:$AZ28=\"\",1,0)))=COUNTIF(SS!$C$6:$AZ$6,\"COLD\")),\"\",PT!$P$8+SUM(G27:G$106))","v":""}]
[{"$f":"SS!B29","v":""},"",{"$f":"IF($B27=\"\",\"\",SUM(IF(SS!$C$6:$AZ$6=\"HOT\",IF(SS!$C29:$AZ29=\"|\",1*SS!$C$4:$AZ$4,0),0)))","v":""},"",{"$f":"IF(OR($A27=\"\",SUM(IF(SS!$C$6:$AZ$6=\"HOT\",IF(SS!$C29:$AZ29=\"\",1,0)))=COUNTIF(SS!$C$6:$AZ$6,\"HOT\")),\"\",SUM(D28:D$106))","v":""},{"$f":"IF($B27=\"\",\"\",SUM(IF(SS!$C$6:$AZ$6=\"COLD\",IF(SS!$C29:$AZ29=\"|\",1*SS!$C$4:$AZ$4,0),0)))","v":""},"",{"$f":"IF(OR($A27=\"\",SUM(IF(SS!$C$6:$AZ$6=\"COLD\",IF(SS!$C29:$AZ29=\"\",1,0)))=COUNTIF(SS!$C$6:$AZ$6,\"COLD\")),\"\",PT!$P$8+SUM(G28:G$106))","v":""}]
[{"$f":"SS!B30","v":""},"",{"$f":"IF($B28=\"\",\"\",SUM(IF(SS!$C$6:$AZ$6=\"HOT\",IF(SS!$C30:$AZ30=\"|\",1*SS!$C$4:$AZ$4,0),0)))","v":""},"",{"$f":"IF(OR($A28=\"\",SUM(IF(SS!$C$6:$AZ$6=\"HOT\",IF(SS!$C30:$AZ30=\"\",1,0)))=COUNTIF(SS!$C$6:$AZ$6,\"HOT\")),\"\",SUM(D29:D$106))","v":""},{"$f":"IF($B28=\"\",\"\",SUM(IF(SS!$C$6:$AZ$6=\"COLD\",IF(SS!$C30:$AZ30=\"|\",1*SS!$C$4:$AZ$4,0),0)))","v":""},"",{"$f":"IF(OR($A28=\"\",SUM(IF(SS!$C$6:$AZ$6=\"COLD\",IF(SS!$C30:$AZ30=\"\",1,0)))=COUNTIF(SS!$C$6:$AZ$6,\"COLD\")),\"\",PT!$P$8+SUM(G29:G$106))","v":""}]
[{"$f":"SS!B31","v":""},"",{"$f":"IF($B29=\"\",\"\",SUM(IF(SS!$C$6:$AZ$6=\"HOT\",IF(SS!$C31:$AZ31=\"|\",1*SS!$C$4:$AZ$4,0),0)))","v":""},"",{"$f":"IF(OR($A29=\"\",SUM(IF(SS!$C$6:$AZ$6=\"HOT\",IF(SS!$C31:$AZ31=\"\",1,0)))=COUNTIF(SS!$C$6:$AZ$6,\"HOT\")),\"\",SUM(D30:D$106))","v":""},{"$f":"IF($B29=\"\",\"\",SUM(IF(SS!$C$6:$AZ$6=\"COLD\",IF(SS!$C31:$AZ31=\"|\",1*SS!$C$4:$AZ$4,0),0)))","v":""},"",{"$f":"IF(OR($A29=\"\",SUM(IF(SS!$C$6:$AZ$6=\"COLD\",IF(SS!$C31:$AZ31=\"\",1,0)))=COUNTIF(SS!$C$6:$AZ$6,\"COLD\")),\"\",PT!$P$8+SUM(G30:G$106))","v":""}]
[{"$f":"SS!B32","v":""},"",{"$f":"IF($B30=\"\",\"\",SUM(IF(SS!$C$6:$AZ$6=\"HOT\",IF(SS!$C32:$AZ32=\"|\",1*SS!$C$4:$AZ$4,0),0)))","v":""},"",{"$f":"IF(OR($A30=\"\",SUM(IF(SS!$C$6:$AZ$6=\"HOT\",IF(SS!$C32:$AZ32=\"\",1,0)))=COUNTIF(SS!$C$6:$AZ$6,\"HOT\")),\"\",SUM(D31:D$106))","v":""},{"$f":"IF($B30=\"\",\"\",SUM(IF(SS!$C$6:$AZ$6=\"COLD\",IF(SS!$C32:$AZ32=\"|\",1*SS!$C$4:$AZ$4,0),0)))","v":""},"",{"$f":"IF(OR($A30=\"\",SUM(IF(SS!$C$6:$AZ$6=\"COLD\",IF(SS!$C32:$AZ32=\"\",1,0)))=COUNTIF(SS!$C$6:$AZ$6,\"COLD\")),\"\",PT!$P$8+SUM(G31:G$106))","v":""}]
[{"$f":"SS!B33","v":""},"",{"$f":"IF($B31=\"\",\"\",SUM(IF(SS!$C$6:$AZ$6=\"HOT\",IF(SS!$C33:$AZ33=\"|\",1*SS!$C$4:$AZ$4,0),0)))","v":""},"",{"$f":"IF(OR($A31=\"\",SUM(IF(SS!$C$6:$AZ$6=\"HOT\",IF(SS!$C33:$AZ33=\"\",1,0)))=COUNTIF(SS!$C$6:$AZ$6,\"HOT\")),\"\",SUM(D32:D$106))","v":""},{"$f":"IF($B31=\"\",\"\",SUM(IF(SS!$C$6:$AZ$6=\"COLD\",IF(SS!$C33:$AZ33=\"|\",1*SS!$C$4:$AZ$4,0),0)))","v":""},"",{"$f":"IF(OR($A31=\"\",SUM(IF(SS!$C$6:$AZ$6=\"COLD\",IF(SS!$C33:$AZ33=\"\",1,0)))=COUNTIF(SS!$C$6:$AZ$6,\"COLD\")),\"\",PT!$P$8+SUM(G32:G$106))","v":""}]
[{"$f":"SS!B34","v":""},"",{"$f":"IF($B32=\"\",\"\",SUM(IF(SS!$C$6:$AZ$6=\"HOT\",IF(SS!$C34:$AZ34=\"|\",1*SS!$C$4:$AZ$4,0),0)))","v":""},"",{"$f":"IF(OR($A32=\"\",SUM(IF(SS!$C$6:$AZ$6=\"HOT\",IF(SS!$C34:$AZ34=\"\",1,0)))=COUNTIF(SS!$C$6:$AZ$6,\"HOT\")),\"\",SUM(D33:D$106))","v":""},{"$f":"IF($B32=\"\",\"\",SUM(IF(SS!$C$6:$AZ$6=\"COLD\",IF(SS!$C34:$AZ34=\"|\",1*SS!$C$4:$AZ$4,0),0)))","v":""},"",{"$f":"IF(OR($A32=\"\",SUM(IF(SS!$C$6:$AZ$6=\"COLD\",IF(SS!$C34:$AZ34=\"\",1,0)))=COUNTIF(SS!$C$6:$AZ$6,\"COLD\")),\"\",PT!$P$8+SUM(G33:G$106))","v":""}]
[{"$f":"SS!B35","v":""},"",{"$f":"IF($B33=\"\",\"\",SUM(IF(SS!$C$6:$AZ$6=\"HOT\",IF(SS!$C35:$AZ35=\"|\",1*SS!$C$4:$AZ$4,0),0)))","v":""},"",{"$f":"IF(OR($A33=\"\",SUM(IF(SS!$C$6:$AZ$6=\"HOT\",IF(SS!$C35:$AZ35=\"\",1,0)))=COUNTIF(SS!$C$6:$AZ$6,\"HOT\")),\"\",SUM(D34:D$106))","v":""},{"$f":"IF($B33=\"\",\"\",SUM(IF(SS!$C$6:$AZ$6=\"COLD\",IF(SS!$C35:$AZ35=\"|\",1*SS!$C$4:$AZ$4,0),0)))","v":""},"",{"$f":"IF(OR($A33=\"\",SUM(IF(SS!$C$6:$AZ$6=\"COLD\",IF(SS!$C35:$AZ35=\"\",1,0)))=COUNTIF(SS!$C$6:$AZ$6,\"COLD\")),\"\",PT!$P$8+SUM(G34:G$106))","v":""}]
[{"$f":"SS!B36","v":""},"",{"$f":"IF($B34=\"\",\"\",SUM(IF(SS!$C$6:$AZ$6=\"HOT\",IF(SS!$C36:$AZ36=\"|\",1*SS!$C$4:$AZ$4,0),0)))","v":""},"",{"$f":"IF(OR($A34=\"\",SUM(IF(SS!$C$6:$AZ$6=\"HOT\",IF(SS!$C36:$AZ36=\"\",1,0)))=COUNTIF(SS!$C$6:$AZ$6,\"HOT\")),\"\",SUM(D35:D$106))","v":""},{"$f":"IF($B34=\"\",\"\",SUM(IF(SS!$C$6:$AZ$6=\"COLD\",IF(SS!$C36:$AZ36=\"|\",1*SS!$C$4:$AZ$4,0),0)))","v":""},"",{"$f":"IF(OR($A34=\"\",SUM(IF(SS!$C$6:$AZ$6=\"COLD\",IF(SS!$C36:$AZ36=\"\",1,0)))=COUNTIF(SS!$C$6:$AZ$6,\"COLD\")),\"\",PT!$P$8+SUM(G35:G$106))","v":""}]
[{"$f":"SS!B37","v":""},"",{"$f":"IF($B35=\"\",\"\",SUM(IF(SS!$C$6:$AZ$6=\"HOT\",IF(SS!$C37:$AZ37=\"|\",1*SS!$C$4:$AZ$4,0),0)))","v":""},"",{"$f":"IF(OR($A35=\"\",SUM(IF(SS!$C$6:$AZ$6=\"HOT\",IF(SS!$C37:$AZ37=\"\",1,0)))=COUNTIF(SS!$C$6:$AZ$6,\"HOT\")),\"\",SUM(D36:D$106))","v":""},{"$f":"IF($B35=\"\",\"\",SUM(IF(SS!$C$6:$AZ$6=\"COLD\",IF(SS!$C37:$AZ37=\"|\",1*SS!$C$4:$AZ$4,0),0)))","v":""},"",{"$f":"IF(OR($A35=\"\",SUM(IF(SS!$C$6:$AZ$6=\"COLD\",IF(SS!$C37:$AZ37=\"\",1,0)))=COUNTIF(SS!$C$6:$AZ$6,\"COLD\")),\"\",PT!$P$8+SUM(G36:G$106))","v":""}]
[{"$f":"SS!B38","v":""},"",{"$f":"IF($B36=\"\",\"\",SUM(IF(SS!$C$6:$AZ$6=\"HOT\",IF(SS!$C38:$AZ38=\"|\",1*SS!$C$4:$AZ$4,0),0)))","v":""},"",{"$f":"IF(OR($A36=\"\",SUM(IF(SS!$C$6:$AZ$6=\"HOT\",IF(SS!$C38:$AZ38=\"\",1,0)))=COUNTIF(SS!$C$6:$AZ$6,\"HOT\")),\"\",SUM(D37:D$106))","v":""},{"$f":"IF($B36=\"\",\"\",SUM(IF(SS!$C$6:$AZ$6=\"COLD\",IF(SS!$C38:$AZ38=\"|\",1*SS!$C$4:$AZ$4,0),0)))","v":""},"",{"$f":"IF(OR($A36=\"\",SUM(IF(SS!$C$6:$AZ$6=\"COLD\",IF(SS!$C38:$AZ38=\"\",1,0)))=COUNTIF(SS!$C$6:$AZ$6,\"COLD\")),\"\",PT!$P$8+SUM(G37:G$106))","v":""}]
[{"$f":"SS!B39","v":""},"",{"$f":"IF($B37=\"\",\"\",SUM(IF(SS!$C$6:$AZ$6=\"HOT\",IF(SS!$C39:$AZ39=\"|\",1*SS!$C$4:$AZ$4,0),0)))","v":""},"",{"$f":"IF(OR($A37=\"\",SUM(IF(SS!$C$6:$AZ$6=\"HOT\",IF(SS!$C39:$AZ39=\"\",1,0)))=COUNTIF(SS!$C$6:$AZ$6,\"HOT\")),\"\",SUM(D38:D$106))","v":""},{"$f":"IF($B37=\"\",\"\",SUM(IF(SS!$C$6:$AZ$6=\"COLD\",IF(SS!$C39:$AZ39=\"|\",1*SS!$C$4:$AZ$4,0),0)))","v":""},"",{"$f":"IF(OR($A37=\"\",SUM(IF(SS!$C$6:$AZ$6=\"COLD\",IF(SS!$C39:$AZ39=\"\",1,0)))=COUNTIF(SS!$C$6:$AZ$6,\"COLD\")),\"\",PT!$P$8+SUM(G38:G$106))","v":""}]
[{"$f":"SS!B40","v":""},"",{"$f":"IF($B38=\"\",\"\",SUM(IF(SS!$C$6:$AZ$6=\"HOT\",IF(SS!$C40:$AZ40=\"|\",1*SS!$C$4:$AZ$4,0),0)))","v":""},"",{"$f":"IF(OR($A38=\"\",SUM(IF(SS!$C$6:$AZ$6=\"HOT\",IF(SS!$C40:$AZ40=\"\",1,0)))=COUNTIF(SS!$C$6:$AZ$6,\"HOT\")),\"\",SUM(D39:D$106))","v":""},{"$f":"IF($B38=\"\",\"\",SUM(IF(SS!$C$6:$AZ$6=\"COLD\",IF(SS!$C40:$AZ40=\"|\",1*SS!$C$4:$AZ$4,0),0)))","v":""},"",{"$f":"IF(OR($A38=\"\",SUM(IF(SS!$C$6:$AZ$6=\"COLD\",IF(SS!$C40:$AZ40=\"\",1,0)))=COUNTIF(SS!$C$6:$AZ$6,\"COLD\")),\"\",PT!$P$8+SUM(G39:G$106))","v":""}]
[{"$f":"SS!B41","v":""},"",{"$f":"IF($B39=\"\",\"\",SUM(IF(SS!$C$6:$AZ$6=\"HOT\",IF(SS!$C41:$AZ41=\"|\",1*SS!$C$4:$AZ$4,0),0)))","v":""},"",{"$f":"IF(OR($A39=\"\",SUM(IF(SS!$C$6:$AZ$6=\"HOT\",IF(SS!$C41:$AZ41=\"\",1,0)))=COUNTIF(SS!$C$6:$AZ$6,\"HOT\")),\"\",SUM(D40:D$106))","v":""},{"$f":"IF($B39=\"\",\"\",SUM(IF(SS!$C$6:$AZ$6=\"COLD\",IF(SS!$C41:$AZ41=\"|\",1*SS!$C$4:$AZ$4,0),0)))","v":""},"",{"$f":"IF(OR($A39=\"\",SUM(IF(SS!$C$6:$AZ$6=\"COLD\",IF(SS!$C41:$AZ41=\"\",1,0)))=COUNTIF(SS!$C$6:$AZ$6,\"COLD\")),\"\",PT!$P$8+SUM(G40:G$106))","v":""}]
[{"$f":"SS!B42","v":""},"",{"$f":"IF($B40=\"\",\"\",SUM(IF(SS!$C$6:$AZ$6=\"HOT\",IF(SS!$C42:$AZ42=\"|\",1*SS!$C$4:$AZ$4,0),0)))","v":""},"",{"$f":"IF(OR($A40=\"\",SUM(IF(SS!$C$6:$AZ$6=\"HOT\",IF(SS!$C42:$AZ42=\"\",1,0)))=COUNTIF(SS!$C$6:$AZ$6,\"HOT\")),\"\",SUM(D41:D$106))","v":""},{"$f":"IF($B40=\"\",\"\",SUM(IF(SS!$C$6:$AZ$6=\"COLD\",IF(SS!$C42:$AZ42=\"|\",1*SS!$C$4:$AZ$4,0),0)))","v":""},"",{"$f":"IF(OR($A40=\"\",SUM(IF(SS!$C$6:$AZ$6=\"COLD\",IF(SS!$C42:$AZ42=\"\",1,0)))=COUNTIF(SS!$C$6:$AZ$6,\"COLD\")),\"\",PT!$P$8+SUM(G41:G$106))","v":""}]
[{"$f":"SS!B43","v":""},"",{"$f":"IF($B41=\"\",\"\",SUM(IF(SS!$C$6:$AZ$6=\"HOT\",IF(SS!$C43:$AZ43=\"|\",1*SS!$C$4:$AZ$4,0),0)))","v":""},"",{"$f":"IF(OR($A41=\"\",SUM(IF(SS!$C$6:$AZ$6=\"HOT\",IF(SS!$C43:$AZ43=\"\",1,0)))=COUNTIF(SS!$C$6:$AZ$6,\"HOT\")),\"\",SUM(D42:D$106))","v":""},{"$f":"IF($B41=\"\",\"\",SUM(IF(SS!$C$6:$AZ$6=\"COLD\",IF(SS!$C43:$AZ43=\"|\",1*SS!$C$4:$AZ$4,0),0)))","v":""},"",{"$f":"IF(OR($A41=\"\",SUM(IF(SS!$C$6:$AZ$6=\"COLD\",IF(SS!$C43:$AZ43=\"\",1,0)))=COUNTIF(SS!$C$6:$AZ$6,\"COLD\")),\"\",PT!$P$8+SUM(G42:G$106))","v":""}]
[{"$f":"SS!B44","v":""},"",{"$f":"IF($B42=\"\",\"\",SUM(IF(SS!$C$6:$AZ$6=\"HOT\",IF(SS!$C44:$AZ44=\"|\",1*SS!$C$4:$AZ$4,0),0)))","v":""},"",{"$f":"IF(OR($A42=\"\",SUM(IF(SS!$C$6:$AZ$6=\"HOT\",IF(SS!$C44:$AZ44=\"\",1,0)))=COUNTIF(SS!$C$6:$AZ$6,\"HOT\")),\"\",SUM(D43:D$106))","v":""},{"$f":"IF($B42=\"\",\"\",SUM(IF(SS!$C$6:$AZ$6=\"COLD\",IF(SS!$C44:$AZ44=\"|\",1*SS!$C$4:$AZ$4,0),0)))","v":""},"",{"$f":"IF(OR($A42=\"\",SUM(IF(SS!$C$6:$AZ$6=\"COLD\",IF(SS!$C44:$AZ44=\"\",1,0)))=COUNTIF(SS!$C$6:$AZ$6,\"COLD\")),\"\",PT!$P$8+SUM(G43:G$106))","v":""}]
[{"$f":"SS!B45","v":""},"",{"$f":"IF($B43=\"\",\"\",SUM(IF(SS!$C$6:$AZ$6=\"HOT\",IF(SS!$C45:$AZ45=\"|\",1*SS!$C$4:$AZ$4,0),0)))","v":""},"",{"$f":"IF(OR($A43=\"\",SUM(IF(SS!$C$6:$AZ$6=\"HOT\",IF(SS!$C45:$AZ45=\"\",1,0)))=COUNTIF(SS!$C$6:$AZ$6,\"HOT\")),\"\",SUM(D44:D$106))","v":""},{"$f":"IF($B43=\"\",\"\",SUM(IF(SS!$C$6:$AZ$6=\"COLD\",IF(SS!$C45:$AZ45=\"|\",1*SS!$C$4:$AZ$4,0),0)))","v":""},"",{"$f":"IF(OR($A43=\"\",SUM(IF(SS!$C$6:$AZ$6=\"COLD\",IF(SS!$C45:$AZ45=\"\",1,0)))=COUNTIF(SS!$C$6:$AZ$6,\"COLD\")),\"\",PT!$P$8+SUM(G44:G$106))","v":""}]
[{"$f":"SS!B46","v":""},"",{"$f":"IF($B44=\"\",\"\",SUM(IF(SS!$C$6:$AZ$6=\"HOT\",IF(SS!$C46:$AZ46=\"|\",1*SS!$C$4:$AZ$4,0),0)))","v":""},"",{"$f":"IF(OR($A44=\"\",SUM(IF(SS!$C$6:$AZ$6=\"HOT\",IF(SS!$C46:$AZ46=\"\",1,0)))=COUNTIF(SS!$C$6:$AZ$6,\"HOT\")),\"\",SUM(D45:D$106))","v":""},{"$f":"IF($B44=\"\",\"\",SUM(IF(SS!$C$6:$AZ$6=\"COLD\",IF(SS!$C46:$AZ46=\"|\",1*SS!$C$4:$AZ$4,0),0)))","v":""},"",{"$f":"IF(OR($A44=\"\",SUM(IF(SS!$C$6:$AZ$6=\"COLD\",IF(SS!$C46:$AZ46=\"\",1,0)))=COUNTIF(SS!$C$6:$AZ$6,\"COLD\")),\"\",PT!$P$8+SUM(G45:G$106))","v":""}]
[{"$f":"SS!B47","v":""},"",{"$f":"IF($B45=\"\",\"\",SUM(IF(SS!$C$6:$AZ$6=\"HOT\",IF(SS!$C47:$AZ47=\"|\",1*SS!$C$4:$AZ$4,0),0)))","v":""},"",{"$f":"IF(OR($A45=\"\",SUM(IF(SS!$C$6:$AZ$6=\"HOT\",IF(SS!$C47:$AZ47=\"\",1,0)))=COUNTIF(SS!$C$6:$AZ$6,\"HOT\")),\"\",SUM(D46:D$106))","v":""},{"$f":"IF($B45=\"\",\"\",SUM(IF(SS!$C$6:$AZ$6=\"COLD\",IF(SS!$C47:$AZ47=\"|\",1*SS!$C$4:$AZ$4,0),0)))","v":""},"",{"$f":"IF(OR($A45=\"\",SUM(IF(SS!$C$6:$AZ$6=\"COLD\",IF(SS!$C47:$AZ47=\"\",1,0)))=COUNTIF(SS!$C$6:$AZ$6,\"COLD\")),\"\",PT!$P$8+SUM(G46:G$106))","v":""}]
[{"$f":"SS!B48","v":""},"",{"$f":"IF($B46=\"\",\"\",SUM(IF(SS!$C$6:$AZ$6=\"HOT\",IF(SS!$C48:$AZ48=\"|\",1*SS!$C$4:$AZ$4,0),0)))","v":""},"",{"$f":"IF(OR($A46=\"\",SUM(IF(SS!$C$6:$AZ$6=\"HOT\",IF(SS!$C48:$AZ48=\"\",1,0)))=COUNTIF(SS!$C$6:$AZ$6,\"HOT\")),\"\",SUM(D47:D$106))","v":""},{"$f":"IF($B46=\"\",\"\",SUM(IF(SS!$C$6:$AZ$6=\"COLD\",IF(SS!$C48:$AZ48=\"|\",1*SS!$C$4:$AZ$4,0),0)))","v":""},"",{"$f":"IF(OR($A46=\"\",SUM(IF(SS!$C$6:$AZ$6=\"COLD\",IF(SS!$C48:$AZ48=\"\",1,0)))=COUNTIF(SS!$C$6:$AZ$6,\"COLD\")),\"\",PT!$P$8+SUM(G47:G$106))","v":""}]
[{"$f":"SS!B49","v":""},"",{"$f":"IF($B47=\"\",\"\",SUM(IF(SS!$C$6:$AZ$6=\"HOT\",IF(SS!$C49:$AZ49=\"|\",1*SS!$C$4:$AZ$4,0),0)))","v":""},"",{"$f":"IF(OR($A47=\"\",SUM(IF(SS!$C$6:$AZ$6=\"HOT\",IF(SS!$C49:$AZ49=\"\",1,0)))=COUNTIF(SS!$C$6:$AZ$6,\"HOT\")),\"\",SUM(D48:D$106))","v":""},{"$f":"IF($B47=\"\",\"\",SUM(IF(SS!$C$6:$AZ$6=\"COLD\",IF(SS!$C49:$AZ49=\"|\",1*SS!$C$4:$AZ$4,0),0)))","v":""},"",{"$f":"IF(OR($A47=\"\",SUM(IF(SS!$C$6:$AZ$6=\"COLD\",IF(SS!$C49:$AZ49=\"\",1,0)))=COUNTIF(SS!$C$6:$AZ$6,\"COLD\")),\"\",PT!$P$8+SUM(G48:G$106))","v":""}]
[{"$f":"SS!B50","v":""},"",{"$f":"IF($B48=\"\",\"\",SUM(IF(SS!$C$6:$AZ$6=\"HOT\",IF(SS!$C50:$AZ50=\"|\",1*SS!$C$4:$AZ$4,0),0)))","v":""},"",{"$f":"IF(OR($A48=\"\",SUM(IF(SS!$C$6:$AZ$6=\"HOT\",IF(SS!$C50:$AZ50=\"\",1,0)))=COUNTIF(SS!$C$6:$AZ$6,\"HOT\")),\"\",SUM(D49:D$106))","v":""},{"$f":"IF($B48=\"\",\"\",SUM(IF(SS!$C$6:$AZ$6=\"COLD\",IF(SS!$C50:$AZ50=\"|\",1*SS!$C$4:$AZ$4,0),0)))","v":""},"",{"$f":"IF(OR($A48=\"\",SUM(IF(SS!$C$6:$AZ$6=\"COLD\",IF(SS!$C50:$AZ50=\"\",1,0)))=COUNTIF(SS!$C$6:$AZ$6,\"COLD\")),\"\",PT!$P$8+SUM(G49:G$106))","v":""}]
[{"$f":"SS!B51","v":""},"",{"$f":"IF($B49=\"\",\"\",SUM(IF(SS!$C$6:$AZ$6=\"HOT\",IF(SS!$C51:$AZ51=\"|\",1*SS!$C$4:$AZ$4,0),0)))","v":""},"",{"$f":"IF(OR($A49=\"\",SUM(IF(SS!$C$6:$AZ$6=\"HOT\",IF(SS!$C51:$AZ51=\"\",1,0)))=COUNTIF(SS!$C$6:$AZ$6,\"HOT\")),\"\",SUM(D50:D$106))","v":""},{"$f":"IF($B49=\"\",\"\",SUM(IF(SS!$C$6:$AZ$6=\"COLD\",IF(SS!$C51:$AZ51=\"|\",1*SS!$C$4:$AZ$4,0),0)))","v":""},"",{"$f":"IF(OR($A49=\"\",SUM(IF(SS!$C$6:$AZ$6=\"COLD\",IF(SS!$C51:$AZ51=\"\",1,0)))=COUNTIF(SS!$C$6:$AZ$6,\"COLD\")),\"\",PT!$P$8+SUM(G50:G$106))","v":""}]
[{"$f":"SS!B52","v":""},"",{"$f":"IF($B50=\"\",\"\",SUM(IF(SS!$C$6:$AZ$6=\"HOT\",IF(SS!$C52:$AZ52=\"|\",1*SS!$C$4:$AZ$4,0),0)))","v":""},"",{"$f":"IF(OR($A50=\"\",SUM(IF(SS!$C$6:$AZ$6=\"HOT\",IF(SS!$C52:$AZ52=\"\",1,0)))=COUNTIF(SS!$C$6:$AZ$6,\"HOT\")),\"\",SUM(D51:D$106))","v":""},{"$f":"IF($B50=\"\",\"\",SUM(IF(SS!$C$6:$AZ$6=\"COLD\",IF(SS!$C52:$AZ52=\"|\",1*SS!$C$4:$AZ$4,0),0)))","v":""},"",{"$f":"IF(OR($A50=\"\",SUM(IF(SS!$C$6:$AZ$6=\"COLD\",IF(SS!$C52:$AZ52=\"\",1,0)))=COUNTIF(SS!$C$6:$AZ$6,\"COLD\")),\"\",PT!$P$8+SUM(G51:G$106))","v":""}]
[{"$f":"SS!B53","v":""},"",{"$f":"IF($B51=\"\",\"\",SUM(IF(SS!$C$6:$AZ$6=\"HOT\",IF(SS!$C53:$AZ53=\"|\",1*SS!$C$4:$AZ$4,0),0)))","v":""},"",{"$f":"IF(OR($A51=\"\",SUM(IF(SS!$C$6:$AZ$6=\"HOT\",IF(SS!$C53:$AZ53=\"\",1,0)))=COUNTIF(SS!$C$6:$AZ$6,\"HOT\")),\"\",SUM(D52:D$106))","v":""},{"$f":"IF($B51=\"\",\"\",SUM(IF(SS!$C$6:$AZ$6=\"COLD\",IF(SS!$C53:$AZ53=\"|\",1*SS!$C$4:$AZ$4,0),0)))","v":""},"",{"$f":"IF(OR($A51=\"\",SUM(IF(SS!$C$6:$AZ$6=\"COLD\",IF(SS!$C53:$AZ53=\"\",1,0)))=COUNTIF(SS!$C$6:$AZ$6,\"COLD\")),\"\",PT!$P$8+SUM(G52:G$106))","v":""}]
[{"$f":"SS!B54","v":""},"",{"$f":"IF($B52=\"\",\"\",SUM(IF(SS!$C$6:$AZ$6=\"HOT\",IF(SS!$C54:$AZ54=\"|\",1*SS!$C$4:$AZ$4,0),0)))","v":""},"",{"$f":"IF(OR($A52=\"\",SUM(IF(SS!$C$6:$AZ$6=\"HOT\",IF(SS!$C54:$AZ54=\"\",1,0)))=COUNTIF(SS!$C$6:$AZ$6,\"HOT\")),\"\",SUM(D53:D$106))","v":""},{"$f":"IF($B52=\"\",\"\",SUM(IF(SS!$C$6:$AZ$6=\"COLD\",IF(SS!$C54:$AZ54=\"|\",1*SS!$C$4:$AZ$4,0),0)))","v":""},"",{"$f":"IF(OR($A52=\"\",SUM(IF(SS!$C$6:$AZ$6=\"COLD\",IF(SS!$C54:$AZ54=\"\",1,0)))=COUNTIF(SS!$C$6:$AZ$6,\"COLD\")),\"\",PT!$P$8+SUM(G53:G$106))","v":""}]
[{"$f":"SS!B55","v":""},"",{"$f":"IF($B53=\"\",\"\",SUM(IF(SS!$C$6:$AZ$6=\"HOT\",IF(SS!$C55:$AZ55=\"|\",1*SS!$C$4:$AZ$4,0),0)))","v":""},"",{"$f":"IF(OR($A53=\"\",SUM(IF(SS!$C$6:$AZ$6=\"HOT\",IF(SS!$C55:$AZ55=\"\",1,0)))=COUNTIF(SS!$C$6:$AZ$6,\"HOT\")),\"\",SUM(D54:D$106))","v":""},{"$f":"IF($B53=\"\",\"\",SUM(IF(SS!$C$6:$AZ$6=\"COLD\",IF(SS!$C55:$AZ55=\"|\",1*SS!$C$4:$AZ$4,0),0)))","v":""},"",{"$f":"IF(OR($A53=\"\",SUM(IF(SS!$C$6:$AZ$6=\"COLD\",IF(SS!$C55:$AZ55=\"\",1,0)))=COUNTIF(SS!$C$6:$AZ$6,\"COLD\")),\"\",PT!$P$8+SUM(G54:G$106))","v":""}]
[{"$f":"SS!B56","v":""},"",{"$f":"IF($B54=\"\",\"\",SUM(IF(SS!$C$6:$AZ$6=\"HOT\",IF(SS!$C56:$AZ56=\"|\",1*SS!$C$4:$AZ$4,0),0)))","v":""},"",{"$f":"IF(OR($A54=\"\",SUM(IF(SS!$C$6:$AZ$6=\"HOT\",IF(SS!$C56:$AZ56=\"\",1,0)))=COUNTIF(SS!$C$6:$AZ$6,\"HOT\")),\"\",SUM(D55:D$106))","v":""},{"$f":"IF($B54=\"\",\"\",SUM(IF(SS!$C$6:$AZ$6=\"COLD\",IF(SS!$C56:$AZ56=\"|\",1*SS!$C$4:$AZ$4,0),0)))","v":""},"",{"$f":"IF(OR($A54=\"\",SUM(IF(SS!$C$6:$AZ$6=\"COLD\",IF(SS!$C56:$AZ56=\"\",1,0)))=COUNTIF(SS!$C$6:$AZ$6,\"COLD\")),\"\",PT!$P$8+SUM(G55:G$106))","v":""}]
[{"$f":"SS!B57","v":""},"",{"$f":"IF($B55=\"\",\"\",SUM(IF(SS!$C$6:$AZ$6=\"HOT\",IF(SS!$C57:$AZ57=\"|\",1*SS!$C$4:$AZ$4,0),0)))","v":""},"",{"$f":"IF(OR($A55=\"\",SUM(IF(SS!$C$6:$AZ$6=\"HOT\",IF(SS!$C57:$AZ57=\"\",1,0)))=COUNTIF(SS!$C$6:$AZ$6,\"HOT\")),\"\",SUM(D56:D$106))","v":""},{"$f":"IF($B55=\"\",\"\",SUM(IF(SS!$C$6:$AZ$6=\"COLD\",IF(SS!$C57:$AZ57=\"|\",1*SS!$C$4:$AZ$4,0),0)))","v":""},"",{"$f":"IF(OR($A55=\"\",SUM(IF(SS!$C$6:$AZ$6=\"COLD\",IF(SS!$C57:$AZ57=\"\",1,0)))=COUNTIF(SS!$C$6:$AZ$6,\"COLD\")),\"\",PT!$P$8+SUM(G56:G$106))","v":""}]
[{"$f":"SS!B58","v":""},"",{"$f":"IF($B56=\"\",\"\",SUM(IF(SS!$C$6:$AZ$6=\"HOT\",IF(SS!$C58:$AZ58=\"|\",1*SS!$C$4:$AZ$4,0),0)))","v":""},"",{"$f":"IF(OR($A56=\"\",SUM(IF(SS!$C$6:$AZ$6=\"HOT\",IF(SS!$C58:$AZ58=\"\",1,0)))=COUNTIF(SS!$C$6:$AZ$6,\"HOT\")),\"\",SUM(D57:D$106))","v":""},{"$f":"IF($B56=\"\",\"\",SUM(IF(SS!$C$6:$AZ$6=\"COLD\",IF(SS!$C58:$AZ58=\"|\",1*SS!$C$4:$AZ$4,0),0)))","v":""},"",{"$f":"IF(OR($A56=\"\",SUM(IF(SS!$C$6:$AZ$6=\"COLD\",IF(SS!$C58:$AZ58=\"\",1,0)))=COUNTIF(SS!$C$6:$AZ$6,\"COLD\")),\"\",PT!$P$8+SUM(G57:G$106))","v":""}]
[{"$f":"SS!B59","v":""},"",{"$f":"IF($B57=\"\",\"\",SUM(IF(SS!$C$6:$AZ$6=\"HOT\",IF(SS!$C59:$AZ59=\"|\",1*SS!$C$4:$AZ$4,0),0)))","v":""},"",{"$f":"IF(OR($A57=\"\",SUM(IF(SS!$C$6:$AZ$6=\"HOT\",IF(SS!$C59:$AZ59=\"\",1,0)))=COUNTIF(SS!$C$6:$AZ$6,\"HOT\")),\"\",SUM(D58:D$106))","v":""},{"$f":"IF($B57=\"\",\"\",SUM(IF(SS!$C$6:$AZ$6=\"COLD\",IF(SS!$C59:$AZ59=\"|\",1*SS!$C$4:$AZ$4,0),0)))","v":""},"",{"$f":"IF(OR($A57=\"\",SUM(IF(SS!$C$6:$AZ$6=\"COLD\",IF(SS!$C59:$AZ59=\"\",1,0)))=COUNTIF(SS!$C$6:$AZ$6,\"COLD\")),\"\",PT!$P$8+SUM(G58:G$106))","v":""}]
[{"$f":"SS!B60","v":""},"",{"$f":"IF($B58=\"\",\"\",SUM(IF(SS!$C$6:$AZ$6=\"HOT\",IF(SS!$C60:$AZ60=\"|\",1*SS!$C$4:$AZ$4,0),0)))","v":""},"",{"$f":"IF(OR($A58=\"\",SUM(IF(SS!$C$6:$AZ$6=\"HOT\",IF(SS!$C60:$AZ60=\"\",1,0)))=COUNTIF(SS!$C$6:$AZ$6,\"HOT\")),\"\",SUM(D59:D$106))","v":""},{"$f":"IF($B58=\"\",\"\",SUM(IF(SS!$C$6:$AZ$6=\"COLD\",IF(SS!$C60:$AZ60=\"|\",1*SS!$C$4:$AZ$4,0),0)))","v":""},"",{"$f":"IF(OR($A58=\"\",SUM(IF(SS!$C$6:$AZ$6=\"COLD\",IF(SS!$C60:$AZ60=\"\",1,0)))=COUNTIF(SS!$C$6:$AZ$6,\"COLD\")),\"\",PT!$P$8+SUM(G59:G$106))","v":""}]
[{"$f":"SS!B61","v":""},"",{"$f":"IF($B59=\"\",\"\",SUM(IF(SS!$C$6:$AZ$6=\"HOT\",IF(SS!$C61:$AZ61=\"|\",1*SS!$C$4:$AZ$4,0),0)))","v":""},"",{"$f":"IF(OR($A59=\"\",SUM(IF(SS!$C$6:$AZ$6=\"HOT\",IF(SS!$C61:$AZ61=\"\",1,0)))=COUNTIF(SS!$C$6:$AZ$6,\"HOT\")),\"\",SUM(D60:D$106))","v":""},{"$f":"IF($B59=\"\",\"\",SUM(IF(SS!$C$6:$AZ$6=\"COLD\",IF(SS!$C61:$AZ61=\"|\",1*SS!$C$4:$AZ$4,0),0)))","v":""},"",{"$f":"IF(OR($A59=\"\",SUM(IF(SS!$C$6:$AZ$6=\"COLD\",IF(SS!$C61:$AZ61=\"\",1,0)))=COUNTIF(SS!$C$6:$AZ$6,\"COLD\")),\"\",PT!$P$8+SUM(G60:G$106))","v":""}]
[{"$f":"SS!B62","v":""},"",{"$f":"IF($B60=\"\",\"\",SUM(IF(SS!$C$6:$AZ$6=\"HOT\",IF(SS!$C62:$AZ62=\"|\",1*SS!$C$4:$AZ$4,0),0)))","v":""},"",{"$f":"IF(OR($A60=\"\",SUM(IF(SS!$C$6:$AZ$6=\"HOT\",IF(SS!$C62:$AZ62=\"\",1,0)))=COUNTIF(SS!$C$6:$AZ$6,\"HOT\")),\"\",SUM(D61:D$106))","v":""},{"$f":"IF($B60=\"\",\"\",SUM(IF(SS!$C$6:$AZ$6=\"COLD\",IF(SS!$C62:$AZ62=\"|\",1*SS!$C$4:$AZ$4,0),0)))","v":""},"",{"$f":"IF(OR($A60=\"\",SUM(IF(SS!$C$6:$AZ$6=\"COLD\",IF(SS!$C62:$AZ62=\"\",1,0)))=COUNTIF(SS!$C$6:$AZ$6,\"COLD\")),\"\",PT!$P$8+SUM(G61:G$106))","v":""}]
[{"$f":"SS!B63","v":""},"",{"$f":"IF($B61=\"\",\"\",SUM(IF(SS!$C$6:$AZ$6=\"HOT\",IF(SS!$C63:$AZ63=\"|\",1*SS!$C$4:$AZ$4,0),0)))","v":""},"",{"$f":"IF(OR($A61=\"\",SUM(IF(SS!$C$6:$AZ$6=\"HOT\",IF(SS!$C63:$AZ63=\"\",1,0)))=COUNTIF(SS!$C$6:$AZ$6,\"HOT\")),\"\",SUM(D62:D$106))","v":""},{"$f":"IF($B61=\"\",\"\",SUM(IF(SS!$C$6:$AZ$6=\"COLD\",IF(SS!$C63:$AZ63=\"|\",1*SS!$C$4:$AZ$4,0),0)))","v":""},"",{"$f":"IF(OR($A61=\"\",SUM(IF(SS!$C$6:$AZ$6=\"COLD\",IF(SS!$C63:$AZ63=\"\",1,0)))=COUNTIF(SS!$C$6:$AZ$6,\"COLD\")),\"\",PT!$P$8+SUM(G62:G$106))","v":""}]
[{"$f":"SS!B64","v":""},"",{"$f":"IF($B62=\"\",\"\",SUM(IF(SS!$C$6:$AZ$6=\"HOT\",IF(SS!$C64:$AZ64=\"|\",1*SS!$C$4:$AZ$4,0),0)))","v":""},"",{"$f":"IF(OR($A62=\"\",SUM(IF(SS!$C$6:$AZ$6=\"HOT\",IF(SS!$C64:$AZ64=\"\",1,0)))=COUNTIF(SS!$C$6:$AZ$6,\"HOT\")),\"\",SUM(D63:D$106))","v":""},{"$f":"IF($B62=\"\",\"\",SUM(IF(SS!$C$6:$AZ$6=\"COLD\",IF(SS!$C64:$AZ64=\"|\",1*SS!$C$4:$AZ$4,0),0)))","v":""},"",{"$f":"IF(OR($A62=\"\",SUM(IF(SS!$C$6:$AZ$6=\"COLD\",IF(SS!$C64:$AZ64=\"\",1,0)))=COUNTIF(SS!$C$6:$AZ$6,\"COLD\")),\"\",PT!$P$8+SUM(G63:G$106))","v":""}]
[{"$f":"SS!B65","v":""},"",{"$f":"IF($B63=\"\",\"\",SUM(IF(SS!$C$6:$AZ$6=\"HOT\",IF(SS!$C65:$AZ65=\"|\",1*SS!$C$4:$AZ$4,0),0)))","v":""},"",{"$f":"IF(OR($A63=\"\",SUM(IF(SS!$C$6:$AZ$6=\"HOT\",IF(SS!$C65:$AZ65=\"\",1,0)))=COUNTIF(SS!$C$6:$AZ$6,\"HOT\")),\"\",SUM(D64:D$106))","v":""},{"$f":"IF($B63=\"\",\"\",SUM(IF(SS!$C$6:$AZ$6=\"COLD\",IF(SS!$C65:$AZ65=\"|\",1*SS!$C$4:$AZ$4,0),0)))","v":""},"",{"$f":"IF(OR($A63=\"\",SUM(IF(SS!$C$6:$AZ$6=\"COLD\",IF(SS!$C65:$AZ65=\"\",1,0)))=COUNTIF(SS!$C$6:$AZ$6,\"COLD\")),\"\",PT!$P$8+SUM(G64:G$106))","v":""}]
[{"$f":"SS!B66","v":""},"",{"$f":"IF($B64=\"\",\"\",SUM(IF(SS!$C$6:$AZ$6=\"HOT\",IF(SS!$C66:$AZ66=\"|\",1*SS!$C$4:$AZ$4,0),0)))","v":""},"",{"$f":"IF(OR($A64=\"\",SUM(IF(SS!$C$6:$AZ$6=\"HOT\",IF(SS!$C66:$AZ66=\"\",1,0)))=COUNTIF(SS!$C$6:$AZ$6,\"HOT\")),\"\",SUM(D65:D$106))","v":""},{"$f":"IF($B64=\"\",\"\",SUM(IF(SS!$C$6:$AZ$6=\"COLD\",IF(SS!$C66:$AZ66=\"|\",1*SS!$C$4:$AZ$4,0),0)))","v":""},"",{"$f":"IF(OR($A64=\"\",SUM(IF(SS!$C$6:$AZ$6=\"COLD\",IF(SS!$C66:$AZ66=\"\",1,0)))=COUNTIF(SS!$C$6:$AZ$6,\"COLD\")),\"\",PT!$P$8+SUM(G65:G$106))","v":""}]
[{"$f":"SS!B67","v":""},"",{"$f":"IF($B65=\"\",\"\",SUM(IF(SS!$C$6:$AZ$6=\"HOT\",IF(SS!$C67:$AZ67=\"|\",1*SS!$C$4:$AZ$4,0),0)))","v":""},"",{"$f":"IF(OR($A65=\"\",SUM(IF(SS!$C$6:$AZ$6=\"HOT\",IF(SS!$C67:$AZ67=\"\",1,0)))=COUNTIF(SS!$C$6:$AZ$6,\"HOT\")),\"\",SUM(D66:D$106))","v":""},{"$f":"IF($B65=\"\",\"\",SUM(IF(SS!$C$6:$AZ$6=\"COLD\",IF(SS!$C67:$AZ67=\"|\",1*SS!$C$4:$AZ$4,0),0)))","v":""},"",{"$f":"IF(OR($A65=\"\",SUM(IF(SS!$C$6:$AZ$6=\"COLD\",IF(SS!$C67:$AZ67=\"\",1,0)))=COUNTIF(SS!$C$6:$AZ$6,\"COLD\")),\"\",PT!$P$8+SUM(G66:G$106))","v":""}]
[{"$f":"SS!B68","v":""},"",{"$f":"IF($B66=\"\",\"\",SUM(IF(SS!$C$6:$AZ$6=\"HOT\",IF(SS!$C68:$AZ68=\"|\",1*SS!$C$4:$AZ$4,0),0)))","v":""},"",{"$f":"IF(OR($A66=\"\",SUM(IF(SS!$C$6:$AZ$6=\"HOT\",IF(SS!$C68:$AZ68=\"\",1,0)))=COUNTIF(SS!$C$6:$AZ$6,\"HOT\")),\"\",SUM(D67:D$106))","v":""},{"$f":"IF($B66=\"\",\"\",SUM(IF(SS!$C$6:$AZ$6=\"COLD\",IF(SS!$C68:$AZ68=\"|\",1*SS!$C$4:$AZ$4,0),0)))","v":""},"",{"$f":"IF(OR($A66=\"\",SUM(IF(SS!$C$6:$AZ$6=\"COLD\",IF(SS!$C68:$AZ68=\"\",1,0)))=COUNTIF(SS!$C$6:$AZ$6,\"COLD\")),\"\",PT!$P$8+SUM(G67:G$106))","v":""}]
[{"$f":"SS!B69","v":""},"",{"$f":"IF($B67=\"\",\"\",SUM(IF(SS!$C$6:$AZ$6=\"HOT\",IF(SS!$C69:$AZ69=\"|\",1*SS!$C$4:$AZ$4,0),0)))","v":""},"",{"$f":"IF(OR($A67=\"\",SUM(IF(SS!$C$6:$AZ$6=\"HOT\",IF(SS!$C69:$AZ69=\"\",1,0)))=COUNTIF(SS!$C$6:$AZ$6,\"HOT\")),\"\",SUM(D68:D$106))","v":""},{"$f":"IF($B67=\"\",\"\",SUM(IF(SS!$C$6:$AZ$6=\"COLD\",IF(SS!$C69:$AZ69=\"|\",1*SS!$C$4:$AZ$4,0),0)))","v":""},"",{"$f":"IF(OR($A67=\"\",SUM(IF(SS!$C$6:$AZ$6=\"COLD\",IF(SS!$C69:$AZ69=\"\",1,0)))=COUNTIF(SS!$C$6:$AZ$6,\"COLD\")),\"\",PT!$P$8+SUM(G68:G$106))","v":""}]
[{"$f":"SS!B70","v":""},"",{"$f":"IF($B68=\"\",\"\",SUM(IF(SS!$C$6:$AZ$6=\"HOT\",IF(SS!$C70:$AZ70=\"|\",1*SS!$C$4:$AZ$4,0),0)))","v":""},"",{"$f":"IF(OR($A68=\"\",SUM(IF(SS!$C$6:$AZ$6=\"HOT\",IF(SS!$C70:$AZ70=\"\",1,0)))=COUNTIF(SS!$C$6:$AZ$6,\"HOT\")),\"\",SUM(D69:D$106))","v":""},{"$f":"IF($B68=\"\",\"\",SUM(IF(SS!$C$6:$AZ$6=\"COLD\",IF(SS!$C70:$AZ70=\"|\",1*SS!$C$4:$AZ$4,0),0)))","v":""},"",{"$f":"IF(OR($A68=\"\",SUM(IF(SS!$C$6:$AZ$6=\"COLD\",IF(SS!$C70:$AZ70=\"\",1,0)))=COUNTIF(SS!$C$6:$AZ$6,\"COLD\")),\"\",PT!$P$8+SUM(G69:G$106))","v":""}]
[{"$f":"SS!B71","v":""},"",{"$f":"IF($B69=\"\",\"\",SUM(IF(SS!$C$6:$AZ$6=\"HOT\",IF(SS!$C71:$AZ71=\"|\",1*SS!$C$4:$AZ$4,0),0)))","v":""},"",{"$f":"IF(OR($A69=\"\",SUM(IF(SS!$C$6:$AZ$6=\"HOT\",IF(SS!$C71:$AZ71=\"\",1,0)))=COUNTIF(SS!$C$6:$AZ$6,\"HOT\")),\"\",SUM(D70:D$106))","v":""},{"$f":"IF($B69=\"\",\"\",SUM(IF(SS!$C$6:$AZ$6=\"COLD\",IF(SS!$C71:$AZ71=\"|\",1*SS!$C$4:$AZ$4,0),0)))","v":""},"",{"$f":"IF(OR($A69=\"\",SUM(IF(SS!$C$6:$AZ$6=\"COLD\",IF(SS!$C71:$AZ71=\"\",1,0)))=COUNTIF(SS!$C$6:$AZ$6,\"COLD\")),\"\",PT!$P$8+SUM(G70:G$106))","v":""}]
[{"$f":"SS!B72","v":""},{"$f":"IF(A71=\"\",\"\",A69-A71)","v":""},{"$f":"IF($B70=\"\",\"\",SUM(IF(SS!$C$6:$AZ$6=\"HOT\",IF(SS!$C72:$AZ72=\"|\",1*SS!$C$4:$AZ$4,0),0)))","v":""},{"$f":"IF(C70=\"\",\"\",C70*B70)","v":""},{"$f":"IF(OR($A70=\"\",SUM(IF(SS!$C$6:$AZ$6=\"HOT\",IF(SS!$C72:$AZ72=\"\",1,0)))=COUNTIF(SS!$C$6:$AZ$6,\"HOT\")),\"\",SUM(D71:D$106))","v":""},{"$f":"IF($B70=\"\",\"\",SUM(IF(SS!$C$6:$AZ$6=\"COLD\",IF(SS!$C72:$AZ72=\"|\",1*SS!$C$4:$AZ$4,0),0)))","v":""},{"$f":"IF(F70=\"\",\"\",F70*B70)","v":""},{"$f":"IF(OR($A70=\"\",SUM(IF(SS!$C$6:$AZ$6=\"COLD\",IF(SS!$C72:$AZ72=\"\",1,0)))=COUNTIF(SS!$C$6:$AZ$6,\"COLD\")),\"\",PT!$P$8+SUM(G71:G$106))","v":""}]
[{"$f":"SS!B73","v":""},"",{"$f":"IF($B71=\"\",\"\",SUM(IF(SS!$C$6:$AZ$6=\"HOT\",IF(SS!$C73:$AZ73=\"|\",1*SS!$C$4:$AZ$4,0),0)))","v":""},"",{"$f":"IF(OR($A71=\"\",SUM(IF(SS!$C$6:$AZ$6=\"HOT\",IF(SS!$C73:$AZ73=\"\",1,0)))=COUNTIF(SS!$C$6:$AZ$6,\"HOT\")),\"\",SUM(D72:D$106))","v":""},{"$f":"IF($B71=\"\",\"\",SUM(IF(SS!$C$6:$AZ$6=\"COLD\",IF(SS!$C73:$AZ73=\"|\",1*SS!$C$4:$AZ$4,0),0)))","v":""},"",{"$f":"IF(OR($A71=\"\",SUM(IF(SS!$C$6:$AZ$6=\"COLD\",IF(SS!$C73:$AZ73=\"\",1,0)))=COUNTIF(SS!$C$6:$AZ$6,\"COLD\")),\"\",PT!$P$8+SUM(G72:G$106))","v":""}]
[{"$f":"SS!B74","v":""},"",{"$f":"IF($B72=\"\",\"\",SUM(IF(SS!$C$6:$AZ$6=\"HOT\",IF(SS!$C74:$AZ74=\"|\",1*SS!$C$4:$AZ$4,0),0)))","v":""},"",{"$f":"IF(OR($A72=\"\",SUM(IF(SS!$C$6:$AZ$6=\"HOT\",IF(SS!$C74:$AZ74=\"\",1,0)))=COUNTIF(SS!$C$6:$AZ$6,\"HOT\")),\"\",SUM(D73:D$106))","v":""},{"$f":"IF($B72=\"\",\"\",SUM(IF(SS!$C$6:$AZ$6=\"COLD\",IF(SS!$C74:$AZ74=\"|\",1*SS!$C$4:$AZ$4,0),0)))","v":""},"",{"$f":"IF(OR($A72=\"\",SUM(IF(SS!$C$6:$AZ$6=\"COLD\",IF(SS!$C74:$AZ74=\"\",1,0)))=COUNTIF(SS!$C$6:$AZ$6,\"COLD\")),\"\",PT!$P$8+SUM(G73:G$106))","v":""}]
[{"$f":"SS!B75","v":""},"",{"$f":"IF($B73=\"\",\"\",SUM(IF(SS!$C$6:$AZ$6=\"HOT\",IF(SS!$C75:$AZ75=\"|\",1*SS!$C$4:$AZ$4,0),0)))","v":""},"",{"$f":"IF(OR($A73=\"\",SUM(IF(SS!$C$6:$AZ$6=\"HOT\",IF(SS!$C75:$AZ75=\"\",1,0)))=COUNTIF(SS!$C$6:$AZ$6,\"HOT\")),\"\",SUM(D74:D$106))","v":""},{"$f":"IF($B73=\"\",\"\",SUM(IF(SS!$C$6:$AZ$6=\"COLD\",IF(SS!$C75:$AZ75=\"|\",1*SS!$C$4:$AZ$4,0),0)))","v":""},"",{"$f":"IF(OR($A73=\"\",SUM(IF(SS!$C$6:$AZ$6=\"COLD\",IF(SS!$C75:$AZ75=\"\",1,0)))=COUNTIF(SS!$C$6:$AZ$6,\"COLD\")),\"\",PT!$P$8+SUM(G74:G$106))","v":""}]
[{"$f":"SS!B76","v":""},"",{"$f":"IF($B74=\"\",\"\",SUM(IF(SS!$C$6:$AZ$6=\"HOT\",IF(SS!$C76:$AZ76=\"|\",1*SS!$C$4:$AZ$4,0),0)))","v":""},"",{"$f":"IF(OR($A74=\"\",SUM(IF(SS!$C$6:$AZ$6=\"HOT\",IF(SS!$C76:$AZ76=\"\",1,0)))=COUNTIF(SS!$C$6:$AZ$6,\"HOT\")),\"\",SUM(D75:D$106))","v":""},{"$f":"IF($B74=\"\",\"\",SUM(IF(SS!$C$6:$AZ$6=\"COLD\",IF(SS!$C76:$AZ76=\"|\",1*SS!$C$4:$AZ$4,0),0)))","v":""},"",{"$f":"IF(OR($A74=\"\",SUM(IF(SS!$C$6:$AZ$6=\"COLD\",IF(SS!$C76:$AZ76=\"\",1,0)))=COUNTIF(SS!$C$6:$AZ$6,\"COLD\")),\"\",PT!$P$8+SUM(G75:G$106))","v":""}]
[{"$f":"SS!B77","v":""},"",{"$f":"IF($B75=\"\",\"\",SUM(IF(SS!$C$6:$AZ$6=\"HOT\",IF(SS!$C77:$AZ77=\"|\",1*SS!$C$4:$AZ$4,0),0)))","v":""},"",{"$f":"IF(OR($A75=\"\",SUM(IF(SS!$C$6:$AZ$6=\"HOT\",IF(SS!$C77:$AZ77=\"\",1,0)))=COUNTIF(SS!$C$6:$AZ$6,\"HOT\")),\"\",SUM(D76:D$106))","v":""},{"$f":"IF($B75=\"\",\"\",SUM(IF(SS!$C$6:$AZ$6=\"COLD\",IF(SS!$C77:$AZ77=\"|\",1*SS!$C$4:$AZ$4,0),0)))","v":""},"",{"$f":"IF(OR($A75=\"\",SUM(IF(SS!$C$6:$AZ$6=\"COLD\",IF(SS!$C77:$AZ77=\"\",1,0)))=COUNTIF(SS!$C$6:$AZ$6,\"COLD\")),\"\",PT!$P$8+SUM(G76:G$106))","v":""}]
[{"$f":"SS!B78","v":""},"",{"$f":"IF($B76=\"\",\"\",SUM(IF(SS!$C$6:$AZ$6=\"HOT\",IF(SS!$C78:$AZ78=\"|\",1*SS!$C$4:$AZ$4,0),0)))","v":""},"",{"$f":"IF(OR($A76=\"\",SUM(IF(SS!$C$6:$AZ$6=\"HOT\",IF(SS!$C78:$AZ78=\"\",1,0)))=COUNTIF(SS!$C$6:$AZ$6,\"HOT\")),\"\",SUM(D77:D$106))","v":""},{"$f":"IF($B76=\"\",\"\",SUM(IF(SS!$C$6:$AZ$6=\"COLD\",IF(SS!$C78:$AZ78=\"|\",1*SS!$C$4:$AZ$4,0),0)))","v":""},"",{"$f":"IF(OR($A76=\"\",SUM(IF(SS!$C$6:$AZ$6=\"COLD\",IF(SS!$C78:$AZ78=\"\",1,0)))=COUNTIF(SS!$C$6:$AZ$6,\"COLD\")),\"\",PT!$P$8+SUM(G77:G$106))","v":""}]
[{"$f":"SS!B79","v":""},"",{"$f":"IF($B77=\"\",\"\",SUM(IF(SS!$C$6:$AZ$6=\"HOT\",IF(SS!$C79:$AZ79=\"|\",1*SS!$C$4:$AZ$4,0),0)))","v":""},"",{"$f":"IF(OR($A77=\"\",SUM(IF(SS!$C$6:$AZ$6=\"HOT\",IF(SS!$C79:$AZ79=\"\",1,0)))=COUNTIF(SS!$C$6:$AZ$6,\"HOT\")),\"\",SUM(D78:D$106))","v":""},{"$f":"IF($B77=\"\",\"\",SUM(IF(SS!$C$6:$AZ$6=\"COLD\",IF(SS!$C79:$AZ79=\"|\",1*SS!$C$4:$AZ$4,0),0)))","v":""},"",{"$f":"IF(OR($A77=\"\",SUM(IF(SS!$C$6:$AZ$6=\"COLD\",IF(SS!$C79:$AZ79=\"\",1,0)))=COUNTIF(SS!$C$6:$AZ$6,\"COLD\")),\"\",PT!$P$8+SUM(G78:G$106))","v":""}]
[{"$f":"SS!B80","v":""},"",{"$f":"IF($B78=\"\",\"\",SUM(IF(SS!$C$6:$AZ$6=\"HOT\",IF(SS!$C80:$AZ80=\"|\",1*SS!$C$4:$AZ$4,0),0)))","v":""},"",{"$f":"IF(OR($A78=\"\",SUM(IF(SS!$C$6:$AZ$6=\"HOT\",IF(SS!$C80:$AZ80=\"\",1,0)))=COUNTIF(SS!$C$6:$AZ$6,\"HOT\")),\"\",SUM(D79:D$106))","v":""},{"$f":"IF($B78=\"\",\"\",SUM(IF(SS!$C$6:$AZ$6=\"COLD\",IF(SS!$C80:$AZ80=\"|\",1*SS!$C$4:$AZ$4,0),0)))","v":""},"",{"$f":"IF(OR($A78=\"\",SUM(IF(SS!$C$6:$AZ$6=\"COLD\",IF(SS!$C80:$AZ80=\"\",1,0)))=COUNTIF(SS!$C$6:$AZ$6,\"COLD\")),\"\",PT!$P$8+SUM(G79:G$106))","v":""}]
[{"$f":"SS!B81","v":""},"",{"$f":"IF($B79=\"\",\"\",SUM(IF(SS!$C$6:$AZ$6=\"HOT\",IF(SS!$C81:$AZ81=\"|\",1*SS!$C$4:$AZ$4,0),0)))","v":""},"",{"$f":"IF(OR($A79=\"\",SUM(IF(SS!$C$6:$AZ$6=\"HOT\",IF(SS!$C81:$AZ81=\"\",1,0)))=COUNTIF(SS!$C$6:$AZ$6,\"HOT\")),\"\",SUM(D80:D$106))","v":""},{"$f":"IF($B79=\"\",\"\",SUM(IF(SS!$C$6:$AZ$6=\"COLD\",IF(SS!$C81:$AZ81=\"|\",1*SS!$C$4:$AZ$4,0),0)))","v":""},"",{"$f":"IF(OR($A79=\"\",SUM(IF(SS!$C$6:$AZ$6=\"COLD\",IF(SS!$C81:$AZ81=\"\",1,0)))=COUNTIF(SS!$C$6:$AZ$6,\"COLD\")),\"\",PT!$P$8+SUM(G80:G$106))","v":""}]
[{"$f":"SS!B82","v":""},"",{"$f":"IF($B80=\"\",\"\",SUM(IF(SS!$C$6:$AZ$6=\"HOT\",IF(SS!$C82:$AZ82=\"|\",1*SS!$C$4:$AZ$4,0),0)))","v":""},"",{"$f":"IF(OR($A80=\"\",SUM(IF(SS!$C$6:$AZ$6=\"HOT\",IF(SS!$C82:$AZ82=\"\",1,0)))=COUNTIF(SS!$C$6:$AZ$6,\"HOT\")),\"\",SUM(D81:D$106))","v":""},{"$f":"IF($B80=\"\",\"\",SUM(IF(SS!$C$6:$AZ$6=\"COLD\",IF(SS!$C82:$AZ82=\"|\",1*SS!$C$4:$AZ$4,0),0)))","v":""},"",{"$f":"IF(OR($A80=\"\",SUM(IF(SS!$C$6:$AZ$6=\"COLD\",IF(SS!$C82:$AZ82=\"\",1,0)))=COUNTIF(SS!$C$6:$AZ$6,\"COLD\")),\"\",PT!$P$8+SUM(G81:G$106))","v":""}]
[{"$f":"SS!B83","v":""},"",{"$f":"IF($B81=\"\",\"\",SUM(IF(SS!$C$6:$AZ$6=\"HOT\",IF(SS!$C83:$AZ83=\"|\",1*SS!$C$4:$AZ$4,0),0)))","v":""},"",{"$f":"IF(OR($A81=\"\",SUM(IF(SS!$C$6:$AZ$6=\"HOT\",IF(SS!$C83:$AZ83=\"\",1,0)))=COUNTIF(SS!$C$6:$AZ$6,\"HOT\")),\"\",SUM(D82:D$106))","v":""},{"$f":"IF($B81=\"\",\"\",SUM(IF(SS!$C$6:$AZ$6=\"COLD\",IF(SS!$C83:$AZ83=\"|\",1*SS!$C$4:$AZ$4,0),0)))","v":""},"",{"$f":"IF(OR($A81=\"\",SUM(IF(SS!$C$6:$AZ$6=\"COLD\",IF(SS!$C83:$AZ83=\"\",1,0)))=COUNTIF(SS!$C$6:$AZ$6,\"COLD\")),\"\",PT!$P$8+SUM(G82:G$106))","v":""}]
[{"$f":"SS!B84","v":""},"",{"$f":"IF($B82=\"\",\"\",SUM(IF(SS!$C$6:$AZ$6=\"HOT\",IF(SS!$C84:$AZ84=\"|\",1*SS!$C$4:$AZ$4,0),0)))","v":""},"",{"$f":"IF(OR($A82=\"\",SUM(IF(SS!$C$6:$AZ$6=\"HOT\",IF(SS!$C84:$AZ84=\"\",1,0)))=COUNTIF(SS!$C$6:$AZ$6,\"HOT\")),\"\",SUM(D83:D$106))","v":""},{"$f":"IF($B82=\"\",\"\",SUM(IF(SS!$C$6:$AZ$6=\"COLD\",IF(SS!$C84:$AZ84=\"|\",1*SS!$C$4:$AZ$4,0),0)))","v":""},"",{"$f":"IF(OR($A82=\"\",SUM(IF(SS!$C$6:$AZ$6=\"COLD\",IF(SS!$C84:$AZ84=\"\",1,0)))=COUNTIF(SS!$C$6:$AZ$6,\"COLD\")),\"\",PT!$P$8+SUM(G83:G$106))","v":""}]
[{"$f":"SS!B85","v":""},"",{"$f":"IF($B83=\"\",\"\",SUM(IF(SS!$C$6:$AZ$6=\"HOT\",IF(SS!$C85:$AZ85=\"|\",1*SS!$C$4:$AZ$4,0),0)))","v":""},"",{"$f":"IF(OR($A83=\"\",SUM(IF(SS!$C$6:$AZ$6=\"HOT\",IF(SS!$C85:$AZ85=\"\",1,0)))=COUNTIF(SS!$C$6:$AZ$6,\"HOT\")),\"\",SUM(D84:D$106))","v":""},{"$f":"IF($B83=\"\",\"\",SUM(IF(SS!$C$6:$AZ$6=\"COLD\",IF(SS!$C85:$AZ85=\"|\",1*SS!$C$4:$AZ$4,0),0)))","v":""},"",{"$f":"IF(OR($A83=\"\",SUM(IF(SS!$C$6:$AZ$6=\"COLD\",IF(SS!$C85:$AZ85=\"\",1,0)))=COUNTIF(SS!$C$6:$AZ$6,\"COLD\")),\"\",PT!$P$8+SUM(G84:G$106))","v":""}]
[{"$f":"SS!B86","v":""},"",{"$f":"IF($B84=\"\",\"\",SUM(IF(SS!$C$6:$AZ$6=\"HOT\",IF(SS!$C86:$AZ86=\"|\",1*SS!$C$4:$AZ$4,0),0)))","v":""},"",{"$f":"IF(OR($A84=\"\",SUM(IF(SS!$C$6:$AZ$6=\"HOT\",IF(SS!$C86:$AZ86=\"\",1,0)))=COUNTIF(SS!$C$6:$AZ$6,\"HOT\")),\"\",SUM(D85:D$106))","v":""},{"$f":"IF($B84=\"\",\"\",SUM(IF(SS!$C$6:$AZ$6=\"COLD\",IF(SS!$C86:$AZ86=\"|\",1*SS!$C$4:$AZ$4,0),0)))","v":""},"",{"$f":"IF(OR($A84=\"\",SUM(IF(SS!$C$6:$AZ$6=\"COLD\",IF(SS!$C86:$AZ86=\"\",1,0)))=COUNTIF(SS!$C$6:$AZ$6,\"COLD\")),\"\",PT!$P$8+SUM(G85:G$106))","v":""}]
[{"$f":"SS!B87","v":""},"",{"$f":"IF($B85=\"\",\"\",SUM(IF(SS!$C$6:$AZ$6=\"HOT\",IF(SS!$C87:$AZ87=\"|\",1*SS!$C$4:$AZ$4,0),0)))","v":""},"",{"$f":"IF(OR($A85=\"\",SUM(IF(SS!$C$6:$AZ$6=\"HOT\",IF(SS!$C87:$AZ87=\"\",1,0)))=COUNTIF(SS!$C$6:$AZ$6,\"HOT\")),\"\",SUM(D86:D$106))","v":""},{"$f":"IF($B85=\"\",\"\",SUM(IF(SS!$C$6:$AZ$6=\"COLD\",IF(SS!$C87:$AZ87=\"|\",1*SS!$C$4:$AZ$4,0),0)))","v":""},"",{"$f":"IF(OR($A85=\"\",SUM(IF(SS!$C$6:$AZ$6=\"COLD\",IF(SS!$C87:$AZ87=\"\",1,0)))=COUNTIF(SS!$C$6:$AZ$6,\"COLD\")),\"\",PT!$P$8+SUM(G86:G$106))","v":""}]
[{"$f":"SS!B88","v":""},"",{"$f":"IF($B86=\"\",\"\",SUM(IF(SS!$C$6:$AZ$6=\"HOT\",IF(SS!$C88:$AZ88=\"|\",1*SS!$C$4:$AZ$4,0),0)))","v":""},"",{"$f":"IF(OR($A86=\"\",SUM(IF(SS!$C$6:$AZ$6=\"HOT\",IF(SS!$C88:$AZ88=\"\",1,0)))=COUNTIF(SS!$C$6:$AZ$6,\"HOT\")),\"\",SUM(D87:D$106))","v":""},{"$f":"IF($B86=\"\",\"\",SUM(IF(SS!$C$6:$AZ$6=\"COLD\",IF(SS!$C88:$AZ88=\"|\",1*SS!$C$4:$AZ$4,0),0)))","v":""},"",{"$f":"IF(OR($A86=\"\",SUM(IF(SS!$C$6:$AZ$6=\"COLD\",IF(SS!$C88:$AZ88=\"\",1,0)))=COUNTIF(SS!$C$6:$AZ$6,\"COLD\")),\"\",PT!$P$8+SUM(G87:G$106))","v":""}]
[{"$f":"SS!B89","v":""},"",{"$f":"IF($B87=\"\",\"\",SUM(IF(SS!$C$6:$AZ$6=\"HOT\",IF(SS!$C89:$AZ89=\"|\",1*SS!$C$4:$AZ$4,0),0)))","v":""},"",{"$f":"IF(OR($A87=\"\",SUM(IF(SS!$C$6:$AZ$6=\"HOT\",IF(SS!$C89:$AZ89=\"\",1,0)))=COUNTIF(SS!$C$6:$AZ$6,\"HOT\")),\"\",SUM(D88:D$106))","v":""},{"$f":"IF($B87=\"\",\"\",SUM(IF(SS!$C$6:$AZ$6=\"COLD\",IF(SS!$C89:$AZ89=\"|\",1*SS!$C$4:$AZ$4,0),0)))","v":""},"",{"$f":"IF(OR($A87=\"\",SUM(IF(SS!$C$6:$AZ$6=\"COLD\",IF(SS!$C89:$AZ89=\"\",1,0)))=COUNTIF(SS!$C$6:$AZ$6,\"COLD\")),\"\",PT!$P$8+SUM(G88:G$106))","v":""}]
[{"$f":"SS!B90","v":""},"",{"$f":"IF($B88=\"\",\"\",SUM(IF(SS!$C$6:$AZ$6=\"HOT\",IF(SS!$C90:$AZ90=\"|\",1*SS!$C$4:$AZ$4,0),0)))","v":""},"",{"$f":"IF(OR($A88=\"\",SUM(IF(SS!$C$6:$AZ$6=\"HOT\",IF(SS!$C90:$AZ90=\"\",1,0)))=COUNTIF(SS!$C$6:$AZ$6,\"HOT\")),\"\",SUM(D89:D$106))","v":""},{"$f":"IF($B88=\"\",\"\",SUM(IF(SS!$C$6:$AZ$6=\"COLD\",IF(SS!$C90:$AZ90=\"|\",1*SS!$C$4:$AZ$4,0),0)))","v":""},"",{"$f":"IF(OR($A88=\"\",SUM(IF(SS!$C$6:$AZ$6=\"COLD\",IF(SS!$C90:$AZ90=\"\",1,0)))=COUNTIF(SS!$C$6:$AZ$6,\"COLD\")),\"\",PT!$P$8+SUM(G89:G$106))","v":""}]
[{"$f":"SS!B91","v":""},"",{"$f":"IF($B89=\"\",\"\",SUM(IF(SS!$C$6:$AZ$6=\"HOT\",IF(SS!$C91:$AZ91=\"|\",1*SS!$C$4:$AZ$4,0),0)))","v":""},"",{"$f":"IF(OR($A89=\"\",SUM(IF(SS!$C$6:$AZ$6=\"HOT\",IF(SS!$C91:$AZ91=\"\",1,0)))=COUNTIF(SS!$C$6:$AZ$6,\"HOT\")),\"\",SUM(D90:D$106))","v":""},{"$f":"IF($B89=\"\",\"\",SUM(IF(SS!$C$6:$AZ$6=\"COLD\",IF(SS!$C91:$AZ91=\"|\",1*SS!$C$4:$AZ$4,0),0)))","v":""},"",{"$f":"IF(OR($A89=\"\",SUM(IF(SS!$C$6:$AZ$6=\"COLD\",IF(SS!$C91:$AZ91=\"\",1,0)))=COUNTIF(SS!$C$6:$AZ$6,\"COLD\")),\"\",PT!$P$8+SUM(G90:G$106))","v":""}]
[{"$f":"SS!B92","v":""},"",{"$f":"IF($B90=\"\",\"\",SUM(IF(SS!$C$6:$AZ$6=\"HOT\",IF(SS!$C92:$AZ92=\"|\",1*SS!$C$4:$AZ$4,0),0)))","v":""},"",{"$f":"IF(OR($A90=\"\",SUM(IF(SS!$C$6:$AZ$6=\"HOT\",IF(SS!$C92:$AZ92=\"\",1,0)))=COUNTIF(SS!$C$6:$AZ$6,\"HOT\")),\"\",SUM(D91:D$106))","v":""},{"$f":"IF($B90=\"\",\"\",SUM(IF(SS!$C$6:$AZ$6=\"COLD\",IF(SS!$C92:$AZ92=\"|\",1*SS!$C$4:$AZ$4,0),0)))","v":""},"",{"$f":"IF(OR($A90=\"\",SUM(IF(SS!$C$6:$AZ$6=\"COLD\",IF(SS!$C92:$AZ92=\"\",1,0)))=COUNTIF(SS!$C$6:$AZ$6,\"COLD\")),\"\",PT!$P$8+SUM(G91:G$106))","v":""}]
[{"$f":"SS!B93","v":""},"",{"$f":"IF($B91=\"\",\"\",SUM(IF(SS!$C$6:$AZ$6=\"HOT\",IF(SS!$C93:$AZ93=\"|\",1*SS!$C$4:$AZ$4,0),0)))","v":""},"",{"$f":"IF(OR($A91=\"\",SUM(IF(SS!$C$6:$AZ$6=\"HOT\",IF(SS!$C93:$AZ93=\"\",1,0)))=COUNTIF(SS!$C$6:$AZ$6,\"HOT\")),\"\",SUM(D92:D$106))","v":""},{"$f":"IF($B91=\"\",\"\",SUM(IF(SS!$C$6:$AZ$6=\"COLD\",IF(SS!$C93:$AZ93=\"|\",1*SS!$C$4:$AZ$4,0),0)))","v":""},"",{"$f":"IF(OR($A91=\"\",SUM(IF(SS!$C$6:$AZ$6=\"COLD\",IF(SS!$C93:$AZ93=\"\",1,0)))=COUNTIF(SS!$C$6:$AZ$6,\"COLD\")),\"\",PT!$P$8+SUM(G92:G$106))","v":""}]
[{"$f":"SS!B94","v":""},"",{"$f":"IF($B92=\"\",\"\",SUM(IF(SS!$C$6:$AZ$6=\"HOT\",IF(SS!$C94:$AZ94=\"|\",1*SS!$C$4:$AZ$4,0),0)))","v":""},"",{"$f":"IF(OR($A92=\"\",SUM(IF(SS!$C$6:$AZ$6=\"HOT\",IF(SS!$C94:$AZ94=\"\",1,0)))=COUNTIF(SS!$C$6:$AZ$6,\"HOT\")),\"\",SUM(D93:D$106))","v":""},{"$f":"IF($B92=\"\",\"\",SUM(IF(SS!$C$6:$AZ$6=\"COLD\",IF(SS!$C94:$AZ94=\"|\",1*SS!$C$4:$AZ$4,0),0)))","v":""},"",{"$f":"IF(OR($A92=\"\",SUM(IF(SS!$C$6:$AZ$6=\"COLD\",IF(SS!$C94:$AZ94=\"\",1,0)))=COUNTIF(SS!$C$6:$AZ$6,\"COLD\")),\"\",PT!$P$8+SUM(G93:G$106))","v":""}]
[{"$f":"SS!B95","v":""},"",{"$f":"IF($B93=\"\",\"\",SUM(IF(SS!$C$6:$AZ$6=\"HOT\",IF(SS!$C95:$AZ95=\"|\",1*SS!$C$4:$AZ$4,0),0)))","v":""},"",{"$f":"IF(OR($A93=\"\",SUM(IF(SS!$C$6:$AZ$6=\"HOT\",IF(SS!$C95:$AZ95=\"\",1,0)))=COUNTIF(SS!$C$6:$AZ$6,\"HOT\")),\"\",SUM(D94:D$106))","v":""},{"$f":"IF($B93=\"\",\"\",SUM(IF(SS!$C$6:$AZ$6=\"COLD\",IF(SS!$C95:$AZ95=\"|\",1*SS!$C$4:$AZ$4,0),0)))","v":""},"",{"$f":"IF(OR($A93=\"\",SUM(IF(SS!$C$6:$AZ$6=\"COLD\",IF(SS!$C95:$AZ95=\"\",1,0)))=COUNTIF(SS!$C$6:$AZ$6,\"COLD\")),\"\",PT!$P$8+SUM(G94:G$106))","v":""}]
[{"$f":"SS!B96","v":""},"",{"$f":"IF($B94=\"\",\"\",SUM(IF(SS!$C$6:$AZ$6=\"HOT\",IF(SS!$C96:$AZ96=\"|\",1*SS!$C$4:$AZ$4,0),0)))","v":""},"",{"$f":"IF(OR($A94=\"\",SUM(IF(SS!$C$6:$AZ$6=\"HOT\",IF(SS!$C96:$AZ96=\"\",1,0)))=COUNTIF(SS!$C$6:$AZ$6,\"HOT\")),\"\",SUM(D95:D$106))","v":""},{"$f":"IF($B94=\"\",\"\",SUM(IF(SS!$C$6:$AZ$6=\"COLD\",IF(SS!$C96:$AZ96=\"|\",1*SS!$C$4:$AZ$4,0),0)))","v":""},"",{"$f":"IF(OR($A94=\"\",SUM(IF(SS!$C$6:$AZ$6=\"COLD\",IF(SS!$C96:$AZ96=\"\",1,0)))=COUNTIF(SS!$C$6:$AZ$6,\"COLD\")),\"\",PT!$P$8+SUM(G95:G$106))","v":""}]
[{"$f":"SS!B97","v":""},"",{"$f":"IF($B95=\"\",\"\",SUM(IF(SS!$C$6:$AZ$6=\"HOT\",IF(SS!$C97:$AZ97=\"|\",1*SS!$C$4:$AZ$4,0),0)))","v":""},"",{"$f":"IF(OR($A95=\"\",SUM(IF(SS!$C$6:$AZ$6=\"HOT\",IF(SS!$C97:$AZ97=\"\",1,0)))=COUNTIF(SS!$C$6:$AZ$6,\"HOT\")),\"\",SUM(D96:D$106))","v":""},{"$f":"IF($B95=\"\",\"\",SUM(IF(SS!$C$6:$AZ$6=\"COLD\",IF(SS!$C97:$AZ97=\"|\",1*SS!$C$4:$AZ$4,0),0)))","v":""},"",{"$f":"IF(OR($A95=\"\",SUM(IF(SS!$C$6:$AZ$6=\"COLD\",IF(SS!$C97:$AZ97=\"\",1,0)))=COUNTIF(SS!$C$6:$AZ$6,\"COLD\")),\"\",PT!$P$8+SUM(G96:G$106))","v":""}]
[{"$f":"SS!B98","v":""},"",{"$f":"IF($B96=\"\",\"\",SUM(IF(SS!$C$6:$AZ$6=\"HOT\",IF(SS!$C98:$AZ98=\"|\",1*SS!$C$4:$AZ$4,0),0)))","v":""},"",{"$f":"IF(OR($A96=\"\",SUM(IF(SS!$C$6:$AZ$6=\"HOT\",IF(SS!$C98:$AZ98=\"\",1,0)))=COUNTIF(SS!$C$6:$AZ$6,\"HOT\")),\"\",SUM(D97:D$106))","v":""},{"$f":"IF($B96=\"\",\"\",SUM(IF(SS!$C$6:$AZ$6=\"COLD\",IF(SS!$C98:$AZ98=\"|\",1*SS!$C$4:$AZ$4,0),0)))","v":""},"",{"$f":"IF(OR($A96=\"\",SUM(IF(SS!$C$6:$AZ$6=\"COLD\",IF(SS!$C98:$AZ98=\"\",1,0)))=COUNTIF(SS!$C$6:$AZ$6,\"COLD\")),\"\",PT!$P$8+SUM(G97:G$106))","v":""}]
[{"$f":"SS!B99","v":""},"",{"$f":"IF($B97=\"\",\"\",SUM(IF(SS!$C$6:$AZ$6=\"HOT\",IF(SS!$C99:$AZ99=\"|\",1*SS!$C$4:$AZ$4,0),0)))","v":""},"",{"$f":"IF(OR($A97=\"\",SUM(IF(SS!$C$6:$AZ$6=\"HOT\",IF(SS!$C99:$AZ99=\"\",1,0)))=COUNTIF(SS!$C$6:$AZ$6,\"HOT\")),\"\",SUM(D98:D$106))","v":""},{"$f":"IF($B97=\"\",\"\",SUM(IF(SS!$C$6:$AZ$6=\"COLD\",IF(SS!$C99:$AZ99=\"|\",1*SS!$C$4:$AZ$4,0),0)))","v":""},"",{"$f":"IF(OR($A97=\"\",SUM(IF(SS!$C$6:$AZ$6=\"COLD\",IF(SS!$C99:$AZ99=\"\",1,0)))=COUNTIF(SS!$C$6:$AZ$6,\"COLD\")),\"\",PT!$P$8+SUM(G98:G$106))","v":""}]
[{"$f":"SS!B100","v":""},"",{"$f":"IF($B98=\"\",\"\",SUM(IF(SS!$C$6:$AZ$6=\"HOT\",IF(SS!$C100:$AZ100=\"|\",1*SS!$C$4:$AZ$4,0),0)))","v":""},"",{"$f":"IF(OR($A98=\"\",SUM(IF(SS!$C$6:$AZ$6=\"HOT\",IF(SS!$C100:$AZ100=\"\",1,0)))=COUNTIF(SS!$C$6:$AZ$6,\"HOT\")),\"\",SUM(D99:D$106))","v":""},{"$f":"IF($B98=\"\",\"\",SUM(IF(SS!$C$6:$AZ$6=\"COLD\",IF(SS!$C100:$AZ100=\"|\",1*SS!$C$4:$AZ$4,0),0)))","v":""},"",{"$f":"IF(OR($A98=\"\",SUM(IF(SS!$C$6:$AZ$6=\"COLD\",IF(SS!$C100:$AZ100=\"\",1,0)))=COUNTIF(SS!$C$6:$AZ$6,\"COLD\")),\"\",PT!$P$8+SUM(G99:G$106))","v":""}]
[{"$f":"SS!B101","v":""},"",{"$f":"IF($B99=\"\",\"\",SUM(IF(SS!$C$6:$AZ$6=\"HOT\",IF(SS!$C101:$AZ101=\"|\",1*SS!$C$4:$AZ$4,0),0)))","v":""},"",{"$f":"IF(OR($A99=\"\",SUM(IF(SS!$C$6:$AZ$6=\"HOT\",IF(SS!$C101:$AZ101=\"\",1,0)))=COUNTIF(SS!$C$6:$AZ$6,\"HOT\")),\"\",SUM(D100:D$106))","v":""},{"$f":"IF($B99=\"\",\"\",SUM(IF(SS!$C$6:$AZ$6=\"COLD\",IF(SS!$C101:$AZ101=\"|\",1*SS!$C$4:$AZ$4,0),0)))","v":""},"",{"$f":"IF(OR($A99=\"\",SUM(IF(SS!$C$6:$AZ$6=\"COLD\",IF(SS!$C101:$AZ101=\"\",1,0)))=COUNTIF(SS!$C$6:$AZ$6,\"COLD\")),\"\",PT!$P$8+SUM(G100:G$106))","v":""}]
[{"$f":"SS!B102","v":""},"",{"$f":"IF($B100=\"\",\"\",SUM(IF(SS!$C$6:$AZ$6=\"HOT\",IF(SS!$C102:$AZ102=\"|\",1*SS!$C$4:$AZ$4,0),0)))","v":""},"",{"$f":"IF(OR($A100=\"\",SUM(IF(SS!$C$6:$AZ$6=\"HOT\",IF(SS!$C102:$AZ102=\"\",1,0)))=COUNTIF(SS!$C$6:$AZ$6,\"HOT\")),\"\",SUM(D101:D$106))","v":""},{"$f":"IF($B100=\"\",\"\",SUM(IF(SS!$C$6:$AZ$6=\"COLD\",IF(SS!$C102:$AZ102=\"|\",1*SS!$C$4:$AZ$4,0),0)))","v":""},"",{"$f":"IF(OR($A100=\"\",SUM(IF(SS!$C$6:$AZ$6=\"COLD\",IF(SS!$C102:$AZ102=\"\",1,0)))=COUNTIF(SS!$C$6:$AZ$6,\"COLD\")),\"\",PT!$P$8+SUM(G101:G$106))","v":""}]
[{"$f":"SS!B103","v":""},"",{"$f":"IF($B101=\"\",\"\",SUM(IF(SS!$C$6:$AZ$6=\"HOT\",IF(SS!$C103:$AZ103=\"|\",1*SS!$C$4:$AZ$4,0),0)))","v":""},"",{"$f":"IF(OR($A101=\"\",SUM(IF(SS!$C$6:$AZ$6=\"HOT\",IF(SS!$C103:$AZ103=\"\",1,0)))=COUNTIF(SS!$C$6:$AZ$6,\"HOT\")),\"\",SUM(D102:D$106))","v":""},{"$f":"IF($B101=\"\",\"\",SUM(IF(SS!$C$6:$AZ$6=\"COLD\",IF(SS!$C103:$AZ103=\"|\",1*SS!$C$4:$AZ$4,0),0)))","v":""},"",{"$f":"IF(OR($A101=\"\",SUM(IF(SS!$C$6:$AZ$6=\"COLD\",IF(SS!$C103:$AZ103=\"\",1,0)))=COUNTIF(SS!$C$6:$AZ$6,\"COLD\")),\"\",PT!$P$8+SUM(G102:G$106))","v":""}]
[{"$f":"SS!B104","v":""},"",{"$f":"IF($B102=\"\",\"\",SUM(IF(SS!$C$6:$AZ$6=\"HOT\",IF(SS!$C104:$AZ104=\"|\",1*SS!$C$4:$AZ$4,0),0)))","v":""},"",{"$f":"IF(OR($A102=\"\",SUM(IF(SS!$C$6:$AZ$6=\"HOT\",IF(SS!$C104:$AZ104=\"\",1,0)))=COUNTIF(SS!$C$6:$AZ$6,\"HOT\")),\"\",SUM(D103:D$106))","v":""},{"$f":"IF($B102=\"\",\"\",SUM(IF(SS!$C$6:$AZ$6=\"COLD\",IF(SS!$C104:$AZ104=\"|\",1*SS!$C$4:$AZ$4,0),0)))","v":""},"",{"$f":"IF(OR($A102=\"\",SUM(IF(SS!$C$6:$AZ$6=\"COLD\",IF(SS!$C104:$AZ104=\"\",1,0)))=COUNTIF(SS!$C$6:$AZ$6,\"COLD\")),\"\",PT!$P$8+SUM(G103:G$106))","v":""}]
[{"$f":"SS!B105","v":""},"",{"$f":"IF($B103=\"\",\"\",SUM(IF(SS!$C$6:$AZ$6=\"HOT\",IF(SS!$C105:$AZ105=\"|\",1*SS!$C$4:$AZ$4,0),0)))","v":""},"",{"$f":"IF(OR($A103=\"\",SUM(IF(SS!$C$6:$AZ$6=\"HOT\",IF(SS!$C105:$AZ105=\"\",1,0)))=COUNTIF(SS!$C$6:$AZ$6,\"HOT\")),\"\",SUM(D104:D$106))","v":""},{"$f":"IF($B103=\"\",\"\",SUM(IF(SS!$C$6:$AZ$6=\"COLD\",IF(SS!$C105:$AZ105=\"|\",1*SS!$C$4:$AZ$4,0),0)))","v":""},"",{"$f":"IF(OR($A103=\"\",SUM(IF(SS!$C$6:$AZ$6=\"COLD\",IF(SS!$C105:$AZ105=\"\",1,0)))=COUNTIF(SS!$C$6:$AZ$6,\"COLD\")),\"\",PT!$P$8+SUM(G104:G$106))","v":""}]
[{"$f":"SS!B106","v":""},"",{"$f":"IF($B104=\"\",\"\",SUM(IF(SS!$C$6:$AZ$6=\"HOT\",IF(SS!$C106:$AZ106=\"|\",1*SS!$C$4:$AZ$4,0),0)))","v":""},"",{"$f":"IF(OR($A104=\"\",SUM(IF(SS!$C$6:$AZ$6=\"HOT\",IF(SS!$C106:$AZ106=\"\",1,0)))=COUNTIF(SS!$C$6:$AZ$6,\"HOT\")),\"\",SUM(D105:D$106))","v":""},{"$f":"IF($B104=\"\",\"\",SUM(IF(SS!$C$6:$AZ$6=\"COLD\",IF(SS!$C106:$AZ106=\"|\",1*SS!$C$4:$AZ$4,0),0)))","v":""},"",{"$f":"IF(OR($A104=\"\",SUM(IF(SS!$C$6:$AZ$6=\"COLD\",IF(SS!$C106:$AZ106=\"\",1,0)))=COUNTIF(SS!$C$6:$AZ$6,\"COLD\")),\"\",PT!$P$8+SUM(G105:G$106))","v":""}]
[{"$f":"SS!B107","v":""},"",{"$f":"IF($B105=\"\",\"\",SUM(IF(SS!$C$6:$AZ$6=\"HOT\",IF(SS!$C107:$AZ107=\"|\",1*SS!$C$4:$AZ$4,0),0)))","v":""},"",{"$f":"IF(OR($A105=\"\",SUM(IF(SS!$C$6:$AZ$6=\"HOT\",IF(SS!$C107:$AZ107=\"\",1,0)))=COUNTIF(SS!$C$6:$AZ$6,\"HOT\")),\"\",SUM(D106:D$106))","v":""},{"$f":"IF($B105=\"\",\"\",SUM(IF(SS!$C$6:$AZ$6=\"COLD\",IF(SS!$C107:$AZ107=\"|\",1*SS!$C$4:$AZ$4,0),0)))","v":""},"",{"$f":"IF(OR($A105=\"\",SUM(IF(SS!$C$6:$AZ$6=\"COLD\",IF(SS!$C107:$AZ107=\"\",1,0)))=COUNTIF(SS!$C$6:$AZ$6,\"COLD\")),\"\",PT!$P$8+SUM(G106:G$106))","v":""}]
[{"$f":"SS!B108","v":""},{"$f":"IF(A107=\"\",\"\",A105-A107)","v":""},{"$f":"IF($B106=\"\",\"\",SUM(IF(SS!$C$6:$AZ$6=\"HOT\",IF(SS!$C108:$AZ108=\"|\",1*SS!$C$4:$AZ$4,0),0)))","v":""},{"$f":"IF(C106=\"\",\"\",C106*B106)","v":""},{"$f":"IF(OR($A106=\"\",SUM(IF(SS!$C$6:$AZ$6=\"HOT\",IF(SS!$C108:$AZ108=\"\",1,0)))=COUNTIF(SS!$C$6:$AZ$6,\"HOT\")),\"\",SUM(D$106:D107))","v":""},{"$f":"IF($B106=\"\",\"\",SUM(IF(SS!$C$6:$AZ$6=\"COLD\",IF(SS!$C108:$AZ108=\"|\",1*SS!$C$4:$AZ$4,0),0)))","v":""},{"$f":"IF(F106=\"\",\"\",F106*B106)","v":""},{"$f":"IF(OR($A106=\"\",SUM(IF(SS!$C$6:$AZ$6=\"COLD\",IF(SS!$C108:$AZ108=\"\",1,0)))=COUNTIF(SS!$C$6:$AZ$6,\"COLD\")),\"\",PT!$P$8+SUM(G$106:G107))","v":""}]
[{"$f":"SS!B109","v":""},"",{"$f":"IF($B107=\"\",\"\",SUM(IF(SS!$C$6:$AZ$6=\"HOT\",IF(SS!$C109:$AZ109=\"|\",1*SS!$C$4:$AZ$4,0),0)))","v":""},"",{"$f":"IF(OR($A107=\"\",SUM(IF(SS!$C$6:$AZ$6=\"HOT\",IF(SS!$C109:$AZ109=\"\",1,0)))=COUNTIF(SS!$C$6:$AZ$6,\"HOT\")),\"\",SUM(D$106:D108))","v":""},{"$f":"IF($B107=\"\",\"\",SUM(IF(SS!$C$6:$AZ$6=\"COLD\",IF(SS!$C109:$AZ109=\"|\",1*SS!$C$4:$AZ$4,0),0)))","v":""},"",{"$f":"IF(OR($A107=\"\",SUM(IF(SS!$C$6:$AZ$6=\"COLD\",IF(SS!$C109:$AZ109=\"\",1,0)))=COUNTIF(SS!$C$6:$AZ$6,\"COLD\")),\"\",PT!$P$8+SUM(G$106:G108))","v":""}]
[{"$f":"SS!B110","v":""},"",{"$f":"IF($B108=\"\",\"\",SUM(IF(SS!$C$6:$AZ$6=\"HOT\",IF(SS!$C110:$AZ110=\"|\",1*SS!$C$4:$AZ$4,0),0)))","v":""},"",{"$f":"IF(OR($A108=\"\",SUM(IF(SS!$C$6:$AZ$6=\"HOT\",IF(SS!$C110:$AZ110=\"\",1,0)))=COUNTIF(SS!$C$6:$AZ$6,\"HOT\")),\"\",SUM(D$106:D109))","v":""},{"$f":"IF($B108=\"\",\"\",SUM(IF(SS!$C$6:$AZ$6=\"COLD\",IF(SS!$C110:$AZ110=\"|\",1*SS!$C$4:$AZ$4,0),0)))","v":""},"",{"$f":"IF(OR($A108=\"\",SUM(IF(SS!$C$6:$AZ$6=\"COLD\",IF(SS!$C110:$AZ110=\"\",1,0)))=COUNTIF(SS!$C$6:$AZ$6,\"COLD\")),\"\",PT!$P$8+SUM(G$106:G109))","v":""}]
[{"$f":"SS!B111","v":""},"",{"$f":"IF($B109=\"\",\"\",SUM(IF(SS!$C$6:$AZ$6=\"HOT\",IF(SS!$C111:$AZ111=\"|\",1*SS!$C$4:$AZ$4,0),0)))","v":""},"",{"$f":"IF(OR($A109=\"\",SUM(IF(SS!$C$6:$AZ$6=\"HOT\",IF(SS!$C111:$AZ111=\"\",1,0)))=COUNTIF(SS!$C$6:$AZ$6,\"HOT\")),\"\",SUM(D$106:D110))","v":""},{"$f":"IF($B109=\"\",\"\",SUM(IF(SS!$C$6:$AZ$6=\"COLD\",IF(SS!$C111:$AZ111=\"|\",1*SS!$C$4:$AZ$4,0),0)))","v":""},"",{"$f":"IF(OR($A109=\"\",SUM(IF(SS!$C$6:$AZ$6=\"COLD\",IF(SS!$C111:$AZ111=\"\",1,0)))=COUNTIF(SS!$C$6:$AZ$6,\"COLD\")),\"\",PT!$P$8+SUM(G$106:G110))","v":""}]
[{"$f":"SS!B112","v":""},"",{"$f":"IF($B110=\"\",\"\",SUM(IF(SS!$C$6:$AZ$6=\"HOT\",IF(SS!$C112:$AZ112=\"|\",1*SS!$C$4:$AZ$4,0),0)))","v":""},"",{"$f":"IF(OR($A110=\"\",SUM(IF(SS!$C$6:$AZ$6=\"HOT\",IF(SS!$C112:$AZ112=\"\",1,0)))=COUNTIF(SS!$C$6:$AZ$6,\"HOT\")),\"\",SUM(D$106:D111))","v":""},{"$f":"IF($B110=\"\",\"\",SUM(IF(SS!$C$6:$AZ$6=\"COLD\",IF(SS!$C112:$AZ112=\"|\",1*SS!$C$4:$AZ$4,0),0)))","v":""},"",{"$f":"IF(OR($A110=\"\",SUM(IF(SS!$C$6:$AZ$6=\"COLD\",IF(SS!$C112:$AZ112=\"\",1,0)))=COUNTIF(SS!$C$6:$AZ$6,\"COLD\")),\"\",PT!$P$8+SUM(G$106:G111))","v":""}]
[{"$f":"SS!B113","v":""},"",{"$f":"IF($B111=\"\",\"\",SUM(IF(SS!$C$6:$AZ$6=\"HOT\",IF(SS!$C113:$AZ113=\"|\",1*SS!$C$4:$AZ$4,0),0)))","v":""},"",{"$f":"IF(OR($A111=\"\",SUM(IF(SS!$C$6:$AZ$6=\"HOT\",IF(SS!$C113:$AZ113=\"\",1,0)))=COUNTIF(SS!$C$6:$AZ$6,\"HOT\")),\"\",SUM(D$106:D112))","v":""},{"$f":"IF($B111=\"\",\"\",SUM(IF(SS!$C$6:$AZ$6=\"COLD\",IF(SS!$C113:$AZ113=\"|\",1*SS!$C$4:$AZ$4,0),0)))","v":""},"",{"$f":"IF(OR($A111=\"\",SUM(IF(SS!$C$6:$AZ$6=\"COLD\",IF(SS!$C113:$AZ113=\"\",1,0)))=COUNTIF(SS!$C$6:$AZ$6,\"COLD\")),\"\",PT!$P$8+SUM(G$106:G112))","v":""}]
[{"$f":"SS!B114","v":""},"",{"$f":"IF($B112=\"\",\"\",SUM(IF(SS!$C$6:$AZ$6=\"HOT\",IF(SS!$C114:$AZ114=\"|\",1*SS!$C$4:$AZ$4,0),0)))","v":""},"",{"$f":"IF(OR($A112=\"\",SUM(IF(SS!$C$6:$AZ$6=\"HOT\",IF(SS!$C114:$AZ114=\"\",1,0)))=COUNTIF(SS!$C$6:$AZ$6,\"HOT\")),\"\",SUM(D$106:D113))","v":""},{"$f":"IF($B112=\"\",\"\",SUM(IF(SS!$C$6:$AZ$6=\"COLD\",IF(SS!$C114:$AZ114=\"|\",1*SS!$C$4:$AZ$4,0),0)))","v":""},"",{"$f":"IF(OR($A112=\"\",SUM(IF(SS!$C$6:$AZ$6=\"COLD\",IF(SS!$C114:$AZ114=\"\",1,0)))=COUNTIF(SS!$C$6:$AZ$6,\"COLD\")),\"\",PT!$P$8+SUM(G$106:G113))","v":""}]
[{"$f":"SS!B115","v":""},"",{"$f":"IF($B113=\"\",\"\",SUM(IF(SS!$C$6:$AZ$6=\"HOT\",IF(SS!$C115:$AZ115=\"|\",1*SS!$C$4:$AZ$4,0),0)))","v":""},"",{"$f":"IF(OR($A113=\"\",SUM(IF(SS!$C$6:$AZ$6=\"HOT\",IF(SS!$C115:$AZ115=\"\",1,0)))=COUNTIF(SS!$C$6:$AZ$6,\"HOT\")),\"\",SUM(D$106:D114))","v":""},{"$f":"IF($B113=\"\",\"\",SUM(IF(SS!$C$6:$AZ$6=\"COLD\",IF(SS!$C115:$AZ115=\"|\",1*SS!$C$4:$AZ$4,0),0)))","v":""},"",{"$f":"IF(OR($A113=\"\",SUM(IF(SS!$C$6:$AZ$6=\"COLD\",IF(SS!$C115:$AZ115=\"\",1,0)))=COUNTIF(SS!$C$6:$AZ$6,\"COLD\")),\"\",PT!$P$8+SUM(G$106:G114))","v":""}]
[{"$f":"SS!B116","v":""},"",{"$f":"IF($B114=\"\",\"\",SUM(IF(SS!$C$6:$AZ$6=\"HOT\",IF(SS!$C116:$AZ116=\"|\",1*SS!$C$4:$AZ$4,0),0)))","v":""},"",{"$f":"IF(OR($A114=\"\",SUM(IF(SS!$C$6:$AZ$6=\"HOT\",IF(SS!$C116:$AZ116=\"\",1,0)))=COUNTIF(SS!$C$6:$AZ$6,\"HOT\")),\"\",SUM(D$106:D115))","v":""},{"$f":"IF($B114=\"\",\"\",SUM(IF(SS!$C$6:$AZ$6=\"COLD\",IF(SS!$C116:$AZ116=\"|\",1*SS!$C$4:$AZ$4,0),0)))","v":""},"",{"$f":"IF(OR($A114=\"\",SUM(IF(SS!$C$6:$AZ$6=\"COLD\",IF(SS!$C116:$AZ116=\"\",1,0)))=COUNTIF(SS!$C$6:$AZ$6,\"COLD\")),\"\",PT!$P$8+SUM(G$106:G115))","v":""}]
[{"$f":"SS!B117","v":""},"",{"$f":"IF($B115=\"\",\"\",SUM(IF(SS!$C$6:$AZ$6=\"HOT\",IF(SS!$C117:$AZ117=\"|\",1*SS!$C$4:$AZ$4,0),0)))","v":""},"",{"$f":"IF(OR($A115=\"\",SUM(IF(SS!$C$6:$AZ$6=\"HOT\",IF(SS!$C117:$AZ117=\"\",1,0)))=COUNTIF(SS!$C$6:$AZ$6,\"HOT\")),\"\",SUM(D$106:D116))","v":""},{"$f":"IF($B115=\"\",\"\",SUM(IF(SS!$C$6:$AZ$6=\"COLD\",IF(SS!$C117:$AZ117=\"|\",1*SS!$C$4:$AZ$4,0),0)))","v":""},"",{"$f":"IF(OR($A115=\"\",SUM(IF(SS!$C$6:$AZ$6=\"COLD\",IF(SS!$C117:$AZ117=\"\",1,0)))=COUNTIF(SS!$C$6:$AZ$6,\"COLD\")),\"\",PT!$P$8+SUM(G$106:G116))","v":""}]
[{"$f":"SS!B118","v":""},"",{"$f":"IF($B116=\"\",\"\",SUM(IF(SS!$C$6:$AZ$6=\"HOT\",IF(SS!$C118:$AZ118=\"|\",1*SS!$C$4:$AZ$4,0),0)))","v":""},"",{"$f":"IF(OR($A116=\"\",SUM(IF(SS!$C$6:$AZ$6=\"HOT\",IF(SS!$C118:$AZ118=\"\",1,0)))=COUNTIF(SS!$C$6:$AZ$6,\"HOT\")),\"\",SUM(D$106:D117))","v":""},{"$f":"IF($B116=\"\",\"\",SUM(IF(SS!$C$6:$AZ$6=\"COLD\",IF(SS!$C118:$AZ118=\"|\",1*SS!$C$4:$AZ$4,0),0)))","v":""},"",{"$f":"IF(OR($A116=\"\",SUM(IF(SS!$C$6:$AZ$6=\"COLD\",IF(SS!$C118:$AZ118=\"\",1,0)))=COUNTIF(SS!$C$6:$AZ$6,\"COLD\")),\"\",PT!$P$8+SUM(G$106:G117))","v":""}]
[{"$f":"SS!B119","v":""},"",{"$f":"IF($B117=\"\",\"\",SUM(IF(SS!$C$6:$AZ$6=\"HOT\",IF(SS!$C119:$AZ119=\"|\",1*SS!$C$4:$AZ$4,0),0)))","v":""},"",{"$f":"IF(OR($A117=\"\",SUM(IF(SS!$C$6:$AZ$6=\"HOT\",IF(SS!$C119:$AZ119=\"\",1,0)))=COUNTIF(SS!$C$6:$AZ$6,\"HOT\")),\"\",SUM(D$106:D118))","v":""},{"$f":"IF($B117=\"\",\"\",SUM(IF(SS!$C$6:$AZ$6=\"COLD\",IF(SS!$C119:$AZ119=\"|\",1*SS!$C$4:$AZ$4,0),0)))","v":""},"",{"$f":"IF(OR($A117=\"\",SUM(IF(SS!$C$6:$AZ$6=\"COLD\",IF(SS!$C119:$AZ119=\"\",1,0)))=COUNTIF(SS!$C$6:$AZ$6,\"COLD\")),\"\",PT!$P$8+SUM(G$106:G118))","v":""}]
[{"$f":"SS!B120","v":""},"",{"$f":"IF($B118=\"\",\"\",SUM(IF(SS!$C$6:$AZ$6=\"HOT\",IF(SS!$C120:$AZ120=\"|\",1*SS!$C$4:$AZ$4,0),0)))","v":""},"",{"$f":"IF(OR($A118=\"\",SUM(IF(SS!$C$6:$AZ$6=\"HOT\",IF(SS!$C120:$AZ120=\"\",1,0)))=COUNTIF(SS!$C$6:$AZ$6,\"HOT\")),\"\",SUM(D$106:D119))","v":""},{"$f":"IF($B118=\"\",\"\",SUM(IF(SS!$C$6:$AZ$6=\"COLD\",IF(SS!$C120:$AZ120=\"|\",1*SS!$C$4:$AZ$4,0),0)))","v":""},"",{"$f":"IF(OR($A118=\"\",SUM(IF(SS!$C$6:$AZ$6=\"COLD\",IF(SS!$C120:$AZ120=\"\",1,0)))=COUNTIF(SS!$C$6:$AZ$6,\"COLD\")),\"\",PT!$P$8+SUM(G$106:G119))","v":""}]
[{"$f":"SS!B121","v":""},"",{"$f":"IF($B119=\"\",\"\",SUM(IF(SS!$C$6:$AZ$6=\"HOT\",IF(SS!$C121:$AZ121=\"|\",1*SS!$C$4:$AZ$4,0),0)))","v":""},"",{"$f":"IF(OR($A119=\"\",SUM(IF(SS!$C$6:$AZ$6=\"HOT\",IF(SS!$C121:$AZ121=\"\",1,0)))=COUNTIF(SS!$C$6:$AZ$6,\"HOT\")),\"\",SUM(D$106:D120))","v":""},{"$f":"IF($B119=\"\",\"\",SUM(IF(SS!$C$6:$AZ$6=\"COLD\",IF(SS!$C121:$AZ121=\"|\",1*SS!$C$4:$AZ$4,0),0)))","v":""},"",{"$f":"IF(OR($A119=\"\",SUM(IF(SS!$C$6:$AZ$6=\"COLD\",IF(SS!$C121:$AZ121=\"\",1,0)))=COUNTIF(SS!$C$6:$AZ$6,\"COLD\")),\"\",PT!$P$8+SUM(G$106:G120))","v":""}]
[{"$f":"SS!B122","v":""},"",{"$f":"IF($B120=\"\",\"\",SUM(IF(SS!$C$6:$AZ$6=\"HOT\",IF(SS!$C122:$AZ122=\"|\",1*SS!$C$4:$AZ$4,0),0)))","v":""},"",{"$f":"IF(OR($A120=\"\",SUM(IF(SS!$C$6:$AZ$6=\"HOT\",IF(SS!$C122:$AZ122=\"\",1,0)))=COUNTIF(SS!$C$6:$AZ$6,\"HOT\")),\"\",SUM(D$106:D121))","v":""},{"$f":"IF($B120=\"\",\"\",SUM(IF(SS!$C$6:$AZ$6=\"COLD\",IF(SS!$C122:$AZ122=\"|\",1*SS!$C$4:$AZ$4,0),0)))","v":""},"",{"$f":"IF(OR($A120=\"\",SUM(IF(SS!$C$6:$AZ$6=\"COLD\",IF(SS!$C122:$AZ122=\"\",1,0)))=COUNTIF(SS!$C$6:$AZ$6,\"COLD\")),\"\",PT!$P$8+SUM(G$106:G121))","v":""}]
[{"$f":"SS!B123","v":""},"",{"$f":"IF($B121=\"\",\"\",SUM(IF(SS!$C$6:$AZ$6=\"HOT\",IF(SS!$C123:$AZ123=\"|\",1*SS!$C$4:$AZ$4,0),0)))","v":""},"",{"$f":"IF(OR($A121=\"\",SUM(IF(SS!$C$6:$AZ$6=\"HOT\",IF(SS!$C123:$AZ123=\"\",1,0)))=COUNTIF(SS!$C$6:$AZ$6,\"HOT\")),\"\",SUM(D$106:D122))","v":""},{"$f":"IF($B121=\"\",\"\",SUM(IF(SS!$C$6:$AZ$6=\"COLD\",IF(SS!$C123:$AZ123=\"|\",1*SS!$C$4:$AZ$4,0),0)))","v":""},"",{"$f":"IF(OR($A121=\"\",SUM(IF(SS!$C$6:$AZ$6=\"COLD\",IF(SS!$C123:$AZ123=\"\",1,0)))=COUNTIF(SS!$C$6:$AZ$6,\"COLD\")),\"\",PT!$P$8+SUM(G$106:G122))","v":""}]
[{"$f":"SS!B124","v":""},"",{"$f":"IF($B122=\"\",\"\",SUM(IF(SS!$C$6:$AZ$6=\"HOT\",IF(SS!$C124:$AZ124=\"|\",1*SS!$C$4:$AZ$4,0),0)))","v":""},"",{"$f":"IF(OR($A122=\"\",SUM(IF(SS!$C$6:$AZ$6=\"HOT\",IF(SS!$C124:$AZ124=\"\",1,0)))=COUNTIF(SS!$C$6:$AZ$6,\"HOT\")),\"\",SUM(D$106:D123))","v":""},{"$f":"IF($B122=\"\",\"\",SUM(IF(SS!$C$6:$AZ$6=\"COLD\",IF(SS!$C124:$AZ124=\"|\",1*SS!$C$4:$AZ$4,0),0)))","v":""},"",{"$f":"IF(OR($A122=\"\",SUM(IF(SS!$C$6:$AZ$6=\"COLD\",IF(SS!$C124:$AZ124=\"\",1,0)))=COUNTIF(SS!$C$6:$AZ$6,\"COLD\")),\"\",PT!$P$8+SUM(G$106:G123))","v":""}]
[{"$f":"SS!B125","v":""},"",{"$f":"IF($B123=\"\",\"\",SUM(IF(SS!$C$6:$AZ$6=\"HOT\",IF(SS!$C125:$AZ125=\"|\",1*SS!$C$4:$AZ$4,0),0)))","v":""},"",{"$f":"IF(OR($A123=\"\",SUM(IF(SS!$C$6:$AZ$6=\"HOT\",IF(SS!$C125:$AZ125=\"\",1,0)))=COUNTIF(SS!$C$6:$AZ$6,\"HOT\")),\"\",SUM(D$106:D124))","v":""},{"$f":"IF($B123=\"\",\"\",SUM(IF(SS!$C$6:$AZ$6=\"COLD\",IF(SS!$C125:$AZ125=\"|\",1*SS!$C$4:$AZ$4,0),0)))","v":""},"",{"$f":"IF(OR($A123=\"\",SUM(IF(SS!$C$6:$AZ$6=\"COLD\",IF(SS!$C125:$AZ125=\"\",1,0)))=COUNTIF(SS!$C$6:$AZ$6,\"COLD\")),\"\",PT!$P$8+SUM(G$106:G124))","v":""}]
[{"$f":"SS!B126","v":""},"",{"$f":"IF($B124=\"\",\"\",SUM(IF(SS!$C$6:$AZ$6=\"HOT\",IF(SS!$C126:$AZ126=\"|\",1*SS!$C$4:$AZ$4,0),0)))","v":""},"",{"$f":"IF(OR($A124=\"\",SUM(IF(SS!$C$6:$AZ$6=\"HOT\",IF(SS!$C126:$AZ126=\"\",1,0)))=COUNTIF(SS!$C$6:$AZ$6,\"HOT\")),\"\",SUM(D$106:D125))","v":""},{"$f":"IF($B124=\"\",\"\",SUM(IF(SS!$C$6:$AZ$6=\"COLD\",IF(SS!$C126:$AZ126=\"|\",1*SS!$C$4:$AZ$4,0),0)))","v":""},"",{"$f":"IF(OR($A124=\"\",SUM(IF(SS!$C$6:$AZ$6=\"COLD\",IF(SS!$C126:$AZ126=\"\",1,0)))=COUNTIF(SS!$C$6:$AZ$6,\"COLD\")),\"\",PT!$P$8+SUM(G$106:G125))","v":""}]
[{"$f":"SS!B127","v":""},"",{"$f":"IF($B125=\"\",\"\",SUM(IF(SS!$C$6:$AZ$6=\"HOT\",IF(SS!$C127:$AZ127=\"|\",1*SS!$C$4:$AZ$4,0),0)))","v":""},"",{"$f":"IF(OR($A125=\"\",SUM(IF(SS!$C$6:$AZ$6=\"HOT\",IF(SS!$C127:$AZ127=\"\",1,0)))=COUNTIF(SS!$C$6:$AZ$6,\"HOT\")),\"\",SUM(D$106:D126))","v":""},{"$f":"IF($B125=\"\",\"\",SUM(IF(SS!$C$6:$AZ$6=\"COLD\",IF(SS!$C127:$AZ127=\"|\",1*SS!$C$4:$AZ$4,0),0)))","v":""},"",{"$f":"IF(OR($A125=\"\",SUM(IF(SS!$C$6:$AZ$6=\"COLD\",IF(SS!$C127:$AZ127=\"\",1,0)))=COUNTIF(SS!$C$6:$AZ$6,\"COLD\")),\"\",PT!$P$8+SUM(G$106:G126))","v":""}]
[{"$f":"SS!B128","v":""},"",{"$f":"IF($B126=\"\",\"\",SUM(IF(SS!$C$6:$AZ$6=\"HOT\",IF(SS!$C128:$AZ128=\"|\",1*SS!$C$4:$AZ$4,0),0)))","v":""},"",{"$f":"IF(OR($A126=\"\",SUM(IF(SS!$C$6:$AZ$6=\"HOT\",IF(SS!$C128:$AZ128=\"\",1,0)))=COUNTIF(SS!$C$6:$AZ$6,\"HOT\")),\"\",SUM(D$106:D127))","v":""},{"$f":"IF($B126=\"\",\"\",SUM(IF(SS!$C$6:$AZ$6=\"COLD\",IF(SS!$C128:$AZ128=\"|\",1*SS!$C$4:$AZ$4,0),0)))","v":""},"",{"$f":"IF(OR($A126=\"\",SUM(IF(SS!$C$6:$AZ$6=\"COLD\",IF(SS!$C128:$AZ128=\"\",1,0)))=COUNTIF(SS!$C$6:$AZ$6,\"COLD\")),\"\",PT!$P$8+SUM(G$106:G127))","v":""}]
[{"$f":"SS!B129","v":""},"",{"$f":"IF($B127=\"\",\"\",SUM(IF(SS!$C$6:$AZ$6=\"HOT\",IF(SS!$C129:$AZ129=\"|\",1*SS!$C$4:$AZ$4,0),0)))","v":""},"",{"$f":"IF(OR($A127=\"\",SUM(IF(SS!$C$6:$AZ$6=\"HOT\",IF(SS!$C129:$AZ129=\"\",1,0)))=COUNTIF(SS!$C$6:$AZ$6,\"HOT\")),\"\",SUM(D$106:D128))","v":""},{"$f":"IF($B127=\"\",\"\",SUM(IF(SS!$C$6:$AZ$6=\"COLD\",IF(SS!$C129:$AZ129=\"|\",1*SS!$C$4:$AZ$4,0),0)))","v":""},"",{"$f":"IF(OR($A127=\"\",SUM(IF(SS!$C$6:$AZ$6=\"COLD\",IF(SS!$C129:$AZ129=\"\",1,0)))=COUNTIF(SS!$C$6:$AZ$6,\"COLD\")),\"\",PT!$P$8+SUM(G$106:G128))","v":""}]
[{"$f":"SS!B130","v":""},"",{"$f":"IF($B128=\"\",\"\",SUM(IF(SS!$C$6:$AZ$6=\"HOT\",IF(SS!$C130:$AZ130=\"|\",1*SS!$C$4:$AZ$4,0),0)))","v":""},"",{"$f":"IF(OR($A128=\"\",SUM(IF(SS!$C$6:$AZ$6=\"HOT\",IF(SS!$C130:$AZ130=\"\",1,0)))=COUNTIF(SS!$C$6:$AZ$6,\"HOT\")),\"\",SUM(D$106:D129))","v":""},{"$f":"IF($B128=\"\",\"\",SUM(IF(SS!$C$6:$AZ$6=\"COLD\",IF(SS!$C130:$AZ130=\"|\",1*SS!$C$4:$AZ$4,0),0)))","v":""},"",{"$f":"IF(OR($A128=\"\",SUM(IF(SS!$C$6:$AZ$6=\"COLD\",IF(SS!$C130:$AZ130=\"\",1,0)))=COUNTIF(SS!$C$6:$AZ$6,\"COLD\")),\"\",PT!$P$8+SUM(G$106:G129))","v":""}]
[{"$f":"SS!B131","v":""},"",{"$f":"IF($B129=\"\",\"\",SUM(IF(SS!$C$6:$AZ$6=\"HOT\",IF(SS!$C131:$AZ131=\"|\",1*SS!$C$4:$AZ$4,0),0)))","v":""},"",{"$f":"IF(OR($A129=\"\",SUM(IF(SS!$C$6:$AZ$6=\"HOT\",IF(SS!$C131:$AZ131=\"\",1,0)))=COUNTIF(SS!$C$6:$AZ$6,\"HOT\")),\"\",SUM(D$106:D130))","v":""},{"$f":"IF($B129=\"\",\"\",SUM(IF(SS!$C$6:$AZ$6=\"COLD\",IF(SS!$C131:$AZ131=\"|\",1*SS!$C$4:$AZ$4,0),0)))","v":""},"",{"$f":"IF(OR($A129=\"\",SUM(IF(SS!$C$6:$AZ$6=\"COLD\",IF(SS!$C131:$AZ131=\"\",1,0)))=COUNTIF(SS!$C$6:$AZ$6,\"COLD\")),\"\",PT!$P$8+SUM(G$106:G130))","v":""}]
[{"$f":"SS!B132","v":""},"",{"$f":"IF($B130=\"\",\"\",SUM(IF(SS!$C$6:$AZ$6=\"HOT\",IF(SS!$C132:$AZ132=\"|\",1*SS!$C$4:$AZ$4,0),0)))","v":""},"",{"$f":"IF(OR($A130=\"\",SUM(IF(SS!$C$6:$AZ$6=\"HOT\",IF(SS!$C132:$AZ132=\"\",1,0)))=COUNTIF(SS!$C$6:$AZ$6,\"HOT\")),\"\",SUM(D$106:D131))","v":""},{"$f":"IF($B130=\"\",\"\",SUM(IF(SS!$C$6:$AZ$6=\"COLD\",IF(SS!$C132:$AZ132=\"|\",1*SS!$C$4:$AZ$4,0),0)))","v":""},"",{"$f":"IF(OR($A130=\"\",SUM(IF(SS!$C$6:$AZ$6=\"COLD\",IF(SS!$C132:$AZ132=\"\",1,0)))=COUNTIF(SS!$C$6:$AZ$6,\"COLD\")),\"\",PT!$P$8+SUM(G$106:G131))","v":""}]
[{"$f":"SS!B133","v":""},"",{"$f":"IF($B131=\"\",\"\",SUM(IF(SS!$C$6:$AZ$6=\"HOT\",IF(SS!$C133:$AZ133=\"|\",1*SS!$C$4:$AZ$4,0),0)))","v":""},"",{"$f":"IF(OR($A131=\"\",SUM(IF(SS!$C$6:$AZ$6=\"HOT\",IF(SS!$C133:$AZ133=\"\",1,0)))=COUNTIF(SS!$C$6:$AZ$6,\"HOT\")),\"\",SUM(D$106:D132))","v":""},{"$f":"IF($B131=\"\",\"\",SUM(IF(SS!$C$6:$AZ$6=\"COLD\",IF(SS!$C133:$AZ133=\"|\",1*SS!$C$4:$AZ$4,0),0)))","v":""},"",{"$f":"IF(OR($A131=\"\",SUM(IF(SS!$C$6:$AZ$6=\"COLD\",IF(SS!$C133:$AZ133=\"\",1,0)))=COUNTIF(SS!$C$6:$AZ$6,\"COLD\")),\"\",PT!$P$8+SUM(G$106:G132))","v":""}]
[{"$f":"SS!B134","v":""},"",{"$f":"IF($B132=\"\",\"\",SUM(IF(SS!$C$6:$AZ$6=\"HOT\",IF(SS!$C134:$AZ134=\"|\",1*SS!$C$4:$AZ$4,0),0)))","v":""},"",{"$f":"IF(OR($A132=\"\",SUM(IF(SS!$C$6:$AZ$6=\"HOT\",IF(SS!$C134:$AZ134=\"\",1,0)))=COUNTIF(SS!$C$6:$AZ$6,\"HOT\")),\"\",SUM(D$106:D133))","v":""},{"$f":"IF($B132=\"\",\"\",SUM(IF(SS!$C$6:$AZ$6=\"COLD\",IF(SS!$C134:$AZ134=\"|\",1*SS!$C$4:$AZ$4,0),0)))","v":""},"",{"$f":"IF(OR($A132=\"\",SUM(IF(SS!$C$6:$AZ$6=\"COLD\",IF(SS!$C134:$AZ134=\"\",1,0)))=COUNTIF(SS!$C$6:$AZ$6,\"COLD\")),\"\",PT!$P$8+SUM(G$106:G133))","v":""}]
[{"$f":"SS!B135","v":""},"",{"$f":"IF($B133=\"\",\"\",SUM(IF(SS!$C$6:$AZ$6=\"HOT\",IF(SS!$C135:$AZ135=\"|\",1*SS!$C$4:$AZ$4,0),0)))","v":""},"",{"$f":"IF(OR($A133=\"\",SUM(IF(SS!$C$6:$AZ$6=\"HOT\",IF(SS!$C135:$AZ135=\"\",1,0)))=COUNTIF(SS!$C$6:$AZ$6,\"HOT\")),\"\",SUM(D$106:D134))","v":""},{"$f":"IF($B133=\"\",\"\",SUM(IF(SS!$C$6:$AZ$6=\"COLD\",IF(SS!$C135:$AZ135=\"|\",1*SS!$C$4:$AZ$4,0),0)))","v":""},"",{"$f":"IF(OR($A133=\"\",SUM(IF(SS!$C$6:$AZ$6=\"COLD\",IF(SS!$C135:$AZ135=\"\",1,0)))=COUNTIF(SS!$C$6:$AZ$6,\"COLD\")),\"\",PT!$P$8+SUM(G$106:G134))","v":""}]
[{"$f":"SS!B136","v":""},"",{"$f":"IF($B134=\"\",\"\",SUM(IF(SS!$C$6:$AZ$6=\"HOT\",IF(SS!$C136:$AZ136=\"|\",1*SS!$C$4:$AZ$4,0),0)))","v":""},"",{"$f":"IF(OR($A134=\"\",SUM(IF(SS!$C$6:$AZ$6=\"HOT\",IF(SS!$C136:$AZ136=\"\",1,0)))=COUNTIF(SS!$C$6:$AZ$6,\"HOT\")),\"\",SUM(D$106:D135))","v":""},{"$f":"IF($B134=\"\",\"\",SUM(IF(SS!$C$6:$AZ$6=\"COLD\",IF(SS!$C136:$AZ136=\"|\",1*SS!$C$4:$AZ$4,0),0)))","v":""},"",{"$f":"IF(OR($A134=\"\",SUM(IF(SS!$C$6:$AZ$6=\"COLD\",IF(SS!$C136:$AZ136=\"\",1,0)))=COUNTIF(SS!$C$6:$AZ$6,\"COLD\")),\"\",PT!$P$8+SUM(G$106:G135))","v":""}]
[{"$f":"SS!B137","v":""},"",{"$f":"IF($B135=\"\",\"\",SUM(IF(SS!$C$6:$AZ$6=\"HOT\",IF(SS!$C137:$AZ137=\"|\",1*SS!$C$4:$AZ$4,0),0)))","v":""},"",{"$f":"IF(OR($A135=\"\",SUM(IF(SS!$C$6:$AZ$6=\"HOT\",IF(SS!$C137:$AZ137=\"\",1,0)))=COUNTIF(SS!$C$6:$AZ$6,\"HOT\")),\"\",SUM(D$106:D136))","v":""},{"$f":"IF($B135=\"\",\"\",SUM(IF(SS!$C$6:$AZ$6=\"COLD\",IF(SS!$C137:$AZ137=\"|\",1*SS!$C$4:$AZ$4,0),0)))","v":""},"",{"$f":"IF(OR($A135=\"\",SUM(IF(SS!$C$6:$AZ$6=\"COLD\",IF(SS!$C137:$AZ137=\"\",1,0)))=COUNTIF(SS!$C$6:$AZ$6,\"COLD\")),\"\",PT!$P$8+SUM(G$106:G136))","v":""}]
[{"$f":"SS!B138","v":""},"",{"$f":"IF($B136=\"\",\"\",SUM(IF(SS!$C$6:$AZ$6=\"HOT\",IF(SS!$C138:$AZ138=\"|\",1*SS!$C$4:$AZ$4,0),0)))","v":""},"",{"$f":"IF(OR($A136=\"\",SUM(IF(SS!$C$6:$AZ$6=\"HOT\",IF(SS!$C138:$AZ138=\"\",1,0)))=COUNTIF(SS!$C$6:$AZ$6,\"HOT\")),\"\",SUM(D$106:D137))","v":""},{"$f":"IF($B136=\"\",\"\",SUM(IF(SS!$C$6:$AZ$6=\"COLD\",IF(SS!$C138:$AZ138=\"|\",1*SS!$C$4:$AZ$4,0),0)))","v":""},"",{"$f":"IF(OR($A136=\"\",SUM(IF(SS!$C$6:$AZ$6=\"COLD\",IF(SS!$C138:$AZ138=\"\",1,0)))=COUNTIF(SS!$C$6:$AZ$6,\"COLD\")),\"\",PT!$P$8+SUM(G$106:G137))","v":""}]
[{"$f":"SS!B139","v":""},"",{"$f":"IF($B137=\"\",\"\",SUM(IF(SS!$C$6:$AZ$6=\"HOT\",IF(SS!$C139:$AZ139=\"|\",1*SS!$C$4:$AZ$4,0),0)))","v":""},"",{"$f":"IF(OR($A137=\"\",SUM(IF(SS!$C$6:$AZ$6=\"HOT\",IF(SS!$C139:$AZ139=\"\",1,0)))=COUNTIF(SS!$C$6:$AZ$6,\"HOT\")),\"\",SUM(D$106:D138))","v":""},{"$f":"IF($B137=\"\",\"\",SUM(IF(SS!$C$6:$AZ$6=\"COLD\",IF(SS!$C139:$AZ139=\"|\",1*SS!$C$4:$AZ$4,0),0)))","v":""},"",{"$f":"IF(OR($A137=\"\",SUM(IF(SS!$C$6:$AZ$6=\"COLD\",IF(SS!$C139:$AZ139=\"\",1,0)))=COUNTIF(SS!$C$6:$AZ$6,\"COLD\")),\"\",PT!$P$8+SUM(G$106:G138))","v":""}]
[{"$f":"SS!B140","v":""},"",{"$f":"IF($B138=\"\",\"\",SUM(IF(SS!$C$6:$AZ$6=\"HOT\",IF(SS!$C140:$AZ140=\"|\",1*SS!$C$4:$AZ$4,0),0)))","v":""},"",{"$f":"IF(OR($A138=\"\",SUM(IF(SS!$C$6:$AZ$6=\"HOT\",IF(SS!$C140:$AZ140=\"\",1,0)))=COUNTIF(SS!$C$6:$AZ$6,\"HOT\")),\"\",SUM(D$106:D139))","v":""},{"$f":"IF($B138=\"\",\"\",SUM(IF(SS!$C$6:$AZ$6=\"COLD\",IF(SS!$C140:$AZ140=\"|\",1*SS!$C$4:$AZ$4,0),0)))","v":""},"",{"$f":"IF(OR($A138=\"\",SUM(IF(SS!$C$6:$AZ$6=\"COLD\",IF(SS!$C140:$AZ140=\"\",1,0)))=COUNTIF(SS!$C$6:$AZ$6,\"COLD\")),\"\",PT!$P$8+SUM(G$106:G139))","v":""}]
[{"$f":"SS!B141","v":""},"",{"$f":"IF($B139=\"\",\"\",SUM(IF(SS!$C$6:$AZ$6=\"HOT\",IF(SS!$C141:$AZ141=\"|\",1*SS!$C$4:$AZ$4,0),0)))","v":""},"",{"$f":"IF(OR($A139=\"\",SUM(IF(SS!$C$6:$AZ$6=\"HOT\",IF(SS!$C141:$AZ141=\"\",1,0)))=COUNTIF(SS!$C$6:$AZ$6,\"HOT\")),\"\",SUM(D$106:D140))","v":""},{"$f":"IF($B139=\"\",\"\",SUM(IF(SS!$C$6:$AZ$6=\"COLD\",IF(SS!$C141:$AZ141=\"|\",1*SS!$C$4:$AZ$4,0),0)))","v":""},"",{"$f":"IF(OR($A139=\"\",SUM(IF(SS!$C$6:$AZ$6=\"COLD\",IF(SS!$C141:$AZ141=\"\",1,0)))=COUNTIF(SS!$C$6:$AZ$6,\"COLD\")),\"\",PT!$P$8+SUM(G$106:G140))","v":""}]
[{"$f":"SS!B142","v":""},"",{"$f":"IF($B140=\"\",\"\",SUM(IF(SS!$C$6:$AZ$6=\"HOT\",IF(SS!$C142:$AZ142=\"|\",1*SS!$C$4:$AZ$4,0),0)))","v":""},"",{"$f":"IF(OR($A140=\"\",SUM(IF(SS!$C$6:$AZ$6=\"HOT\",IF(SS!$C142:$AZ142=\"\",1,0)))=COUNTIF(SS!$C$6:$AZ$6,\"HOT\")),\"\",SUM(D$106:D141))","v":""},{"$f":"IF($B140=\"\",\"\",SUM(IF(SS!$C$6:$AZ$6=\"COLD\",IF(SS!$C142:$AZ142=\"|\",1*SS!$C$4:$AZ$4,0),0)))","v":""},"",{"$f":"IF(OR($A140=\"\",SUM(IF(SS!$C$6:$AZ$6=\"COLD\",IF(SS!$C142:$AZ142=\"\",1,0)))=COUNTIF(SS!$C$6:$AZ$6,\"COLD\")),\"\",PT!$P$8+SUM(G$106:G141))","v":""}]
[{"$f":"SS!B143","v":""},"",{"$f":"IF($B141=\"\",\"\",SUM(IF(SS!$C$6:$AZ$6=\"HOT\",IF(SS!$C143:$AZ143=\"|\",1*SS!$C$4:$AZ$4,0),0)))","v":""},"",{"$f":"IF(OR($A141=\"\",SUM(IF(SS!$C$6:$AZ$6=\"HOT\",IF(SS!$C143:$AZ143=\"\",1,0)))=COUNTIF(SS!$C$6:$AZ$6,\"HOT\")),\"\",SUM(D$106:D142))","v":""},{"$f":"IF($B141=\"\",\"\",SUM(IF(SS!$C$6:$AZ$6=\"COLD\",IF(SS!$C143:$AZ143=\"|\",1*SS!$C$4:$AZ$4,0),0)))","v":""},"",{"$f":"IF(OR($A141=\"\",SUM(IF(SS!$C$6:$AZ$6=\"COLD\",IF(SS!$C143:$AZ143=\"\",1,0)))=COUNTIF(SS!$C$6:$AZ$6,\"COLD\")),\"\",PT!$P$8+SUM(G$106:G142))","v":""}]
[{"$f":"SS!B144","v":""},"",{"$f":"IF($B142=\"\",\"\",SUM(IF(SS!$C$6:$AZ$6=\"HOT\",IF(SS!$C144:$AZ144=\"|\",1*SS!$C$4:$AZ$4,0),0)))","v":""},"",{"$f":"IF(OR($A142=\"\",SUM(IF(SS!$C$6:$AZ$6=\"HOT\",IF(SS!$C144:$AZ144=\"\",1,0)))=COUNTIF(SS!$C$6:$AZ$6,\"HOT\")),\"\",SUM(D$106:D143))","v":""},{"$f":"IF($B142=\"\",\"\",SUM(IF(SS!$C$6:$AZ$6=\"COLD\",IF(SS!$C144:$AZ144=\"|\",1*SS!$C$4:$AZ$4,0),0)))","v":""},"",{"$f":"IF(OR($A142=\"\",SUM(IF(SS!$C$6:$AZ$6=\"COLD\",IF(SS!$C144:$AZ144=\"\",1,0)))=COUNTIF(SS!$C$6:$AZ$6,\"COLD\")),\"\",PT!$P$8+SUM(G$106:G143))","v":""}]
[{"$f":"SS!B145","v":""},"",{"$f":"IF($B143=\"\",\"\",SUM(IF(SS!$C$6:$AZ$6=\"HOT\",IF(SS!$C145:$AZ145=\"|\",1*SS!$C$4:$AZ$4,0),0)))","v":""},"",{"$f":"IF(OR($A143=\"\",SUM(IF(SS!$C$6:$AZ$6=\"HOT\",IF(SS!$C145:$AZ145=\"\",1,0)))=COUNTIF(SS!$C$6:$AZ$6,\"HOT\")),\"\",SUM(D$106:D144))","v":""},{"$f":"IF($B143=\"\",\"\",SUM(IF(SS!$C$6:$AZ$6=\"COLD\",IF(SS!$C145:$AZ145=\"|\",1*SS!$C$4:$AZ$4,0),0)))","v":""},"",{"$f":"IF(OR($A143=\"\",SUM(IF(SS!$C$6:$AZ$6=\"COLD\",IF(SS!$C145:$AZ145=\"\",1,0)))=COUNTIF(SS!$C$6:$AZ$6,\"COLD\")),\"\",PT!$P$8+SUM(G$106:G144))","v":""}]
[{"$f":"SS!B146","v":""},"",{"$f":"IF($B144=\"\",\"\",SUM(IF(SS!$C$6:$AZ$6=\"HOT\",IF(SS!$C146:$AZ146=\"|\",1*SS!$C$4:$AZ$4,0),0)))","v":""},"",{"$f":"IF(OR($A144=\"\",SUM(IF(SS!$C$6:$AZ$6=\"HOT\",IF(SS!$C146:$AZ146=\"\",1,0)))=COUNTIF(SS!$C$6:$AZ$6,\"HOT\")),\"\",SUM(D$106:D145))","v":""},{"$f":"IF($B144=\"\",\"\",SUM(IF(SS!$C$6:$AZ$6=\"COLD\",IF(SS!$C146:$AZ146=\"|\",1*SS!$C$4:$AZ$4,0),0)))","v":""},"",{"$f":"IF(OR($A144=\"\",SUM(IF(SS!$C$6:$AZ$6=\"COLD\",IF(SS!$C146:$AZ146=\"\",1,0)))=COUNTIF(SS!$C$6:$AZ$6,\"COLD\")),\"\",PT!$P$8+SUM(G$106:G145))","v":""}]
[{"$f":"SS!B147","v":""},"",{"$f":"IF($B145=\"\",\"\",SUM(IF(SS!$C$6:$AZ$6=\"HOT\",IF(SS!$C147:$AZ147=\"|\",1*SS!$C$4:$AZ$4,0),0)))","v":""},"",{"$f":"IF(OR($A145=\"\",SUM(IF(SS!$C$6:$AZ$6=\"HOT\",IF(SS!$C147:$AZ147=\"\",1,0)))=COUNTIF(SS!$C$6:$AZ$6,\"HOT\")),\"\",SUM(D$106:D146))","v":""},{"$f":"IF($B145=\"\",\"\",SUM(IF(SS!$C$6:$AZ$6=\"COLD\",IF(SS!$C147:$AZ147=\"|\",1*SS!$C$4:$AZ$4,0),0)))","v":""},"",{"$f":"IF(OR($A145=\"\",SUM(IF(SS!$C$6:$AZ$6=\"COLD\",IF(SS!$C147:$AZ147=\"\",1,0)))=COUNTIF(SS!$C$6:$AZ$6,\"COLD\")),\"\",PT!$P$8+SUM(G$106:G146))","v":""}]
[{"$f":"SS!B148","v":""},"",{"$f":"IF($B146=\"\",\"\",SUM(IF(SS!$C$6:$AZ$6=\"HOT\",IF(SS!$C148:$AZ148=\"|\",1*SS!$C$4:$AZ$4,0),0)))","v":""},"",{"$f":"IF(OR($A146=\"\",SUM(IF(SS!$C$6:$AZ$6=\"HOT\",IF(SS!$C148:$AZ148=\"\",1,0)))=COUNTIF(SS!$C$6:$AZ$6,\"HOT\")),\"\",SUM(D$106:D147))","v":""},{"$f":"IF($B146=\"\",\"\",SUM(IF(SS!$C$6:$AZ$6=\"COLD\",IF(SS!$C148:$AZ148=\"|\",1*SS!$C$4:$AZ$4,0),0)))","v":""},"",{"$f":"IF(OR($A146=\"\",SUM(IF(SS!$C$6:$AZ$6=\"COLD\",IF(SS!$C148:$AZ148=\"\",1,0)))=COUNTIF(SS!$C$6:$AZ$6,\"COLD\")),\"\",PT!$P$8+SUM(G$106:G147))","v":""}]
[{"$f":"SS!B149","v":""},"",{"$f":"IF($B147=\"\",\"\",SUM(IF(SS!$C$6:$AZ$6=\"HOT\",IF(SS!$C149:$AZ149=\"|\",1*SS!$C$4:$AZ$4,0),0)))","v":""},"",{"$f":"IF(OR($A147=\"\",SUM(IF(SS!$C$6:$AZ$6=\"HOT\",IF(SS!$C149:$AZ149=\"\",1,0)))=COUNTIF(SS!$C$6:$AZ$6,\"HOT\")),\"\",SUM(D$106:D148))","v":""},{"$f":"IF($B147=\"\",\"\",SUM(IF(SS!$C$6:$AZ$6=\"COLD\",IF(SS!$C149:$AZ149=\"|\",1*SS!$C$4:$AZ$4,0),0)))","v":""},"",{"$f":"IF(OR($A147=\"\",SUM(IF(SS!$C$6:$AZ$6=\"COLD\",IF(SS!$C149:$AZ149=\"\",1,0)))=COUNTIF(SS!$C$6:$AZ$6,\"COLD\")),\"\",PT!$P$8+SUM(G$106:G148))","v":""}]
[{"$f":"SS!B150","v":""},"",{"$f":"IF($B148=\"\",\"\",SUM(IF(SS!$C$6:$AZ$6=\"HOT\",IF(SS!$C150:$AZ150=\"|\",1*SS!$C$4:$AZ$4,0),0)))","v":""},"",{"$f":"IF(OR($A148=\"\",SUM(IF(SS!$C$6:$AZ$6=\"HOT\",IF(SS!$C150:$AZ150=\"\",1,0)))=COUNTIF(SS!$C$6:$AZ$6,\"HOT\")),\"\",SUM(D$106:D149))","v":""},{"$f":"IF($B148=\"\",\"\",SUM(IF(SS!$C$6:$AZ$6=\"COLD\",IF(SS!$C150:$AZ150=\"|\",1*SS!$C$4:$AZ$4,0),0)))","v":""},"",{"$f":"IF(OR($A148=\"\",SUM(IF(SS!$C$6:$AZ$6=\"COLD\",IF(SS!$C150:$AZ150=\"\",1,0)))=COUNTIF(SS!$C$6:$AZ$6,\"COLD\")),\"\",PT!$P$8+SUM(G$106:G149))","v":""}]
[{"$f":"SS!B151","v":""},"",{"$f":"IF($B149=\"\",\"\",SUM(IF(SS!$C$6:$AZ$6=\"HOT\",IF(SS!$C151:$AZ151=\"|\",1*SS!$C$4:$AZ$4,0),0)))","v":""},"",{"$f":"IF(OR($A149=\"\",SUM(IF(SS!$C$6:$AZ$6=\"HOT\",IF(SS!$C151:$AZ151=\"\",1,0)))=COUNTIF(SS!$C$6:$AZ$6,\"HOT\")),\"\",SUM(D$106:D150))","v":""},{"$f":"IF($B149=\"\",\"\",SUM(IF(SS!$C$6:$AZ$6=\"COLD\",IF(SS!$C151:$AZ151=\"|\",1*SS!$C$4:$AZ$4,0),0)))","v":""},"",{"$f":"IF(OR($A149=\"\",SUM(IF(SS!$C$6:$AZ$6=\"COLD\",IF(SS!$C151:$AZ151=\"\",1,0)))=COUNTIF(SS!$C$6:$AZ$6,\"COLD\")),\"\",PT!$P$8+SUM(G$106:G150))","v":""}]
[{"$f":"SS!B152","v":""},"",{"$f":"IF($B150=\"\",\"\",SUM(IF(SS!$C$6:$AZ$6=\"HOT\",IF(SS!$C152:$AZ152=\"|\",1*SS!$C$4:$AZ$4,0),0)))","v":""},"",{"$f":"IF(OR($A150=\"\",SUM(IF(SS!$C$6:$AZ$6=\"HOT\",IF(SS!$C152:$AZ152=\"\",1,0)))=COUNTIF(SS!$C$6:$AZ$6,\"HOT\")),\"\",SUM(D$106:D151))","v":""},{"$f":"IF($B150=\"\",\"\",SUM(IF(SS!$C$6:$AZ$6=\"COLD\",IF(SS!$C152:$AZ152=\"|\",1*SS!$C$4:$AZ$4,0),0)))","v":""},"",{"$f":"IF(OR($A150=\"\",SUM(IF(SS!$C$6:$AZ$6=\"COLD\",IF(SS!$C152:$AZ152=\"\",1,0)))=COUNTIF(SS!$C$6:$AZ$6,\"COLD\")),\"\",PT!$P$8+SUM(G$106:G151))","v":""}]
[{"$f":"SS!B153","v":""},"",{"$f":"IF($B151=\"\",\"\",SUM(IF(SS!$C$6:$AZ$6=\"HOT\",IF(SS!$C153:$AZ153=\"|\",1*SS!$C$4:$AZ$4,0),0)))","v":""},"",{"$f":"IF(OR($A151=\"\",SUM(IF(SS!$C$6:$AZ$6=\"HOT\",IF(SS!$C153:$AZ153=\"\",1,0)))=COUNTIF(SS!$C$6:$AZ$6,\"HOT\")),\"\",SUM(D$106:D152))","v":""},{"$f":"IF($B151=\"\",\"\",SUM(IF(SS!$C$6:$AZ$6=\"COLD\",IF(SS!$C153:$AZ153=\"|\",1*SS!$C$4:$AZ$4,0),0)))","v":""},"",{"$f":"IF(OR($A151=\"\",SUM(IF(SS!$C$6:$AZ$6=\"COLD\",IF(SS!$C153:$AZ153=\"\",1,0)))=COUNTIF(SS!$C$6:$AZ$6,\"COLD\")),\"\",PT!$P$8+SUM(G$106:G152))","v":""}]
[{"$f":"SS!B154","v":""},"",{"$f":"IF($B152=\"\",\"\",SUM(IF(SS!$C$6:$AZ$6=\"HOT\",IF(SS!$C154:$AZ154=\"|\",1*SS!$C$4:$AZ$4,0),0)))","v":""},"",{"$f":"IF(OR($A152=\"\",SUM(IF(SS!$C$6:$AZ$6=\"HOT\",IF(SS!$C154:$AZ154=\"\",1,0)))=COUNTIF(SS!$C$6:$AZ$6,\"HOT\")),\"\",SUM(D$106:D153))","v":""},{"$f":"IF($B152=\"\",\"\",SUM(IF(SS!$C$6:$AZ$6=\"COLD\",IF(SS!$C154:$AZ154=\"|\",1*SS!$C$4:$AZ$4,0),0)))","v":""},"",{"$f":"IF(OR($A152=\"\",SUM(IF(SS!$C$6:$AZ$6=\"COLD\",IF(SS!$C154:$AZ154=\"\",1,0)))=COUNTIF(SS!$C$6:$AZ$6,\"COLD\")),\"\",PT!$P$8+SUM(G$106:G153))","v":""}]
[{"$f":"SS!B155","v":""},"",{"$f":"IF($B153=\"\",\"\",SUM(IF(SS!$C$6:$AZ$6=\"HOT\",IF(SS!$C155:$AZ155=\"|\",1*SS!$C$4:$AZ$4,0),0)))","v":""},"",{"$f":"IF(OR($A153=\"\",SUM(IF(SS!$C$6:$AZ$6=\"HOT\",IF(SS!$C155:$AZ155=\"\",1,0)))=COUNTIF(SS!$C$6:$AZ$6,\"HOT\")),\"\",SUM(D$106:D154))","v":""},{"$f":"IF($B153=\"\",\"\",SUM(IF(SS!$C$6:$AZ$6=\"COLD\",IF(SS!$C155:$AZ155=\"|\",1*SS!$C$4:$AZ$4,0),0)))","v":""},"",{"$f":"IF(OR($A153=\"\",SUM(IF(SS!$C$6:$AZ$6=\"COLD\",IF(SS!$C155:$AZ155=\"\",1,0)))=COUNTIF(SS!$C$6:$AZ$6,\"COLD\")),\"\",PT!$P$8+SUM(G$106:G154))","v":""}]
[{"$f":"SS!B156","v":""},"",{"$f":"IF($B154=\"\",\"\",SUM(IF(SS!$C$6:$AZ$6=\"HOT\",IF(SS!$C156:$AZ156=\"|\",1*SS!$C$4:$AZ$4,0),0)))","v":""},"",{"$f":"IF(OR($A154=\"\",SUM(IF(SS!$C$6:$AZ$6=\"HOT\",IF(SS!$C156:$AZ156=\"\",1,0)))=COUNTIF(SS!$C$6:$AZ$6,\"HOT\")),\"\",SUM(D$106:D155))","v":""},{"$f":"IF($B154=\"\",\"\",SUM(IF(SS!$C$6:$AZ$6=\"COLD\",IF(SS!$C156:$AZ156=\"|\",1*SS!$C$4:$AZ$4,0),0)))","v":""},"",{"$f":"IF(OR($A154=\"\",SUM(IF(SS!$C$6:$AZ$6=\"COLD\",IF(SS!$C156:$AZ156=\"\",1,0)))=COUNTIF(SS!$C$6:$AZ$6,\"COLD\")),\"\",PT!$P$8+SUM(G$106:G155))","v":""}]
[{"$f":"SS!B157","v":""},"",{"$f":"IF($B155=\"\",\"\",SUM(IF(SS!$C$6:$AZ$6=\"HOT\",IF(SS!$C157:$AZ157=\"|\",1*SS!$C$4:$AZ$4,0),0)))","v":""},"",{"$f":"IF(OR($A155=\"\",SUM(IF(SS!$C$6:$AZ$6=\"HOT\",IF(SS!$C157:$AZ157=\"\",1,0)))=COUNTIF(SS!$C$6:$AZ$6,\"HOT\")),\"\",SUM(D$106:D156))","v":""},{"$f":"IF($B155=\"\",\"\",SUM(IF(SS!$C$6:$AZ$6=\"COLD\",IF(SS!$C157:$AZ157=\"|\",1*SS!$C$4:$AZ$4,0),0)))","v":""},"",{"$f":"IF(OR($A155=\"\",SUM(IF(SS!$C$6:$AZ$6=\"COLD\",IF(SS!$C157:$AZ157=\"\",1,0)))=COUNTIF(SS!$C$6:$AZ$6,\"COLD\")),\"\",PT!$P$8+SUM(G$106:G156))","v":""}]
[{"$f":"SS!B158","v":""},"",{"$f":"IF($B156=\"\",\"\",SUM(IF(SS!$C$6:$AZ$6=\"HOT\",IF(SS!$C158:$AZ158=\"|\",1*SS!$C$4:$AZ$4,0),0)))","v":""},"",{"$f":"IF(OR($A156=\"\",SUM(IF(SS!$C$6:$AZ$6=\"HOT\",IF(SS!$C158:$AZ158=\"\",1,0)))=COUNTIF(SS!$C$6:$AZ$6,\"HOT\")),\"\",SUM(D$106:D157))","v":""},{"$f":"IF($B156=\"\",\"\",SUM(IF(SS!$C$6:$AZ$6=\"COLD\",IF(SS!$C158:$AZ158=\"|\",1*SS!$C$4:$AZ$4,0),0)))","v":""},"",{"$f":"IF(OR($A156=\"\",SUM(IF(SS!$C$6:$AZ$6=\"COLD\",IF(SS!$C158:$AZ158=\"\",1,0)))=COUNTIF(SS!$C$6:$AZ$6,\"COLD\")),\"\",PT!$P$8+SUM(G$106:G157))","v":""}]
[{"$f":"SS!B159","v":""},"",{"$f":"IF($B157=\"\",\"\",SUM(IF(SS!$C$6:$AZ$6=\"HOT\",IF(SS!$C159:$AZ159=\"|\",1*SS!$C$4:$AZ$4,0),0)))","v":""},"",{"$f":"IF(OR($A157=\"\",SUM(IF(SS!$C$6:$AZ$6=\"HOT\",IF(SS!$C159:$AZ159=\"\",1,0)))=COUNTIF(SS!$C$6:$AZ$6,\"HOT\")),\"\",SUM(D$106:D158))","v":""},{"$f":"IF($B157=\"\",\"\",SUM(IF(SS!$C$6:$AZ$6=\"COLD\",IF(SS!$C159:$AZ159=\"|\",1*SS!$C$4:$AZ$4,0),0)))","v":""},"",{"$f":"IF(OR($A157=\"\",SUM(IF(SS!$C$6:$AZ$6=\"COLD\",IF(SS!$C159:$AZ159=\"\",1,0)))=COUNTIF(SS!$C$6:$AZ$6,\"COLD\")),\"\",PT!$P$8+SUM(G$106:G158))","v":""}]
[{"$f":"SS!B160","v":""},"",{"$f":"IF($B158=\"\",\"\",SUM(IF(SS!$C$6:$AZ$6=\"HOT\",IF(SS!$C160:$AZ160=\"|\",1*SS!$C$4:$AZ$4,0),0)))","v":""},"",{"$f":"IF(OR($A158=\"\",SUM(IF(SS!$C$6:$AZ$6=\"HOT\",IF(SS!$C160:$AZ160=\"\",1,0)))=COUNTIF(SS!$C$6:$AZ$6,\"HOT\")),\"\",SUM(D$106:D159))","v":""},{"$f":"IF($B158=\"\",\"\",SUM(IF(SS!$C$6:$AZ$6=\"COLD\",IF(SS!$C160:$AZ160=\"|\",1*SS!$C$4:$AZ$4,0),0)))","v":""},"",{"$f":"IF(OR($A158=\"\",SUM(IF(SS!$C$6:$AZ$6=\"COLD\",IF(SS!$C160:$AZ160=\"\",1,0)))=COUNTIF(SS!$C$6:$AZ$6,\"COLD\")),\"\",PT!$P$8+SUM(G$106:G159))","v":""}]
[{"$f":"SS!B161","v":""},"",{"$f":"IF($B159=\"\",\"\",SUM(IF(SS!$C$6:$AZ$6=\"HOT\",IF(SS!$C161:$AZ161=\"|\",1*SS!$C$4:$AZ$4,0),0)))","v":""},"",{"$f":"IF(OR($A159=\"\",SUM(IF(SS!$C$6:$AZ$6=\"HOT\",IF(SS!$C161:$AZ161=\"\",1,0)))=COUNTIF(SS!$C$6:$AZ$6,\"HOT\")),\"\",SUM(D$106:D160))","v":""},{"$f":"IF($B159=\"\",\"\",SUM(IF(SS!$C$6:$AZ$6=\"COLD\",IF(SS!$C161:$AZ161=\"|\",1*SS!$C$4:$AZ$4,0),0)))","v":""},"",{"$f":"IF(OR($A159=\"\",SUM(IF(SS!$C$6:$AZ$6=\"COLD\",IF(SS!$C161:$AZ161=\"\",1,0)))=COUNTIF(SS!$C$6:$AZ$6,\"COLD\")),\"\",PT!$P$8+SUM(G$106:G160))","v":""}]
[{"$f":"SS!B162","v":""},"",{"$f":"IF($B160=\"\",\"\",SUM(IF(SS!$C$6:$AZ$6=\"HOT\",IF(SS!$C162:$AZ162=\"|\",1*SS!$C$4:$AZ$4,0),0)))","v":""},"",{"$f":"IF(OR($A160=\"\",SUM(IF(SS!$C$6:$AZ$6=\"HOT\",IF(SS!$C162:$AZ162=\"\",1,0)))=COUNTIF(SS!$C$6:$AZ$6,\"HOT\")),\"\",SUM(D$106:D161))","v":""},{"$f":"IF($B160=\"\",\"\",SUM(IF(SS!$C$6:$AZ$6=\"COLD\",IF(SS!$C162:$AZ162=\"|\",1*SS!$C$4:$AZ$4,0),0)))","v":""},"",{"$f":"IF(OR($A160=\"\",SUM(IF(SS!$C$6:$AZ$6=\"COLD\",IF(SS!$C162:$AZ162=\"\",1,0)))=COUNTIF(SS!$C$6:$AZ$6,\"COLD\")),\"\",PT!$P$8+SUM(G$106:G161))","v":""}]
[{"$f":"SS!B163","v":""},"",{"$f":"IF($B161=\"\",\"\",SUM(IF(SS!$C$6:$AZ$6=\"HOT\",IF(SS!$C163:$AZ163=\"|\",1*SS!$C$4:$AZ$4,0),0)))","v":""},"",{"$f":"IF(OR($A161=\"\",SUM(IF(SS!$C$6:$AZ$6=\"HOT\",IF(SS!$C163:$AZ163=\"\",1,0)))=COUNTIF(SS!$C$6:$AZ$6,\"HOT\")),\"\",SUM(D$106:D162))","v":""},{"$f":"IF($B161=\"\",\"\",SUM(IF(SS!$C$6:$AZ$6=\"COLD\",IF(SS!$C163:$AZ163=\"|\",1*SS!$C$4:$AZ$4,0),0)))","v":""},"",{"$f":"IF(OR($A161=\"\",SUM(IF(SS!$C$6:$AZ$6=\"COLD\",IF(SS!$C163:$AZ163=\"\",1,0)))=COUNTIF(SS!$C$6:$AZ$6,\"COLD\")),\"\",PT!$P$8+SUM(G$106:G162))","v":""}]
[{"$f":"SS!B164","v":""},"",{"$f":"IF($B162=\"\",\"\",SUM(IF(SS!$C$6:$AZ$6=\"HOT\",IF(SS!$C164:$AZ164=\"|\",1*SS!$C$4:$AZ$4,0),0)))","v":""},"",{"$f":"IF(OR($A162=\"\",SUM(IF(SS!$C$6:$AZ$6=\"HOT\",IF(SS!$C164:$AZ164=\"\",1,0)))=COUNTIF(SS!$C$6:$AZ$6,\"HOT\")),\"\",SUM(D$106:D163))","v":""},{"$f":"IF($B162=\"\",\"\",SUM(IF(SS!$C$6:$AZ$6=\"COLD\",IF(SS!$C164:$AZ164=\"|\",1*SS!$C$4:$AZ$4,0),0)))","v":""},"",{"$f":"IF(OR($A162=\"\",SUM(IF(SS!$C$6:$AZ$6=\"COLD\",IF(SS!$C164:$AZ164=\"\",1,0)))=COUNTIF(SS!$C$6:$AZ$6,\"COLD\")),\"\",PT!$P$8+SUM(G$106:G163))","v":""}]
[{"$f":"SS!B165","v":""},"",{"$f":"IF($B163=\"\",\"\",SUM(IF(SS!$C$6:$AZ$6=\"HOT\",IF(SS!$C165:$AZ165=\"|\",1*SS!$C$4:$AZ$4,0),0)))","v":""},"",{"$f":"IF(OR($A163=\"\",SUM(IF(SS!$C$6:$AZ$6=\"HOT\",IF(SS!$C165:$AZ165=\"\",1,0)))=COUNTIF(SS!$C$6:$AZ$6,\"HOT\")),\"\",SUM(D$106:D164))","v":""},{"$f":"IF($B163=\"\",\"\",SUM(IF(SS!$C$6:$AZ$6=\"COLD\",IF(SS!$C165:$AZ165=\"|\",1*SS!$C$4:$AZ$4,0),0)))","v":""},"",{"$f":"IF(OR($A163=\"\",SUM(IF(SS!$C$6:$AZ$6=\"COLD\",IF(SS!$C165:$AZ165=\"\",1,0)))=COUNTIF(SS!$C$6:$AZ$6,\"COLD\")),\"\",PT!$P$8+SUM(G$106:G164))","v":""}]
[{"$f":"SS!B166","v":""},"",{"$f":"IF($B164=\"\",\"\",SUM(IF(SS!$C$6:$AZ$6=\"HOT\",IF(SS!$C166:$AZ166=\"|\",1*SS!$C$4:$AZ$4,0),0)))","v":""},"",{"$f":"IF(OR($A164=\"\",SUM(IF(SS!$C$6:$AZ$6=\"HOT\",IF(SS!$C166:$AZ166=\"\",1,0)))=COUNTIF(SS!$C$6:$AZ$6,\"HOT\")),\"\",SUM(D$106:D165))","v":""},{"$f":"IF($B164=\"\",\"\",SUM(IF(SS!$C$6:$AZ$6=\"COLD\",IF(SS!$C166:$AZ166=\"|\",1*SS!$C$4:$AZ$4,0),0)))","v":""},"",{"$f":"IF(OR($A164=\"\",SUM(IF(SS!$C$6:$AZ$6=\"COLD\",IF(SS!$C166:$AZ166=\"\",1,0)))=COUNTIF(SS!$C$6:$AZ$6,\"COLD\")),\"\",PT!$P$8+SUM(G$106:G165))","v":""}]
[{"$f":"SS!B167","v":""},"",{"$f":"IF($B165=\"\",\"\",SUM(IF(SS!$C$6:$AZ$6=\"HOT\",IF(SS!$C167:$AZ167=\"|\",1*SS!$C$4:$AZ$4,0),0)))","v":""},"",{"$f":"IF(OR($A165=\"\",SUM(IF(SS!$C$6:$AZ$6=\"HOT\",IF(SS!$C167:$AZ167=\"\",1,0)))=COUNTIF(SS!$C$6:$AZ$6,\"HOT\")),\"\",SUM(D$106:D166))","v":""},{"$f":"IF($B165=\"\",\"\",SUM(IF(SS!$C$6:$AZ$6=\"COLD\",IF(SS!$C167:$AZ167=\"|\",1*SS!$C$4:$AZ$4,0),0)))","v":""},"",{"$f":"IF(OR($A165=\"\",SUM(IF(SS!$C$6:$AZ$6=\"COLD\",IF(SS!$C167:$AZ167=\"\",1,0)))=COUNTIF(SS!$C$6:$AZ$6,\"COLD\")),\"\",PT!$P$8+SUM(G$106:G166))","v":""}]
[{"$f":"SS!B168","v":""},"",{"$f":"IF($B166=\"\",\"\",SUM(IF(SS!$C$6:$AZ$6=\"HOT\",IF(SS!$C168:$AZ168=\"|\",1*SS!$C$4:$AZ$4,0),0)))","v":""},"",{"$f":"IF(OR($A166=\"\",SUM(IF(SS!$C$6:$AZ$6=\"HOT\",IF(SS!$C168:$AZ168=\"\",1,0)))=COUNTIF(SS!$C$6:$AZ$6,\"HOT\")),\"\",SUM(D$106:D167))","v":""},{"$f":"IF($B166=\"\",\"\",SUM(IF(SS!$C$6:$AZ$6=\"COLD\",IF(SS!$C168:$AZ168=\"|\",1*SS!$C$4:$AZ$4,0),0)))","v":""},"",{"$f":"IF(OR($A166=\"\",SUM(IF(SS!$C$6:$AZ$6=\"COLD\",IF(SS!$C168:$AZ168=\"\",1,0)))=COUNTIF(SS!$C$6:$AZ$6,\"COLD\")),\"\",PT!$P$8+SUM(G$106:G167))","v":""}]
[{"$f":"SS!B169","v":""},"",{"$f":"IF($B167=\"\",\"\",SUM(IF(SS!$C$6:$AZ$6=\"HOT\",IF(SS!$C169:$AZ169=\"|\",1*SS!$C$4:$AZ$4,0),0)))","v":""},"",{"$f":"IF(OR($A167=\"\",SUM(IF(SS!$C$6:$AZ$6=\"HOT\",IF(SS!$C169:$AZ169=\"\",1,0)))=COUNTIF(SS!$C$6:$AZ$6,\"HOT\")),\"\",SUM(D$106:D168))","v":""},{"$f":"IF($B167=\"\",\"\",SUM(IF(SS!$C$6:$AZ$6=\"COLD\",IF(SS!$C169:$AZ169=\"|\",1*SS!$C$4:$AZ$4,0),0)))","v":""},"",{"$f":"IF(OR($A167=\"\",SUM(IF(SS!$C$6:$AZ$6=\"COLD\",IF(SS!$C169:$AZ169=\"\",1,0)))=COUNTIF(SS!$C$6:$AZ$6,\"COLD\")),\"\",PT!$P$8+SUM(G$106:G168))","v":""}]
[{"$f":"SS!B170","v":""},"",{"$f":"IF($B168=\"\",\"\",SUM(IF(SS!$C$6:$AZ$6=\"HOT\",IF(SS!$C170:$AZ170=\"|\",1*SS!$C$4:$AZ$4,0),0)))","v":""},"",{"$f":"IF(OR($A168=\"\",SUM(IF(SS!$C$6:$AZ$6=\"HOT\",IF(SS!$C170:$AZ170=\"\",1,0)))=COUNTIF(SS!$C$6:$AZ$6,\"HOT\")),\"\",SUM(D$106:D169))","v":""},{"$f":"IF($B168=\"\",\"\",SUM(IF(SS!$C$6:$AZ$6=\"COLD\",IF(SS!$C170:$AZ170=\"|\",1*SS!$C$4:$AZ$4,0),0)))","v":""},"",{"$f":"IF(OR($A168=\"\",SUM(IF(SS!$C$6:$AZ$6=\"COLD\",IF(SS!$C170:$AZ170=\"\",1,0)))=COUNTIF(SS!$C$6:$AZ$6,\"COLD\")),\"\",PT!$P$8+SUM(G$106:G169))","v":""}]
[{"$f":"SS!B171","v":""},"",{"$f":"IF($B169=\"\",\"\",SUM(IF(SS!$C$6:$AZ$6=\"HOT\",IF(SS!$C171:$AZ171=\"|\",1*SS!$C$4:$AZ$4,0),0)))","v":""},"",{"$f":"IF(OR($A169=\"\",SUM(IF(SS!$C$6:$AZ$6=\"HOT\",IF(SS!$C171:$AZ171=\"\",1,0)))=COUNTIF(SS!$C$6:$AZ$6,\"HOT\")),\"\",SUM(D$106:D170))","v":""},{"$f":"IF($B169=\"\",\"\",SUM(IF(SS!$C$6:$AZ$6=\"COLD\",IF(SS!$C171:$AZ171=\"|\",1*SS!$C$4:$AZ$4,0),0)))","v":""},"",{"$f":"IF(OR($A169=\"\",SUM(IF(SS!$C$6:$AZ$6=\"COLD\",IF(SS!$C171:$AZ171=\"\",1,0)))=COUNTIF(SS!$C$6:$AZ$6,\"COLD\")),\"\",PT!$P$8+SUM(G$106:G170))","v":""}]
[{"$f":"SS!B172","v":""},{"$f":"IF(A171=\"\",\"\",A169-A171)","v":""},{"$f":"IF($B170=\"\",\"\",SUM(IF(SS!$C$6:$AZ$6=\"HOT\",IF(SS!$C172:$AZ172=\"|\",1*SS!$C$4:$AZ$4,0),0)))","v":""},{"$f":"IF(C170=\"\",\"\",C170*B170)","v":""},{"$f":"IF(OR($A170=\"\",SUM(IF(SS!$C$6:$AZ$6=\"HOT\",IF(SS!$C172:$AZ172=\"\",1,0)))=COUNTIF(SS!$C$6:$AZ$6,\"HOT\")),\"\",SUM(D$106:D171))","v":""},{"$f":"IF($B170=\"\",\"\",SUM(IF(SS!$C$6:$AZ$6=\"COLD\",IF(SS!$C172:$AZ172=\"|\",1*SS!$C$4:$AZ$4,0),0)))","v":""},{"$f":"IF(F170=\"\",\"\",F170*B170)","v":""},{"$f":"IF(OR($A170=\"\",SUM(IF(SS!$C$6:$AZ$6=\"COLD\",IF(SS!$C172:$AZ172=\"\",1,0)))=COUNTIF(SS!$C$6:$AZ$6,\"COLD\")),\"\",PT!$P$8+SUM(G$106:G171))","v":""}]
[{"$f":"SS!B173","v":""},"",{"$f":"IF($B171=\"\",\"\",SUM(IF(SS!$C$6:$AZ$6=\"HOT\",IF(SS!$C173:$AZ173=\"|\",1*SS!$C$4:$AZ$4,0),0)))","v":""},"",{"$f":"IF(OR($A171=\"\",SUM(IF(SS!$C$6:$AZ$6=\"HOT\",IF(SS!$C173:$AZ173=\"\",1,0)))=COUNTIF(SS!$C$6:$AZ$6,\"HOT\")),\"\",SUM(D$106:D172))","v":""},{"$f":"IF($B171=\"\",\"\",SUM(IF(SS!$C$6:$AZ$6=\"COLD\",IF(SS!$C173:$AZ173=\"|\",1*SS!$C$4:$AZ$4,0),0)))","v":""},"",{"$f":"IF(OR($A171=\"\",SUM(IF(SS!$C$6:$AZ$6=\"COLD\",IF(SS!$C173:$AZ173=\"\",1,0)))=COUNTIF(SS!$C$6:$AZ$6,\"COLD\")),\"\",PT!$P$8+SUM(G$106:G172))","v":""}]
[{"$f":"SS!B174","v":""},"",{"$f":"IF($B172=\"\",\"\",SUM(IF(SS!$C$6:$AZ$6=\"HOT\",IF(SS!$C174:$AZ174=\"|\",1*SS!$C$4:$AZ$4,0),0)))","v":""},"",{"$f":"IF(OR($A172=\"\",SUM(IF(SS!$C$6:$AZ$6=\"HOT\",IF(SS!$C174:$AZ174=\"\",1,0)))=COUNTIF(SS!$C$6:$AZ$6,\"HOT\")),\"\",SUM(D$106:D173))","v":""},{"$f":"IF($B172=\"\",\"\",SUM(IF(SS!$C$6:$AZ$6=\"COLD\",IF(SS!$C174:$AZ174=\"|\",1*SS!$C$4:$AZ$4,0),0)))","v":""},"",{"$f":"IF(OR($A172=\"\",SUM(IF(SS!$C$6:$AZ$6=\"COLD\",IF(SS!$C174:$AZ174=\"\",1,0)))=COUNTIF(SS!$C$6:$AZ$6,\"COLD\")),\"\",PT!$P$8+SUM(G$106:G173))","v":""}]
[{"$f":"SS!B175","v":""},"",{"$f":"IF($B173=\"\",\"\",SUM(IF(SS!$C$6:$AZ$6=\"HOT\",IF(SS!$C175:$AZ175=\"|\",1*SS!$C$4:$AZ$4,0),0)))","v":""},"",{"$f":"IF(OR($A173=\"\",SUM(IF(SS!$C$6:$AZ$6=\"HOT\",IF(SS!$C175:$AZ175=\"\",1,0)))=COUNTIF(SS!$C$6:$AZ$6,\"HOT\")),\"\",SUM(D$106:D174))","v":""},{"$f":"IF($B173=\"\",\"\",SUM(IF(SS!$C$6:$AZ$6=\"COLD\",IF(SS!$C175:$AZ175=\"|\",1*SS!$C$4:$AZ$4,0),0)))","v":""},"",{"$f":"IF(OR($A173=\"\",SUM(IF(SS!$C$6:$AZ$6=\"COLD\",IF(SS!$C175:$AZ175=\"\",1,0)))=COUNTIF(SS!$C$6:$AZ$6,\"COLD\")),\"\",PT!$P$8+SUM(G$106:G174))","v":""}]
[{"$f":"SS!B176","v":""},"",{"$f":"IF($B174=\"\",\"\",SUM(IF(SS!$C$6:$AZ$6=\"HOT\",IF(SS!$C176:$AZ176=\"|\",1*SS!$C$4:$AZ$4,0),0)))","v":""},"",{"$f":"IF(OR($A174=\"\",SUM(IF(SS!$C$6:$AZ$6=\"HOT\",IF(SS!$C176:$AZ176=\"\",1,0)))=COUNTIF(SS!$C$6:$AZ$6,\"HOT\")),\"\",SUM(D$106:D175))","v":""},{"$f":"IF($B174=\"\",\"\",SUM(IF(SS!$C$6:$AZ$6=\"COLD\",IF(SS!$C176:$AZ176=\"|\",1*SS!$C$4:$AZ$4,0),0)))","v":""},"",{"$f":"IF(OR($A174=\"\",SUM(IF(SS!$C$6:$AZ$6=\"COLD\",IF(SS!$C176:$AZ176=\"\",1,0)))=COUNTIF(SS!$C$6:$AZ$6,\"COLD\")),\"\",PT!$P$8+SUM(G$106:G175))","v":""}]
[{"$f":"SS!B177","v":""},"",{"$f":"IF($B175=\"\",\"\",SUM(IF(SS!$C$6:$AZ$6=\"HOT\",IF(SS!$C177:$AZ177=\"|\",1*SS!$C$4:$AZ$4,0),0)))","v":""},"",{"$f":"IF(OR($A175=\"\",SUM(IF(SS!$C$6:$AZ$6=\"HOT\",IF(SS!$C177:$AZ177=\"\",1,0)))=COUNTIF(SS!$C$6:$AZ$6,\"HOT\")),\"\",SUM(D$106:D176))","v":""},{"$f":"IF($B175=\"\",\"\",SUM(IF(SS!$C$6:$AZ$6=\"COLD\",IF(SS!$C177:$AZ177=\"|\",1*SS!$C$4:$AZ$4,0),0)))","v":""},"",{"$f":"IF(OR($A175=\"\",SUM(IF(SS!$C$6:$AZ$6=\"COLD\",IF(SS!$C177:$AZ177=\"\",1,0)))=COUNTIF(SS!$C$6:$AZ$6,\"COLD\")),\"\",PT!$P$8+SUM(G$106:G176))","v":""}]
[{"$f":"SS!B178","v":""},"",{"$f":"IF($B176=\"\",\"\",SUM(IF(SS!$C$6:$AZ$6=\"HOT\",IF(SS!$C178:$AZ178=\"|\",1*SS!$C$4:$AZ$4,0),0)))","v":""},"",{"$f":"IF(OR($A176=\"\",SUM(IF(SS!$C$6:$AZ$6=\"HOT\",IF(SS!$C178:$AZ178=\"\",1,0)))=COUNTIF(SS!$C$6:$AZ$6,\"HOT\")),\"\",SUM(D$106:D177))","v":""},{"$f":"IF($B176=\"\",\"\",SUM(IF(SS!$C$6:$AZ$6=\"COLD\",IF(SS!$C178:$AZ178=\"|\",1*SS!$C$4:$AZ$4,0),0)))","v":""},"",{"$f":"IF(OR($A176=\"\",SUM(IF(SS!$C$6:$AZ$6=\"COLD\",IF(SS!$C178:$AZ178=\"\",1,0)))=COUNTIF(SS!$C$6:$AZ$6,\"COLD\")),\"\",PT!$P$8+SUM(G$106:G177))","v":""}]
[{"$f":"SS!B179","v":""},"",{"$f":"IF($B177=\"\",\"\",SUM(IF(SS!$C$6:$AZ$6=\"HOT\",IF(SS!$C179:$AZ179=\"|\",1*SS!$C$4:$AZ$4,0),0)))","v":""},"",{"$f":"IF(OR($A177=\"\",SUM(IF(SS!$C$6:$AZ$6=\"HOT\",IF(SS!$C179:$AZ179=\"\",1,0)))=COUNTIF(SS!$C$6:$AZ$6,\"HOT\")),\"\",SUM(D$106:D178))","v":""},{"$f":"IF($B177=\"\",\"\",SUM(IF(SS!$C$6:$AZ$6=\"COLD\",IF(SS!$C179:$AZ179=\"|\",1*SS!$C$4:$AZ$4,0),0)))","v":""},"",{"$f":"IF(OR($A177=\"\",SUM(IF(SS!$C$6:$AZ$6=\"COLD\",IF(SS!$C179:$AZ179=\"\",1,0)))=COUNTIF(SS!$C$6:$AZ$6,\"COLD\")),\"\",PT!$P$8+SUM(G$106:G178))","v":""}]
[{"$f":"SS!B180","v":""},"",{"$f":"IF($B178=\"\",\"\",SUM(IF(SS!$C$6:$AZ$6=\"HOT\",IF(SS!$C180:$AZ180=\"|\",1*SS!$C$4:$AZ$4,0),0)))","v":""},"",{"$f":"IF(OR($A178=\"\",SUM(IF(SS!$C$6:$AZ$6=\"HOT\",IF(SS!$C180:$AZ180=\"\",1,0)))=COUNTIF(SS!$C$6:$AZ$6,\"HOT\")),\"\",SUM(D$106:D179))","v":""},{"$f":"IF($B178=\"\",\"\",SUM(IF(SS!$C$6:$AZ$6=\"COLD\",IF(SS!$C180:$AZ180=\"|\",1*SS!$C$4:$AZ$4,0),0)))","v":""},"",{"$f":"IF(OR($A178=\"\",SUM(IF(SS!$C$6:$AZ$6=\"COLD\",IF(SS!$C180:$AZ180=\"\",1,0)))=COUNTIF(SS!$C$6:$AZ$6,\"COLD\")),\"\",PT!$P$8+SUM(G$106:G179))","v":""}]
[{"$f":"SS!B181","v":""},"",{"$f":"IF($B179=\"\",\"\",SUM(IF(SS!$C$6:$AZ$6=\"HOT\",IF(SS!$C181:$AZ181=\"|\",1*SS!$C$4:$AZ$4,0),0)))","v":""},"",{"$f":"IF(OR($A179=\"\",SUM(IF(SS!$C$6:$AZ$6=\"HOT\",IF(SS!$C181:$AZ181=\"\",1,0)))=COUNTIF(SS!$C$6:$AZ$6,\"HOT\")),\"\",SUM(D$106:D180))","v":""},{"$f":"IF($B179=\"\",\"\",SUM(IF(SS!$C$6:$AZ$6=\"COLD\",IF(SS!$C181:$AZ181=\"|\",1*SS!$C$4:$AZ$4,0),0)))","v":""},"",{"$f":"IF(OR($A179=\"\",SUM(IF(SS!$C$6:$AZ$6=\"COLD\",IF(SS!$C181:$AZ181=\"\",1,0)))=COUNTIF(SS!$C$6:$AZ$6,\"COLD\")),\"\",PT!$P$8+SUM(G$106:G180))","v":""}]
[{"$f":"SS!B182","v":""},"",{"$f":"IF($B180=\"\",\"\",SUM(IF(SS!$C$6:$AZ$6=\"HOT\",IF(SS!$C182:$AZ182=\"|\",1*SS!$C$4:$AZ$4,0),0)))","v":""},"",{"$f":"IF(OR($A180=\"\",SUM(IF(SS!$C$6:$AZ$6=\"HOT\",IF(SS!$C182:$AZ182=\"\",1,0)))=COUNTIF(SS!$C$6:$AZ$6,\"HOT\")),\"\",SUM(D$106:D181))","v":""},{"$f":"IF($B180=\"\",\"\",SUM(IF(SS!$C$6:$AZ$6=\"COLD\",IF(SS!$C182:$AZ182=\"|\",1*SS!$C$4:$AZ$4,0),0)))","v":""},"",{"$f":"IF(OR($A180=\"\",SUM(IF(SS!$C$6:$AZ$6=\"COLD\",IF(SS!$C182:$AZ182=\"\",1,0)))=COUNTIF(SS!$C$6:$AZ$6,\"COLD\")),\"\",PT!$P$8+SUM(G$106:G181))","v":""}]
[{"$f":"SS!B183","v":""},"",{"$f":"IF($B181=\"\",\"\",SUM(IF(SS!$C$6:$AZ$6=\"HOT\",IF(SS!$C183:$AZ183=\"|\",1*SS!$C$4:$AZ$4,0),0)))","v":""},"",{"$f":"IF(OR($A181=\"\",SUM(IF(SS!$C$6:$AZ$6=\"HOT\",IF(SS!$C183:$AZ183=\"\",1,0)))=COUNTIF(SS!$C$6:$AZ$6,\"HOT\")),\"\",SUM(D$106:D182))","v":""},{"$f":"IF($B181=\"\",\"\",SUM(IF(SS!$C$6:$AZ$6=\"COLD\",IF(SS!$C183:$AZ183=\"|\",1*SS!$C$4:$AZ$4,0),0)))","v":""},"",{"$f":"IF(OR($A181=\"\",SUM(IF(SS!$C$6:$AZ$6=\"COLD\",IF(SS!$C183:$AZ183=\"\",1,0)))=COUNTIF(SS!$C$6:$AZ$6,\"COLD\")),\"\",PT!$P$8+SUM(G$106:G182))","v":""}]
[{"$f":"SS!B184","v":""},"",{"$f":"IF($B182=\"\",\"\",SUM(IF(SS!$C$6:$AZ$6=\"HOT\",IF(SS!$C184:$AZ184=\"|\",1*SS!$C$4:$AZ$4,0),0)))","v":""},"",{"$f":"IF(OR($A182=\"\",SUM(IF(SS!$C$6:$AZ$6=\"HOT\",IF(SS!$C184:$AZ184=\"\",1,0)))=COUNTIF(SS!$C$6:$AZ$6,\"HOT\")),\"\",SUM(D$106:D183))","v":""},{"$f":"IF($B182=\"\",\"\",SUM(IF(SS!$C$6:$AZ$6=\"COLD\",IF(SS!$C184:$AZ184=\"|\",1*SS!$C$4:$AZ$4,0),0)))","v":""},"",{"$f":"IF(OR($A182=\"\",SUM(IF(SS!$C$6:$AZ$6=\"COLD\",IF(SS!$C184:$AZ184=\"\",1,0)))=COUNTIF(SS!$C$6:$AZ$6,\"COLD\")),\"\",PT!$P$8+SUM(G$106:G183))","v":""}]
[{"$f":"SS!B185","v":""},"",{"$f":"IF($B183=\"\",\"\",SUM(IF(SS!$C$6:$AZ$6=\"HOT\",IF(SS!$C185:$AZ185=\"|\",1*SS!$C$4:$AZ$4,0),0)))","v":""},"",{"$f":"IF(OR($A183=\"\",SUM(IF(SS!$C$6:$AZ$6=\"HOT\",IF(SS!$C185:$AZ185=\"\",1,0)))=COUNTIF(SS!$C$6:$AZ$6,\"HOT\")),\"\",SUM(D$106:D184))","v":""},{"$f":"IF($B183=\"\",\"\",SUM(IF(SS!$C$6:$AZ$6=\"COLD\",IF(SS!$C185:$AZ185=\"|\",1*SS!$C$4:$AZ$4,0),0)))","v":""},"",{"$f":"IF(OR($A183=\"\",SUM(IF(SS!$C$6:$AZ$6=\"COLD\",IF(SS!$C185:$AZ185=\"\",1,0)))=COUNTIF(SS!$C$6:$AZ$6,\"COLD\")),\"\",PT!$P$8+SUM(G$106:G184))","v":""}]
[{"$f":"SS!B186","v":""},"",{"$f":"IF($B184=\"\",\"\",SUM(IF(SS!$C$6:$AZ$6=\"HOT\",IF(SS!$C186:$AZ186=\"|\",1*SS!$C$4:$AZ$4,0),0)))","v":""},"",{"$f":"IF(OR($A184=\"\",SUM(IF(SS!$C$6:$AZ$6=\"HOT\",IF(SS!$C186:$AZ186=\"\",1,0)))=COUNTIF(SS!$C$6:$AZ$6,\"HOT\")),\"\",SUM(D$106:D185))","v":""},{"$f":"IF($B184=\"\",\"\",SUM(IF(SS!$C$6:$AZ$6=\"COLD\",IF(SS!$C186:$AZ186=\"|\",1*SS!$C$4:$AZ$4,0),0)))","v":""},"",{"$f":"IF(OR($A184=\"\",SUM(IF(SS!$C$6:$AZ$6=\"COLD\",IF(SS!$C186:$AZ186=\"\",1,0)))=COUNTIF(SS!$C$6:$AZ$6,\"COLD\")),\"\",PT!$P$8+SUM(G$106:G185))","v":""}]
[{"$f":"SS!B187","v":""},"",{"$f":"IF($B185=\"\",\"\",SUM(IF(SS!$C$6:$AZ$6=\"HOT\",IF(SS!$C187:$AZ187=\"|\",1*SS!$C$4:$AZ$4,0),0)))","v":""},"",{"$f":"IF(OR($A185=\"\",SUM(IF(SS!$C$6:$AZ$6=\"HOT\",IF(SS!$C187:$AZ187=\"\",1,0)))=COUNTIF(SS!$C$6:$AZ$6,\"HOT\")),\"\",SUM(D$106:D186))","v":""},{"$f":"IF($B185=\"\",\"\",SUM(IF(SS!$C$6:$AZ$6=\"COLD\",IF(SS!$C187:$AZ187=\"|\",1*SS!$C$4:$AZ$4,0),0)))","v":""},"",{"$f":"IF(OR($A185=\"\",SUM(IF(SS!$C$6:$AZ$6=\"COLD\",IF(SS!$C187:$AZ187=\"\",1,0)))=COUNTIF(SS!$C$6:$AZ$6,\"COLD\")),\"\",PT!$P$8+SUM(G$106:G186))","v":""}]
[{"$f":"SS!B188","v":""},"",{"$f":"IF($B186=\"\",\"\",SUM(IF(SS!$C$6:$AZ$6=\"HOT\",IF(SS!$C188:$AZ188=\"|\",1*SS!$C$4:$AZ$4,0),0)))","v":""},"",{"$f":"IF(OR($A186=\"\",SUM(IF(SS!$C$6:$AZ$6=\"HOT\",IF(SS!$C188:$AZ188=\"\",1,0)))=COUNTIF(SS!$C$6:$AZ$6,\"HOT\")),\"\",SUM(D$106:D187))","v":""},{"$f":"IF($B186=\"\",\"\",SUM(IF(SS!$C$6:$AZ$6=\"COLD\",IF(SS!$C188:$AZ188=\"|\",1*SS!$C$4:$AZ$4,0),0)))","v":""},"",{"$f":"IF(OR($A186=\"\",SUM(IF(SS!$C$6:$AZ$6=\"COLD\",IF(SS!$C188:$AZ188=\"\",1,0)))=COUNTIF(SS!$C$6:$AZ$6,\"COLD\")),\"\",PT!$P$8+SUM(G$106:G187))","v":""}]
[{"$f":"SS!B189","v":""},"",{"$f":"IF($B187=\"\",\"\",SUM(IF(SS!$C$6:$AZ$6=\"HOT\",IF(SS!$C189:$AZ189=\"|\",1*SS!$C$4:$AZ$4,0),0)))","v":""},"",{"$f":"IF(OR($A187=\"\",SUM(IF(SS!$C$6:$AZ$6=\"HOT\",IF(SS!$C189:$AZ189=\"\",1,0)))=COUNTIF(SS!$C$6:$AZ$6,\"HOT\")),\"\",SUM(D$106:D188))","v":""},{"$f":"IF($B187=\"\",\"\",SUM(IF(SS!$C$6:$AZ$6=\"COLD\",IF(SS!$C189:$AZ189=\"|\",1*SS!$C$4:$AZ$4,0),0)))","v":""},"",{"$f":"IF(OR($A187=\"\",SUM(IF(SS!$C$6:$AZ$6=\"COLD\",IF(SS!$C189:$AZ189=\"\",1,0)))=COUNTIF(SS!$C$6:$AZ$6,\"COLD\")),\"\",PT!$P$8+SUM(G$106:G188))","v":""}]
[{"$f":"SS!B190","v":""},"",{"$f":"IF($B188=\"\",\"\",SUM(IF(SS!$C$6:$AZ$6=\"HOT\",IF(SS!$C190:$AZ190=\"|\",1*SS!$C$4:$AZ$4,0),0)))","v":""},"",{"$f":"IF(OR($A188=\"\",SUM(IF(SS!$C$6:$AZ$6=\"HOT\",IF(SS!$C190:$AZ190=\"\",1,0)))=COUNTIF(SS!$C$6:$AZ$6,\"HOT\")),\"\",SUM(D$106:D189))","v":""},{"$f":"IF($B188=\"\",\"\",SUM(IF(SS!$C$6:$AZ$6=\"COLD\",IF(SS!$C190:$AZ190=\"|\",1*SS!$C$4:$AZ$4,0),0)))","v":""},"",{"$f":"IF(OR($A188=\"\",SUM(IF(SS!$C$6:$AZ$6=\"COLD\",IF(SS!$C190:$AZ190=\"\",1,0)))=COUNTIF(SS!$C$6:$AZ$6,\"COLD\")),\"\",PT!$P$8+SUM(G$106:G189))","v":""}]
[{"$f":"SS!B191","v":""},"",{"$f":"IF($B189=\"\",\"\",SUM(IF(SS!$C$6:$AZ$6=\"HOT\",IF(SS!$C191:$AZ191=\"|\",1*SS!$C$4:$AZ$4,0),0)))","v":""},"",{"$f":"IF(OR($A189=\"\",SUM(IF(SS!$C$6:$AZ$6=\"HOT\",IF(SS!$C191:$AZ191=\"\",1,0)))=COUNTIF(SS!$C$6:$AZ$6,\"HOT\")),\"\",SUM(D$106:D190))","v":""},{"$f":"IF($B189=\"\",\"\",SUM(IF(SS!$C$6:$AZ$6=\"COLD\",IF(SS!$C191:$AZ191=\"|\",1*SS!$C$4:$AZ$4,0),0)))","v":""},"",{"$f":"IF(OR($A189=\"\",SUM(IF(SS!$C$6:$AZ$6=\"COLD\",IF(SS!$C191:$AZ191=\"\",1,0)))=COUNTIF(SS!$C$6:$AZ$6,\"COLD\")),\"\",PT!$P$8+SUM(G$106:G190))","v":""}]
[{"$f":"SS!B192","v":""},"",{"$f":"IF($B190=\"\",\"\",SUM(IF(SS!$C$6:$AZ$6=\"HOT\",IF(SS!$C192:$AZ192=\"|\",1*SS!$C$4:$AZ$4,0),0)))","v":""},"",{"$f":"IF(OR($A190=\"\",SUM(IF(SS!$C$6:$AZ$6=\"HOT\",IF(SS!$C192:$AZ192=\"\",1,0)))=COUNTIF(SS!$C$6:$AZ$6,\"HOT\")),\"\",SUM(D$106:D191))","v":""},{"$f":"IF($B190=\"\",\"\",SUM(IF(SS!$C$6:$AZ$6=\"COLD\",IF(SS!$C192:$AZ192=\"|\",1*SS!$C$4:$AZ$4,0),0)))","v":""},"",{"$f":"IF(OR($A190=\"\",SUM(IF(SS!$C$6:$AZ$6=\"COLD\",IF(SS!$C192:$AZ192=\"\",1,0)))=COUNTIF(SS!$C$6:$AZ$6,\"COLD\")),\"\",PT!$P$8+SUM(G$106:G191))","v":""}]
[{"$f":"SS!B193","v":""},"",{"$f":"IF($B191=\"\",\"\",SUM(IF(SS!$C$6:$AZ$6=\"HOT\",IF(SS!$C193:$AZ193=\"|\",1*SS!$C$4:$AZ$4,0),0)))","v":""},"",{"$f":"IF(OR($A191=\"\",SUM(IF(SS!$C$6:$AZ$6=\"HOT\",IF(SS!$C193:$AZ193=\"\",1,0)))=COUNTIF(SS!$C$6:$AZ$6,\"HOT\")),\"\",SUM(D$106:D192))","v":""},{"$f":"IF($B191=\"\",\"\",SUM(IF(SS!$C$6:$AZ$6=\"COLD\",IF(SS!$C193:$AZ193=\"|\",1*SS!$C$4:$AZ$4,0),0)))","v":""},"",{"$f":"IF(OR($A191=\"\",SUM(IF(SS!$C$6:$AZ$6=\"COLD\",IF(SS!$C193:$AZ193=\"\",1,0)))=COUNTIF(SS!$C$6:$AZ$6,\"COLD\")),\"\",PT!$P$8+SUM(G$106:G192))","v":""}]
[{"$f":"SS!B194","v":""},"",{"$f":"IF($B192=\"\",\"\",SUM(IF(SS!$C$6:$AZ$6=\"HOT\",IF(SS!$C194:$AZ194=\"|\",1*SS!$C$4:$AZ$4,0),0)))","v":""},"",{"$f":"IF(OR($A192=\"\",SUM(IF(SS!$C$6:$AZ$6=\"HOT\",IF(SS!$C194:$AZ194=\"\",1,0)))=COUNTIF(SS!$C$6:$AZ$6,\"HOT\")),\"\",SUM(D$106:D193))","v":""},{"$f":"IF($B192=\"\",\"\",SUM(IF(SS!$C$6:$AZ$6=\"COLD\",IF(SS!$C194:$AZ194=\"|\",1*SS!$C$4:$AZ$4,0),0)))","v":""},"",{"$f":"IF(OR($A192=\"\",SUM(IF(SS!$C$6:$AZ$6=\"COLD\",IF(SS!$C194:$AZ194=\"\",1,0)))=COUNTIF(SS!$C$6:$AZ$6,\"COLD\")),\"\",PT!$P$8+SUM(G$106:G193))","v":""}]
[{"$f":"SS!B195","v":""},"",{"$f":"IF($B193=\"\",\"\",SUM(IF(SS!$C$6:$AZ$6=\"HOT\",IF(SS!$C195:$AZ195=\"|\",1*SS!$C$4:$AZ$4,0),0)))","v":""},"",{"$f":"IF(OR($A193=\"\",SUM(IF(SS!$C$6:$AZ$6=\"HOT\",IF(SS!$C195:$AZ195=\"\",1,0)))=COUNTIF(SS!$C$6:$AZ$6,\"HOT\")),\"\",SUM(D$106:D194))","v":""},{"$f":"IF($B193=\"\",\"\",SUM(IF(SS!$C$6:$AZ$6=\"COLD\",IF(SS!$C195:$AZ195=\"|\",1*SS!$C$4:$AZ$4,0),0)))","v":""},"",{"$f":"IF(OR($A193=\"\",SUM(IF(SS!$C$6:$AZ$6=\"COLD\",IF(SS!$C195:$AZ195=\"\",1,0)))=COUNTIF(SS!$C$6:$AZ$6,\"COLD\")),\"\",PT!$P$8+SUM(G$106:G194))","v":""}]
[{"$f":"SS!B196","v":""},"",{"$f":"IF($B194=\"\",\"\",SUM(IF(SS!$C$6:$AZ$6=\"HOT\",IF(SS!$C196:$AZ196=\"|\",1*SS!$C$4:$AZ$4,0),0)))","v":""},"",{"$f":"IF(OR($A194=\"\",SUM(IF(SS!$C$6:$AZ$6=\"HOT\",IF(SS!$C196:$AZ196=\"\",1,0)))=COUNTIF(SS!$C$6:$AZ$6,\"HOT\")),\"\",SUM(D$106:D195))","v":""},{"$f":"IF($B194=\"\",\"\",SUM(IF(SS!$C$6:$AZ$6=\"COLD\",IF(SS!$C196:$AZ196=\"|\",1*SS!$C$4:$AZ$4,0),0)))","v":""},"",{"$f":"IF(OR($A194=\"\",SUM(IF(SS!$C$6:$AZ$6=\"COLD\",IF(SS!$C196:$AZ196=\"\",1,0)))=COUNTIF(SS!$C$6:$AZ$6,\"COLD\")),\"\",PT!$P$8+SUM(G$106:G195))","v":""}]
[{"$f":"SS!B197","v":""},"",{"$f":"IF($B195=\"\",\"\",SUM(IF(SS!$C$6:$AZ$6=\"HOT\",IF(SS!$C197:$AZ197=\"|\",1*SS!$C$4:$AZ$4,0),0)))","v":""},"",{"$f":"IF(OR($A195=\"\",SUM(IF(SS!$C$6:$AZ$6=\"HOT\",IF(SS!$C197:$AZ197=\"\",1,0)))=COUNTIF(SS!$C$6:$AZ$6,\"HOT\")),\"\",SUM(D$106:D196))","v":""},{"$f":"IF($B195=\"\",\"\",SUM(IF(SS!$C$6:$AZ$6=\"COLD\",IF(SS!$C197:$AZ197=\"|\",1*SS!$C$4:$AZ$4,0),0)))","v":""},"",{"$f":"IF(OR($A195=\"\",SUM(IF(SS!$C$6:$AZ$6=\"COLD\",IF(SS!$C197:$AZ197=\"\",1,0)))=COUNTIF(SS!$C$6:$AZ$6,\"COLD\")),\"\",PT!$P$8+SUM(G$106:G196))","v":""}]
[{"$f":"SS!B198","v":""},"",{"$f":"IF($B196=\"\",\"\",SUM(IF(SS!$C$6:$AZ$6=\"HOT\",IF(SS!$C198:$AZ198=\"|\",1*SS!$C$4:$AZ$4,0),0)))","v":""},"",{"$f":"IF(OR($A196=\"\",SUM(IF(SS!$C$6:$AZ$6=\"HOT\",IF(SS!$C198:$AZ198=\"\",1,0)))=COUNTIF(SS!$C$6:$AZ$6,\"HOT\")),\"\",SUM(D$106:D197))","v":""},{"$f":"IF($B196=\"\",\"\",SUM(IF(SS!$C$6:$AZ$6=\"COLD\",IF(SS!$C198:$AZ198=\"|\",1*SS!$C$4:$AZ$4,0),0)))","v":""},"",{"$f":"IF(OR($A196=\"\",SUM(IF(SS!$C$6:$AZ$6=\"COLD\",IF(SS!$C198:$AZ198=\"\",1,0)))=COUNTIF(SS!$C$6:$AZ$6,\"COLD\")),\"\",PT!$P$8+SUM(G$106:G197))","v":""}]
[{"$f":"SS!B199","v":""},"",{"$f":"IF($B197=\"\",\"\",SUM(IF(SS!$C$6:$AZ$6=\"HOT\",IF(SS!$C199:$AZ199=\"|\",1*SS!$C$4:$AZ$4,0),0)))","v":""},"",{"$f":"IF(OR($A197=\"\",SUM(IF(SS!$C$6:$AZ$6=\"HOT\",IF(SS!$C199:$AZ199=\"\",1,0)))=COUNTIF(SS!$C$6:$AZ$6,\"HOT\")),\"\",SUM(D$106:D198))","v":""},{"$f":"IF($B197=\"\",\"\",SUM(IF(SS!$C$6:$AZ$6=\"COLD\",IF(SS!$C199:$AZ199=\"|\",1*SS!$C$4:$AZ$4,0),0)))","v":""},"",{"$f":"IF(OR($A197=\"\",SUM(IF(SS!$C$6:$AZ$6=\"COLD\",IF(SS!$C199:$AZ199=\"\",1,0)))=COUNTIF(SS!$C$6:$AZ$6,\"COLD\")),\"\",PT!$P$8+SUM(G$106:G198))","v":""}]
[{"$f":"SS!B200","v":""},"",{"$f":"IF($B198=\"\",\"\",SUM(IF(SS!$C$6:$AZ$6=\"HOT\",IF(SS!$C200:$AZ200=\"|\",1*SS!$C$4:$AZ$4,0),0)))","v":""},"",{"$f":"IF(OR($A198=\"\",SUM(IF(SS!$C$6:$AZ$6=\"HOT\",IF(SS!$C200:$AZ200=\"\",1,0)))=COUNTIF(SS!$C$6:$AZ$6,\"HOT\")),\"\",SUM(D$106:D199))","v":""},{"$f":"IF($B198=\"\",\"\",SUM(IF(SS!$C$6:$AZ$6=\"COLD\",IF(SS!$C200:$AZ200=\"|\",1*SS!$C$4:$AZ$4,0),0)))","v":""},"",{"$f":"IF(OR($A198=\"\",SUM(IF(SS!$C$6:$AZ$6=\"COLD\",IF(SS!$C200:$AZ200=\"\",1,0)))=COUNTIF(SS!$C$6:$AZ$6,\"COLD\")),\"\",PT!$P$8+SUM(G$106:G199))","v":""}]
[{"$f":"SS!B201","v":""},"",{"$f":"IF($B199=\"\",\"\",SUM(IF(SS!$C$6:$AZ$6=\"HOT\",IF(SS!$C201:$AZ201=\"|\",1*SS!$C$4:$AZ$4,0),0)))","v":""},"",{"$f":"IF(OR($A199=\"\",SUM(IF(SS!$C$6:$AZ$6=\"HOT\",IF(SS!$C201:$AZ201=\"\",1,0)))=COUNTIF(SS!$C$6:$AZ$6,\"HOT\")),\"\",SUM(D$106:D200))","v":""},{"$f":"IF($B199=\"\",\"\",SUM(IF(SS!$C$6:$AZ$6=\"COLD\",IF(SS!$C201:$AZ201=\"|\",1*SS!$C$4:$AZ$4,0),0)))","v":""},"",{"$f":"IF(OR($A199=\"\",SUM(IF(SS!$C$6:$AZ$6=\"COLD\",IF(SS!$C201:$AZ201=\"\",1,0)))=COUNTIF(SS!$C$6:$AZ$6,\"COLD\")),\"\",PT!$P$8+SUM(G$106:G200))","v":""}]
[{"$f":"SS!B202","v":""},"",{"$f":"IF($B200=\"\",\"\",SUM(IF(SS!$C$6:$AZ$6=\"HOT\",IF(SS!$C202:$AZ202=\"|\",1*SS!$C$4:$AZ$4,0),0)))","v":""},"",{"$f":"IF(OR($A200=\"\",SUM(IF(SS!$C$6:$AZ$6=\"HOT\",IF(SS!$C202:$AZ202=\"\",1,0)))=COUNTIF(SS!$C$6:$AZ$6,\"HOT\")),\"\",SUM(D$106:D201))","v":""},{"$f":"IF($B200=\"\",\"\",SUM(IF(SS!$C$6:$AZ$6=\"COLD\",IF(SS!$C202:$AZ202=\"|\",1*SS!$C$4:$AZ$4,0),0)))","v":""},"",{"$f":"IF(OR($A200=\"\",SUM(IF(SS!$C$6:$AZ$6=\"COLD\",IF(SS!$C202:$AZ202=\"\",1,0)))=COUNTIF(SS!$C$6:$AZ$6,\"COLD\")),\"\",PT!$P$8+SUM(G$106:G201))","v":""}]
[{"$f":"SS!B203","v":""},"",{"$f":"IF($B201=\"\",\"\",SUM(IF(SS!$C$6:$AZ$6=\"HOT\",IF(SS!$C203:$AZ203=\"|\",1*SS!$C$4:$AZ$4,0),0)))","v":""},"",{"$f":"IF(OR($A201=\"\",SUM(IF(SS!$C$6:$AZ$6=\"HOT\",IF(SS!$C203:$AZ203=\"\",1,0)))=COUNTIF(SS!$C$6:$AZ$6,\"HOT\")),\"\",SUM(D$106:D202))","v":""},{"$f":"IF($B201=\"\",\"\",SUM(IF(SS!$C$6:$AZ$6=\"COLD\",IF(SS!$C203:$AZ203=\"|\",1*SS!$C$4:$AZ$4,0),0)))","v":""},"",{"$f":"IF(OR($A201=\"\",SUM(IF(SS!$C$6:$AZ$6=\"COLD\",IF(SS!$C203:$AZ203=\"\",1,0)))=COUNTIF(SS!$C$6:$AZ$6,\"COLD\")),\"\",PT!$P$8+SUM(G$106:G202))","v":""}]
[{"$f":"SS!B204","v":""},"",{"$f":"IF($B202=\"\",\"\",SUM(IF(SS!$C$6:$AZ$6=\"HOT\",IF(SS!$C204:$AZ204=\"|\",1*SS!$C$4:$AZ$4,0),0)))","v":""},"",{"$f":"IF(OR($A202=\"\",SUM(IF(SS!$C$6:$AZ$6=\"HOT\",IF(SS!$C204:$AZ204=\"\",1,0)))=COUNTIF(SS!$C$6:$AZ$6,\"HOT\")),\"\",SUM(D$106:D203))","v":""},{"$f":"IF($B202=\"\",\"\",SUM(IF(SS!$C$6:$AZ$6=\"COLD\",IF(SS!$C204:$AZ204=\"|\",1*SS!$C$4:$AZ$4,0),0)))","v":""},"",{"$f":"IF(OR($A202=\"\",SUM(IF(SS!$C$6:$AZ$6=\"COLD\",IF(SS!$C204:$AZ204=\"\",1,0)))=COUNTIF(SS!$C$6:$AZ$6,\"COLD\")),\"\",PT!$P$8+SUM(G$106:G203))","v":""}]
[{"$f":"SS!B205","v":""},"",{"$f":"IF($B203=\"\",\"\",SUM(IF(SS!$C$6:$AZ$6=\"HOT\",IF(SS!$C205:$AZ205=\"|\",1*SS!$C$4:$AZ$4,0),0)))","v":""},"",{"$f":"IF(OR($A203=\"\",SUM(IF(SS!$C$6:$AZ$6=\"HOT\",IF(SS!$C205:$AZ205=\"\",1,0)))=COUNTIF(SS!$C$6:$AZ$6,\"HOT\")),\"\",SUM(D$106:D204))","v":""},{"$f":"IF($B203=\"\",\"\",SUM(IF(SS!$C$6:$AZ$6=\"COLD\",IF(SS!$C205:$AZ205=\"|\",1*SS!$C$4:$AZ$4,0),0)))","v":""},"",{"$f":"IF(OR($A203=\"\",SUM(IF(SS!$C$6:$AZ$6=\"COLD\",IF(SS!$C205:$AZ205=\"\",1,0)))=COUNTIF(SS!$C$6:$AZ$6,\"COLD\")),\"\",PT!$P$8+SUM(G$106:G204))","v":""}]
[{"$f":"SS!B206","v":""},"",{"$f":"IF($B204=\"\",\"\",SUM(IF(SS!$C$6:$AZ$6=\"HOT\",IF(SS!$C206:$AZ206=\"|\",1*SS!$C$4:$AZ$4,0),0)))","v":""},"",{"$f":"IF(OR($A204=\"\",SUM(IF(SS!$C$6:$AZ$6=\"HOT\",IF(SS!$C206:$AZ206=\"\",1,0)))=COUNTIF(SS!$C$6:$AZ$6,\"HOT\")),\"\",SUM(D$106:D205))","v":""},{"$f":"IF($B204=\"\",\"\",SUM(IF(SS!$C$6:$AZ$6=\"COLD\",IF(SS!$C206:$AZ206=\"|\",1*SS!$C$4:$AZ$4,0),0)))","v":""},"",{"$f":"IF(OR($A204=\"\",SUM(IF(SS!$C$6:$AZ$6=\"COLD\",IF(SS!$C206:$AZ206=\"\",1,0)))=COUNTIF(SS!$C$6:$AZ$6,\"COLD\")),\"\",PT!$P$8+SUM(G$106:G205))","v":""}]
[{"$f":"SS!B207","v":""},"",{"$f":"IF($B205=\"\",\"\",SUM(IF(SS!$C$6:$AZ$6=\"HOT\",IF(SS!$C207:$AZ207=\"|\",1*SS!$C$4:$AZ$4,0),0)))","v":""},"",{"$f":"IF(OR($A205=\"\",SUM(IF(SS!$C$6:$AZ$6=\"HOT\",IF(SS!$C207:$AZ207=\"\",1,0)))=COUNTIF(SS!$C$6:$AZ$6,\"HOT\")),\"\",SUM(D$106:D206))","v":""},{"$f":"IF($B205=\"\",\"\",SUM(IF(SS!$C$6:$AZ$6=\"COLD\",IF(SS!$C207:$AZ207=\"|\",1*SS!$C$4:$AZ$4,0),0)))","v":""},"",{"$f":"IF(OR($A205=\"\",SUM(IF(SS!$C$6:$AZ$6=\"COLD\",IF(SS!$C207:$AZ207=\"\",1,0)))=COUNTIF(SS!$C$6:$AZ$6,\"COLD\")),\"\",PT!$P$8+SUM(G$106:G206))","v":""}]

{"sheet":"DTMIN","index":11,"n_rows":42,"n_cols":11,"rows_kept":42,"cut":false,"hidden":false,"merged":[]}
["Varying dTmin Global"]
[]
[]
["This sheet will set up a case study to report the pinch temperature and the min utility requirements for varying dTmin global values within a specified range."]
["IMPORTANT: Using this function will clear all dTcontrib information from individual streams (reverting to dTmin global for all streams)."]
[]
["1. Specify dTmin global range."]
[]
["Max dTmin",50,{"$f":"A21","v":"°C"}]
["Min dTmin",2,{"$f":"A21","v":"°C"}]
[]
[]
["2. Click this button to run the case and re-plot the adjacent charts."]
[]
[]
[null,null,null,null,null,null,null,null,null,null,{"$f":"IF(INPUT!$F$12='A1'!$P$5,K18,K17)","v":"Pinch Temperature (°C)"}]
[null,null,null,null,null,null,null,null,null,null,"Pinch Temperature (°C)"]
["Plot Data (No entry required):",null,null,null,null,null,null,null,null,null,"Pinch Temperature (°F)"]
[null,null,null,null,null,null,null,null,null,null,{"$f":"IF(INPUT!$F$12='A1'!$P$5,K21,K20)","v":"dTmin global (°C)"}]
["dTmin","Hot Pinch","Cold Pinch","Hot Utility","Cold Utility",null,null,null,null,null,"dTmin global (°C)"]
[{"$f":"'A1'!T3","v":"°C"},{"$f":"A21","v":"°C"},{"$f":"B21","v":"°C"},{"$f":"'A1'!T5","v":"kW"},{"$f":"'A1'!T5","v":"kW"},null,null,null,null,null,"dTmin global (°F)"]
[2,150,148,36,136]
[4.4000000000000004,150,145.60000000000002,43.199999999999932,143.2000000000001]
[6.8000000000000007,150,143.19999999999999,50.400000000000034,150.39999999999992]
[9.2000000000000011,150,140.80000000000001,57.599999999999966,157.60000000000002]
[11.600000000000001,150,138.39999999999998,64.800000000000068,164.7999999999999]
[14.000000000000002,150,136,72,172]
[16.400000000000002,150,133.60000000000002,79.199999999999932,179.2000000000001]
[18.8,150,131.19999999999999,86.400000000000034,186.39999999999998]
[21.2,150,128.80000000000001,96.719999999999942,196.71999999999997,null,null,null,null,null,{"$f":"IF(INPUT!$F$12='A1'!$P$3,K31,IF(INPUT!$F$12='A1'!$P$4,K32,K33))","v":"Min Utility Required (kW)"}]
[23.599999999999998,150,126.39999999999999,110.16000000000012,210.15999999999997,null,null,null,null,null,"Min Utility Required (kW)"]
[25.999999999999996,150,124,123.6,223.6,null,null,null,null,null,"Min Utility Required (MJ/h)"]
[28.399999999999995,150,121.60000000000001,137.03999999999988,237.03999999999996,null,null,null,null,null,"Min Utility Required (Mbtu(IT)/hr)"]
[30.799999999999994,150,119.2,150.48000000000008,250.47999999999996]
[33.199999999999996,150,116.80000000000001,163.91999999999993,263.91999999999996]
[35.599999999999994,150,114.39999999999999,177.36000000000013,277.35999999999996]
[37.999999999999993,150,112,190.8,290.79999999999995]
[40.399999999999991,150,109.60000000000002,204.2399999999999,304.2399999999999]
[42.79999999999999,150,107.2,217.68000000000006,317.67999999999989]
[45.199999999999989,150,104.80000000000001,231.11999999999995,331.11999999999995]
[47.599999999999987,150,102.4,244.55999999999986,344.55999999999995]
[49.999999999999986,150,100,258,357.99999999999994]

{"sheet":"A1","index":12,"n_rows":1525,"n_cols":45,"rows_kept":1525,"cut":false,"hidden":false,"merged":[]}
["A1. Calculation Basis and Conversions"]
["Drop-Down Lists:",null,null,null,null,null,null,"Temperature Units:",null,null,null,null,null,null,null,"Output Data Unit Set:",null,null,"Presentation Units"]
[null,"Select Input Data Method",{"$f":"IF(INPUT!F4=B4,HCF,IF(INPUT!F4=B5,HL,IF(INPUT!F4=B6,MF,IF(INPUT!F4=B7,MF,\"Select Units\"))))","v":"Select Units"},0,{"$f":"IF(INPUT!F4=B6,SHC,IF(INPUT!F4=B7,EC,\"\"))","v":""},"",null,"°C",null,"Name of unit Symbol Relation to SI units Relation to °C ",null,null,null,null,null,"SI-based (kW/K)",null,null,"Temperature",{"$f":"K29","v":"°C"}]
[null,"Heat Capacity Flowrate","kW/K",1,"","",null,"°F",null,"kelvin K SI base unit T[K] = T[°C] + 273.15 ",null,null,null,null,null,"Metric-hour based (MJ/h/K)",null,null,"Heat Capacity Flowrate",{"$f":"H29","v":"kW/K"}]
[null,"Heat Duty","W/K",1000,"","",null,"K",null,"degree Celsius °C T[°C] = T[K] − 273.15  ",null,null,null,null,null,"US / Imperial (MBtu(IT)/hr/°F)",null,null,"Heat Duty",{"$f":"I29","v":"kW"}]
[null,"Mass Flowrate & Specific Heat Capacity","kcal(IT)/°Csec",0.238845897,"","",null,"R",null,"degree Rankine °R; °Ra T[°Ra] = 1.8 × T[K]  ",null,null,null,null,null,null,null,null,"Specific Heat Capacity"]
[null,"Mass Flowrate & Enthalpy Change","Btu(IT)/°Fs",0.52656506000000003,"","",null,null,null,"degree Fahrenheit °F T[°F] = T[K] × 1.8 − 459.67 T[°F] = 1.8 × T[°C] + 32 ",null,null,null,null,null,null,null,null,"Mass Flowrate"]
[null,null,"","","","",null,null,null,null,null,null,null,null,null,null,null,null,"Enthalpy Change"]
[null,null,"","","",""]
[null,null,"","","",""]
["Conversion Factors:"]
[null,"Heat Capacity Flowrate","Conversion Factors","Heat Duty","Conversion Factors","Mass Flowrate","Conversion Factors","Specific Heat Capacity","Conversion Factors","Enthalpy Change","Conversion Factors"]
[null,"Select Units",null,"Select Units",null,"Select Units",null,"Select Units",null,"Select Units"]
[null,"kW/K",1,"kW",1,"kg/s",1,"kJ/kgK",1,"kJ/kg",1]
[null,"W/K",1000,"Btu(IT)/sec",0.94781711999999996,"kg/h",3600,"J/kgK",1000,"J/kg",1000]
[null,"kcal(IT)/°Csec",0.238845897,"Btu(IT)/min",56.869027219000003,"lb/min",132.277357311,"Btu(IT)/(lb.°F)",0.238845897,"Btu(IT)/lb",0.42992261399999998]
[null,"Btu(IT)/°Fs",0.52656506000000003,"kcal(IT)/sec",0.238845897,"lb/h",7936.641438656,"kcal(IT)/(kg.°C)",0.238845897,"kcal(IT)/kg",0.238845897]
[null,{"$f":"\"\"","v":""},{"$f":"\"\"","v":""},"kcal(IT)/h",859.84522785900003,"US ton(short)/h",3.9683207189999998,{"$f":"\"\"","v":""},null,{"$f":"\"\"","v":""}]
[null,{"$f":"\"\"","v":""},{"$f":"\"\"","v":""},"hp (boiler)",0.10194199499999999,"UK ton(long)/h",3.5431434990000001,{"$f":"\"\"","v":""},null,{"$f":"\"\"","v":""}]
[null,{"$f":"\"\"","v":""},{"$f":"\"\"","v":""},{"$f":"\"\"","v":""},{"$f":"\"\"","v":""},"ton(metric)/h",3.6,{"$f":"\"\"","v":""},null,{"$f":"\"\"","v":""}]
[]
[]
[]
["Calculation Source Data"]
["The cells below are the calculation source data, the input data supplied in sheet \"INDEX\" is converted to the standard unit set.",null,null,null,null,null,null,null,null,null,null,null,null,null,null,null,null,"Output Options",null,null,"Temperature Options"]
[null,"Output To Calculations",null,null,null,null,null,null,null,null,null,null,null,null,null,null,null,"SI","Metric","English","SI/Metric",null,"English"]
["Stream ID","Supply Temperature","Target Temperature","dtmin Contrib",null,"DTMIN GLOBAL",null,"Heat Capacity Flowrate","Heat Load","Stream Type","Supply Shift","Target Shift",null,{"$f":"INPUT!E14","v":"Heat Capacity Flowrate"},"Conversion",{"$f":"INPUT!F14","v":""},"Conversion","Heat Capacity Flowrate",null,null,"Supply Temperature","Target Temperature","Supply Temperature","Target Temperature","DTMIN CONTRIB","DTMIN GLOBAL","DTMIN CONTRIB","DTMIN GLOBAL",null,"Input Error Detection"]
[null,null,null,null,null,null,null,"mCp",null,null,null,null,null,{"$f":"INPUT!E15","v":"kW/K"},null,{"$f":"INPUT!F15","v":""},null,"mCp",null,null,null,null,null,null,null,null,null,null,null,null,null,null,null,null,null,null,null,null,null,"Non numerical entry"]
[null,{"$f":"IF(INPUT!$F$12=$P$3,'A1'!U29,IF(INPUT!$F$12=$P$4,'A1'!U29,'A1'!W29))","v":"°C"},{"$f":"IF(INPUT!$F$12=$P$3,'A1'!V29,IF(INPUT!$F$12=$P$4,'A1'!V29,'A1'!X29))","v":"°C"},{"$f":"B29","v":"°C"},null,{"$f":"B29","v":"°C"},null,{"$f":"IF(INPUT!$F$12=$P$3,'A1'!R29,IF(INPUT!$F$12=$P$4,'A1'!S29,'A1'!T29))","v":"kW/K"},{"$f":"IF(INPUT!$F$12=$P$3,\"kW\",IF(INPUT!$F$12=$P$4,\"MJ/h\",\"MBtu(IT)/hr\"))","v":"kW"},null,{"$f":"B29","v":"°C"},{"$f":"C29","v":"°C"},null,null,null,null,null,"kW/K","MJ/h/K","MBtu(IT)/hr/°F","°C","°C","°F","°F","°C","°C","°F","°F",null,"Input Method","DTMIN","Select Units","Check Units","Stream Name","Data","Sup Temp","Targ Temp","Prim Heat","Sec Heat",null,"supply","target","dtmincontrib","Prim Heat","Sec Heat"]
[{"$f":"IF(INPUT!A16=\"\",\"\",INPUT!A16)","v":1},{"$f":"IF(INPUT!$F$12=$P$3,'A1'!U30,IF(INPUT!$F$12=$P$4,'A1'!U30,'A1'!W30))","v":200},{"$f":"IF(INPUT!$F$12=$P$3,'A1'!V30,IF(INPUT!$F$12=$P$4,'A1'!V30,'A1'!X30))","v":50},{"$f":"IF(INPUT!$F$12=$P$3,'A1'!Y30,IF(INPUT!$F$12=$P$4,'A1'!Y30,'A1'!AA30))","v":10},{"$f":"IF(B30=\"\",\"\",IF(D30=\"\",IF($F$30=\"\",\"NO dT MIN\",IF(J30=\"HOT\",((B30)-($F$30/2)),((B30)+($F$30/2)))),IF($J30=\"HOT\",B30-D30,B30+D30)))","v":190},{"$f":"ABS(IF(INPUT!$F$12=$P$3,'A1'!Z30,IF(INPUT!$F$12=$P$4,'A1'!Z30,'A1'!AB30)))","v":10},{"$f":"IF(C30=\"\",\"\",IF($D30=\"\",IF($F$30=\"\",\"NO dT MIN\",IF(J30=\"HOT\",((C30)-($F$30/2)),((C30)+($F$30/2)))),IF($J30=\"HOT\",C30-INPUT!D30,C30+INPUT!D30)))","v":50},{"$f":"IF(INPUT!$F$12=$P$3,'A1'!R30,IF(INPUT!$F$12=$P$4,'A1'!S30,'A1'!T30))","v":3},{"$f":"IF(H30=\"\",\"\",ABS(H30*(L30-K30)))","v":450},{"$f":"IF(B30=\"\",\"\",IF(B30>C30,\"HOT\",\"COLD\"))","v":"HOT"},{"$f":"IF(B30=\"\",\"\",IF(D30=\"\",IF($F$30=\"\",\"NO dT MIN\",IF(J30=\"HOT\",((B30)-($F$30/2)),((B30)+($F$30/2)))),IF($J30=\"HOT\",B30-D30,B30+D30)))","v":190},{"$f":"IF(C30=\"\",\"\",IF($D30=\"\",IF($F$30=\"\",\"NO dT MIN\",IF(J30=\"HOT\",((C30)-($F$30/2)),((C30)+($F$30/2)))),IF($J30=\"HOT\",C30-D30,C30+D30)))","v":40},null,{"$f":"IF(INPUT!E16=\"\",\"\",INPUT!E16)","v":3},{"$f":"IF(N30=\"\",\"\",INDEX($C$3:$D$10,MATCH(N$28,$C$3:$C$10,0),2))","v":1},{"$f":"IF(INPUT!F16=\"\",\"\",INPUT!F16)","v":""},{"$f":"IF(P30=\"\",\"\",INDEX($E$3:$F$10,MATCH(P$28,$E$3:$E$10,0),2))","v":""},{"$f":"IF(N30=\"\",\"\",IF(N$27=B$4,ABS(N30/O30),IF(N$27=B$5,ABS(N30/O30)/ABS(B30-C30),IF(INPUT!F$4=B$6,ABS(N30/O30)*ABS(P30/Q30),IF(INPUT!F$4=B$7,ABS(N30/O30)*ABS(P30/Q30)/ABS(B30-C30),\"\")))))","v":3},{"$f":"IF(R30=\"\",\"\",(R30*3600)/1000)","v":10.8},{"$f":"IF(R30=\"\",\"\",(R30*0.94781742)/1.8)","v":1.5796957},{"$f":"IF(INPUT!B16=\"\",\"\",IF(INPUT!$G$6=\"°C\",INPUT!B16,IF(INPUT!$G$6=\"°F\",(INPUT!B16-32)/1.8,IF(INPUT!$G$6=\"K\",INPUT!B16-273.15,(INPUT!B16/1.8)-273.15))))","v":200},{"$f":"IF(INPUT!C16=\"\",\"\",IF(INPUT!$G$6=\"°C\",INPUT!C16,IF(INPUT!$G$6=\"°F\",(INPUT!C16-32)/1.8,IF(INPUT!$G$6=\"K\",INPUT!C16-273.15,(INPUT!C16/1.8)-273.15))))","v":50},{"$f":"IF(INPUT!B16=\"\",\"\",IF(INPUT!$G$6=\"°F\",INPUT!B16,IF(INPUT!$G$6=\"°C\",(INPUT!B16*1.8)+32,IF(INPUT!$G$6=\"°R\",INPUT!B16-459.67,(INPUT!B16*1.8)-459.67))))","v":392},{"$f":"IF(INPUT!C16=\"\",\"\",IF(INPUT!$G$6=\"°F\",INPUT!C16,IF(INPUT!$G$6=\"°C\",(INPUT!C16*1.8)+32,IF(INPUT!$G$6=\"°R\",INPUT!C16-459.67,(INPUT!C16*1.8)-459.67))))","v":122},{"$f":"IF(INPUT!D16=\"\",\"\",IF(OR(INPUT!$G$6=\"K\",INPUT!$G$6=\"°C\"),INPUT!D16,INPUT!D16/1.8))","v":10},{"$f":"IF(INPUT!F6=\"\",\"\",IF(OR(INPUT!G6=\"K\",INPUT!G6=\"°C\"),INPUT!F6,INPUT!F6/1.8))","v":10},{"$f":"IF(INPUT!D16=\"\",\"\",IF(OR(INPUT!$G$6=\"K\",INPUT!$G$6=\"°C\"),INPUT!D16*1.8,INPUT!D16))","v":18},{"$f":"IF(INPUT!F6=\"\",\"\",IF(OR(INPUT!G6=\"K\",INPUT!G6=\"°C\"),INPUT!F6*1.8,INPUT!F6))","v":18},null,{"$f":"IF(INPUT!$F$4=\"Select Input Data Method\",\"INPUT METHOD NOT SELECTED\",\"\")","v":""},{"$f":"IF(INPUT!$F$6=\"\",\"GLOBAL DTMIN NOT SPECIFIED\",\"\")","v":""},{"$f":"IF(INPUT!F$14=\"\",IF(OR(INPUT!E$15=\"\",INPUT!E$15=\"Select Units\"),\"SELECT UNITS\",\"\"),IF(OR(INPUT!E$15=\"\",INPUT!E$15=\"Select Units\",INPUT!F$15=\"\",INPUT!F$15=\"Select Units\"),\"SELECT UNITS\",\"\"))","v":""},{"$f":"IF(INPUT!$F$14=\"\",IF(COUNTIF('A1'!C$4:C$10,INPUT!E$15)=0,\"INCONSISTENT UNITS\",\"\"),IF(OR(COUNTIF('A1'!C$4:C$10,INPUT!E$15)=0,COUNTIF('A1'!E$4:E$10,INPUT!F$15)=0),\"INCONSISTENT UNITS\",\"\"))","v":""},{"$f":"IF(INPUT!A16=\"\",\"NO STREAM NAME\",\"\")","v":""},{"$f":"IF(AJ30=\"\",IF(AK30=\"\",IF(AL30=\"\",IF(AM30=\"\",IF(AN30=\"\",\"\",AN30),AM30),AL30),AK30),AJ30)","v":""},{"$f":"IF(INPUT!B16=\"\",\"NO SUPPLY TEMP\",\"\")","v":""},{"$f":"IF(INPUT!C16=\"\",\"NO TARGET TEMP\",\"\")","v":""},{"$f":"IF(INPUT!E16=\"\",\"NO PRIMARY HEAT DATA\",\"\")","v":""},{"$f":"IF(INPUT!F$14=\"\",\"\",IF(INPUT!F16=\"\",\"NO SECONDARY HEAT DATA\",\"\"))","v":""},{"$f":"IF(AO30=\"\",IF(AP30=\"\",IF(AQ30=\"\",IF(AR30=\"\",IF(AS30=\"\",\"\",AS30),AR30),AQ30),AP30),AO30)","v":""},{"$f":"IF(SUM(INPUT!B16:F16)-SUM(INPUT!C16:F16)=0,IF(INPUT!B16=0,\"\",\"NON NUMERICAL INPUT\"),\"\")","v":""},{"$f":"IF(SUM(INPUT!B16:F16)-SUM(INPUT!D16:F16,INPUT!B16)=0,IF(INPUT!C16=0,\"\",\"NON NUMERICAL INPUT\"),\"\")","v":""},{"$f":"IF(SUM(INPUT!B16:F16)-SUM(INPUT!E16:F16,INPUT!B16,INPUT!C16)=0,IF(INPUT!D16=0,\"\",\"NON NUMERICAL INPUT\"),\"\")","v":""},{"$f":"IF(SUM(INPUT!B16:F16)-SUM(INPUT!B16:D16,INPUT!F16)=0,IF(INPUT!E16=0,\"\",\"NON NUMERICAL INPUT\"),\"\")","v":""},{"$f":"IF(INPUT!F$14=\"\",\"\",IF(SUM(INPUT!B16:F16)-SUM(INPUT!B16:E16)=0,IF(INPUT!F16=0,\"\",\"NON NUMERICAL INPUT\"),\"\"))","v":""}]
[{"$f":"IF(INPUT!A17=\"\",\"\",INPUT!A17)","v":2},{"$f":"IF(INPUT!$F$12=$P$3,'A1'!U31,IF(INPUT!$F$12=$P$4,'A1'!U31,'A1'!W31))","v":240},{"$f":"IF(INPUT!$F$12=$P$3,'A1'!V31,IF(INPUT!$F$12=$P$4,'A1'!V31,'A1'!X31))","v":100},{"$f":"IF(INPUT!$F$12=$P$3,'A1'!Y31,IF(INPUT!$F$12=$P$4,'A1'!Y31,'A1'!AA31))","v":10},230,null,{"$f":"IF(C31=\"\",\"\",IF($D31=\"\",IF($F$30=\"\",\"NO dT MIN\",IF(J31=\"HOT\",((C31)-($F$30/2)),((C31)+($F$30/2)))),IF($J31=\"HOT\",C31-INPUT!D31,C31+INPUT!D31)))","v":100},{"$f":"IF(INPUT!$F$12=$P$3,'A1'!R31,IF(INPUT!$F$12=$P$4,'A1'!S31,'A1'!T31))","v":1.5},210,"HOT",{"$f":"IF(B31=\"\",\"\",IF(D31=\"\",IF($F$30=\"\",\"NO dT MIN\",IF(J31=\"HOT\",((B31)-($F$30/2)),((B31)+($F$30/2)))),IF($J31=\"HOT\",B31-D31,B31+D31)))","v":230},{"$f":"IF(C31=\"\",\"\",IF($D31=\"\",IF($F$30=\"\",\"NO dT MIN\",IF(J31=\"HOT\",((C31)-($F$30/2)),((C31)+($F$30/2)))),IF($J31=\"HOT\",C31-D31,C31+D31)))","v":90},null,{"$f":"IF(INPUT!E17=\"\",\"\",INPUT!E17)","v":1.5},1,{"$f":"IF(INPUT!F17=\"\",\"\",INPUT!F17)","v":""},"",{"$f":"IF(N31=\"\",\"\",IF(N$27=B$4,ABS(N31/O31),IF(N$27=B$5,ABS(N31/O31)/ABS(B31-C31),IF(INPUT!F$4=B$6,ABS(N31/O31)*ABS(P31/Q31),IF(INPUT!F$4=B$7,ABS(N31/O31)*ABS(P31/Q31)/ABS(B31-C31),\"\")))))","v":1.5},{"$f":"IF(R31=\"\",\"\",(R31*3600)/1000)","v":5.4},{"$f":"IF(R31=\"\",\"\",(R31*0.94781742)/1.8)","v":0.78984785000000002},{"$f":"IF(INPUT!B17=\"\",\"\",IF(INPUT!$G$6=\"°C\",INPUT!B17,IF(INPUT!$G$6=\"°F\",(INPUT!B17-32)/1.8,IF(INPUT!$G$6=\"K\",INPUT!B17-273.15,(INPUT!B17/1.8)-273.15))))","v":240},{"$f":"IF(INPUT!C17=\"\",\"\",IF(INPUT!$G$6=\"°C\",INPUT!C17,IF(INPUT!$G$6=\"°F\",(INPUT!C17-32)/1.8,IF(INPUT!$G$6=\"K\",INPUT!C17-273.15,(INPUT!C17/1.8)-273.15))))","v":100},{"$f":"IF(INPUT!B17=\"\",\"\",IF(INPUT!$G$6=\"°F\",INPUT!B17,IF(INPUT!$G$6=\"°C\",(INPUT!B17*1.8)+32,IF(INPUT!$G$6=\"°R\",INPUT!B17-459.67,(INPUT!B17*1.8)-459.67))))","v":464},{"$f":"IF(INPUT!C17=\"\",\"\",IF(INPUT!$G$6=\"°F\",INPUT!C17,IF(INPUT!$G$6=\"°C\",(INPUT!C17*1.8)+32,IF(INPUT!$G$6=\"°R\",INPUT!C17-459.67,(INPUT!C17*1.8)-459.67))))","v":212},{"$f":"IF(INPUT!D17=\"\",\"\",IF(OR(INPUT!$G$6=\"K\",INPUT!$G$6=\"°C\"),INPUT!D17,INPUT!D17/1.8))","v":10},null,{"$f":"IF(INPUT!D17=\"\",\"\",IF(OR(INPUT!$G$6=\"K\",INPUT!$G$6=\"°C\"),INPUT!D17*1.8,INPUT!D17))","v":18},null,null,{"$f":"IF(INPUT!$F$4=\"Select Input Data Method\",\"INPUT METHOD NOT SELECTED\",\"\")","v":""},{"$f":"IF(INPUT!$F$6=\"\",\"GLOBAL DTMIN NOT SPECIFIED\",\"\")","v":""},{"$f":"IF(INPUT!F$14=\"\",IF(OR(INPUT!E$15=\"\",INPUT!E$15=\"Select Units\"),\"SELECT UNITS\",\"\"),IF(OR(INPUT!E$15=\"\",INPUT!E$15=\"Select Units\",INPUT!F$15=\"\",INPUT!F$15=\"Select Units\"),\"SELECT UNITS\",\"\"))","v":""},{"$f":"IF(INPUT!$F$14=\"\",IF(COUNTIF('A1'!C$4:C$10,INPUT!E$15)=0,\"INCONSISTENT UNITS\",\"\"),IF(OR(COUNTIF('A1'!C$4:C$10,INPUT!E$15)=0,COUNTIF('A1'!E$4:E$10,INPUT!F$15)=0),\"INCONSISTENT UNITS\",\"\"))","v":""},{"$f":"IF(INPUT!A17=\"\",\"NO STREAM NAME\",\"\")","v":""},{"$f":"IF(AJ31=\"\",IF(AK31=\"\",IF(AL31=\"\",IF(AM31=\"\",IF(AN31=\"\",\"\",AN31),AM31),AL31),AK31),AJ31)","v":""},{"$f":"IF(INPUT!B17=\"\",\"NO SUPPLY TEMP\",\"\")","v":""},{"$f":"IF(INPUT!C17=\"\",\"NO TARGET TEMP\",\"\")","v":""},{"$f":"IF(INPUT!E17=\"\",\"NO PRIMARY HEAT DATA\",\"\")","v":""},{"$f":"IF(INPUT!F$14=\"\",\"\",IF(INPUT!F17=\"\",\"NO SECONDARY HEAT DATA\",\"\"))","v":""},{"$f":"IF(AO31=\"\",IF(AP31=\"\",IF(AQ31=\"\",IF(AR31=\"\",IF(AS31=\"\",\"\",AS31),AR31),AQ31),AP31),AO31)","v":""},{"$f":"IF(SUM(INPUT!B17:F17)-SUM(INPUT!C17:F17)=0,IF(INPUT!B17=0,\"\",\"NON NUMERICAL INPUT\"),\"\")","v":""},{"$f":"IF(SUM(INPUT!B17:F17)-SUM(INPUT!D17:F17,INPUT!B17)=0,IF(INPUT!C17=0,\"\",\"NON NUMERICAL INPUT\"),\"\")","v":""},{"$f":"IF(SUM(INPUT!B17:F17)-SUM(INPUT!E17:F17,INPUT!B17,INPUT!C17)=0,IF(INPUT!D17=0,\"\",\"NON NUMERICAL INPUT\"),\"\")","v":""},{"$f":"IF(SUM(INPUT!B17:F17)-SUM(INPUT!B17:D17,INPUT!F17)=0,IF(INPUT!E17=0,\"\",\"NON NUMERICAL INPUT\"),\"\")","v":""},{"$f":"IF(INPUT!F$14=\"\",\"\",IF(SUM(INPUT!B17:F17)-SUM(INPUT!B17:E17)=0,IF(INPUT!F17=0,\"\",\"NON NUMERICAL INPUT\"),\"\"))","v":""}]
[{"$f":"IF(INPUT!A18=\"\",\"\",INPUT!A18)","v":3},{"$f":"IF(INPUT!$F$12=$P$3,'A1'!U32,IF(INPUT!$F$12=$P$4,'A1'!U32,'A1'!W32))","v":120},{"$f":"IF(INPUT!$F$12=$P$3,'A1'!V32,IF(INPUT!$F$12=$P$4,'A1'!V32,'A1'!X32))","v":119},{"$f":"IF(INPUT!$F$12=$P$3,'A1'!Y32,IF(INPUT!$F$12=$P$4,'A1'!Y32,'A1'!AA32))","v":10},110,null,{"$f":"IF(C32=\"\",\"\",IF($D32=\"\",IF($F$30=\"\",\"NO dT MIN\",IF(J32=\"HOT\",((C32)-($F$30/2)),((C32)+($F$30/2)))),IF($J32=\"HOT\",C32-INPUT!D32,C32+INPUT!D32)))","v":119},{"$f":"IF(INPUT!$F$12=$P$3,'A1'!R32,IF(INPUT!$F$12=$P$4,'A1'!S32,'A1'!T32))","v":300},300,"HOT",{"$f":"IF(B32=\"\",\"\",IF(D32=\"\",IF($F$30=\"\",\"NO dT MIN\",IF(J32=\"HOT\",((B32)-($F$30/2)),((B32)+($F$30/2)))),IF($J32=\"HOT\",B32-D32,B32+D32)))","v":110},{"$f":"IF(C32=\"\",\"\",IF($D32=\"\",IF($F$30=\"\",\"NO dT MIN\",IF(J32=\"HOT\",((C32)-($F$30/2)),((C32)+($F$30/2)))),IF($J32=\"HOT\",C32-D32,C32+D32)))","v":109},null,{"$f":"IF(INPUT!E18=\"\",\"\",INPUT!E18)","v":300},1,{"$f":"IF(INPUT!F18=\"\",\"\",INPUT!F18)","v":""},"",{"$f":"IF(N32=\"\",\"\",IF(N$27=B$4,ABS(N32/O32),IF(N$27=B$5,ABS(N32/O32)/ABS(B32-C32),IF(INPUT!F$4=B$6,ABS(N32/O32)*ABS(P32/Q32),IF(INPUT!F$4=B$7,ABS(N32/O32)*ABS(P32/Q32)/ABS(B32-C32),\"\")))))","v":300},1080,157.96957,{"$f":"IF(INPUT!B18=\"\",\"\",IF(INPUT!$G$6=\"°C\",INPUT!B18,IF(INPUT!$G$6=\"°F\",(INPUT!B18-32)/1.8,IF(INPUT!$G$6=\"K\",INPUT!B18-273.15,(INPUT!B18/1.8)-273.15))))","v":120},{"$f":"IF(INPUT!C18=\"\",\"\",IF(INPUT!$G$6=\"°C\",INPUT!C18,IF(INPUT!$G$6=\"°F\",(INPUT!C18-32)/1.8,IF(INPUT!$G$6=\"K\",INPUT!C18-273.15,(INPUT!C18/1.8)-273.15))))","v":119},{"$f":"IF(INPUT!B18=\"\",\"\",IF(INPUT!$G$6=\"°F\",INPUT!B18,IF(INPUT!$G$6=\"°C\",(INPUT!B18*1.8)+32,IF(INPUT!$G$6=\"°R\",INPUT!B18-459.67,(INPUT!B18*1.8)-459.67))))","v":248},{"$f":"IF(INPUT!C18=\"\",\"\",IF(INPUT!$G$6=\"°F\",INPUT!C18,IF(INPUT!$G$6=\"°C\",(INPUT!C18*1.8)+32,IF(INPUT!$G$6=\"°R\",INPUT!C18-459.67,(INPUT!C18*1.8)-459.67))))","v":246.20000000000002},{"$f":"IF(INPUT!D18=\"\",\"\",IF(OR(INPUT!$G$6=\"K\",INPUT!$G$6=\"°C\"),INPUT!D18,INPUT!D18/1.8))","v":10},null,{"$f":"IF(INPUT!D18=\"\",\"\",IF(OR(INPUT!$G$6=\"K\",INPUT!$G$6=\"°C\"),INPUT!D18*1.8,INPUT!D18))","v":18},null,null,{"$f":"IF(INPUT!$F$4=\"Select Input Data Method\",\"INPUT METHOD NOT SELECTED\",\"\")","v":""},{"$f":"IF(INPUT!$F$6=\"\",\"GLOBAL DTMIN NOT SPECIFIED\",\"\")","v":""},{"$f":"IF(INPUT!F$14=\"\",IF(OR(INPUT!E$15=\"\",INPUT!E$15=\"Select Units\"),\"SELECT UNITS\",\"\"),IF(OR(INPUT!E$15=\"\",INPUT!E$15=\"Select Units\",INPUT!F$15=\"\",INPUT!F$15=\"Select Units\"),\"SELECT UNITS\",\"\"))","v":""},{"$f":"IF(INPUT!$F$14=\"\",IF(COUNTIF('A1'!C$4:C$10,INPUT!E$15)=0,\"INCONSISTENT UNITS\",\"\"),IF(OR(COUNTIF('A1'!C$4:C$10,INPUT!E$15)=0,COUNTIF('A1'!E$4:E$10,INPUT!F$15)=0),\"INCONSISTENT UNITS\",\"\"))","v":""},{"$f":"IF(INPUT!A18=\"\",\"NO STREAM NAME\",\"\")","v":""},"",{"$f":"IF(INPUT!B18=\"\",\"NO SUPPLY TEMP\",\"\")","v":""},{"$f":"IF(INPUT!C18=\"\",\"NO TARGET TEMP\",\"\")","v":""},{"$f":"IF(INPUT!E18=\"\",\"NO PRIMARY HEAT DATA\",\"\")","v":""},{"$f":"IF(INPUT!F$14=\"\",\"\",IF(INPUT!F18=\"\",\"NO SECONDARY HEAT DATA\",\"\"))","v":""},"",{"$f":"IF(SUM(INPUT!B18:F18)-SUM(INPUT!C18:F18)=0,IF(INPUT!B18=0,\"\",\"NON NUMERICAL INPUT\"),\"\")","v":""},{"$f":"IF(SUM(INPUT!B18:F18)-SUM(INPUT!D18:F18,INPUT!B18)=0,IF(INPUT!C18=0,\"\",\"NON NUMERICAL INPUT\"),\"\")","v":""},{"$f":"IF(SUM(INPUT!B18:F18)-SUM(INPUT!E18:F18,INPUT!B18,INPUT!C18)=0,IF(INPUT!D18=0,\"\",\"NON NUMERICAL INPUT\"),\"\")","v":""},{"$f":"IF(SUM(INPUT!B18:F18)-SUM(INPUT!B18:D18,INPUT!F18)=0,IF(INPUT!E18=0,\"\",\"NON NUMERICAL INPUT\"),\"\")","v":""},{"$f":"IF(INPUT!F$14=\"\",\"\",IF(SUM(INPUT!B18:F18)-SUM(INPUT!B18:E18)=0,IF(INPUT!F18=0,\"\",\"NON NUMERICAL INPUT\"),\"\"))","v":""}]
[{"$f":"IF(INPUT!A19=\"\",\"\",INPUT!A19)","v":4},{"$f":"IF(INPUT!$F$12=$P$3,'A1'!U33,IF(INPUT!$F$12=$P$4,'A1'!U33,'A1'!W33))","v":30},{"$f":"IF(INPUT!$F$12=$P$3,'A1'!V33,IF(INPUT!$F$12=$P$4,'A1'!V33,'A1'!X33))","v":200},{"$f":"IF(INPUT!$F$12=$P$3,'A1'!Y33,IF(INPUT!$F$12=$P$4,'A1'!Y33,'A1'!AA33))","v":10},40,null,{"$f":"IF(C33=\"\",\"\",IF($D33=\"\",IF($F$30=\"\",\"NO dT MIN\",IF(J33=\"HOT\",((C33)-($F$30/2)),((C33)+($F$30/2)))),IF($J33=\"HOT\",C33-INPUT!D33,C33+INPUT!D33)))","v":200},{"$f":"IF(INPUT!$F$12=$P$3,'A1'!R33,IF(INPUT!$F$12=$P$4,'A1'!S33,'A1'!T33))","v":4},680,"COLD",40,210,null,{"$f":"IF(INPUT!E19=\"\",\"\",INPUT!E19)","v":4},1,{"$f":"IF(INPUT!F19=\"\",\"\",INPUT!F19)","v":""},"",{"$f":"IF(N33=\"\",\"\",IF(N$27=B$4,ABS(N33/O33),IF(N$27=B$5,ABS(N33/O33)/ABS(B33-C33),IF(INPUT!F$4=B$6,ABS(N33/O33)*ABS(P33/Q33),IF(INPUT!F$4=B$7,ABS(N33/O33)*ABS(P33/Q33)/ABS(B33-C33),\"\")))))","v":4},14.4,2.1062609333333335,{"$f":"IF(INPUT!B19=\"\",\"\",IF(INPUT!$G$6=\"°C\",INPUT!B19,IF(INPUT!$G$6=\"°F\",(INPUT!B19-32)/1.8,IF(INPUT!$G$6=\"K\",INPUT!B19-273.15,(INPUT!B19/1.8)-273.15))))","v":30},{"$f":"IF(INPUT!C19=\"\",\"\",IF(INPUT!$G$6=\"°C\",INPUT!C19,IF(INPUT!$G$6=\"°F\",(INPUT!C19-32)/1.8,IF(INPUT!$G$6=\"K\",INPUT!C19-273.15,(INPUT!C19/1.8)-273.15))))","v":200},{"$f":"IF(INPUT!B19=\"\",\"\",IF(INPUT!$G$6=\"°F\",INPUT!B19,IF(INPUT!$G$6=\"°C\",(INPUT!B19*1.8)+32,IF(INPUT!$G$6=\"°R\",INPUT!B19-459.67,(INPUT!B19*1.8)-459.67))))","v":86},{"$f":"IF(INPUT!C19=\"\",\"\",IF(INPUT!$G$6=\"°F\",INPUT!C19,IF(INPUT!$G$6=\"°C\",(INPUT!C19*1.8)+32,IF(INPUT!$G$6=\"°R\",INPUT!C19-459.67,(INPUT!C19*1.8)-459.67))))","v":392},{"$f":"IF(INPUT!D19=\"\",\"\",IF(OR(INPUT!$G$6=\"K\",INPUT!$G$6=\"°C\"),INPUT!D19,INPUT!D19/1.8))","v":10},null,{"$f":"IF(INPUT!D19=\"\",\"\",IF(OR(INPUT!$G$6=\"K\",INPUT!$G$6=\"°C\"),INPUT!D19*1.8,INPUT!D19))","v":18},null,null,{"$f":"IF(INPUT!$F$4=\"Select Input Data Method\",\"INPUT METHOD NOT SELECTED\",\"\")","v":""},{"$f":"IF(INPUT!$F$6=\"\",\"GLOBAL DTMIN NOT SPECIFIED\",\"\")","v":""},{"$f":"IF(INPUT!F$14=\"\",IF(OR(INPUT!E$15=\"\",INPUT!E$15=\"Select Units\"),\"SELECT UNITS\",\"\"),IF(OR(INPUT!E$15=\"\",INPUT!E$15=\"Select Units\",INPUT!F$15=\"\",INPUT!F$15=\"Select Units\"),\"SELECT UNITS\",\"\"))","v":""},{"$f":"IF(INPUT!$F$14=\"\",IF(COUNTIF('A1'!C$4:C$10,INPUT!E$15)=0,\"INCONSISTENT UNITS\",\"\"),IF(OR(COUNTIF('A1'!C$4:C$10,INPUT!E$15)=0,COUNTIF('A1'!E$4:E$10,INPUT!F$15)=0),\"INCONSISTENT UNITS\",\"\"))","v":""},{"$f":"IF(INPUT!A19=\"\",\"NO STREAM NAME\",\"\")","v":""},"",{"$f":"IF(INPUT!B19=\"\",\"NO SUPPLY TEMP\",\"\")","v":""},{"$f":"IF(INPUT!C19=\"\",\"NO TARGET TEMP\",\"\")","v":""},{"$f":"IF(INPUT!E19=\"\",\"NO PRIMARY HEAT DATA\",\"\")","v":""},{"$f":"IF(INPUT!F$14=\"\",\"\",IF(INPUT!F19=\"\",\"NO SECONDARY HEAT DATA\",\"\"))","v":""},"",{"$f":"IF(SUM(INPUT!B19:F19)-SUM(INPUT!C19:F19)=0,IF(INPUT!B19=0,\"\",\"NON NUMERICAL INPUT\"),\"\")","v":""},{"$f":"IF(SUM(INPUT!B19:F19)-SUM(INPUT!D19:F19,INPUT!B19)=0,IF(INPUT!C19=0,\"\",\"NON NUMERICAL INPUT\"),\"\")","v":""},{"$f":"IF(SUM(INPUT!B19:F19)-SUM(INPUT!E19:F19,INPUT!B19,INPUT!C19)=0,IF(INPUT!D19=0,\"\",\"NON NUMERICAL INPUT\"),\"\")","v":""},{"$f":"IF(SUM(INPUT!B19:F19)-SUM(INPUT!B19:D19,INPUT!F19)=0,IF(INPUT!E19=0,\"\",\"NON NUMERICAL INPUT\"),\"\")","v":""},{"$f":"IF(INPUT!F$14=\"\",\"\",IF(SUM(INPUT!B19:F19)-SUM(INPUT!B19:E19)=0,IF(INPUT!F19=0,\"\",\"NON NUMERICAL INPUT\"),\"\"))","v":""}]
[{"$f":"IF(INPUT!A20=\"\",\"\",INPUT!A20)","v":5},{"$f":"IF(INPUT!$F$12=$P$3,'A1'!U34,IF(INPUT!$F$12=$P$4,'A1'!U34,'A1'!W34))","v":50},{"$f":"IF(INPUT!$F$12=$P$3,'A1'!V34,IF(INPUT!$F$12=$P$4,'A1'!V34,'A1'!X34))","v":250},{"$f":"IF(INPUT!$F$12=$P$3,'A1'!Y34,IF(INPUT!$F$12=$P$4,'A1'!Y34,'A1'!AA34))","v":10},60,null,{"$f":"IF(C34=\"\",\"\",IF($D34=\"\",IF($F$30=\"\",\"NO dT MIN\",IF(J34=\"HOT\",((C34)-($F$30/2)),((C34)+($F$30/2)))),IF($J34=\"HOT\",C34-INPUT!D34,C34+INPUT!D34)))","v":250},{"$f":"IF(INPUT!$F$12=$P$3,'A1'!R34,IF(INPUT!$F$12=$P$4,'A1'!S34,'A1'!T34))","v":2},400,"COLD",60,260,null,{"$f":"IF(INPUT!E20=\"\",\"\",INPUT!E20)","v":2},1,{"$f":"IF(INPUT!F20=\"\",\"\",INPUT!F20)","v":""},"",{"$f":"IF(N34=\"\",\"\",IF(N$27=B$4,ABS(N34/O34),IF(N$27=B$5,ABS(N34/O34)/ABS(B34-C34),IF(INPUT!F$4=B$6,ABS(N34/O34)*ABS(P34/Q34),IF(INPUT!F$4=B$7,ABS(N34/O34)*ABS(P34/Q34)/ABS(B34-C34),\"\")))))","v":2},7.2,1.0531304666666668,{"$f":"IF(INPUT!B20=\"\",\"\",IF(INPUT!$G$6=\"°C\",INPUT!B20,IF(INPUT!$G$6=\"°F\",(INPUT!B20-32)/1.8,IF(INPUT!$G$6=\"K\",INPUT!B20-273.15,(INPUT!B20/1.8)-273.15))))","v":50},{"$f":"IF(INPUT!C20=\"\",\"\",IF(INPUT!$G$6=\"°C\",INPUT!C20,IF(INPUT!$G$6=\"°F\",(INPUT!C20-32)/1.8,IF(INPUT!$G$6=\"K\",INPUT!C20-273.15,(INPUT!C20/1.8)-273.15))))","v":250},{"$f":"IF(INPUT!B20=\"\",\"\",IF(INPUT!$G$6=\"°F\",INPUT!B20,IF(INPUT!$G$6=\"°C\",(INPUT!B20*1.8)+32,IF(INPUT!$G$6=\"°R\",INPUT!B20-459.67,(INPUT!B20*1.8)-459.67))))","v":122},{"$f":"IF(INPUT!C20=\"\",\"\",IF(INPUT!$G$6=\"°F\",INPUT!C20,IF(INPUT!$G$6=\"°C\",(INPUT!C20*1.8)+32,IF(INPUT!$G$6=\"°R\",INPUT!C20-459.67,(INPUT!C20*1.8)-459.67))))","v":482},{"$f":"IF(INPUT!D20=\"\",\"\",IF(OR(INPUT!$G$6=\"K\",INPUT!$G$6=\"°C\"),INPUT!D20,INPUT!D20/1.8))","v":10},null,{"$f":"IF(INPUT!D20=\"\",\"\",IF(OR(INPUT!$G$6=\"K\",INPUT!$G$6=\"°C\"),INPUT!D20*1.8,INPUT!D20))","v":18},null,null,{"$f":"IF(INPUT!$F$4=\"Select Input Data Method\",\"INPUT METHOD NOT SELECTED\",\"\")","v":""},{"$f":"IF(INPUT!$F$6=\"\",\"GLOBAL DTMIN NOT SPECIFIED\",\"\")","v":""},{"$f":"IF(INPUT!F$14=\"\",IF(OR(INPUT!E$15=\"\",INPUT!E$15=\"Select Units\"),\"SELECT UNITS\",\"\"),IF(OR(INPUT!E$15=\"\",INPUT!E$15=\"Select Units\",INPUT!F$15=\"\",INPUT!F$15=\"Select Units\"),\"SELECT UNITS\",\"\"))","v":""},{"$f":"IF(INPUT!$F$14=\"\",IF(COUNTIF('A1'!C$4:C$10,INPUT!E$15)=0,\"INCONSISTENT UNITS\",\"\"),IF(OR(COUNTIF('A1'!C$4:C$10,INPUT!E$15)=0,COUNTIF('A1'!E$4:E$10,INPUT!F$15)=0),\"INCONSISTENT UNITS\",\"\"))","v":""},{"$f":"IF(INPUT!A20=\"\",\"NO STREAM NAME\",\"\")","v":""},"",{"$f":"IF(INPUT!B20=\"\",\"NO SUPPLY TEMP\",\"\")","v":""},{"$f":"IF(INPUT!C20=\"\",\"NO TARGET TEMP\",\"\")","v":""},{"$f":"IF(INPUT!E20=\"\",\"NO PRIMARY HEAT DATA\",\"\")","v":""},{"$f":"IF(INPUT!F$14=\"\",\"\",IF(INPUT!F20=\"\",\"NO SECONDARY HEAT DATA\",\"\"))","v":""},"",{"$f":"IF(SUM(INPUT!B20:F20)-SUM(INPUT!C20:F20)=0,IF(INPUT!B20=0,\"\",\"NON NUMERICAL INPUT\"),\"\")","v":""},{"$f":"IF(SUM(INPUT!B20:F20)-SUM(INPUT!D20:F20,INPUT!B20)=0,IF(INPUT!C20=0,\"\",\"NON NUMERICAL INPUT\"),\"\")","v":""},{"$f":"IF(SUM(INPUT!B20:F20)-SUM(INPUT!E20:F20,INPUT!B20,INPUT!C20)=0,IF(INPUT!D20=0,\"\",\"NON NUMERICAL INPUT\"),\"\")","v":""},{"$f":"IF(SUM(INPUT!B20:F20)-SUM(INPUT!B20:D20,INPUT!F20)=0,IF(INPUT!E20=0,\"\",\"NON NUMERICAL INPUT\"),\"\")","v":""},{"$f":"IF(INPUT!F$14=\"\",\"\",IF(SUM(INPUT!B20:F20)-SUM(INPUT!B20:E20)=0,IF(INPUT!F20=0,\"\",\"NON NUMERICAL INPUT\"),\"\"))","v":""}]
[{"$f":"IF(INPUT!A21=\"\",\"\",INPUT!A21)","v":""},{"$f":"IF(INPUT!$F$12=$P$3,'A1'!U35,IF(INPUT!$F$12=$P$4,'A1'!U35,'A1'!W35))","v":""},{"$f":"IF(INPUT!$F$12=$P$3,'A1'!V35,IF(INPUT!$F$12=$P$4,'A1'!V35,'A1'!X35))","v":""},{"$f":"IF(INPUT!$F$12=$P$3,'A1'!Y35,IF(INPUT!$F$12=$P$4,'A1'!Y35,'A1'!AA35))","v":""},"",null,{"$f":"IF(C35=\"\",\"\",IF($D35=\"\",IF($F$30=\"\",\"NO dT MIN\",IF(J35=\"HOT\",((C35)-($F$30/2)),((C35)+($F$30/2)))),IF($J35=\"HOT\",C35-INPUT!D35,C35+INPUT!D35)))","v":""},{"$f":"IF(INPUT!$F$12=$P$3,'A1'!R35,IF(INPUT!$F$12=$P$4,'A1'!S35,'A1'!T35))","v":""},"","","","",null,{"$f":"IF(INPUT!E21=\"\",\"\",INPUT!E21)","v":""},"",{"$f":"IF(INPUT!F21=\"\",\"\",INPUT!F21)","v":""},"",{"$f":"IF(N35=\"\",\"\",IF(N$27=B$4,ABS(N35/O35),IF(N$27=B$5,ABS(N35/O35)/ABS(B35-C35),IF(INPUT!F$4=B$6,ABS(N35/O35)*ABS(P35/Q35),IF(INPUT!F$4=B$7,ABS(N35/O35)*ABS(P35/Q35)/ABS(B35-C35),\"\")))))","v":""},"","",{"$f":"IF(INPUT!B21=\"\",\"\",IF(INPUT!$G$6=\"°C\",INPUT!B21,IF(INPUT!$G$6=\"°F\",(INPUT!B21-32)/1.8,IF(INPUT!$G$6=\"K\",INPUT!B21-273.15,(INPUT!B21/1.8)-273.15))))","v":""},{"$f":"IF(INPUT!C21=\"\",\"\",IF(INPUT!$G$6=\"°C\",INPUT!C21,IF(INPUT!$G$6=\"°F\",(INPUT!C21-32)/1.8,IF(INPUT!$G$6=\"K\",INPUT!C21-273.15,(INPUT!C21/1.8)-273.15))))","v":""},{"$f":"IF(INPUT!B21=\"\",\"\",IF(INPUT!$G$6=\"°F\",INPUT!B21,IF(INPUT!$G$6=\"°C\",(INPUT!B21*1.8)+32,IF(INPUT!$G$6=\"°R\",INPUT!B21-459.67,(INPUT!B21*1.8)-459.67))))","v":""},{"$f":"IF(INPUT!C21=\"\",\"\",IF(INPUT!$G$6=\"°F\",INPUT!C21,IF(INPUT!$G$6=\"°C\",(INPUT!C21*1.8)+32,IF(INPUT!$G$6=\"°R\",INPUT!C21-459.67,(INPUT!C21*1.8)-459.67))))","v":""},{"$f":"IF(INPUT!D21=\"\",\"\",IF(OR(INPUT!$G$6=\"K\",INPUT!$G$6=\"°C\"),INPUT!D21,INPUT!D21/1.8))","v":""},null,{"$f":"IF(INPUT!D21=\"\",\"\",IF(OR(INPUT!$G$6=\"K\",INPUT!$G$6=\"°C\"),INPUT!D21*1.8,INPUT!D21))","v":""},null,null,{"$f":"IF(INPUT!$F$4=\"Select Input Data Method\",\"INPUT METHOD NOT SELECTED\",\"\")","v":""},{"$f":"IF(INPUT!$F$6=\"\",\"GLOBAL DTMIN NOT SPECIFIED\",\"\")","v":""},{"$f":"IF(INPUT!F$14=\"\",IF(OR(INPUT!E$15=\"\",INPUT!E$15=\"Select Units\"),\"SELECT UNITS\",\"\"),IF(OR(INPUT!E$15=\"\",INPUT!E$15=\"Select Units\",INPUT!F$15=\"\",INPUT!F$15=\"Select Units\"),\"SELECT UNITS\",\"\"))","v":""},{"$f":"IF(INPUT!$F$14=\"\",IF(COUNTIF('A1'!C$4:C$10,INPUT!E$15)=0,\"INCONSISTENT UNITS\",\"\"),IF(OR(COUNTIF('A1'!C$4:C$10,INPUT!E$15)=0,COUNTIF('A1'!E$4:E$10,INPUT!F$15)=0),\"INCONSISTENT UNITS\",\"\"))","v":""},{"$f":"IF(INPUT!A21=\"\",\"NO STREAM NAME\",\"\")","v":"NO STREAM NAME"},"NO SUPPLY TEMP",{"$f":"IF(INPUT!B21=\"\",\"NO SUPPLY TEMP\",\"\")","v":"NO SUPPLY TEMP"},{"$f":"IF(INPUT!C21=\"\",\"NO TARGET TEMP\",\"\")","v":"NO TARGET TEMP"},{"$f":"IF(INPUT!E21=\"\",\"NO PRIMARY HEAT DATA\",\"\")","v":"NO PRIMARY HEAT DATA"},{"$f":"IF(INPUT!F$14=\"\",\"\",IF(INPUT!F21=\"\",\"NO SECONDARY HEAT DATA\",\"\"))","v":""},"",{"$f":"IF(SUM(INPUT!B21:F21)-SUM(INPUT!C21:F21)=0,IF(INPUT!B21=0,\"\",\"NON NUMERICAL INPUT\"),\"\")","v":""},{"$f":"IF(SUM(INPUT!B21:F21)-SUM(INPUT!D21:F21,INPUT!B21)=0,IF(INPUT!C21=0,\"\",\"NON NUMERICAL INPUT\"),\"\")","v":""},{"$f":"IF(SUM(INPUT!B21:F21)-SUM(INPUT!E21:F21,INPUT!B21,INPUT!C21)=0,IF(INPUT!D21=0,\"\",\"NON NUMERICAL INPUT\"),\"\")","v":""},{"$f":"IF(SUM(INPUT!B21:F21)-SUM(INPUT!B21:D21,INPUT!F21)=0,IF(INPUT!E21=0,\"\",\"NON NUMERICAL INPUT\"),\"\")","v":""},{"$f":"IF(INPUT!F$14=\"\",\"\",IF(SUM(INPUT!B21:F21)-SUM(INPUT!B21:E21)=0,IF(INPUT!F21=0,\"\",\"NON NUMERICAL INPUT\"),\"\"))","v":""}]
[{"$f":"IF(INPUT!A22=\"\",\"\",INPUT!A22)","v":""},{"$f":"IF(INPUT!$F$12=$P$3,'A1'!U36,IF(INPUT!$F$12=$P$4,'A1'!U36,'A1'!W36))","v":""},{"$f":"IF(INPUT!$F$12=$P$3,'A1'!V36,IF(INPUT!$F$12=$P$4,'A1'!V36,'A1'!X36))","v":""},{"$f":"IF(INPUT!$F$12=$P$3,'A1'!Y36,IF(INPUT!$F$12=$P$4,'A1'!Y36,'A1'!AA36))","v":""},"",null,{"$f":"IF(C36=\"\",\"\",IF($D36=\"\",IF($F$30=\"\",\"NO dT MIN\",IF(J36=\"HOT\",((C36)-($F$30/2)),((C36)+($F$30/2)))),IF($J36=\"HOT\",C36-INPUT!D36,C36+INPUT!D36)))","v":""},{"$f":"IF(INPUT!$F$12=$P$3,'A1'!R36,IF(INPUT!$F$12=$P$4,'A1'!S36,'A1'!T36))","v":""},"","","","",null,{"$f":"IF(INPUT!E22=\"\",\"\",INPUT!E22)","v":""},"",{"$f":"IF(INPUT!F22=\"\",\"\",INPUT!F22)","v":""},"",{"$f":"IF(N36=\"\",\"\",IF(N$27=B$4,ABS(N36/O36),IF(N$27=B$5,ABS(N36/O36)/ABS(B36-C36),IF(INPUT!F$4=B$6,ABS(N36/O36)*ABS(P36/Q36),IF(INPUT!F$4=B$7,ABS(N36/O36)*ABS(P36/Q36)/ABS(B36-C36),\"\")))))","v":""},"","",{"$f":"IF(INPUT!B22=\"\",\"\",IF(INPUT!$G$6=\"°C\",INPUT!B22,IF(INPUT!$G$6=\"°F\",(INPUT!B22-32)/1.8,IF(INPUT!$G$6=\"K\",INPUT!B22-273.15,(INPUT!B22/1.8)-273.15))))","v":""},{"$f":"IF(INPUT!C22=\"\",\"\",IF(INPUT!$G$6=\"°C\",INPUT!C22,IF(INPUT!$G$6=\"°F\",(INPUT!C22-32)/1.8,IF(INPUT!$G$6=\"K\",INPUT!C22-273.15,(INPUT!C22/1.8)-273.15))))","v":""},{"$f":"IF(INPUT!B22=\"\",\"\",IF(INPUT!$G$6=\"°F\",INPUT!B22,IF(INPUT!$G$6=\"°C\",(INPUT!B22*1.8)+32,IF(INPUT!$G$6=\"°R\",INPUT!B22-459.67,(INPUT!B22*1.8)-459.67))))","v":""},{"$f":"IF(INPUT!C22=\"\",\"\",IF(INPUT!$G$6=\"°F\",INPUT!C22,IF(INPUT!$G$6=\"°C\",(INPUT!C22*1.8)+32,IF(INPUT!$G$6=\"°R\",INPUT!C22-459.67,(INPUT!C22*1.8)-459.67))))","v":""},{"$f":"IF(INPUT!D22=\"\",\"\",IF(OR(INPUT!$G$6=\"K\",INPUT!$G$6=\"°C\"),INPUT!D22,INPUT!D22/1.8))","v":""},null,{"$f":"IF(INPUT!D22=\"\",\"\",IF(OR(INPUT!$G$6=\"K\",INPUT!$G$6=\"°C\"),INPUT!D22*1.8,INPUT!D22))","v":""},null,null,{"$f":"IF(INPUT!$F$4=\"Select Input Data Method\",\"INPUT METHOD NOT SELECTED\",\"\")","v":""},{"$f":"IF(INPUT!$F$6=\"\",\"GLOBAL DTMIN NOT SPECIFIED\",\"\")","v":""},{"$f":"IF(INPUT!F$14=\"\",IF(OR(INPUT!E$15=\"\",INPUT!E$15=\"Select Units\"),\"SELECT UNITS\",\"\"),IF(OR(INPUT!E$15=\"\",INPUT!E$15=\"Select Units\",INPUT!F$15=\"\",INPUT!F$15=\"Select Units\"),\"SELECT UNITS\",\"\"))","v":""},{"$f":"IF(INPUT!$F$14=\"\",IF(COUNTIF('A1'!C$4:C$10,INPUT!E$15)=0,\"INCONSISTENT UNITS\",\"\"),IF(OR(COUNTIF('A1'!C$4:C$10,INPUT!E$15)=0,COUNTIF('A1'!E$4:E$10,INPUT!F$15)=0),\"INCONSISTENT UNITS\",\"\"))","v":""},{"$f":"IF(INPUT!A22=\"\",\"NO STREAM NAME\",\"\")","v":"NO STREAM NAME"},"NO SUPPLY TEMP",{"$f":"IF(INPUT!B22=\"\",\"NO SUPPLY TEMP\",\"\")","v":"NO SUPPLY TEMP"},{"$f":"IF(INPUT!C22=\"\",\"NO TARGET TEMP\",\"\")","v":"NO TARGET TEMP"},{"$f":"IF(INPUT!E22=\"\",\"NO PRIMARY HEAT DATA\",\"\")","v":"NO PRIMARY HEAT DATA"},{"$f":"IF(INPUT!F$14=\"\",\"\",IF(INPUT!F22=\"\",\"NO SECONDARY HEAT DATA\",\"\"))","v":""},"",{"$f":"IF(SUM(INPUT!B22:F22)-SUM(INPUT!C22:F22)=0,IF(INPUT!B22=0,\"\",\"NON NUMERICAL INPUT\"),\"\")","v":""},{"$f":"IF(SUM(INPUT!B22:F22)-SUM(INPUT!D22:F22,INPUT!B22)=0,IF(INPUT!C22=0,\"\",\"NON NUMERICAL INPUT\"),\"\")","v":""},{"$f":"IF(SUM(INPUT!B22:F22)-SUM(INPUT!E22:F22,INPUT!B22,INPUT!C22)=0,IF(INPUT!D22=0,\"\",\"NON NUMERICAL INPUT\"),\"\")","v":""},{"$f":"IF(SUM(INPUT!B22:F22)-SUM(INPUT!B22:D22,INPUT!F22)=0,IF(INPUT!E22=0,\"\",\"NON NUMERICAL INPUT\"),\"\")","v":""},{"$f":"IF(INPUT!F$14=\"\",\"\",IF(SUM(INPUT!B22:F22)-SUM(INPUT!B22:E22)=0,IF(INPUT!F22=0,\"\",\"NON NUMERICAL INPUT\"),\"\"))","v":""}]
[{"$f":"IF(INPUT!A23=\"\",\"\",INPUT!A23)","v":""},{"$f":"IF(INPUT!$F$12=$P$3,'A1'!U37,IF(INPUT!$F$12=$P$4,'A1'!U37,'A1'!W37))","v":""},{"$f":"IF(INPUT!$F$12=$P$3,'A1'!V37,IF(INPUT!$F$12=$P$4,'A1'!V37,'A1'!X37))","v":""},{"$f":"IF(INPUT!$F$12=$P$3,'A1'!Y37,IF(INPUT!$F$12=$P$4,'A1'!Y37,'A1'!AA37))","v":""},"",null,{"$f":"IF(C37=\"\",\"\",IF($D37=\"\",IF($F$30=\"\",\"NO dT MIN\",IF(J37=\"HOT\",((C37)-($F$30/2)),((C37)+($F$30/2)))),IF($J37=\"HOT\",C37-INPUT!D37,C37+INPUT!D37)))","v":""},{"$f":"IF(INPUT!$F$12=$P$3,'A1'!R37,IF(INPUT!$F$12=$P$4,'A1'!S37,'A1'!T37))","v":""},"","","","",null,{"$f":"IF(INPUT!E23=\"\",\"\",INPUT!E23)","v":""},"",{"$f":"IF(INPUT!F23=\"\",\"\",INPUT!F23)","v":""},"",{"$f":"IF(N37=\"\",\"\",IF(N$27=B$4,ABS(N37/O37),IF(N$27=B$5,ABS(N37/O37)/ABS(B37-C37),IF(INPUT!F$4=B$6,ABS(N37/O37)*ABS(P37/Q37),IF(INPUT!F$4=B$7,ABS(N37/O37)*ABS(P37/Q37)/ABS(B37-C37),\"\")))))","v":""},"","",{"$f":"IF(INPUT!B23=\"\",\"\",IF(INPUT!$G$6=\"°C\",INPUT!B23,IF(INPUT!$G$6=\"°F\",(INPUT!B23-32)/1.8,IF(INPUT!$G$6=\"K\",INPUT!B23-273.15,(INPUT!B23/1.8)-273.15))))","v":""},{"$f":"IF(INPUT!C23=\"\",\"\",IF(INPUT!$G$6=\"°C\",INPUT!C23,IF(INPUT!$G$6=\"°F\",(INPUT!C23-32)/1.8,IF(INPUT!$G$6=\"K\",INPUT!C23-273.15,(INPUT!C23/1.8)-273.15))))","v":""},{"$f":"IF(INPUT!B23=\"\",\"\",IF(INPUT!$G$6=\"°F\",INPUT!B23,IF(INPUT!$G$6=\"°C\",(INPUT!B23*1.8)+32,IF(INPUT!$G$6=\"°R\",INPUT!B23-459.67,(INPUT!B23*1.8)-459.67))))","v":""},{"$f":"IF(INPUT!C23=\"\",\"\",IF(INPUT!$G$6=\"°F\",INPUT!C23,IF(INPUT!$G$6=\"°C\",(INPUT!C23*1.8)+32,IF(INPUT!$G$6=\"°R\",INPUT!C23-459.67,(INPUT!C23*1.8)-459.67))))","v":""},{"$f":"IF(INPUT!D23=\"\",\"\",IF(OR(INPUT!$G$6=\"K\",INPUT!$G$6=\"°C\"),INPUT!D23,INPUT!D23/1.8))","v":""},null,{"$f":"IF(INPUT!D23=\"\",\"\",IF(OR(INPUT!$G$6=\"K\",INPUT!$G$6=\"°C\"),INPUT!D23*1.8,INPUT!D23))","v":""},null,null,{"$f":"IF(INPUT!$F$4=\"Select Input Data Method\",\"INPUT METHOD NOT SELECTED\",\"\")","v":""},{"$f":"IF(INPUT!$F$6=\"\",\"GLOBAL DTMIN NOT SPECIFIED\",\"\")","v":""},{"$f":"IF(INPUT!F$14=\"\",IF(OR(INPUT!E$15=\"\",INPUT!E$15=\"Select Units\"),\"SELECT UNITS\",\"\"),IF(OR(INPUT!E$15=\"\",INPUT!E$15=\"Select Units\",INPUT!F$15=\"\",INPUT!F$15=\"Select Units\"),\"SELECT UNITS\",\"\"))","v":""},{"$f":"IF(INPUT!$F$14=\"\",IF(COUNTIF('A1'!C$4:C$10,INPUT!E$15)=0,\"INCONSISTENT UNITS\",\"\"),IF(OR(COUNTIF('A1'!C$4:C$10,INPUT!E$15)=0,COUNTIF('A1'!E$4:E$10,INPUT!F$15)=0),\"INCONSISTENT UNITS\",\"\"))","v":""},{"$f":"IF(INPUT!A23=\"\",\"NO STREAM NAME\",\"\")","v":"NO STREAM NAME"},"NO SUPPLY TEMP",{"$f":"IF(INPUT!B23=\"\",\"NO SUPPLY TEMP\",\"\")","v":"NO SUPPLY TEMP"},{"$f":"IF(INPUT!C23=\"\",\"NO TARGET TEMP\",\"\")","v":"NO TARGET TEMP"},{"$f":"IF(INPUT!E23=\"\",\"NO PRIMARY HEAT DATA\",\"\")","v":"NO PRIMARY HEAT DATA"},{"$f":"IF(INPUT!F$14=\"\",\"\",IF(INPUT!F23=\"\",\"NO SECONDARY HEAT DATA\",\"\"))","v":""},"",{"$f":"IF(SUM(INPUT!B23:F23)-SUM(INPUT!C23:F23)=0,IF(INPUT!B23=0,\"\",\"NON NUMERICAL INPUT\"),\"\")","v":""},{"$f":"IF(SUM(INPUT!B23:F23)-SUM(INPUT!D23:F23,INPUT!B23)=0,IF(INPUT!C23=0,\"\",\"NON NUMERICAL INPUT\"),\"\")","v":""},{"$f":"IF(SUM(INPUT!B23:F23)-SUM(INPUT!E23:F23,INPUT!B23,INPUT!C23)=0,IF(INPUT!D23=0,\"\",\"NON NUMERICAL INPUT\"),\"\")","v":""},{"$f":"IF(SUM(INPUT!B23:F23)-SUM(INPUT!B23:D23,INPUT!F23)=0,IF(INPUT!E23=0,\"\",\"NON NUMERICAL INPUT\"),\"\")","v":""},{"$f":"IF(INPUT!F$14=\"\",\"\",IF(SUM(INPUT!B23:F23)-SUM(INPUT!B23:E23)=0,IF(INPUT!F23=0,\"\",\"NON NUMERICAL INPUT\"),\"\"))","v":""}]
[{"$f":"IF(INPUT!A24=\"\",\"\",INPUT!A24)","v":""},{"$f":"IF(INPUT!$F$12=$P$3,'A1'!U38,IF(INPUT!$F$12=$P$4,'A1'!U38,'A1'!W38))","v":""},{"$f":"IF(INPUT!$F$12=$P$3,'A1'!V38,IF(INPUT!$F$12=$P$4,'A1'!V38,'A1'!X38))","v":""},{"$f":"IF(INPUT!$F$12=$P$3,'A1'!Y38,IF(INPUT!$F$12=$P$4,'A1'!Y38,'A1'!AA38))","v":""},"",null,{"$f":"IF(C38=\"\",\"\",IF($D38=\"\",IF($F$30=\"\",\"NO dT MIN\",IF(J38=\"HOT\",((C38)-($F$30/2)),((C38)+($F$30/2)))),IF($J38=\"HOT\",C38-INPUT!D38,C38+INPUT!D38)))","v":""},{"$f":"IF(INPUT!$F$12=$P$3,'A1'!R38,IF(INPUT!$F$12=$P$4,'A1'!S38,'A1'!T38))","v":""},"","","","",null,{"$f":"IF(INPUT!E24=\"\",\"\",INPUT!E24)","v":""},"",{"$f":"IF(INPUT!F24=\"\",\"\",INPUT!F24)","v":""},"",{"$f":"IF(N38=\"\",\"\",IF(N$27=B$4,ABS(N38/O38),IF(N$27=B$5,ABS(N38/O38)/ABS(B38-C38),IF(INPUT!F$4=B$6,ABS(N38/O38)*ABS(P38/Q38),IF(INPUT!F$4=B$7,ABS(N38/O38)*ABS(P38/Q38)/ABS(B38-C38),\"\")))))","v":""},"","",{"$f":"IF(INPUT!B24=\"\",\"\",IF(INPUT!$G$6=\"°C\",INPUT!B24,IF(INPUT!$G$6=\"°F\",(INPUT!B24-32)/1.8,IF(INPUT!$G$6=\"K\",INPUT!B24-273.15,(INPUT!B24/1.8)-273.15))))","v":""},{"$f":"IF(INPUT!C24=\"\",\"\",IF(INPUT!$G$6=\"°C\",INPUT!C24,IF(INPUT!$G$6=\"°F\",(INPUT!C24-32)/1.8,IF(INPUT!$G$6=\"K\",INPUT!C24-273.15,(INPUT!C24/1.8)-273.15))))","v":""},{"$f":"IF(INPUT!B24=\"\",\"\",IF(INPUT!$G$6=\"°F\",INPUT!B24,IF(INPUT!$G$6=\"°C\",(INPUT!B24*1.8)+32,IF(INPUT!$G$6=\"°R\",INPUT!B24-459.67,(INPUT!B24*1.8)-459.67))))","v":""},{"$f":"IF(INPUT!C24=\"\",\"\",IF(INPUT!$G$6=\"°F\",INPUT!C24,IF(INPUT!$G$6=\"°C\",(INPUT!C24*1.8)+32,IF(INPUT!$G$6=\"°R\",INPUT!C24-459.67,(INPUT!C24*1.8)-459.67))))","v":""},{"$f":"IF(INPUT!D24=\"\",\"\",IF(OR(INPUT!$G$6=\"K\",INPUT!$G$6=\"°C\"),INPUT!D24,INPUT!D24/1.8))","v":""},null,{"$f":"IF(INPUT!D24=\"\",\"\",IF(OR(INPUT!$G$6=\"K\",INPUT!$G$6=\"°C\"),INPUT!D24*1.8,INPUT!D24))","v":""},null,null,{"$f":"IF(INPUT!$F$4=\"Select Input Data Method\",\"INPUT METHOD NOT SELECTED\",\"\")","v":""},{"$f":"IF(INPUT!$F$6=\"\",\"GLOBAL DTMIN NOT SPECIFIED\",\"\")","v":""},{"$f":"IF(INPUT!F$14=\"\",IF(OR(INPUT!E$15=\"\",INPUT!E$15=\"Select Units\"),\"SELECT UNITS\",\"\"),IF(OR(INPUT!E$15=\"\",INPUT!E$15=\"Select Units\",INPUT!F$15=\"\",INPUT!F$15=\"Select Units\"),\"SELECT UNITS\",\"\"))","v":""},{"$f":"IF(INPUT!$F$14=\"\",IF(COUNTIF('A1'!C$4:C$10,INPUT!E$15)=0,\"INCONSISTENT UNITS\",\"\"),IF(OR(COUNTIF('A1'!C$4:C$10,INPUT!E$15)=0,COUNTIF('A1'!E$4:E$10,INPUT!F$15)=0),\"INCONSISTENT UNITS\",\"\"))","v":""},{"$f":"IF(INPUT!A24=\"\",\"NO STREAM NAME\",\"\")","v":"NO STREAM NAME"},"NO SUPPLY TEMP",{"$f":"IF(INPUT!B24=\"\",\"NO SUPPLY TEMP\",\"\")","v":"NO SUPPLY TEMP"},{"$f":"IF(INPUT!C24=\"\",\"NO TARGET TEMP\",\"\")","v":"NO TARGET TEMP"},{"$f":"IF(INPUT!E24=\"\",\"NO PRIMARY HEAT DATA\",\"\")","v":"NO PRIMARY HEAT DATA"},{"$f":"IF(INPUT!F$14=\"\",\"\",IF(INPUT!F24=\"\",\"NO SECONDARY HEAT DATA\",\"\"))","v":""},"",{"$f":"IF(SUM(INPUT!B24:F24)-SUM(INPUT!C24:F24)=0,IF(INPUT!B24=0,\"\",\"NON NUMERICAL INPUT\"),\"\")","v":""},{"$f":"IF(SUM(INPUT!B24:F24)-SUM(INPUT!D24:F24,INPUT!B24)=0,IF(INPUT!C24=0,\"\",\"NON NUMERICAL INPUT\"),\"\")","v":""},{"$f":"IF(SUM(INPUT!B24:F24)-SUM(INPUT!E24:F24,INPUT!B24,INPUT!C24)=0,IF(INPUT!D24=0,\"\",\"NON NUMERICAL INPUT\"),\"\")","v":""},{"$f":"IF(SUM(INPUT!B24:F24)-SUM(INPUT!B24:D24,INPUT!F24)=0,IF(INPUT!E24=0,\"\",\"NON NUMERICAL INPUT\"),\"\")","v":""},{"$f":"IF(INPUT!F$14=\"\",\"\",IF(SUM(INPUT!B24:F24)-SUM(INPUT!B24:E24)=0,IF(INPUT!F24=0,\"\",\"NON NUMERICAL INPUT\"),\"\"))","v":""}]
[{"$f":"IF(INPUT!A25=\"\",\"\",INPUT!A25)","v":""},{"$f":"IF(INPUT!$F$12=$P$3,'A1'!U39,IF(INPUT!$F$12=$P$4,'A1'!U39,'A1'!W39))","v":""},{"$f":"IF(INPUT!$F$12=$P$3,'A1'!V39,IF(INPUT!$F$12=$P$4,'A1'!V39,'A1'!X39))","v":""},{"$f":"IF(INPUT!$F$12=$P$3,'A1'!Y39,IF(INPUT!$F$12=$P$4,'A1'!Y39,'A1'!AA39))","v":""},"",null,{"$f":"IF(C39=\"\",\"\",IF($D39=\"\",IF($F$30=\"\",\"NO dT MIN\",IF(J39=\"HOT\",((C39)-($F$30/2)),((C39)+($F$30/2)))),IF($J39=\"HOT\",C39-INPUT!D39,C39+INPUT!D39)))","v":""},{"$f":"IF(INPUT!$F$12=$P$3,'A1'!R39,IF(INPUT!$F$12=$P$4,'A1'!S39,'A1'!T39))","v":""},"","","","",null,{"$f":"IF(INPUT!E25=\"\",\"\",INPUT!E25)","v":""},"",{"$f":"IF(INPUT!F25=\"\",\"\",INPUT!F25)","v":""},"",{"$f":"IF(N39=\"\",\"\",IF(N$27=B$4,ABS(N39/O39),IF(N$27=B$5,ABS(N39/O39)/ABS(B39-C39),IF(INPUT!F$4=B$6,ABS(N39/O39)*ABS(P39/Q39),IF(INPUT!F$4=B$7,ABS(N39/O39)*ABS(P39/Q39)/ABS(B39-C39),\"\")))))","v":""},"","",{"$f":"IF(INPUT!B25=\"\",\"\",IF(INPUT!$G$6=\"°C\",INPUT!B25,IF(INPUT!$G$6=\"°F\",(INPUT!B25-32)/1.8,IF(INPUT!$G$6=\"K\",INPUT!B25-273.15,(INPUT!B25/1.8)-273.15))))","v":""},{"$f":"IF(INPUT!C25=\"\",\"\",IF(INPUT!$G$6=\"°C\",INPUT!C25,IF(INPUT!$G$6=\"°F\",(INPUT!C25-32)/1.8,IF(INPUT!$G$6=\"K\",INPUT!C25-273.15,(INPUT!C25/1.8)-273.15))))","v":""},{"$f":"IF(INPUT!B25=\"\",\"\",IF(INPUT!$G$6=\"°F\",INPUT!B25,IF(INPUT!$G$6=\"°C\",(INPUT!B25*1.8)+32,IF(INPUT!$G$6=\"°R\",INPUT!B25-459.67,(INPUT!B25*1.8)-459.67))))","v":""},{"$f":"IF(INPUT!C25=\"\",\"\",IF(INPUT!$G$6=\"°F\",INPUT!C25,IF(INPUT!$G$6=\"°C\",(INPUT!C25*1.8)+32,IF(INPUT!$G$6=\"°R\",INPUT!C25-459.67,(INPUT!C25*1.8)-459.67))))","v":""},{"$f":"IF(INPUT!D25=\"\",\"\",IF(OR(INPUT!$G$6=\"K\",INPUT!$G$6=\"°C\"),INPUT!D25,INPUT!D25/1.8))","v":""},null,{"$f":"IF(INPUT!D25=\"\",\"\",IF(OR(INPUT!$G$6=\"K\",INPUT!$G$6=\"°C\"),INPUT!D25*1.8,INPUT!D25))","v":""},null,null,{"$f":"IF(INPUT!$F$4=\"Select Input Data Method\",\"INPUT METHOD NOT SELECTED\",\"\")","v":""},{"$f":"IF(INPUT!$F$6=\"\",\"GLOBAL DTMIN NOT SPECIFIED\",\"\")","v":""},{"$f":"IF(INPUT!F$14=\"\",IF(OR(INPUT!E$15=\"\",INPUT!E$15=\"Select Units\"),\"SELECT UNITS\",\"\"),IF(OR(INPUT!E$15=\"\",INPUT!E$15=\"Select Units\",INPUT!F$15=\"\",INPUT!F$15=\"Select Units\"),\"SELECT UNITS\",\"\"))","v":""},{"$f":"IF(INPUT!$F$14=\"\",IF(COUNTIF('A1'!C$4:C$10,INPUT!E$15)=0,\"INCONSISTENT UNITS\",\"\"),IF(OR(COUNTIF('A1'!C$4:C$10,INPUT!E$15)=0,COUNTIF('A1'!E$4:E$10,INPUT!F$15)=0),\"INCONSISTENT UNITS\",\"\"))","v":""},{"$f":"IF(INPUT!A25=\"\",\"NO STREAM NAME\",\"\")","v":"NO STREAM NAME"},"NO SUPPLY TEMP",{"$f":"IF(INPUT!B25=\"\",\"NO SUPPLY TEMP\",\"\")","v":"NO SUPPLY TEMP"},{"$f":"IF(INPUT!C25=\"\",\"NO TARGET TEMP\",\"\")","v":"NO TARGET TEMP"},{"$f":"IF(INPUT!E25=\"\",\"NO PRIMARY HEAT DATA\",\"\")","v":"NO PRIMARY HEAT DATA"},{"$f":"IF(INPUT!F$14=\"\",\"\",IF(INPUT!F25=\"\",\"NO SECONDARY HEAT DATA\",\"\"))","v":""},"",{"$f":"IF(SUM(INPUT!B25:F25)-SUM(INPUT!C25:F25)=0,IF(INPUT!B25=0,\"\",\"NON NUMERICAL INPUT\"),\"\")","v":""},{"$f":"IF(SUM(INPUT!B25:F25)-SUM(INPUT!D25:F25,INPUT!B25)=0,IF(INPUT!C25=0,\"\",\"NON NUMERICAL INPUT\"),\"\")","v":""},{"$f":"IF(SUM(INPUT!B25:F25)-SUM(INPUT!E25:F25,INPUT!B25,INPUT!C25)=0,IF(INPUT!D25=0,\"\",\"NON NUMERICAL INPUT\"),\"\")","v":""},{"$f":"IF(SUM(INPUT!B25:F25)-SUM(INPUT!B25:D25,INPUT!F25)=0,IF(INPUT!E25=0,\"\",\"NON NUMERICAL INPUT\"),\"\")","v":""},{"$f":"IF(INPUT!F$14=\"\",\"\",IF(SUM(INPUT!B25:F25)-SUM(INPUT!B25:E25)=0,IF(INPUT!F25=0,\"\",\"NON NUMERICAL INPUT\"),\"\"))","v":""}]
[{"$f":"IF(INPUT!A26=\"\",\"\",INPUT!A26)","v":""},{"$f":"IF(INPUT!$F$12=$P$3,'A1'!U40,IF(INPUT!$F$12=$P$4,'A1'!U40,'A1'!W40))","v":""},{"$f":"IF(INPUT!$F$12=$P$3,'A1'!V40,IF(INPUT!$F$12=$P$4,'A1'!V40,'A1'!X40))","v":""},{"$f":"IF(INPUT!$F$12=$P$3,'A1'!Y40,IF(INPUT!$F$12=$P$4,'A1'!Y40,'A1'!AA40))","v":""},"",null,{"$f":"IF(C40=\"\",\"\",IF($D40=\"\",IF($F$30=\"\",\"NO dT MIN\",IF(J40=\"HOT\",((C40)-($F$30/2)),((C40)+($F$30/2)))),IF($J40=\"HOT\",C40-INPUT!D40,C40+INPUT!D40)))","v":""},{"$f":"IF(INPUT!$F$12=$P$3,'A1'!R40,IF(INPUT!$F$12=$P$4,'A1'!S40,'A1'!T40))","v":""},"","","","",null,{"$f":"IF(INPUT!E26=\"\",\"\",INPUT!E26)","v":""},"",{"$f":"IF(INPUT!F26=\"\",\"\",INPUT!F26)","v":""},"",{"$f":"IF(N40=\"\",\"\",IF(N$27=B$4,ABS(N40/O40),IF(N$27=B$5,ABS(N40/O40)/ABS(B40-C40),IF(INPUT!F$4=B$6,ABS(N40/O40)*ABS(P40/Q40),IF(INPUT!F$4=B$7,ABS(N40/O40)*ABS(P40/Q40)/ABS(B40-C40),\"\")))))","v":""},"","",{"$f":"IF(INPUT!B26=\"\",\"\",IF(INPUT!$G$6=\"°C\",INPUT!B26,IF(INPUT!$G$6=\"°F\",(INPUT!B26-32)/1.8,IF(INPUT!$G$6=\"K\",INPUT!B26-273.15,(INPUT!B26/1.8)-273.15))))","v":""},{"$f":"IF(INPUT!C26=\"\",\"\",IF(INPUT!$G$6=\"°C\",INPUT!C26,IF(INPUT!$G$6=\"°F\",(INPUT!C26-32)/1.8,IF(INPUT!$G$6=\"K\",INPUT!C26-273.15,(INPUT!C26/1.8)-273.15))))","v":""},{"$f":"IF(INPUT!B26=\"\",\"\",IF(INPUT!$G$6=\"°F\",INPUT!B26,IF(INPUT!$G$6=\"°C\",(INPUT!B26*1.8)+32,IF(INPUT!$G$6=\"°R\",INPUT!B26-459.67,(INPUT!B26*1.8)-459.67))))","v":""},{"$f":"IF(INPUT!C26=\"\",\"\",IF(INPUT!$G$6=\"°F\",INPUT!C26,IF(INPUT!$G$6=\"°C\",(INPUT!C26*1.8)+32,IF(INPUT!$G$6=\"°R\",INPUT!C26-459.67,(INPUT!C26*1.8)-459.67))))","v":""},{"$f":"IF(INPUT!D26=\"\",\"\",IF(OR(INPUT!$G$6=\"K\",INPUT!$G$6=\"°C\"),INPUT!D26,INPUT!D26/1.8))","v":""},null,{"$f":"IF(INPUT!D26=\"\",\"\",IF(OR(INPUT!$G$6=\"K\",INPUT!$G$6=\"°C\"),INPUT!D26*1.8,INPUT!D26))","v":""},null,null,{"$f":"IF(INPUT!$F$4=\"Select Input Data Method\",\"INPUT METHOD NOT SELECTED\",\"\")","v":""},{"$f":"IF(INPUT!$F$6=\"\",\"GLOBAL DTMIN NOT SPECIFIED\",\"\")","v":""},{"$f":"IF(INPUT!F$14=\"\",IF(OR(INPUT!E$15=\"\",INPUT!E$15=\"Select Units\"),\"SELECT UNITS\",\"\"),IF(OR(INPUT!E$15=\"\",INPUT!E$15=\"Select Units\",INPUT!F$15=\"\",INPUT!F$15=\"Select Units\"),\"SELECT UNITS\",\"\"))","v":""},{"$f":"IF(INPUT!$F$14=\"\",IF(COUNTIF('A1'!C$4:C$10,INPUT!E$15)=0,\"INCONSISTENT UNITS\",\"\"),IF(OR(COUNTIF('A1'!C$4:C$10,INPUT!E$15)=0,COUNTIF('A1'!E$4:E$10,INPUT!F$15)=0),\"INCONSISTENT UNITS\",\"\"))","v":""},{"$f":"IF(INPUT!A26=\"\",\"NO STREAM NAME\",\"\")","v":"NO STREAM NAME"},"NO SUPPLY TEMP",{"$f":"IF(INPUT!B26=\"\",\"NO SUPPLY TEMP\",\"\")","v":"NO SUPPLY TEMP"},{"$f":"IF(INPUT!C26=\"\",\"NO TARGET TEMP\",\"\")","v":"NO TARGET TEMP"},{"$f":"IF(INPUT!E26=\"\",\"NO PRIMARY HEAT DATA\",\"\")","v":"NO PRIMARY HEAT DATA"},{"$f":"IF(INPUT!F$14=\"\",\"\",IF(INPUT!F26=\"\",\"NO SECONDARY HEAT DATA\",\"\"))","v":""},"",{"$f":"IF(SUM(INPUT!B26:F26)-SUM(INPUT!C26:F26)=0,IF(INPUT!B26=0,\"\",\"NON NUMERICAL INPUT\"),\"\")","v":""},{"$f":"IF(SUM(INPUT!B26:F26)-SUM(INPUT!D26:F26,INPUT!B26)=0,IF(INPUT!C26=0,\"\",\"NON NUMERICAL INPUT\"),\"\")","v":""},{"$f":"IF(SUM(INPUT!B26:F26)-SUM(INPUT!E26:F26,INPUT!B26,INPUT!C26)=0,IF(INPUT!D26=0,\"\",\"NON NUMERICAL INPUT\"),\"\")","v":""},{"$f":"IF(SUM(INPUT!B26:F26)-SUM(INPUT!B26:D26,INPUT!F26)=0,IF(INPUT!E26=0,\"\",\"NON NUMERICAL INPUT\"),\"\")","v":""},{"$f":"IF(INPUT!F$14=\"\",\"\",IF(SUM(INPUT!B26:F26)-SUM(INPUT!B26:E26)=0,IF(INPUT!F26=0,\"\",\"NON NUMERICAL INPUT\"),\"\"))","v":""}]
[{"$f":"IF(INPUT!A27=\"\",\"\",INPUT!A27)","v":""},{"$f":"IF(INPUT!$F$12=$P$3,'A1'!U41,IF(INPUT!$F$12=$P$4,'A1'!U41,'A1'!W41))","v":""},{"$f":"IF(INPUT!$F$12=$P$3,'A1'!V41,IF(INPUT!$F$12=$P$4,'A1'!V41,'A1'!X41))","v":""},{"$f":"IF(INPUT!$F$12=$P$3,'A1'!Y41,IF(INPUT!$F$12=$P$4,'A1'!Y41,'A1'!AA41))","v":""},"",null,{"$f":"IF(C41=\"\",\"\",IF($D41=\"\",IF($F$30=\"\",\"NO dT MIN\",IF(J41=\"HOT\",((C41)-($F$30/2)),((C41)+($F$30/2)))),IF($J41=\"HOT\",C41-INPUT!D41,C41+INPUT!D41)))","v":""},{"$f":"IF(INPUT!$F$12=$P$3,'A1'!R41,IF(INPUT!$F$12=$P$4,'A1'!S41,'A1'!T41))","v":""},"","","","",null,{"$f":"IF(INPUT!E27=\"\",\"\",INPUT!E27)","v":""},"",{"$f":"IF(INPUT!F27=\"\",\"\",INPUT!F27)","v":""},"",{"$f":"IF(N41=\"\",\"\",IF(N$27=B$4,ABS(N41/O41),IF(N$27=B$5,ABS(N41/O41)/ABS(B41-C41),IF(INPUT!F$4=B$6,ABS(N41/O41)*ABS(P41/Q41),IF(INPUT!F$4=B$7,ABS(N41/O41)*ABS(P41/Q41)/ABS(B41-C41),\"\")))))","v":""},"","",{"$f":"IF(INPUT!B27=\"\",\"\",IF(INPUT!$G$6=\"°C\",INPUT!B27,IF(INPUT!$G$6=\"°F\",(INPUT!B27-32)/1.8,IF(INPUT!$G$6=\"K\",INPUT!B27-273.15,(INPUT!B27/1.8)-273.15))))","v":""},{"$f":"IF(INPUT!C27=\"\",\"\",IF(INPUT!$G$6=\"°C\",INPUT!C27,IF(INPUT!$G$6=\"°F\",(INPUT!C27-32)/1.8,IF(INPUT!$G$6=\"K\",INPUT!C27-273.15,(INPUT!C27/1.8)-273.15))))","v":""},{"$f":"IF(INPUT!B27=\"\",\"\",IF(INPUT!$G$6=\"°F\",INPUT!B27,IF(INPUT!$G$6=\"°C\",(INPUT!B27*1.8)+32,IF(INPUT!$G$6=\"°R\",INPUT!B27-459.67,(INPUT!B27*1.8)-459.67))))","v":""},{"$f":"IF(INPUT!C27=\"\",\"\",IF(INPUT!$G$6=\"°F\",INPUT!C27,IF(INPUT!$G$6=\"°C\",(INPUT!C27*1.8)+32,IF(INPUT!$G$6=\"°R\",INPUT!C27-459.67,(INPUT!C27*1.8)-459.67))))","v":""},{"$f":"IF(INPUT!D27=\"\",\"\",IF(OR(INPUT!$G$6=\"K\",INPUT!$G$6=\"°C\"),INPUT!D27,INPUT!D27/1.8))","v":""},null,{"$f":"IF(INPUT!D27=\"\",\"\",IF(OR(INPUT!$G$6=\"K\",INPUT!$G$6=\"°C\"),INPUT!D27*1.8,INPUT!D27))","v":""},null,null,{"$f":"IF(INPUT!$F$4=\"Select Input Data Method\",\"INPUT METHOD NOT SELECTED\",\"\")","v":""},{"$f":"IF(INPUT!$F$6=\"\",\"GLOBAL DTMIN NOT SPECIFIED\",\"\")","v":""},{"$f":"IF(INPUT!F$14=\"\",IF(OR(INPUT!E$15=\"\",INPUT!E$15=\"Select Units\"),\"SELECT UNITS\",\"\"),IF(OR(INPUT!E$15=\"\",INPUT!E$15=\"Select Units\",INPUT!F$15=\"\",INPUT!F$15=\"Select Units\"),\"SELECT UNITS\",\"\"))","v":""},{"$f":"IF(INPUT!$F$14=\"\",IF(COUNTIF('A1'!C$4:C$10,INPUT!E$15)=0,\"INCONSISTENT UNITS\",\"\"),IF(OR(COUNTIF('A1'!C$4:C$10,INPUT!E$15)=0,COUNTIF('A1'!E$4:E$10,INPUT!F$15)=0),\"INCONSISTENT UNITS\",\"\"))","v":""},{"$f":"IF(INPUT!A27=\"\",\"NO STREAM NAME\",\"\")","v":"NO STREAM NAME"},"NO SUPPLY TEMP",{"$f":"IF(INPUT!B27=\"\",\"NO SUPPLY TEMP\",\"\")","v":"NO SUPPLY TEMP"},{"$f":"IF(INPUT!C27=\"\",\"NO TARGET TEMP\",\"\")","v":"NO TARGET TEMP"},{"$f":"IF(INPUT!E27=\"\",\"NO PRIMARY HEAT DATA\",\"\")","v":"NO PRIMARY HEAT DATA"},{"$f":"IF(INPUT!F$14=\"\",\"\",IF(INPUT!F27=\"\",\"NO SECONDARY HEAT DATA\",\"\"))","v":""},"",{"$f":"IF(SUM(INPUT!B27:F27)-SUM(INPUT!C27:F27)=0,IF(INPUT!B27=0,\"\",\"NON NUMERICAL INPUT\"),\"\")","v":""},{"$f":"IF(SUM(INPUT!B27:F27)-SUM(INPUT!D27:F27,INPUT!B27)=0,IF(INPUT!C27=0,\"\",\"NON NUMERICAL INPUT\"),\"\")","v":""},{"$f":"IF(SUM(INPUT!B27:F27)-SUM(INPUT!E27:F27,INPUT!B27,INPUT!C27)=0,IF(INPUT!D27=0,\"\",\"NON NUMERICAL INPUT\"),\"\")","v":""},{"$f":"IF(SUM(INPUT!B27:F27)-SUM(INPUT!B27:D27,INPUT!F27)=0,IF(INPUT!E27=0,\"\",\"NON NUMERICAL INPUT\"),\"\")","v":""},{"$f":"IF(INPUT!F$14=\"\",\"\",IF(SUM(INPUT!B27:F27)-SUM(INPUT!B27:E27)=0,IF(INPUT!F27=0,\"\",\"NON NUMERICAL INPUT\"),\"\"))","v":""}]
[{"$f":"IF(INPUT!A28=\"\",\"\",INPUT!A28)","v":""},{"$f":"IF(INPUT!$F$12=$P$3,'A1'!U42,IF(INPUT!$F$12=$P$4,'A1'!U42,'A1'!W42))","v":""},{"$f":"IF(INPUT!$F$12=$P$3,'A1'!V42,IF(INPUT!$F$12=$P$4,'A1'!V42,'A1'!X42))","v":""},{"$f":"IF(INPUT!$F$12=$P$3,'A1'!Y42,IF(INPUT!$F$12=$P$4,'A1'!Y42,'A1'!AA42))","v":""},"",null,{"$f":"IF(C42=\"\",\"\",IF($D42=\"\",IF($F$30=\"\",\"NO dT MIN\",IF(J42=\"HOT\",((C42)-($F$30/2)),((C42)+($F$30/2)))),IF($J42=\"HOT\",C42-INPUT!D42,C42+INPUT!D42)))","v":""},{"$f":"IF(INPUT!$F$12=$P$3,'A1'!R42,IF(INPUT!$F$12=$P$4,'A1'!S42,'A1'!T42))","v":""},"","","","",null,{"$f":"IF(INPUT!E28=\"\",\"\",INPUT!E28)","v":""},"",{"$f":"IF(INPUT!F28=\"\",\"\",INPUT!F28)","v":""},"",{"$f":"IF(N42=\"\",\"\",IF(N$27=B$4,ABS(N42/O42),IF(N$27=B$5,ABS(N42/O42)/ABS(B42-C42),IF(INPUT!F$4=B$6,ABS(N42/O42)*ABS(P42/Q42),IF(INPUT!F$4=B$7,ABS(N42/O42)*ABS(P42/Q42)/ABS(B42-C42),\"\")))))","v":""},"","",{"$f":"IF(INPUT!B28=\"\",\"\",IF(INPUT!$G$6=\"°C\",INPUT!B28,IF(INPUT!$G$6=\"°F\",(INPUT!B28-32)/1.8,IF(INPUT!$G$6=\"K\",INPUT!B28-273.15,(INPUT!B28/1.8)-273.15))))","v":""},{"$f":"IF(INPUT!C28=\"\",\"\",IF(INPUT!$G$6=\"°C\",INPUT!C28,IF(INPUT!$G$6=\"°F\",(INPUT!C28-32)/1.8,IF(INPUT!$G$6=\"K\",INPUT!C28-273.15,(INPUT!C28/1.8)-273.15))))","v":""},{"$f":"IF(INPUT!B28=\"\",\"\",IF(INPUT!$G$6=\"°F\",INPUT!B28,IF(INPUT!$G$6=\"°C\",(INPUT!B28*1.8)+32,IF(INPUT!$G$6=\"°R\",INPUT!B28-459.67,(INPUT!B28*1.8)-459.67))))","v":""},{"$f":"IF(INPUT!C28=\"\",\"\",IF(INPUT!$G$6=\"°F\",INPUT!C28,IF(INPUT!$G$6=\"°C\",(INPUT!C28*1.8)+32,IF(INPUT!$G$6=\"°R\",INPUT!C28-459.67,(INPUT!C28*1.8)-459.67))))","v":""},{"$f":"IF(INPUT!D28=\"\",\"\",IF(OR(INPUT!$G$6=\"K\",INPUT!$G$6=\"°C\"),INPUT!D28,INPUT!D28/1.8))","v":""},null,{"$f":"IF(INPUT!D28=\"\",\"\",IF(OR(INPUT!$G$6=\"K\",INPUT!$G$6=\"°C\"),INPUT!D28*1.8,INPUT!D28))","v":""},null,null,{"$f":"IF(INPUT!$F$4=\"Select Input Data Method\",\"INPUT METHOD NOT SELECTED\",\"\")","v":""},{"$f":"IF(INPUT!$F$6=\"\",\"GLOBAL DTMIN NOT SPECIFIED\",\"\")","v":""},{"$f":"IF(INPUT!F$14=\"\",IF(OR(INPUT!E$15=\"\",INPUT!E$15=\"Select Units\"),\"SELECT UNITS\",\"\"),IF(OR(INPUT!E$15=\"\",INPUT!E$15=\"Select Units\",INPUT!F$15=\"\",INPUT!F$15=\"Select Units\"),\"SELECT UNITS\",\"\"))","v":""},{"$f":"IF(INPUT!$F$14=\"\",IF(COUNTIF('A1'!C$4:C$10,INPUT!E$15)=0,\"INCONSISTENT UNITS\",\"\"),IF(OR(COUNTIF('A1'!C$4:C$10,INPUT!E$15)=0,COUNTIF('A1'!E$4:E$10,INPUT!F$15)=0),\"INCONSISTENT UNITS\",\"\"))","v":""},{"$f":"IF(INPUT!A28=\"\",\"NO STREAM NAME\",\"\")","v":"NO STREAM NAME"},"NO SUPPLY TEMP",{"$f":"IF(INPUT!B28=\"\",\"NO SUPPLY TEMP\",\"\")","v":"NO SUPPLY TEMP"},{"$f":"IF(INPUT!C28=\"\",\"NO TARGET TEMP\",\"\")","v":"NO TARGET TEMP"},{"$f":"IF(INPUT!E28=\"\",\"NO PRIMARY HEAT DATA\",\"\")","v":"NO PRIMARY HEAT DATA"},{"$f":"IF(INPUT!F$14=\"\",\"\",IF(INPUT!F28=\"\",\"NO SECONDARY HEAT DATA\",\"\"))","v":""},"",{"$f":"IF(SUM(INPUT!B28:F28)-SUM(INPUT!C28:F28)=0,IF(INPUT!B28=0,\"\",\"NON NUMERICAL INPUT\"),\"\")","v":""},{"$f":"IF(SUM(INPUT!B28:F28)-SUM(INPUT!D28:F28,INPUT!B28)=0,IF(INPUT!C28=0,\"\",\"NON NUMERICAL INPUT\"),\"\")","v":""},{"$f":"IF(SUM(INPUT!B28:F28)-SUM(INPUT!E28:F28,INPUT!B28,INPUT!C28)=0,IF(INPUT!D28=0,\"\",\"NON NUMERICAL INPUT\"),\"\")","v":""},{"$f":"IF(SUM(INPUT!B28:F28)-SUM(INPUT!B28:D28,INPUT!F28)=0,IF(INPUT!E28=0,\"\",\"NON NUMERICAL INPUT\"),\"\")","v":""},{"$f":"IF(INPUT!F$14=\"\",\"\",IF(SUM(INPUT!B28:F28)-SUM(INPUT!B28:E28)=0,IF(INPUT!F28=0,\"\",\"NON NUMERICAL INPUT\"),\"\"))","v":""}]
[{"$f":"IF(INPUT!A29=\"\",\"\",INPUT!A29)","v":""},{"$f":"IF(INPUT!$F$12=$P$3,'A1'!U43,IF(INPUT!$F$12=$P$4,'A1'!U43,'A1'!W43))","v":""},{"$f":"IF(INPUT!$F$12=$P$3,'A1'!V43,IF(INPUT!$F$12=$P$4,'A1'!V43,'A1'!X43))","v":""},{"$f":"IF(INPUT!$F$12=$P$3,'A1'!Y43,IF(INPUT!$F$12=$P$4,'A1'!Y43,'A1'!AA43))","v":""},"",null,{"$f":"IF(C43=\"\",\"\",IF($D43=\"\",IF($F$30=\"\",\"NO dT MIN\",IF(J43=\"HOT\",((C43)-($F$30/2)),((C43)+($F$30/2)))),IF($J43=\"HOT\",C43-INPUT!D43,C43+INPUT!D43)))","v":""},{"$f":"IF(INPUT!$F$12=$P$3,'A1'!R43,IF(INPUT!$F$12=$P$4,'A1'!S43,'A1'!T43))","v":""},"","","","",null,{"$f":"IF(INPUT!E29=\"\",\"\",INPUT!E29)","v":""},"",{"$f":"IF(INPUT!F29=\"\",\"\",INPUT!F29)","v":""},"",{"$f":"IF(N43=\"\",\"\",IF(N$27=B$4,ABS(N43/O43),IF(N$27=B$5,ABS(N43/O43)/ABS(B43-C43),IF(INPUT!F$4=B$6,ABS(N43/O43)*ABS(P43/Q43),IF(INPUT!F$4=B$7,ABS(N43/O43)*ABS(P43/Q43)/ABS(B43-C43),\"\")))))","v":""},"","",{"$f":"IF(INPUT!B29=\"\",\"\",IF(INPUT!$G$6=\"°C\",INPUT!B29,IF(INPUT!$G$6=\"°F\",(INPUT!B29-32)/1.8,IF(INPUT!$G$6=\"K\",INPUT!B29-273.15,(INPUT!B29/1.8)-273.15))))","v":""},{"$f":"IF(INPUT!C29=\"\",\"\",IF(INPUT!$G$6=\"°C\",INPUT!C29,IF(INPUT!$G$6=\"°F\",(INPUT!C29-32)/1.8,IF(INPUT!$G$6=\"K\",INPUT!C29-273.15,(INPUT!C29/1.8)-273.15))))","v":""},{"$f":"IF(INPUT!B29=\"\",\"\",IF(INPUT!$G$6=\"°F\",INPUT!B29,IF(INPUT!$G$6=\"°C\",(INPUT!B29*1.8)+32,IF(INPUT!$G$6=\"°R\",INPUT!B29-459.67,(INPUT!B29*1.8)-459.67))))","v":""},{"$f":"IF(INPUT!C29=\"\",\"\",IF(INPUT!$G$6=\"°F\",INPUT!C29,IF(INPUT!$G$6=\"°C\",(INPUT!C29*1.8)+32,IF(INPUT!$G$6=\"°R\",INPUT!C29-459.67,(INPUT!C29*1.8)-459.67))))","v":""},{"$f":"IF(INPUT!D29=\"\",\"\",IF(OR(INPUT!$G$6=\"K\",INPUT!$G$6=\"°C\"),INPUT!D29,INPUT!D29/1.8))","v":""},null,{"$f":"IF(INPUT!D29=\"\",\"\",IF(OR(INPUT!$G$6=\"K\",INPUT!$G$6=\"°C\"),INPUT!D29*1.8,INPUT!D29))","v":""},null,null,{"$f":"IF(INPUT!$F$4=\"Select Input Data Method\",\"INPUT METHOD NOT SELECTED\",\"\")","v":""},{"$f":"IF(INPUT!$F$6=\"\",\"GLOBAL DTMIN NOT SPECIFIED\",\"\")","v":""},{"$f":"IF(INPUT!F$14=\"\",IF(OR(INPUT!E$15=\"\",INPUT!E$15=\"Select Units\"),\"SELECT UNITS\",\"\"),IF(OR(INPUT!E$15=\"\",INPUT!E$15=\"Select Units\",INPUT!F$15=\"\",INPUT!F$15=\"Select Units\"),\"SELECT UNITS\",\"\"))","v":""},{"$f":"IF(INPUT!$F$14=\"\",IF(COUNTIF('A1'!C$4:C$10,INPUT!E$15)=0,\"INCONSISTENT UNITS\",\"\"),IF(OR(COUNTIF('A1'!C$4:C$10,INPUT!E$15)=0,COUNTIF('A1'!E$4:E$10,INPUT!F$15)=0),\"INCONSISTENT UNITS\",\"\"))","v":""},{"$f":"IF(INPUT!A29=\"\",\"NO STREAM NAME\",\"\")","v":"NO STREAM NAME"},"NO SUPPLY TEMP",{"$f":"IF(INPUT!B29=\"\",\"NO SUPPLY TEMP\",\"\")","v":"NO SUPPLY TEMP"},{"$f":"IF(INPUT!C29=\"\",\"NO TARGET TEMP\",\"\")","v":"NO TARGET TEMP"},{"$f":"IF(INPUT!E29=\"\",\"NO PRIMARY HEAT DATA\",\"\")","v":"NO PRIMARY HEAT DATA"},{"$f":"IF(INPUT!F$14=\"\",\"\",IF(INPUT!F29=\"\",\"NO SECONDARY HEAT DATA\",\"\"))","v":""},"",{"$f":"IF(SUM(INPUT!B29:F29)-SUM(INPUT!C29:F29)=0,IF(INPUT!B29=0,\"\",\"NON NUMERICAL INPUT\"),\"\")","v":""},{"$f":"IF(SUM(INPUT!B29:F29)-SUM(INPUT!D29:F29,INPUT!B29)=0,IF(INPUT!C29=0,\"\",\"NON NUMERICAL INPUT\"),\"\")","v":""},{"$f":"IF(SUM(INPUT!B29:F29)-SUM(INPUT!E29:F29,INPUT!B29,INPUT!C29)=0,IF(INPUT!D29=0,\"\",\"NON NUMERICAL INPUT\"),\"\")","v":""},{"$f":"IF(SUM(INPUT!B29:F29)-SUM(INPUT!B29:D29,INPUT!F29)=0,IF(INPUT!E29=0,\"\",\"NON NUMERICAL INPUT\"),\"\")","v":""},{"$f":"IF(INPUT!F$14=\"\",\"\",IF(SUM(INPUT!B29:F29)-SUM(INPUT!B29:E29)=0,IF(INPUT!F29=0,\"\",\"NON NUMERICAL INPUT\"),\"\"))","v":""}]
[{"$f":"IF(INPUT!A30=\"\",\"\",INPUT!A30)","v":""},{"$f":"IF(INPUT!$F$12=$P$3,'A1'!U44,IF(INPUT!$F$12=$P$4,'A1'!U44,'A1'!W44))","v":""},{"$f":"IF(INPUT!$F$12=$P$3,'A1'!V44,IF(INPUT!$F$12=$P$4,'A1'!V44,'A1'!X44))","v":""},{"$f":"IF(INPUT!$F$12=$P$3,'A1'!Y44,IF(INPUT!$F$12=$P$4,'A1'!Y44,'A1'!AA44))","v":""},"",null,{"$f":"IF(C44=\"\",\"\",IF($D44=\"\",IF($F$30=\"\",\"NO dT MIN\",IF(J44=\"HOT\",((C44)-($F$30/2)),((C44)+($F$30/2)))),IF($J44=\"HOT\",C44-INPUT!D44,C44+INPUT!D44)))","v":""},{"$f":"IF(INPUT!$F$12=$P$3,'A1'!R44,IF(INPUT!$F$12=$P$4,'A1'!S44,'A1'!T44))","v":""},"","","","",null,{"$f":"IF(INPUT!E30=\"\",\"\",INPUT!E30)","v":""},"",{"$f":"IF(INPUT!F30=\"\",\"\",INPUT!F30)","v":""},"",{"$f":"IF(N44=\"\",\"\",IF(N$27=B$4,ABS(N44/O44),IF(N$27=B$5,ABS(N44/O44)/ABS(B44-C44),IF(INPUT!F$4=B$6,ABS(N44/O44)*ABS(P44/Q44),IF(INPUT!F$4=B$7,ABS(N44/O44)*ABS(P44/Q44)/ABS(B44-C44),\"\")))))","v":""},"","",{"$f":"IF(INPUT!B30=\"\",\"\",IF(INPUT!$G$6=\"°C\",INPUT!B30,IF(INPUT!$G$6=\"°F\",(INPUT!B30-32)/1.8,IF(INPUT!$G$6=\"K\",INPUT!B30-273.15,(INPUT!B30/1.8)-273.15))))","v":""},{"$f":"IF(INPUT!C30=\"\",\"\",IF(INPUT!$G$6=\"°C\",INPUT!C30,IF(INPUT!$G$6=\"°F\",(INPUT!C30-32)/1.8,IF(INPUT!$G$6=\"K\",INPUT!C30-273.15,(INPUT!C30/1.8)-273.15))))","v":""},{"$f":"IF(INPUT!B30=\"\",\"\",IF(INPUT!$G$6=\"°F\",INPUT!B30,IF(INPUT!$G$6=\"°C\",(INPUT!B30*1.8)+32,IF(INPUT!$G$6=\"°R\",INPUT!B30-459.67,(INPUT!B30*1.8)-459.67))))","v":""},{"$f":"IF(INPUT!C30=\"\",\"\",IF(INPUT!$G$6=\"°F\",INPUT!C30,IF(INPUT!$G$6=\"°C\",(INPUT!C30*1.8)+32,IF(INPUT!$G$6=\"°R\",INPUT!C30-459.67,(INPUT!C30*1.8)-459.67))))","v":""},{"$f":"IF(INPUT!D30=\"\",\"\",IF(OR(INPUT!$G$6=\"K\",INPUT!$G$6=\"°C\"),INPUT!D30,INPUT!D30/1.8))","v":""},null,{"$f":"IF(INPUT!D30=\"\",\"\",IF(OR(INPUT!$G$6=\"K\",INPUT!$G$6=\"°C\"),INPUT!D30*1.8,INPUT!D30))","v":""},null,null,{"$f":"IF(INPUT!$F$4=\"Select Input Data Method\",\"INPUT METHOD NOT SELECTED\",\"\")","v":""},{"$f":"IF(INPUT!$F$6=\"\",\"GLOBAL DTMIN NOT SPECIFIED\",\"\")","v":""},{"$f":"IF(INPUT!F$14=\"\",IF(OR(INPUT!E$15=\"\",INPUT!E$15=\"Select Units\"),\"SELECT UNITS\",\"\"),IF(OR(INPUT!E$15=\"\",INPUT!E$15=\"Select Units\",INPUT!F$15=\"\",INPUT!F$15=\"Select Units\"),\"SELECT UNITS\",\"\"))","v":""},{"$f":"IF(INPUT!$F$14=\"\",IF(COUNTIF('A1'!C$4:C$10,INPUT!E$15)=0,\"INCONSISTENT UNITS\",\"\"),IF(OR(COUNTIF('A1'!C$4:C$10,INPUT!E$15)=0,COUNTIF('A1'!E$4:E$10,INPUT!F$15)=0),\"INCONSISTENT UNITS\",\"\"))","v":""},{"$f":"IF(INPUT!A30=\"\",\"NO STREAM NAME\",\"\")","v":"NO STREAM NAME"},"NO SUPPLY TEMP",{"$f":"IF(INPUT!B30=\"\",\"NO SUPPLY TEMP\",\"\")","v":"NO SUPPLY TEMP"},{"$f":"IF(INPUT!C30=\"\",\"NO TARGET TEMP\",\"\")","v":"NO TARGET TEMP"},{"$f":"IF(INPUT!E30=\"\",\"NO PRIMARY HEAT DATA\",\"\")","v":"NO PRIMARY HEAT DATA"},{"$f":"IF(INPUT!F$14=\"\",\"\",IF(INPUT!F30=\"\",\"NO SECONDARY HEAT DATA\",\"\"))","v":""},"",{"$f":"IF(SUM(INPUT!B30:F30)-SUM(INPUT!C30:F30)=0,IF(INPUT!B30=0,\"\",\"NON NUMERICAL INPUT\"),\"\")","v":""},{"$f":"IF(SUM(INPUT!B30:F30)-SUM(INPUT!D30:F30,INPUT!B30)=0,IF(INPUT!C30=0,\"\",\"NON NUMERICAL INPUT\"),\"\")","v":""},{"$f":"IF(SUM(INPUT!B30:F30)-SUM(INPUT!E30:F30,INPUT!B30,INPUT!C30)=0,IF(INPUT!D30=0,\"\",\"NON NUMERICAL INPUT\"),\"\")","v":""},{"$f":"IF(SUM(INPUT!B30:F30)-SUM(INPUT!B30:D30,INPUT!F30)=0,IF(INPUT!E30=0,\"\",\"NON NUMERICAL INPUT\"),\"\")","v":""},{"$f":"IF(INPUT!F$14=\"\",\"\",IF(SUM(INPUT!B30:F30)-SUM(INPUT!B30:E30)=0,IF(INPUT!F30=0,\"\",\"NON NUMERICAL INPUT\"),\"\"))","v":""}]
[{"$f":"IF(INPUT!A31=\"\",\"\",INPUT!A31)","v":""},{"$f":"IF(INPUT!$F$12=$P$3,'A1'!U45,IF(INPUT!$F$12=$P$4,'A1'!U45,'A1'!W45))","v":""},{"$f":"IF(INPUT!$F$12=$P$3,'A1'!V45,IF(INPUT!$F$12=$P$4,'A1'!V45,'A1'!X45))","v":""},{"$f":"IF(INPUT!$F$12=$P$3,'A1'!Y45,IF(INPUT!$F$12=$P$4,'A1'!Y45,'A1'!AA45))","v":""},"",null,{"$f":"IF(C45=\"\",\"\",IF($D45=\"\",IF($F$30=\"\",\"NO dT MIN\",IF(J45=\"HOT\",((C45)-($F$30/2)),((C45)+($F$30/2)))),IF($J45=\"HOT\",C45-INPUT!D45,C45+INPUT!D45)))","v":""},{"$f":"IF(INPUT!$F$12=$P$3,'A1'!R45,IF(INPUT!$F$12=$P$4,'A1'!S45,'A1'!T45))","v":""},"","","","",null,{"$f":"IF(INPUT!E31=\"\",\"\",INPUT!E31)","v":""},"",{"$f":"IF(INPUT!F31=\"\",\"\",INPUT!F31)","v":""},"",{"$f":"IF(N45=\"\",\"\",IF(N$27=B$4,ABS(N45/O45),IF(N$27=B$5,ABS(N45/O45)/ABS(B45-C45),IF(INPUT!F$4=B$6,ABS(N45/O45)*ABS(P45/Q45),IF(INPUT!F$4=B$7,ABS(N45/O45)*ABS(P45/Q45)/ABS(B45-C45),\"\")))))","v":""},"","",{"$f":"IF(INPUT!B31=\"\",\"\",IF(INPUT!$G$6=\"°C\",INPUT!B31,IF(INPUT!$G$6=\"°F\",(INPUT!B31-32)/1.8,IF(INPUT!$G$6=\"K\",INPUT!B31-273.15,(INPUT!B31/1.8)-273.15))))","v":""},{"$f":"IF(INPUT!C31=\"\",\"\",IF(INPUT!$G$6=\"°C\",INPUT!C31,IF(INPUT!$G$6=\"°F\",(INPUT!C31-32)/1.8,IF(INPUT!$G$6=\"K\",INPUT!C31-273.15,(INPUT!C31/1.8)-273.15))))","v":""},{"$f":"IF(INPUT!B31=\"\",\"\",IF(INPUT!$G$6=\"°F\",INPUT!B31,IF(INPUT!$G$6=\"°C\",(INPUT!B31*1.8)+32,IF(INPUT!$G$6=\"°R\",INPUT!B31-459.67,(INPUT!B31*1.8)-459.67))))","v":""},{"$f":"IF(INPUT!C31=\"\",\"\",IF(INPUT!$G$6=\"°F\",INPUT!C31,IF(INPUT!$G$6=\"°C\",(INPUT!C31*1.8)+32,IF(INPUT!$G$6=\"°R\",INPUT!C31-459.67,(INPUT!C31*1.8)-459.67))))","v":""},{"$f":"IF(INPUT!D31=\"\",\"\",IF(OR(INPUT!$G$6=\"K\",INPUT!$G$6=\"°C\"),INPUT!D31,INPUT!D31/1.8))","v":""},null,{"$f":"IF(INPUT!D31=\"\",\"\",IF(OR(INPUT!$G$6=\"K\",INPUT!$G$6=\"°C\"),INPUT!D31*1.8,INPUT!D31))","v":""},null,null,{"$f":"IF(INPUT!$F$4=\"Select Input Data Method\",\"INPUT METHOD NOT SELECTED\",\"\")","v":""},{"$f":"IF(INPUT!$F$6=\"\",\"GLOBAL DTMIN NOT SPECIFIED\",\"\")","v":""},{"$f":"IF(INPUT!F$14=\"\",IF(OR(INPUT!E$15=\"\",INPUT!E$15=\"Select Units\"),\"SELECT UNITS\",\"\"),IF(OR(INPUT!E$15=\"\",INPUT!E$15=\"Select Units\",INPUT!F$15=\"\",INPUT!F$15=\"Select Units\"),\"SELECT UNITS\",\"\"))","v":""},{"$f":"IF(INPUT!$F$14=\"\",IF(COUNTIF('A1'!C$4:C$10,INPUT!E$15)=0,\"INCONSISTENT UNITS\",\"\"),IF(OR(COUNTIF('A1'!C$4:C$10,INPUT!E$15)=0,COUNTIF('A1'!E$4:E$10,INPUT!F$15)=0),\"INCONSISTENT UNITS\",\"\"))","v":""},{"$f":"IF(INPUT!A31=\"\",\"NO STREAM NAME\",\"\")","v":"NO STREAM NAME"},"NO SUPPLY TEMP",{"$f":"IF(INPUT!B31=\"\",\"NO SUPPLY TEMP\",\"\")","v":"NO SUPPLY TEMP"},{"$f":"IF(INPUT!C31=\"\",\"NO TARGET TEMP\",\"\")","v":"NO TARGET TEMP"},{"$f":"IF(INPUT!E31=\"\",\"NO PRIMARY HEAT DATA\",\"\")","v":"NO PRIMARY HEAT DATA"},{"$f":"IF(INPUT!F$14=\"\",\"\",IF(INPUT!F31=\"\",\"NO SECONDARY HEAT DATA\",\"\"))","v":""},"",{"$f":"IF(SUM(INPUT!B31:F31)-SUM(INPUT!C31:F31)=0,IF(INPUT!B31=0,\"\",\"NON NUMERICAL INPUT\"),\"\")","v":""},{"$f":"IF(SUM(INPUT!B31:F31)-SUM(INPUT!D31:F31,INPUT!B31)=0,IF(INPUT!C31=0,\"\",\"NON NUMERICAL INPUT\"),\"\")","v":""},{"$f":"IF(SUM(INPUT!B31:F31)-SUM(INPUT!E31:F31,INPUT!B31,INPUT!C31)=0,IF(INPUT!D31=0,\"\",\"NON NUMERICAL INPUT\"),\"\")","v":""},{"$f":"IF(SUM(INPUT!B31:F31)-SUM(INPUT!B31:D31,INPUT!F31)=0,IF(INPUT!E31=0,\"\",\"NON NUMERICAL INPUT\"),\"\")","v":""},{"$f":"IF(INPUT!F$14=\"\",\"\",IF(SUM(INPUT!B31:F31)-SUM(INPUT!B31:E31)=0,IF(INPUT!F31=0,\"\",\"NON NUMERICAL INPUT\"),\"\"))","v":""}]
[{"$f":"IF(INPUT!A32=\"\",\"\",INPUT!A32)","v":""},{"$f":"IF(INPUT!$F$12=$P$3,'A1'!U46,IF(INPUT!$F$12=$P$4,'A1'!U46,'A1'!W46))","v":""},{"$f":"IF(INPUT!$F$12=$P$3,'A1'!V46,IF(INPUT!$F$12=$P$4,'A1'!V46,'A1'!X46))","v":""},{"$f":"IF(INPUT!$F$12=$P$3,'A1'!Y46,IF(INPUT!$F$12=$P$4,'A1'!Y46,'A1'!AA46))","v":""},"",null,{"$f":"IF(C46=\"\",\"\",IF($D46=\"\",IF($F$30=\"\",\"NO dT MIN\",IF(J46=\"HOT\",((C46)-($F$30/2)),((C46)+($F$30/2)))),IF($J46=\"HOT\",C46-INPUT!D46,C46+INPUT!D46)))","v":""},{"$f":"IF(INPUT!$F$12=$P$3,'A1'!R46,IF(INPUT!$F$12=$P$4,'A1'!S46,'A1'!T46))","v":""},"","","","",null,{"$f":"IF(INPUT!E32=\"\",\"\",INPUT!E32)","v":""},"",{"$f":"IF(INPUT!F32=\"\",\"\",INPUT!F32)","v":""},"",{"$f":"IF(N46=\"\",\"\",IF(N$27=B$4,ABS(N46/O46),IF(N$27=B$5,ABS(N46/O46)/ABS(B46-C46),IF(INPUT!F$4=B$6,ABS(N46/O46)*ABS(P46/Q46),IF(INPUT!F$4=B$7,ABS(N46/O46)*ABS(P46/Q46)/ABS(B46-C46),\"\")))))","v":""},"","",{"$f":"IF(INPUT!B32=\"\",\"\",IF(INPUT!$G$6=\"°C\",INPUT!B32,IF(INPUT!$G$6=\"°F\",(INPUT!B32-32)/1.8,IF(INPUT!$G$6=\"K\",INPUT!B32-273.15,(INPUT!B32/1.8)-273.15))))","v":""},{"$f":"IF(INPUT!C32=\"\",\"\",IF(INPUT!$G$6=\"°C\",INPUT!C32,IF(INPUT!$G$6=\"°F\",(INPUT!C32-32)/1.8,IF(INPUT!$G$6=\"K\",INPUT!C32-273.15,(INPUT!C32/1.8)-273.15))))","v":""},{"$f":"IF(INPUT!B32=\"\",\"\",IF(INPUT!$G$6=\"°F\",INPUT!B32,IF(INPUT!$G$6=\"°C\",(INPUT!B32*1.8)+32,IF(INPUT!$G$6=\"°R\",INPUT!B32-459.67,(INPUT!B32*1.8)-459.67))))","v":""},{"$f":"IF(INPUT!C32=\"\",\"\",IF(INPUT!$G$6=\"°F\",INPUT!C32,IF(INPUT!$G$6=\"°C\",(INPUT!C32*1.8)+32,IF(INPUT!$G$6=\"°R\",INPUT!C32-459.67,(INPUT!C32*1.8)-459.67))))","v":""},{"$f":"IF(INPUT!D32=\"\",\"\",IF(OR(INPUT!$G$6=\"K\",INPUT!$G$6=\"°C\"),INPUT!D32,INPUT!D32/1.8))","v":""},null,{"$f":"IF(INPUT!D32=\"\",\"\",IF(OR(INPUT!$G$6=\"K\",INPUT!$G$6=\"°C\"),INPUT!D32*1.8,INPUT!D32))","v":""},null,null,{"$f":"IF(INPUT!$F$4=\"Select Input Data Method\",\"INPUT METHOD NOT SELECTED\",\"\")","v":""},{"$f":"IF(INPUT!$F$6=\"\",\"GLOBAL DTMIN NOT SPECIFIED\",\"\")","v":""},{"$f":"IF(INPUT!F$14=\"\",IF(OR(INPUT!E$15=\"\",INPUT!E$15=\"Select Units\"),\"SELECT UNITS\",\"\"),IF(OR(INPUT!E$15=\"\",INPUT!E$15=\"Select Units\",INPUT!F$15=\"\",INPUT!F$15=\"Select Units\"),\"SELECT UNITS\",\"\"))","v":""},{"$f":"IF(INPUT!$F$14=\"\",IF(COUNTIF('A1'!C$4:C$10,INPUT!E$15)=0,\"INCONSISTENT UNITS\",\"\"),IF(OR(COUNTIF('A1'!C$4:C$10,INPUT!E$15)=0,COUNTIF('A1'!E$4:E$10,INPUT!F$15)=0),\"INCONSISTENT UNITS\",\"\"))","v":""},{"$f":"IF(INPUT!A32=\"\",\"NO STREAM NAME\",\"\")","v":"NO STREAM NAME"},"NO SUPPLY TEMP",{"$f":"IF(INPUT!B32=\"\",\"NO SUPPLY TEMP\",\"\")","v":"NO SUPPLY TEMP"},{"$f":"IF(INPUT!C32=\"\",\"NO TARGET TEMP\",\"\")","v":"NO TARGET TEMP"},{"$f":"IF(INPUT!E32=\"\",\"NO PRIMARY HEAT DATA\",\"\")","v":"NO PRIMARY HEAT DATA"},{"$f":"IF(INPUT!F$14=\"\",\"\",IF(INPUT!F32=\"\",\"NO SECONDARY HEAT DATA\",\"\"))","v":""},"",{"$f":"IF(SUM(INPUT!B32:F32)-SUM(INPUT!C32:F32)=0,IF(INPUT!B32=0,\"\",\"NON NUMERICAL INPUT\"),\"\")","v":""},{"$f":"IF(SUM(INPUT!B32:F32)-SUM(INPUT!D32:F32,INPUT!B32)=0,IF(INPUT!C32=0,\"\",\"NON NUMERICAL INPUT\"),\"\")","v":""},{"$f":"IF(SUM(INPUT!B32:F32)-SUM(INPUT!E32:F32,INPUT!B32,INPUT!C32)=0,IF(INPUT!D32=0,\"\",\"NON NUMERICAL INPUT\"),\"\")","v":""},{"$f":"IF(SUM(INPUT!B32:F32)-SUM(INPUT!B32:D32,INPUT!F32)=0,IF(INPUT!E32=0,\"\",\"NON NUMERICAL INPUT\"),\"\")","v":""},{"$f":"IF(INPUT!F$14=\"\",\"\",IF(SUM(INPUT!B32:F32)-SUM(INPUT!B32:E32)=0,IF(INPUT!F32=0,\"\",\"NON NUMERICAL INPUT\"),\"\"))","v":""}]
[{"$f":"IF(INPUT!A33=\"\",\"\",INPUT!A33)","v":""},{"$f":"IF(INPUT!$F$12=$P$3,'A1'!U47,IF(INPUT!$F$12=$P$4,'A1'!U47,'A1'!W47))","v":""},{"$f":"IF(INPUT!$F$12=$P$3,'A1'!V47,IF(INPUT!$F$12=$P$4,'A1'!V47,'A1'!X47))","v":""},{"$f":"IF(INPUT!$F$12=$P$3,'A1'!Y47,IF(INPUT!$F$12=$P$4,'A1'!Y47,'A1'!AA47))","v":""},"",null,{"$f":"IF(C47=\"\",\"\",IF($D47=\"\",IF($F$30=\"\",\"NO dT MIN\",IF(J47=\"HOT\",((C47)-($F$30/2)),((C47)+($F$30/2)))),IF($J47=\"HOT\",C47-INPUT!D47,C47+INPUT!D47)))","v":""},{"$f":"IF(INPUT!$F$12=$P$3,'A1'!R47,IF(INPUT!$F$12=$P$4,'A1'!S47,'A1'!T47))","v":""},"","","","",null,{"$f":"IF(INPUT!E33=\"\",\"\",INPUT!E33)","v":""},"",{"$f":"IF(INPUT!F33=\"\",\"\",INPUT!F33)","v":""},"",{"$f":"IF(N47=\"\",\"\",IF(N$27=B$4,ABS(N47/O47),IF(N$27=B$5,ABS(N47/O47)/ABS(B47-C47),IF(INPUT!F$4=B$6,ABS(N47/O47)*ABS(P47/Q47),IF(INPUT!F$4=B$7,ABS(N47/O47)*ABS(P47/Q47)/ABS(B47-C47),\"\")))))","v":""},"","",{"$f":"IF(INPUT!B33=\"\",\"\",IF(INPUT!$G$6=\"°C\",INPUT!B33,IF(INPUT!$G$6=\"°F\",(INPUT!B33-32)/1.8,IF(INPUT!$G$6=\"K\",INPUT!B33-273.15,(INPUT!B33/1.8)-273.15))))","v":""},{"$f":"IF(INPUT!C33=\"\",\"\",IF(INPUT!$G$6=\"°C\",INPUT!C33,IF(INPUT!$G$6=\"°F\",(INPUT!C33-32)/1.8,IF(INPUT!$G$6=\"K\",INPUT!C33-273.15,(INPUT!C33/1.8)-273.15))))","v":""},{"$f":"IF(INPUT!B33=\"\",\"\",IF(INPUT!$G$6=\"°F\",INPUT!B33,IF(INPUT!$G$6=\"°C\",(INPUT!B33*1.8)+32,IF(INPUT!$G$6=\"°R\",INPUT!B33-459.67,(INPUT!B33*1.8)-459.67))))","v":""},{"$f":"IF(INPUT!C33=\"\",\"\",IF(INPUT!$G$6=\"°F\",INPUT!C33,IF(INPUT!$G$6=\"°C\",(INPUT!C33*1.8)+32,IF(INPUT!$G$6=\"°R\",INPUT!C33-459.67,(INPUT!C33*1.8)-459.67))))","v":""},{"$f":"IF(INPUT!D33=\"\",\"\",IF(OR(INPUT!$G$6=\"K\",INPUT!$G$6=\"°C\"),INPUT!D33,INPUT!D33/1.8))","v":""},null,{"$f":"IF(INPUT!D33=\"\",\"\",IF(OR(INPUT!$G$6=\"K\",INPUT!$G$6=\"°C\"),INPUT!D33*1.8,INPUT!D33))","v":""},null,null,{"$f":"IF(INPUT!$F$4=\"Select Input Data Method\",\"INPUT METHOD NOT SELECTED\",\"\")","v":""},{"$f":"IF(INPUT!$F$6=\"\",\"GLOBAL DTMIN NOT SPECIFIED\",\"\")","v":""},{"$f":"IF(INPUT!F$14=\"\",IF(OR(INPUT!E$15=\"\",INPUT!E$15=\"Select Units\"),\"SELECT UNITS\",\"\"),IF(OR(INPUT!E$15=\"\",INPUT!E$15=\"Select Units\",INPUT!F$15=\"\",INPUT!F$15=\"Select Units\"),\"SELECT UNITS\",\"\"))","v":""},{"$f":"IF(INPUT!$F$14=\"\",IF(COUNTIF('A1'!C$4:C$10,INPUT!E$15)=0,\"INCONSISTENT UNITS\",\"\"),IF(OR(COUNTIF('A1'!C$4:C$10,INPUT!E$15)=0,COUNTIF('A1'!E$4:E$10,INPUT!F$15)=0),\"INCONSISTENT UNITS\",\"\"))","v":""},{"$f":"IF(INPUT!A33=\"\",\"NO STREAM NAME\",\"\")","v":"NO STREAM NAME"},"NO SUPPLY TEMP",{"$f":"IF(INPUT!B33=\"\",\"NO SUPPLY TEMP\",\"\")","v":"NO SUPPLY TEMP"},{"$f":"IF(INPUT!C33=\"\",\"NO TARGET TEMP\",\"\")","v":"NO TARGET TEMP"},{"$f":"IF(INPUT!E33=\"\",\"NO PRIMARY HEAT DATA\",\"\")","v":"NO PRIMARY HEAT DATA"},{"$f":"IF(INPUT!F$14=\"\",\"\",IF(INPUT!F33=\"\",\"NO SECONDARY HEAT DATA\",\"\"))","v":""},"",{"$f":"IF(SUM(INPUT!B33:F33)-SUM(INPUT!C33:F33)=0,IF(INPUT!B33=0,\"\",\"NON NUMERICAL INPUT\"),\"\")","v":""},{"$f":"IF(SUM(INPUT!B33:F33)-SUM(INPUT!D33:F33,INPUT!B33)=0,IF(INPUT!C33=0,\"\",\"NON NUMERICAL INPUT\"),\"\")","v":""},{"$f":"IF(SUM(INPUT!B33:F33)-SUM(INPUT!E33:F33,INPUT!B33,INPUT!C33)=0,IF(INPUT!D33=0,\"\",\"NON NUMERICAL INPUT\"),\"\")","v":""},{"$f":"IF(SUM(INPUT!B33:F33)-SUM(INPUT!B33:D33,INPUT!F33)=0,IF(INPUT!E33=0,\"\",\"NON NUMERICAL INPUT\"),\"\")","v":""},{"$f":"IF(INPUT!F$14=\"\",\"\",IF(SUM(INPUT!B33:F33)-SUM(INPUT!B33:E33)=0,IF(INPUT!F33=0,\"\",\"NON NUMERICAL INPUT\"),\"\"))","v":""}]
[{"$f":"IF(INPUT!A34=\"\",\"\",INPUT!A34)","v":""},{"$f":"IF(INPUT!$F$12=$P$3,'A1'!U48,IF(INPUT!$F$12=$P$4,'A1'!U48,'A1'!W48))","v":""},{"$f":"IF(INPUT!$F$12=$P$3,'A1'!V48,IF(INPUT!$F$12=$P$4,'A1'!V48,'A1'!X48))","v":""},{"$f":"IF(INPUT!$F$12=$P$3,'A1'!Y48,IF(INPUT!$F$12=$P$4,'A1'!Y48,'A1'!AA48))","v":""},"",null,{"$f":"IF(C48=\"\",\"\",IF($D48=\"\",IF($F$30=\"\",\"NO dT MIN\",IF(J48=\"HOT\",((C48)-($F$30/2)),((C48)+($F$30/2)))),IF($J48=\"HOT\",C48-INPUT!D48,C48+INPUT!D48)))","v":""},{"$f":"IF(INPUT!$F$12=$P$3,'A1'!R48,IF(INPUT!$F$12=$P$4,'A1'!S48,'A1'!T48))","v":""},"","","","",null,{"$f":"IF(INPUT!E34=\"\",\"\",INPUT!E34)","v":""},"",{"$f":"IF(INPUT!F34=\"\",\"\",INPUT!F34)","v":""},"",{"$f":"IF(N48=\"\",\"\",IF(N$27=B$4,ABS(N48/O48),IF(N$27=B$5,ABS(N48/O48)/ABS(B48-C48),IF(INPUT!F$4=B$6,ABS(N48/O48)*ABS(P48/Q48),IF(INPUT!F$4=B$7,ABS(N48/O48)*ABS(P48/Q48)/ABS(B48-C48),\"\")))))","v":""},"","",{"$f":"IF(INPUT!B34=\"\",\"\",IF(INPUT!$G$6=\"°C\",INPUT!B34,IF(INPUT!$G$6=\"°F\",(INPUT!B34-32)/1.8,IF(INPUT!$G$6=\"K\",INPUT!B34-273.15,(INPUT!B34/1.8)-273.15))))","v":""},{"$f":"IF(INPUT!C34=\"\",\"\",IF(INPUT!$G$6=\"°C\",INPUT!C34,IF(INPUT!$G$6=\"°F\",(INPUT!C34-32)/1.8,IF(INPUT!$G$6=\"K\",INPUT!C34-273.15,(INPUT!C34/1.8)-273.15))))","v":""},{"$f":"IF(INPUT!B34=\"\",\"\",IF(INPUT!$G$6=\"°F\",INPUT!B34,IF(INPUT!$G$6=\"°C\",(INPUT!B34*1.8)+32,IF(INPUT!$G$6=\"°R\",INPUT!B34-459.67,(INPUT!B34*1.8)-459.67))))","v":""},{"$f":"IF(INPUT!C34=\"\",\"\",IF(INPUT!$G$6=\"°F\",INPUT!C34,IF(INPUT!$G$6=\"°C\",(INPUT!C34*1.8)+32,IF(INPUT!$G$6=\"°R\",INPUT!C34-459.67,(INPUT!C34*1.8)-459.67))))","v":""},{"$f":"IF(INPUT!D34=\"\",\"\",IF(OR(INPUT!$G$6=\"K\",INPUT!$G$6=\"°C\"),INPUT!D34,INPUT!D34/1.8))","v":""},null,{"$f":"IF(INPUT!D34=\"\",\"\",IF(OR(INPUT!$G$6=\"K\",INPUT!$G$6=\"°C\"),INPUT!D34*1.8,INPUT!D34))","v":""},null,null,{"$f":"IF(INPUT!$F$4=\"Select Input Data Method\",\"INPUT METHOD NOT SELECTED\",\"\")","v":""},{"$f":"IF(INPUT!$F$6=\"\",\"GLOBAL DTMIN NOT SPECIFIED\",\"\")","v":""},{"$f":"IF(INPUT!F$14=\"\",IF(OR(INPUT!E$15=\"\",INPUT!E$15=\"Select Units\"),\"SELECT UNITS\",\"\"),IF(OR(INPUT!E$15=\"\",INPUT!E$15=\"Select Units\",INPUT!F$15=\"\",INPUT!F$15=\"Select Units\"),\"SELECT UNITS\",\"\"))","v":""},{"$f":"IF(INPUT!$F$14=\"\",IF(COUNTIF('A1'!C$4:C$10,INPUT!E$15)=0,\"INCONSISTENT UNITS\",\"\"),IF(OR(COUNTIF('A1'!C$4:C$10,INPUT!E$15)=0,COUNTIF('A1'!E$4:E$10,INPUT!F$15)=0),\"INCONSISTENT UNITS\",\"\"))","v":""},{"$f":"IF(INPUT!A34=\"\",\"NO STREAM NAME\",\"\")","v":"NO STREAM NAME"},"NO SUPPLY TEMP",{"$f":"IF(INPUT!B34=\"\",\"NO SUPPLY TEMP\",\"\")","v":"NO SUPPLY TEMP"},{"$f":"IF(INPUT!C34=\"\",\"NO TARGET TEMP\",\"\")","v":"NO TARGET TEMP"},{"$f":"IF(INPUT!E34=\"\",\"NO PRIMARY HEAT DATA\",\"\")","v":"NO PRIMARY HEAT DATA"},{"$f":"IF(INPUT!F$14=\"\",\"\",IF(INPUT!F34=\"\",\"NO SECONDARY HEAT DATA\",\"\"))","v":""},"",{"$f":"IF(SUM(INPUT!B34:F34)-SUM(INPUT!C34:F34)=0,IF(INPUT!B34=0,\"\",\"NON NUMERICAL INPUT\"),\"\")","v":""},{"$f":"IF(SUM(INPUT!B34:F34)-SUM(INPUT!D34:F34,INPUT!B34)=0,IF(INPUT!C34=0,\"\",\"NON NUMERICAL INPUT\"),\"\")","v":""},{"$f":"IF(SUM(INPUT!B34:F34)-SUM(INPUT!E34:F34,INPUT!B34,INPUT!C34)=0,IF(INPUT!D34=0,\"\",\"NON NUMERICAL INPUT\"),\"\")","v":""},{"$f":"IF(SUM(INPUT!B34:F34)-SUM(INPUT!B34:D34,INPUT!F34)=0,IF(INPUT!E34=0,\"\",\"NON NUMERICAL INPUT\"),\"\")","v":""},{"$f":"IF(INPUT!F$14=\"\",\"\",IF(SUM(INPUT!B34:F34)-SUM(INPUT!B34:E34)=0,IF(INPUT!F34=0,\"\",\"NON NUMERICAL INPUT\"),\"\"))","v":""}]
[{"$f":"IF(INPUT!A35=\"\",\"\",INPUT!A35)","v":""},{"$f":"IF(INPUT!$F$12=$P$3,'A1'!U49,IF(INPUT!$F$12=$P$4,'A1'!U49,'A1'!W49))","v":""},{"$f":"IF(INPUT!$F$12=$P$3,'A1'!V49,IF(INPUT!$F$12=$P$4,'A1'!V49,'A1'!X49))","v":""},{"$f":"IF(INPUT!$F$12=$P$3,'A1'!Y49,IF(INPUT!$F$12=$P$4,'A1'!Y49,'A1'!AA49))","v":""},"",null,{"$f":"IF(C49=\"\",\"\",IF($D49=\"\",IF($F$30=\"\",\"NO dT MIN\",IF(J49=\"HOT\",((C49)-($F$30/2)),((C49)+($F$30/2)))),IF($J49=\"HOT\",C49-INPUT!D49,C49+INPUT!D49)))","v":""},{"$f":"IF(INPUT!$F$12=$P$3,'A1'!R49,IF(INPUT!$F$12=$P$4,'A1'!S49,'A1'!T49))","v":""},"","","","",null,{"$f":"IF(INPUT!E35=\"\",\"\",INPUT!E35)","v":""},"",{"$f":"IF(INPUT!F35=\"\",\"\",INPUT!F35)","v":""},"",{"$f":"IF(N49=\"\",\"\",IF(N$27=B$4,ABS(N49/O49),IF(N$27=B$5,ABS(N49/O49)/ABS(B49-C49),IF(INPUT!F$4=B$6,ABS(N49/O49)*ABS(P49/Q49),IF(INPUT!F$4=B$7,ABS(N49/O49)*ABS(P49/Q49)/ABS(B49-C49),\"\")))))","v":""},"","",{"$f":"IF(INPUT!B35=\"\",\"\",IF(INPUT!$G$6=\"°C\",INPUT!B35,IF(INPUT!$G$6=\"°F\",(INPUT!B35-32)/1.8,IF(INPUT!$G$6=\"K\",INPUT!B35-273.15,(INPUT!B35/1.8)-273.15))))","v":""},{"$f":"IF(INPUT!C35=\"\",\"\",IF(INPUT!$G$6=\"°C\",INPUT!C35,IF(INPUT!$G$6=\"°F\",(INPUT!C35-32)/1.8,IF(INPUT!$G$6=\"K\",INPUT!C35-273.15,(INPUT!C35/1.8)-273.15))))","v":""},{"$f":"IF(INPUT!B35=\"\",\"\",IF(INPUT!$G$6=\"°F\",INPUT!B35,IF(INPUT!$G$6=\"°C\",(INPUT!B35*1.8)+32,IF(INPUT!$G$6=\"°R\",INPUT!B35-459.67,(INPUT!B35*1.8)-459.67))))","v":""},{"$f":"IF(INPUT!C35=\"\",\"\",IF(INPUT!$G$6=\"°F\",INPUT!C35,IF(INPUT!$G$6=\"°C\",(INPUT!C35*1.8)+32,IF(INPUT!$G$6=\"°R\",INPUT!C35-459.67,(INPUT!C35*1.8)-459.67))))","v":""},{"$f":"IF(INPUT!D35=\"\",\"\",IF(OR(INPUT!$G$6=\"K\",INPUT!$G$6=\"°C\"),INPUT!D35,INPUT!D35/1.8))","v":""},null,{"$f":"IF(INPUT!D35=\"\",\"\",IF(OR(INPUT!$G$6=\"K\",INPUT!$G$6=\"°C\"),INPUT!D35*1.8,INPUT!D35))","v":""},null,null,{"$f":"IF(INPUT!$F$4=\"Select Input Data Method\",\"INPUT METHOD NOT SELECTED\",\"\")","v":""},{"$f":"IF(INPUT!$F$6=\"\",\"GLOBAL DTMIN NOT SPECIFIED\",\"\")","v":""},{"$f":"IF(INPUT!F$14=\"\",IF(OR(INPUT!E$15=\"\",INPUT!E$15=\"Select Units\"),\"SELECT UNITS\",\"\"),IF(OR(INPUT!E$15=\"\",INPUT!E$15=\"Select Units\",INPUT!F$15=\"\",INPUT!F$15=\"Select Units\"),\"SELECT UNITS\",\"\"))","v":""},{"$f":"IF(INPUT!$F$14=\"\",IF(COUNTIF('A1'!C$4:C$10,INPUT!E$15)=0,\"INCONSISTENT UNITS\",\"\"),IF(OR(COUNTIF('A1'!C$4:C$10,INPUT!E$15)=0,COUNTIF('A1'!E$4:E$10,INPUT!F$15)=0),\"INCONSISTENT UNITS\",\"\"))","v":""},{"$f":"IF(INPUT!A35=\"\",\"NO STREAM NAME\",\"\")","v":"NO STREAM NAME"},"NO SUPPLY TEMP",{"$f":"IF(INPUT!B35=\"\",\"NO SUPPLY TEMP\",\"\")","v":"NO SUPPLY TEMP"},{"$f":"IF(INPUT!C35=\"\",\"NO TARGET TEMP\",\"\")","v":"NO TARGET TEMP"},{"$f":"IF(INPUT!E35=\"\",\"NO PRIMARY HEAT DATA\",\"\")","v":"NO PRIMARY HEAT DATA"},{"$f":"IF(INPUT!F$14=\"\",\"\",IF(INPUT!F35=\"\",\"NO SECONDARY HEAT DATA\",\"\"))","v":""},"",{"$f":"IF(SUM(INPUT!B35:F35)-SUM(INPUT!C35:F35)=0,IF(INPUT!B35=0,\"\",\"NON NUMERICAL INPUT\"),\"\")","v":""},{"$f":"IF(SUM(INPUT!B35:F35)-SUM(INPUT!D35:F35,INPUT!B35)=0,IF(INPUT!C35=0,\"\",\"NON NUMERICAL INPUT\"),\"\")","v":""},{"$f":"IF(SUM(INPUT!B35:F35)-SUM(INPUT!E35:F35,INPUT!B35,INPUT!C35)=0,IF(INPUT!D35=0,\"\",\"NON NUMERICAL INPUT\"),\"\")","v":""},{"$f":"IF(SUM(INPUT!B35:F35)-SUM(INPUT!B35:D35,INPUT!F35)=0,IF(INPUT!E35=0,\"\",\"NON NUMERICAL INPUT\"),\"\")","v":""},{"$f":"IF(INPUT!F$14=\"\",\"\",IF(SUM(INPUT!B35:F35)-SUM(INPUT!B35:E35)=0,IF(INPUT!F35=0,\"\",\"NON NUMERICAL INPUT\"),\"\"))","v":""}]
[{"$f":"IF(INPUT!A36=\"\",\"\",INPUT!A36)","v":""},{"$f":"IF(INPUT!$F$12=$P$3,'A1'!U50,IF(INPUT!$F$12=$P$4,'A1'!U50,'A1'!W50))","v":""},{"$f":"IF(INPUT!$F$12=$P$3,'A1'!V50,IF(INPUT!$F$12=$P$4,'A1'!V50,'A1'!X50))","v":""},{"$f":"IF(INPUT!$F$12=$P$3,'A1'!Y50,IF(INPUT!$F$12=$P$4,'A1'!Y50,'A1'!AA50))","v":""},"",null,{"$f":"IF(C50=\"\",\"\",IF($D50=\"\",IF($F$30=\"\",\"NO dT MIN\",IF(J50=\"HOT\",((C50)-($F$30/2)),((C50)+($F$30/2)))),IF($J50=\"HOT\",C50-INPUT!D50,C50+INPUT!D50)))","v":""},{"$f":"IF(INPUT!$F$12=$P$3,'A1'!R50,IF(INPUT!$F$12=$P$4,'A1'!S50,'A1'!T50))","v":""},"","","","",null,{"$f":"IF(INPUT!E36=\"\",\"\",INPUT!E36)","v":""},"",{"$f":"IF(INPUT!F36=\"\",\"\",INPUT!F36)","v":""},"",{"$f":"IF(N50=\"\",\"\",IF(N$27=B$4,ABS(N50/O50),IF(N$27=B$5,ABS(N50/O50)/ABS(B50-C50),IF(INPUT!F$4=B$6,ABS(N50/O50)*ABS(P50/Q50),IF(INPUT!F$4=B$7,ABS(N50/O50)*ABS(P50/Q50)/ABS(B50-C50),\"\")))))","v":""},"","",{"$f":"IF(INPUT!B36=\"\",\"\",IF(INPUT!$G$6=\"°C\",INPUT!B36,IF(INPUT!$G$6=\"°F\",(INPUT!B36-32)/1.8,IF(INPUT!$G$6=\"K\",INPUT!B36-273.15,(INPUT!B36/1.8)-273.15))))","v":""},{"$f":"IF(INPUT!C36=\"\",\"\",IF(INPUT!$G$6=\"°C\",INPUT!C36,IF(INPUT!$G$6=\"°F\",(INPUT!C36-32)/1.8,IF(INPUT!$G$6=\"K\",INPUT!C36-273.15,(INPUT!C36/1.8)-273.15))))","v":""},{"$f":"IF(INPUT!B36=\"\",\"\",IF(INPUT!$G$6=\"°F\",INPUT!B36,IF(INPUT!$G$6=\"°C\",(INPUT!B36*1.8)+32,IF(INPUT!$G$6=\"°R\",INPUT!B36-459.67,(INPUT!B36*1.8)-459.67))))","v":""},{"$f":"IF(INPUT!C36=\"\",\"\",IF(INPUT!$G$6=\"°F\",INPUT!C36,IF(INPUT!$G$6=\"°C\",(INPUT!C36*1.8)+32,IF(INPUT!$G$6=\"°R\",INPUT!C36-459.67,(INPUT!C36*1.8)-459.67))))","v":""},{"$f":"IF(INPUT!D36=\"\",\"\",IF(OR(INPUT!$G$6=\"K\",INPUT!$G$6=\"°C\"),INPUT!D36,INPUT!D36/1.8))","v":""},null,{"$f":"IF(INPUT!D36=\"\",\"\",IF(OR(INPUT!$G$6=\"K\",INPUT!$G$6=\"°C\"),INPUT!D36*1.8,INPUT!D36))","v":""},null,null,{"$f":"IF(INPUT!$F$4=\"Select Input Data Method\",\"INPUT METHOD NOT SELECTED\",\"\")","v":""},{"$f":"IF(INPUT!$F$6=\"\",\"GLOBAL DTMIN NOT SPECIFIED\",\"\")","v":""},{"$f":"IF(INPUT!F$14=\"\",IF(OR(INPUT!E$15=\"\",INPUT!E$15=\"Select Units\"),\"SELECT UNITS\",\"\"),IF(OR(INPUT!E$15=\"\",INPUT!E$15=\"Select Units\",INPUT!F$15=\"\",INPUT!F$15=\"Select Units\"),\"SELECT UNITS\",\"\"))","v":""},{"$f":"IF(INPUT!$F$14=\"\",IF(COUNTIF('A1'!C$4:C$10,INPUT!E$15)=0,\"INCONSISTENT UNITS\",\"\"),IF(OR(COUNTIF('A1'!C$4:C$10,INPUT!E$15)=0,COUNTIF('A1'!E$4:E$10,INPUT!F$15)=0),\"INCONSISTENT UNITS\",\"\"))","v":""},{"$f":"IF(INPUT!A36=\"\",\"NO STREAM NAME\",\"\")","v":"NO STREAM NAME"},"NO SUPPLY TEMP",{"$f":"IF(INPUT!B36=\"\",\"NO SUPPLY TEMP\",\"\")","v":"NO SUPPLY TEMP"},{"$f":"IF(INPUT!C36=\"\",\"NO TARGET TEMP\",\"\")","v":"NO TARGET TEMP"},{"$f":"IF(INPUT!E36=\"\",\"NO PRIMARY HEAT DATA\",\"\")","v":"NO PRIMARY HEAT DATA"},{"$f":"IF(INPUT!F$14=\"\",\"\",IF(INPUT!F36=\"\",\"NO SECONDARY HEAT DATA\",\"\"))","v":""},"",{"$f":"IF(SUM(INPUT!B36:F36)-SUM(INPUT!C36:F36)=0,IF(INPUT!B36=0,\"\",\"NON NUMERICAL INPUT\"),\"\")","v":""},{"$f":"IF(SUM(INPUT!B36:F36)-SUM(INPUT!D36:F36,INPUT!B36)=0,IF(INPUT!C36=0,\"\",\"NON NUMERICAL INPUT\"),\"\")","v":""},{"$f":"IF(SUM(INPUT!B36:F36)-SUM(INPUT!E36:F36,INPUT!B36,INPUT!C36)=0,IF(INPUT!D36=0,\"\",\"NON NUMERICAL INPUT\"),\"\")","v":""},{"$f":"IF(SUM(INPUT!B36:F36)-SUM(INPUT!B36:D36,INPUT!F36)=0,IF(INPUT!E36=0,\"\",\"NON NUMERICAL INPUT\"),\"\")","v":""},{"$f":"IF(INPUT!F$14=\"\",\"\",IF(SUM(INPUT!B36:F36)-SUM(INPUT!B36:E36)=0,IF(INPUT!F36=0,\"\",\"NON NUMERICAL INPUT\"),\"\"))","v":""}]
[{"$f":"IF(INPUT!A37=\"\",\"\",INPUT!A37)","v":""},{"$f":"IF(INPUT!$F$12=$P$3,'A1'!U51,IF(INPUT!$F$12=$P$4,'A1'!U51,'A1'!W51))","v":""},{"$f":"IF(INPUT!$F$12=$P$3,'A1'!V51,IF(INPUT!$F$12=$P$4,'A1'!V51,'A1'!X51))","v":""},{"$f":"IF(INPUT!$F$12=$P$3,'A1'!Y51,IF(INPUT!$F$12=$P$4,'A1'!Y51,'A1'!AA51))","v":""},"",null,{"$f":"IF(C51=\"\",\"\",IF($D51=\"\",IF($F$30=\"\",\"NO dT MIN\",IF(J51=\"HOT\",((C51)-($F$30/2)),((C51)+($F$30/2)))),IF($J51=\"HOT\",C51-INPUT!D51,C51+INPUT!D51)))","v":""},{"$f":"IF(INPUT!$F$12=$P$3,'A1'!R51,IF(INPUT!$F$12=$P$4,'A1'!S51,'A1'!T51))","v":""},"","","","",null,{"$f":"IF(INPUT!E37=\"\",\"\",INPUT!E37)","v":""},"",{"$f":"IF(INPUT!F37=\"\",\"\",INPUT!F37)","v":""},"",{"$f":"IF(N51=\"\",\"\",IF(N$27=B$4,ABS(N51/O51),IF(N$27=B$5,ABS(N51/O51)/ABS(B51-C51),IF(INPUT!F$4=B$6,ABS(N51/O51)*ABS(P51/Q51),IF(INPUT!F$4=B$7,ABS(N51/O51)*ABS(P51/Q51)/ABS(B51-C51),\"\")))))","v":""},"","",{"$f":"IF(INPUT!B37=\"\",\"\",IF(INPUT!$G$6=\"°C\",INPUT!B37,IF(INPUT!$G$6=\"°F\",(INPUT!B37-32)/1.8,IF(INPUT!$G$6=\"K\",INPUT!B37-273.15,(INPUT!B37/1.8)-273.15))))","v":""},{"$f":"IF(INPUT!C37=\"\",\"\",IF(INPUT!$G$6=\"°C\",INPUT!C37,IF(INPUT!$G$6=\"°F\",(INPUT!C37-32)/1.8,IF(INPUT!$G$6=\"K\",INPUT!C37-273.15,(INPUT!C37/1.8)-273.15))))","v":""},{"$f":"IF(INPUT!B37=\"\",\"\",IF(INPUT!$G$6=\"°F\",INPUT!B37,IF(INPUT!$G$6=\"°C\",(INPUT!B37*1.8)+32,IF(INPUT!$G$6=\"°R\",INPUT!B37-459.67,(INPUT!B37*1.8)-459.67))))","v":""},{"$f":"IF(INPUT!C37=\"\",\"\",IF(INPUT!$G$6=\"°F\",INPUT!C37,IF(INPUT!$G$6=\"°C\",(INPUT!C37*1.8)+32,IF(INPUT!$G$6=\"°R\",INPUT!C37-459.67,(INPUT!C37*1.8)-459.67))))","v":""},{"$f":"IF(INPUT!D37=\"\",\"\",IF(OR(INPUT!$G$6=\"K\",INPUT!$G$6=\"°C\"),INPUT!D37,INPUT!D37/1.8))","v":""},null,{"$f":"IF(INPUT!D37=\"\",\"\",IF(OR(INPUT!$G$6=\"K\",INPUT!$G$6=\"°C\"),INPUT!D37*1.8,INPUT!D37))","v":""},null,null,{"$f":"IF(INPUT!$F$4=\"Select Input Data Method\",\"INPUT METHOD NOT SELECTED\",\"\")","v":""},{"$f":"IF(INPUT!$F$6=\"\",\"GLOBAL DTMIN NOT SPECIFIED\",\"\")","v":""},{"$f":"IF(INPUT!F$14=\"\",IF(OR(INPUT!E$15=\"\",INPUT!E$15=\"Select Units\"),\"SELECT UNITS\",\"\"),IF(OR(INPUT!E$15=\"\",INPUT!E$15=\"Select Units\",INPUT!F$15=\"\",INPUT!F$15=\"Select Units\"),\"SELECT UNITS\",\"\"))","v":""},{"$f":"IF(INPUT!$F$14=\"\",IF(COUNTIF('A1'!C$4:C$10,INPUT!E$15)=0,\"INCONSISTENT UNITS\",\"\"),IF(OR(COUNTIF('A1'!C$4:C$10,INPUT!E$15)=0,COUNTIF('A1'!E$4:E$10,INPUT!F$15)=0),\"INCONSISTENT UNITS\",\"\"))","v":""},{"$f":"IF(INPUT!A37=\"\",\"NO STREAM NAME\",\"\")","v":"NO STREAM NAME"},"NO SUPPLY TEMP",{"$f":"IF(INPUT!B37=\"\",\"NO SUPPLY TEMP\",\"\")","v":"NO SUPPLY TEMP"},{"$f":"IF(INPUT!C37=\"\",\"NO TARGET TEMP\",\"\")","v":"NO TARGET TEMP"},{"$f":"IF(INPUT!E37=\"\",\"NO PRIMARY HEAT DATA\",\"\")","v":"NO PRIMARY HEAT DATA"},{"$f":"IF(INPUT!F$14=\"\",\"\",IF(INPUT!F37=\"\",\"NO SECONDARY HEAT DATA\",\"\"))","v":""},"",{"$f":"IF(SUM(INPUT!B37:F37)-SUM(INPUT!C37:F37)=0,IF(INPUT!B37=0,\"\",\"NON NUMERICAL INPUT\"),\"\")","v":""},{"$f":"IF(SUM(INPUT!B37:F37)-SUM(INPUT!D37:F37,INPUT!B37)=0,IF(INPUT!C37=0,\"\",\"NON NUMERICAL INPUT\"),\"\")","v":""},{"$f":"IF(SUM(INPUT!B37:F37)-SUM(INPUT!E37:F37,INPUT!B37,INPUT!C37)=0,IF(INPUT!D37=0,\"\",\"NON NUMERICAL INPUT\"),\"\")","v":""},{"$f":"IF(SUM(INPUT!B37:F37)-SUM(INPUT!B37:D37,INPUT!F37)=0,IF(INPUT!E37=0,\"\",\"NON NUMERICAL INPUT\"),\"\")","v":""},{"$f":"IF(INPUT!F$14=\"\",\"\",IF(SUM(INPUT!B37:F37)-SUM(INPUT!B37:E37)=0,IF(INPUT!F37=0,\"\",\"NON NUMERICAL INPUT\"),\"\"))","v":""}]
[{"$f":"IF(INPUT!A38=\"\",\"\",INPUT!A38)","v":""},{"$f":"IF(INPUT!$F$12=$P$3,'A1'!U52,IF(INPUT!$F$12=$P$4,'A1'!U52,'A1'!W52))","v":""},{"$f":"IF(INPUT!$F$12=$P$3,'A1'!V52,IF(INPUT!$F$12=$P$4,'A1'!V52,'A1'!X52))","v":""},{"$f":"IF(INPUT!$F$12=$P$3,'A1'!Y52,IF(INPUT!$F$12=$P$4,'A1'!Y52,'A1'!AA52))","v":""},"",null,{"$f":"IF(C52=\"\",\"\",IF($D52=\"\",IF($F$30=\"\",\"NO dT MIN\",IF(J52=\"HOT\",((C52)-($F$30/2)),((C52)+($F$30/2)))),IF($J52=\"HOT\",C52-INPUT!D52,C52+INPUT!D52)))","v":""},{"$f":"IF(INPUT!$F$12=$P$3,'A1'!R52,IF(INPUT!$F$12=$P$4,'A1'!S52,'A1'!T52))","v":""},"","","","",null,{"$f":"IF(INPUT!E38=\"\",\"\",INPUT!E38)","v":""},"",{"$f":"IF(INPUT!F38=\"\",\"\",INPUT!F38)","v":""},"",{"$f":"IF(N52=\"\",\"\",IF(N$27=B$4,ABS(N52/O52),IF(N$27=B$5,ABS(N52/O52)/ABS(B52-C52),IF(INPUT!F$4=B$6,ABS(N52/O52)*ABS(P52/Q52),IF(INPUT!F$4=B$7,ABS(N52/O52)*ABS(P52/Q52)/ABS(B52-C52),\"\")))))","v":""},"","",{"$f":"IF(INPUT!B38=\"\",\"\",IF(INPUT!$G$6=\"°C\",INPUT!B38,IF(INPUT!$G$6=\"°F\",(INPUT!B38-32)/1.8,IF(INPUT!$G$6=\"K\",INPUT!B38-273.15,(INPUT!B38/1.8)-273.15))))","v":""},{"$f":"IF(INPUT!C38=\"\",\"\",IF(INPUT!$G$6=\"°C\",INPUT!C38,IF(INPUT!$G$6=\"°F\",(INPUT!C38-32)/1.8,IF(INPUT!$G$6=\"K\",INPUT!C38-273.15,(INPUT!C38/1.8)-273.15))))","v":""},{"$f":"IF(INPUT!B38=\"\",\"\",IF(INPUT!$G$6=\"°F\",INPUT!B38,IF(INPUT!$G$6=\"°C\",(INPUT!B38*1.8)+32,IF(INPUT!$G$6=\"°R\",INPUT!B38-459.67,(INPUT!B38*1.8)-459.67))))","v":""},{"$f":"IF(INPUT!C38=\"\",\"\",IF(INPUT!$G$6=\"°F\",INPUT!C38,IF(INPUT!$G$6=\"°C\",(INPUT!C38*1.8)+32,IF(INPUT!$G$6=\"°R\",INPUT!C38-459.67,(INPUT!C38*1.8)-459.67))))","v":""},{"$f":"IF(INPUT!D38=\"\",\"\",IF(OR(INPUT!$G$6=\"K\",INPUT!$G$6=\"°C\"),INPUT!D38,INPUT!D38/1.8))","v":""},null,{"$f":"IF(INPUT!D38=\"\",\"\",IF(OR(INPUT!$G$6=\"K\",INPUT!$G$6=\"°C\"),INPUT!D38*1.8,INPUT!D38))","v":""},null,null,{"$f":"IF(INPUT!$F$4=\"Select Input Data Method\",\"INPUT METHOD NOT SELECTED\",\"\")","v":""},{"$f":"IF(INPUT!$F$6=\"\",\"GLOBAL DTMIN NOT SPECIFIED\",\"\")","v":""},{"$f":"IF(INPUT!F$14=\"\",IF(OR(INPUT!E$15=\"\",INPUT!E$15=\"Select Units\"),\"SELECT UNITS\",\"\"),IF(OR(INPUT!E$15=\"\",INPUT!E$15=\"Select Units\",INPUT!F$15=\"\",INPUT!F$15=\"Select Units\"),\"SELECT UNITS\",\"\"))","v":""},{"$f":"IF(INPUT!$F$14=\"\",IF(COUNTIF('A1'!C$4:C$10,INPUT!E$15)=0,\"INCONSISTENT UNITS\",\"\"),IF(OR(COUNTIF('A1'!C$4:C$10,INPUT!E$15)=0,COUNTIF('A1'!E$4:E$10,INPUT!F$15)=0),\"INCONSISTENT UNITS\",\"\"))","v":""},{"$f":"IF(INPUT!A38=\"\",\"NO STREAM NAME\",\"\")","v":"NO STREAM NAME"},"NO SUPPLY TEMP",{"$f":"IF(INPUT!B38=\"\",\"NO SUPPLY TEMP\",\"\")","v":"NO SUPPLY TEMP"},{"$f":"IF(INPUT!C38=\"\",\"NO TARGET TEMP\",\"\")","v":"NO TARGET TEMP"},{"$f":"IF(INPUT!E38=\"\",\"NO PRIMARY HEAT DATA\",\"\")","v":"NO PRIMARY HEAT DATA"},{"$f":"IF(INPUT!F$14=\"\",\"\",IF(INPUT!F38=\"\",\"NO SECONDARY HEAT DATA\",\"\"))","v":""},"",{"$f":"IF(SUM(INPUT!B38:F38)-SUM(INPUT!C38:F38)=0,IF(INPUT!B38=0,\"\",\"NON NUMERICAL INPUT\"),\"\")","v":""},{"$f":"IF(SUM(INPUT!B38:F38)-SUM(INPUT!D38:F38,INPUT!B38)=0,IF(INPUT!C38=0,\"\",\"NON NUMERICAL INPUT\"),\"\")","v":""},{"$f":"IF(SUM(INPUT!B38:F38)-SUM(INPUT!E38:F38,INPUT!B38,INPUT!C38)=0,IF(INPUT!D38=0,\"\",\"NON NUMERICAL INPUT\"),\"\")","v":""},{"$f":"IF(SUM(INPUT!B38:F38)-SUM(INPUT!B38:D38,INPUT!F38)=0,IF(INPUT!E38=0,\"\",\"NON NUMERICAL INPUT\"),\"\")","v":""},{"$f":"IF(INPUT!F$14=\"\",\"\",IF(SUM(INPUT!B38:F38)-SUM(INPUT!B38:E38)=0,IF(INPUT!F38=0,\"\",\"NON NUMERICAL INPUT\"),\"\"))","v":""}]
[{"$f":"IF(INPUT!A39=\"\",\"\",INPUT!A39)","v":""},{"$f":"IF(INPUT!$F$12=$P$3,'A1'!U53,IF(INPUT!$F$12=$P$4,'A1'!U53,'A1'!W53))","v":""},{"$f":"IF(INPUT!$F$12=$P$3,'A1'!V53,IF(INPUT!$F$12=$P$4,'A1'!V53,'A1'!X53))","v":""},{"$f":"IF(INPUT!$F$12=$P$3,'A1'!Y53,IF(INPUT!$F$12=$P$4,'A1'!Y53,'A1'!AA53))","v":""},"",null,{"$f":"IF(C53=\"\",\"\",IF($D53=\"\",IF($F$30=\"\",\"NO dT MIN\",IF(J53=\"HOT\",((C53)-($F$30/2)),((C53)+($F$30/2)))),IF($J53=\"HOT\",C53-INPUT!D53,C53+INPUT!D53)))","v":""},{"$f":"IF(INPUT!$F$12=$P$3,'A1'!R53,IF(INPUT!$F$12=$P$4,'A1'!S53,'A1'!T53))","v":""},"","","","",null,{"$f":"IF(INPUT!E39=\"\",\"\",INPUT!E39)","v":""},"",{"$f":"IF(INPUT!F39=\"\",\"\",INPUT!F39)","v":""},"",{"$f":"IF(N53=\"\",\"\",IF(N$27=B$4,ABS(N53/O53),IF(N$27=B$5,ABS(N53/O53)/ABS(B53-C53),IF(INPUT!F$4=B$6,ABS(N53/O53)*ABS(P53/Q53),IF(INPUT!F$4=B$7,ABS(N53/O53)*ABS(P53/Q53)/ABS(B53-C53),\"\")))))","v":""},"","",{"$f":"IF(INPUT!B39=\"\",\"\",IF(INPUT!$G$6=\"°C\",INPUT!B39,IF(INPUT!$G$6=\"°F\",(INPUT!B39-32)/1.8,IF(INPUT!$G$6=\"K\",INPUT!B39-273.15,(INPUT!B39/1.8)-273.15))))","v":""},{"$f":"IF(INPUT!C39=\"\",\"\",IF(INPUT!$G$6=\"°C\",INPUT!C39,IF(INPUT!$G$6=\"°F\",(INPUT!C39-32)/1.8,IF(INPUT!$G$6=\"K\",INPUT!C39-273.15,(INPUT!C39/1.8)-273.15))))","v":""},{"$f":"IF(INPUT!B39=\"\",\"\",IF(INPUT!$G$6=\"°F\",INPUT!B39,IF(INPUT!$G$6=\"°C\",(INPUT!B39*1.8)+32,IF(INPUT!$G$6=\"°R\",INPUT!B39-459.67,(INPUT!B39*1.8)-459.67))))","v":""},{"$f":"IF(INPUT!C39=\"\",\"\",IF(INPUT!$G$6=\"°F\",INPUT!C39,IF(INPUT!$G$6=\"°C\",(INPUT!C39*1.8)+32,IF(INPUT!$G$6=\"°R\",INPUT!C39-459.67,(INPUT!C39*1.8)-459.67))))","v":""},{"$f":"IF(INPUT!D39=\"\",\"\",IF(OR(INPUT!$G$6=\"K\",INPUT!$G$6=\"°C\"),INPUT!D39,INPUT!D39/1.8))","v":""},null,{"$f":"IF(INPUT!D39=\"\",\"\",IF(OR(INPUT!$G$6=\"K\",INPUT!$G$6=\"°C\"),INPUT!D39*1.8,INPUT!D39))","v":""},null,null,{"$f":"IF(INPUT!$F$4=\"Select Input Data Method\",\"INPUT METHOD NOT SELECTED\",\"\")","v":""},{"$f":"IF(INPUT!$F$6=\"\",\"GLOBAL DTMIN NOT SPECIFIED\",\"\")","v":""},{"$f":"IF(INPUT!F$14=\"\",IF(OR(INPUT!E$15=\"\",INPUT!E$15=\"Select Units\"),\"SELECT UNITS\",\"\"),IF(OR(INPUT!E$15=\"\",INPUT!E$15=\"Select Units\",INPUT!F$15=\"\",INPUT!F$15=\"Select Units\"),\"SELECT UNITS\",\"\"))","v":""},{"$f":"IF(INPUT!$F$14=\"\",IF(COUNTIF('A1'!C$4:C$10,INPUT!E$15)=0,\"INCONSISTENT UNITS\",\"\"),IF(OR(COUNTIF('A1'!C$4:C$10,INPUT!E$15)=0,COUNTIF('A1'!E$4:E$10,INPUT!F$15)=0),\"INCONSISTENT UNITS\",\"\"))","v":""},{"$f":"IF(INPUT!A39=\"\",\"NO STREAM NAME\",\"\")","v":"NO STREAM NAME"},"NO SUPPLY TEMP",{"$f":"IF(INPUT!B39=\"\",\"NO SUPPLY TEMP\",\"\")","v":"NO SUPPLY TEMP"},{"$f":"IF(INPUT!C39=\"\",\"NO TARGET TEMP\",\"\")","v":"NO TARGET TEMP"},{"$f":"IF(INPUT!E39=\"\",\"NO PRIMARY HEAT DATA\",\"\")","v":"NO PRIMARY HEAT DATA"},{"$f":"IF(INPUT!F$14=\"\",\"\",IF(INPUT!F39=\"\",\"NO SECONDARY HEAT DATA\",\"\"))","v":""},"",{"$f":"IF(SUM(INPUT!B39:F39)-SUM(INPUT!C39:F39)=0,IF(INPUT!B39=0,\"\",\"NON NUMERICAL INPUT\"),\"\")","v":""},{"$f":"IF(SUM(INPUT!B39:F39)-SUM(INPUT!D39:F39,INPUT!B39)=0,IF(INPUT!C39=0,\"\",\"NON NUMERICAL INPUT\"),\"\")","v":""},{"$f":"IF(SUM(INPUT!B39:F39)-SUM(INPUT!E39:F39,INPUT!B39,INPUT!C39)=0,IF(INPUT!D39=0,\"\",\"NON NUMERICAL INPUT\"),\"\")","v":""},{"$f":"IF(SUM(INPUT!B39:F39)-SUM(INPUT!B39:D39,INPUT!F39)=0,IF(INPUT!E39=0,\"\",\"NON NUMERICAL INPUT\"),\"\")","v":""},{"$f":"IF(INPUT!F$14=\"\",\"\",IF(SUM(INPUT!B39:F39)-SUM(INPUT!B39:E39)=0,IF(INPUT!F39=0,\"\",\"NON NUMERICAL INPUT\"),\"\"))","v":""}]
[{"$f":"IF(INPUT!A40=\"\",\"\",INPUT!A40)","v":""},{"$f":"IF(INPUT!$F$12=$P$3,'A1'!U54,IF(INPUT!$F$12=$P$4,'A1'!U54,'A1'!W54))","v":""},{"$f":"IF(INPUT!$F$12=$P$3,'A1'!V54,IF(INPUT!$F$12=$P$4,'A1'!V54,'A1'!X54))","v":""},{"$f":"IF(INPUT!$F$12=$P$3,'A1'!Y54,IF(INPUT!$F$12=$P$4,'A1'!Y54,'A1'!AA54))","v":""},"",null,{"$f":"IF(C54=\"\",\"\",IF($D54=\"\",IF($F$30=\"\",\"NO dT MIN\",IF(J54=\"HOT\",((C54)-($F$30/2)),((C54)+($F$30/2)))),IF($J54=\"HOT\",C54-INPUT!D54,C54+INPUT!D54)))","v":""},{"$f":"IF(INPUT!$F$12=$P$3,'A1'!R54,IF(INPUT!$F$12=$P$4,'A1'!S54,'A1'!T54))","v":""},"","","","",null,{"$f":"IF(INPUT!E40=\"\",\"\",INPUT!E40)","v":""},"",{"$f":"IF(INPUT!F40=\"\",\"\",INPUT!F40)","v":""},"",{"$f":"IF(N54=\"\",\"\",IF(N$27=B$4,ABS(N54/O54),IF(N$27=B$5,ABS(N54/O54)/ABS(B54-C54),IF(INPUT!F$4=B$6,ABS(N54/O54)*ABS(P54/Q54),IF(INPUT!F$4=B$7,ABS(N54/O54)*ABS(P54/Q54)/ABS(B54-C54),\"\")))))","v":""},"","",{"$f":"IF(INPUT!B40=\"\",\"\",IF(INPUT!$G$6=\"°C\",INPUT!B40,IF(INPUT!$G$6=\"°F\",(INPUT!B40-32)/1.8,IF(INPUT!$G$6=\"K\",INPUT!B40-273.15,(INPUT!B40/1.8)-273.15))))","v":""},{"$f":"IF(INPUT!C40=\"\",\"\",IF(INPUT!$G$6=\"°C\",INPUT!C40,IF(INPUT!$G$6=\"°F\",(INPUT!C40-32)/1.8,IF(INPUT!$G$6=\"K\",INPUT!C40-273.15,(INPUT!C40/1.8)-273.15))))","v":""},{"$f":"IF(INPUT!B40=\"\",\"\",IF(INPUT!$G$6=\"°F\",INPUT!B40,IF(INPUT!$G$6=\"°C\",(INPUT!B40*1.8)+32,IF(INPUT!$G$6=\"°R\",INPUT!B40-459.67,(INPUT!B40*1.8)-459.67))))","v":""},{"$f":"IF(INPUT!C40=\"\",\"\",IF(INPUT!$G$6=\"°F\",INPUT!C40,IF(INPUT!$G$6=\"°C\",(INPUT!C40*1.8)+32,IF(INPUT!$G$6=\"°R\",INPUT!C40-459.67,(INPUT!C40*1.8)-459.67))))","v":""},{"$f":"IF(INPUT!D40=\"\",\"\",IF(OR(INPUT!$G$6=\"K\",INPUT!$G$6=\"°C\"),INPUT!D40,INPUT!D40/1.8))","v":""},null,{"$f":"IF(INPUT!D40=\"\",\"\",IF(OR(INPUT!$G$6=\"K\",INPUT!$G$6=\"°C\"),INPUT!D40*1.8,INPUT!D40))","v":""},null,null,{"$f":"IF(INPUT!$F$4=\"Select Input Data Method\",\"INPUT METHOD NOT SELECTED\",\"\")","v":""},{"$f":"IF(INPUT!$F$6=\"\",\"GLOBAL DTMIN NOT SPECIFIED\",\"\")","v":""},{"$f":"IF(INPUT!F$14=\"\",IF(OR(INPUT!E$15=\"\",INPUT!E$15=\"Select Units\"),\"SELECT UNITS\",\"\"),IF(OR(INPUT!E$15=\"\",INPUT!E$15=\"Select Units\",INPUT!F$15=\"\",INPUT!F$15=\"Select Units\"),\"SELECT UNITS\",\"\"))","v":""},{"$f":"IF(INPUT!$F$14=\"\",IF(COUNTIF('A1'!C$4:C$10,INPUT!E$15)=0,\"INCONSISTENT UNITS\",\"\"),IF(OR(COUNTIF('A1'!C$4:C$10,INPUT!E$15)=0,COUNTIF('A1'!E$4:E$10,INPUT!F$15)=0),\"INCONSISTENT UNITS\",\"\"))","v":""},{"$f":"IF(INPUT!A40=\"\",\"NO STREAM NAME\",\"\")","v":"NO STREAM NAME"},"NO SUPPLY TEMP",{"$f":"IF(INPUT!B40=\"\",\"NO SUPPLY TEMP\",\"\")","v":"NO SUPPLY TEMP"},{"$f":"IF(INPUT!C40=\"\",\"NO TARGET TEMP\",\"\")","v":"NO TARGET TEMP"},{"$f":"IF(INPUT!E40=\"\",\"NO PRIMARY HEAT DATA\",\"\")","v":"NO PRIMARY HEAT DATA"},{"$f":"IF(INPUT!F$14=\"\",\"\",IF(INPUT!F40=\"\",\"NO SECONDARY HEAT DATA\",\"\"))","v":""},"",{"$f":"IF(SUM(INPUT!B40:F40)-SUM(INPUT!C40:F40)=0,IF(INPUT!B40=0,\"\",\"NON NUMERICAL INPUT\"),\"\")","v":""},{"$f":"IF(SUM(INPUT!B40:F40)-SUM(INPUT!D40:F40,INPUT!B40)=0,IF(INPUT!C40=0,\"\",\"NON NUMERICAL INPUT\"),\"\")","v":""},{"$f":"IF(SUM(INPUT!B40:F40)-SUM(INPUT!E40:F40,INPUT!B40,INPUT!C40)=0,IF(INPUT!D40=0,\"\",\"NON NUMERICAL INPUT\"),\"\")","v":""},{"$f":"IF(SUM(INPUT!B40:F40)-SUM(INPUT!B40:D40,INPUT!F40)=0,IF(INPUT!E40=0,\"\",\"NON NUMERICAL INPUT\"),\"\")","v":""},{"$f":"IF(INPUT!F$14=\"\",\"\",IF(SUM(INPUT!B40:F40)-SUM(INPUT!B40:E40)=0,IF(INPUT!F40=0,\"\",\"NON NUMERICAL INPUT\"),\"\"))","v":""}]
[{"$f":"IF(INPUT!A41=\"\",\"\",INPUT!A41)","v":""},{"$f":"IF(INPUT!$F$12=$P$3,'A1'!U55,IF(INPUT!$F$12=$P$4,'A1'!U55,'A1'!W55))","v":""},{"$f":"IF(INPUT!$F$12=$P$3,'A1'!V55,IF(INPUT!$F$12=$P$4,'A1'!V55,'A1'!X55))","v":""},{"$f":"IF(INPUT!$F$12=$P$3,'A1'!Y55,IF(INPUT!$F$12=$P$4,'A1'!Y55,'A1'!AA55))","v":""},"",null,{"$f":"IF(C55=\"\",\"\",IF($D55=\"\",IF($F$30=\"\",\"NO dT MIN\",IF(J55=\"HOT\",((C55)-($F$30/2)),((C55)+($F$30/2)))),IF($J55=\"HOT\",C55-INPUT!D55,C55+INPUT!D55)))","v":""},{"$f":"IF(INPUT!$F$12=$P$3,'A1'!R55,IF(INPUT!$F$12=$P$4,'A1'!S55,'A1'!T55))","v":""},"","","","",null,{"$f":"IF(INPUT!E41=\"\",\"\",INPUT!E41)","v":""},"",{"$f":"IF(INPUT!F41=\"\",\"\",INPUT!F41)","v":""},"",{"$f":"IF(N55=\"\",\"\",IF(N$27=B$4,ABS(N55/O55),IF(N$27=B$5,ABS(N55/O55)/ABS(B55-C55),IF(INPUT!F$4=B$6,ABS(N55/O55)*ABS(P55/Q55),IF(INPUT!F$4=B$7,ABS(N55/O55)*ABS(P55/Q55)/ABS(B55-C55),\"\")))))","v":""},"","",{"$f":"IF(INPUT!B41=\"\",\"\",IF(INPUT!$G$6=\"°C\",INPUT!B41,IF(INPUT!$G$6=\"°F\",(INPUT!B41-32)/1.8,IF(INPUT!$G$6=\"K\",INPUT!B41-273.15,(INPUT!B41/1.8)-273.15))))","v":""},{"$f":"IF(INPUT!C41=\"\",\"\",IF(INPUT!$G$6=\"°C\",INPUT!C41,IF(INPUT!$G$6=\"°F\",(INPUT!C41-32)/1.8,IF(INPUT!$G$6=\"K\",INPUT!C41-273.15,(INPUT!C41/1.8)-273.15))))","v":""},{"$f":"IF(INPUT!B41=\"\",\"\",IF(INPUT!$G$6=\"°F\",INPUT!B41,IF(INPUT!$G$6=\"°C\",(INPUT!B41*1.8)+32,IF(INPUT!$G$6=\"°R\",INPUT!B41-459.67,(INPUT!B41*1.8)-459.67))))","v":""},{"$f":"IF(INPUT!C41=\"\",\"\",IF(INPUT!$G$6=\"°F\",INPUT!C41,IF(INPUT!$G$6=\"°C\",(INPUT!C41*1.8)+32,IF(INPUT!$G$6=\"°R\",INPUT!C41-459.67,(INPUT!C41*1.8)-459.67))))","v":""},{"$f":"IF(INPUT!D41=\"\",\"\",IF(OR(INPUT!$G$6=\"K\",INPUT!$G$6=\"°C\"),INPUT!D41,INPUT!D41/1.8))","v":""},null,{"$f":"IF(INPUT!D41=\"\",\"\",IF(OR(INPUT!$G$6=\"K\",INPUT!$G$6=\"°C\"),INPUT!D41*1.8,INPUT!D41))","v":""},null,null,{"$f":"IF(INPUT!$F$4=\"Select Input Data Method\",\"INPUT METHOD NOT SELECTED\",\"\")","v":""},{"$f":"IF(INPUT!$F$6=\"\",\"GLOBAL DTMIN NOT SPECIFIED\",\"\")","v":""},{"$f":"IF(INPUT!F$14=\"\",IF(OR(INPUT!E$15=\"\",INPUT!E$15=\"Select Units\"),\"SELECT UNITS\",\"\"),IF(OR(INPUT!E$15=\"\",INPUT!E$15=\"Select Units\",INPUT!F$15=\"\",INPUT!F$15=\"Select Units\"),\"SELECT UNITS\",\"\"))","v":""},{"$f":"IF(INPUT!$F$14=\"\",IF(COUNTIF('A1'!C$4:C$10,INPUT!E$15)=0,\"INCONSISTENT UNITS\",\"\"),IF(OR(COUNTIF('A1'!C$4:C$10,INPUT!E$15)=0,COUNTIF('A1'!E$4:E$10,INPUT!F$15)=0),\"INCONSISTENT UNITS\",\"\"))","v":""},{"$f":"IF(INPUT!A41=\"\",\"NO STREAM NAME\",\"\")","v":"NO STREAM NAME"},"NO SUPPLY TEMP",{"$f":"IF(INPUT!B41=\"\",\"NO SUPPLY TEMP\",\"\")","v":"NO SUPPLY TEMP"},{"$f":"IF(INPUT!C41=\"\",\"NO TARGET TEMP\",\"\")","v":"NO TARGET TEMP"},{"$f":"IF(INPUT!E41=\"\",\"NO PRIMARY HEAT DATA\",\"\")","v":"NO PRIMARY HEAT DATA"},{"$f":"IF(INPUT!F$14=\"\",\"\",IF(INPUT!F41=\"\",\"NO SECONDARY HEAT DATA\",\"\"))","v":""},"",{"$f":"IF(SUM(INPUT!B41:F41)-SUM(INPUT!C41:F41)=0,IF(INPUT!B41=0,\"\",\"NON NUMERICAL INPUT\"),\"\")","v":""},{"$f":"IF(SUM(INPUT!B41:F41)-SUM(INPUT!D41:F41,INPUT!B41)=0,IF(INPUT!C41=0,\"\",\"NON NUMERICAL INPUT\"),\"\")","v":""},{"$f":"IF(SUM(INPUT!B41:F41)-SUM(INPUT!E41:F41,INPUT!B41,INPUT!C41)=0,IF(INPUT!D41=0,\"\",\"NON NUMERICAL INPUT\"),\"\")","v":""},{"$f":"IF(SUM(INPUT!B41:F41)-SUM(INPUT!B41:D41,INPUT!F41)=0,IF(INPUT!E41=0,\"\",\"NON NUMERICAL INPUT\"),\"\")","v":""},{"$f":"IF(INPUT!F$14=\"\",\"\",IF(SUM(INPUT!B41:F41)-SUM(INPUT!B41:E41)=0,IF(INPUT!F41=0,\"\",\"NON NUMERICAL INPUT\"),\"\"))","v":""}]
[{"$f":"IF(INPUT!A42=\"\",\"\",INPUT!A42)","v":""},{"$f":"IF(INPUT!$F$12=$P$3,'A1'!U56,IF(INPUT!$F$12=$P$4,'A1'!U56,'A1'!W56))","v":""},{"$f":"IF(INPUT!$F$12=$P$3,'A1'!V56,IF(INPUT!$F$12=$P$4,'A1'!V56,'A1'!X56))","v":""},{"$f":"IF(INPUT!$F$12=$P$3,'A1'!Y56,IF(INPUT!$F$12=$P$4,'A1'!Y56,'A1'!AA56))","v":""},"",null,{"$f":"IF(C56=\"\",\"\",IF($D56=\"\",IF($F$30=\"\",\"NO dT MIN\",IF(J56=\"HOT\",((C56)-($F$30/2)),((C56)+($F$30/2)))),IF($J56=\"HOT\",C56-INPUT!D56,C56+INPUT!D56)))","v":""},{"$f":"IF(INPUT!$F$12=$P$3,'A1'!R56,IF(INPUT!$F$12=$P$4,'A1'!S56,'A1'!T56))","v":""},"","","","",null,{"$f":"IF(INPUT!E42=\"\",\"\",INPUT!E42)","v":""},"",{"$f":"IF(INPUT!F42=\"\",\"\",INPUT!F42)","v":""},"",{"$f":"IF(N56=\"\",\"\",IF(N$27=B$4,ABS(N56/O56),IF(N$27=B$5,ABS(N56/O56)/ABS(B56-C56),IF(INPUT!F$4=B$6,ABS(N56/O56)*ABS(P56/Q56),IF(INPUT!F$4=B$7,ABS(N56/O56)*ABS(P56/Q56)/ABS(B56-C56),\"\")))))","v":""},"","",{"$f":"IF(INPUT!B42=\"\",\"\",IF(INPUT!$G$6=\"°C\",INPUT!B42,IF(INPUT!$G$6=\"°F\",(INPUT!B42-32)/1.8,IF(INPUT!$G$6=\"K\",INPUT!B42-273.15,(INPUT!B42/1.8)-273.15))))","v":""},{"$f":"IF(INPUT!C42=\"\",\"\",IF(INPUT!$G$6=\"°C\",INPUT!C42,IF(INPUT!$G$6=\"°F\",(INPUT!C42-32)/1.8,IF(INPUT!$G$6=\"K\",INPUT!C42-273.15,(INPUT!C42/1.8)-273.15))))","v":""},{"$f":"IF(INPUT!B42=\"\",\"\",IF(INPUT!$G$6=\"°F\",INPUT!B42,IF(INPUT!$G$6=\"°C\",(INPUT!B42*1.8)+32,IF(INPUT!$G$6=\"°R\",INPUT!B42-459.67,(INPUT!B42*1.8)-459.67))))","v":""},{"$f":"IF(INPUT!C42=\"\",\"\",IF(INPUT!$G$6=\"°F\",INPUT!C42,IF(INPUT!$G$6=\"°C\",(INPUT!C42*1.8)+32,IF(INPUT!$G$6=\"°R\",INPUT!C42-459.67,(INPUT!C42*1.8)-459.67))))","v":""},{"$f":"IF(INPUT!D42=\"\",\"\",IF(OR(INPUT!$G$6=\"K\",INPUT!$G$6=\"°C\"),INPUT!D42,INPUT!D42/1.8))","v":""},null,{"$f":"IF(INPUT!D42=\"\",\"\",IF(OR(INPUT!$G$6=\"K\",INPUT!$G$6=\"°C\"),INPUT!D42*1.8,INPUT!D42))","v":""},null,null,{"$f":"IF(INPUT!$F$4=\"Select Input Data Method\",\"INPUT METHOD NOT SELECTED\",\"\")","v":""},{"$f":"IF(INPUT!$F$6=\"\",\"GLOBAL DTMIN NOT SPECIFIED\",\"\")","v":""},{"$f":"IF(INPUT!F$14=\"\",IF(OR(INPUT!E$15=\"\",INPUT!E$15=\"Select Units\"),\"SELECT UNITS\",\"\"),IF(OR(INPUT!E$15=\"\",INPUT!E$15=\"Select Units\",INPUT!F$15=\"\",INPUT!F$15=\"Select Units\"),\"SELECT UNITS\",\"\"))","v":""},{"$f":"IF(INPUT!$F$14=\"\",IF(COUNTIF('A1'!C$4:C$10,INPUT!E$15)=0,\"INCONSISTENT UNITS\",\"\"),IF(OR(COUNTIF('A1'!C$4:C$10,INPUT!E$15)=0,COUNTIF('A1'!E$4:E$10,INPUT!F$15)=0),\"INCONSISTENT UNITS\",\"\"))","v":""},{"$f":"IF(INPUT!A42=\"\",\"NO STREAM NAME\",\"\")","v":"NO STREAM NAME"},"NO SUPPLY TEMP",{"$f":"IF(INPUT!B42=\"\",\"NO SUPPLY TEMP\",\"\")","v":"NO SUPPLY TEMP"},{"$f":"IF(INPUT!C42=\"\",\"NO TARGET TEMP\",\"\")","v":"NO TARGET TEMP"},{"$f":"IF(INPUT!E42=\"\",\"NO PRIMARY HEAT DATA\",\"\")","v":"NO PRIMARY HEAT DATA"},{"$f":"IF(INPUT!F$14=\"\",\"\",IF(INPUT!F42=\"\",\"NO SECONDARY HEAT DATA\",\"\"))","v":""},"",{"$f":"IF(SUM(INPUT!B42:F42)-SUM(INPUT!C42:F42)=0,IF(INPUT!B42=0,\"\",\"NON NUMERICAL INPUT\"),\"\")","v":""},{"$f":"IF(SUM(INPUT!B42:F42)-SUM(INPUT!D42:F42,INPUT!B42)=0,IF(INPUT!C42=0,\"\",\"NON NUMERICAL INPUT\"),\"\")","v":""},{"$f":"IF(SUM(INPUT!B42:F42)-SUM(INPUT!E42:F42,INPUT!B42,INPUT!C42)=0,IF(INPUT!D42=0,\"\",\"NON NUMERICAL INPUT\"),\"\")","v":""},{"$f":"IF(SUM(INPUT!B42:F42)-SUM(INPUT!B42:D42,INPUT!F42)=0,IF(INPUT!E42=0,\"\",\"NON NUMERICAL INPUT\"),\"\")","v":""},{"$f":"IF(INPUT!F$14=\"\",\"\",IF(SUM(INPUT!B42:F42)-SUM(INPUT!B42:E42)=0,IF(INPUT!F42=0,\"\",\"NON NUMERICAL INPUT\"),\"\"))","v":""}]
[{"$f":"IF(INPUT!A43=\"\",\"\",INPUT!A43)","v":""},{"$f":"IF(INPUT!$F$12=$P$3,'A1'!U57,IF(INPUT!$F$12=$P$4,'A1'!U57,'A1'!W57))","v":""},{"$f":"IF(INPUT!$F$12=$P$3,'A1'!V57,IF(INPUT!$F$12=$P$4,'A1'!V57,'A1'!X57))","v":""},{"$f":"IF(INPUT!$F$12=$P$3,'A1'!Y57,IF(INPUT!$F$12=$P$4,'A1'!Y57,'A1'!AA57))","v":""},"",null,{"$f":"IF(C57=\"\",\"\",IF($D57=\"\",IF($F$30=\"\",\"NO dT MIN\",IF(J57=\"HOT\",((C57)-($F$30/2)),((C57)+($F$30/2)))),IF($J57=\"HOT\",C57-INPUT!D57,C57+INPUT!D57)))","v":""},{"$f":"IF(INPUT!$F$12=$P$3,'A1'!R57,IF(INPUT!$F$12=$P$4,'A1'!S57,'A1'!T57))","v":""},"","","","",null,{"$f":"IF(INPUT!E43=\"\",\"\",INPUT!E43)","v":""},"",{"$f":"IF(INPUT!F43=\"\",\"\",INPUT!F43)","v":""},"",{"$f":"IF(N57=\"\",\"\",IF(N$27=B$4,ABS(N57/O57),IF(N$27=B$5,ABS(N57/O57)/ABS(B57-C57),IF(INPUT!F$4=B$6,ABS(N57/O57)*ABS(P57/Q57),IF(INPUT!F$4=B$7,ABS(N57/O57)*ABS(P57/Q57)/ABS(B57-C57),\"\")))))","v":""},"","",{"$f":"IF(INPUT!B43=\"\",\"\",IF(INPUT!$G$6=\"°C\",INPUT!B43,IF(INPUT!$G$6=\"°F\",(INPUT!B43-32)/1.8,IF(INPUT!$G$6=\"K\",INPUT!B43-273.15,(INPUT!B43/1.8)-273.15))))","v":""},{"$f":"IF(INPUT!C43=\"\",\"\",IF(INPUT!$G$6=\"°C\",INPUT!C43,IF(INPUT!$G$6=\"°F\",(INPUT!C43-32)/1.8,IF(INPUT!$G$6=\"K\",INPUT!C43-273.15,(INPUT!C43/1.8)-273.15))))","v":""},{"$f":"IF(INPUT!B43=\"\",\"\",IF(INPUT!$G$6=\"°F\",INPUT!B43,IF(INPUT!$G$6=\"°C\",(INPUT!B43*1.8)+32,IF(INPUT!$G$6=\"°R\",INPUT!B43-459.67,(INPUT!B43*1.8)-459.67))))","v":""},{"$f":"IF(INPUT!C43=\"\",\"\",IF(INPUT!$G$6=\"°F\",INPUT!C43,IF(INPUT!$G$6=\"°C\",(INPUT!C43*1.8)+32,IF(INPUT!$G$6=\"°R\",INPUT!C43-459.67,(INPUT!C43*1.8)-459.67))))","v":""},{"$f":"IF(INPUT!D43=\"\",\"\",IF(OR(INPUT!$G$6=\"K\",INPUT!$G$6=\"°C\"),INPUT!D43,INPUT!D43/1.8))","v":""},null,{"$f":"IF(INPUT!D43=\"\",\"\",IF(OR(INPUT!$G$6=\"K\",INPUT!$G$6=\"°C\"),INPUT!D43*1.8,INPUT!D43))","v":""},null,null,{"$f":"IF(INPUT!$F$4=\"Select Input Data Method\",\"INPUT METHOD NOT SELECTED\",\"\")","v":""},{"$f":"IF(INPUT!$F$6=\"\",\"GLOBAL DTMIN NOT SPECIFIED\",\"\")","v":""},{"$f":"IF(INPUT!F$14=\"\",IF(OR(INPUT!E$15=\"\",INPUT!E$15=\"Select Units\"),\"SELECT UNITS\",\"\"),IF(OR(INPUT!E$15=\"\",INPUT!E$15=\"Select Units\",INPUT!F$15=\"\",INPUT!F$15=\"Select Units\"),\"SELECT UNITS\",\"\"))","v":""},{"$f":"IF(INPUT!$F$14=\"\",IF(COUNTIF('A1'!C$4:C$10,INPUT!E$15)=0,\"INCONSISTENT UNITS\",\"\"),IF(OR(COUNTIF('A1'!C$4:C$10,INPUT!E$15)=0,COUNTIF('A1'!E$4:E$10,INPUT!F$15)=0),\"INCONSISTENT UNITS\",\"\"))","v":""},{"$f":"IF(INPUT!A43=\"\",\"NO STREAM NAME\",\"\")","v":"NO STREAM NAME"},"NO SUPPLY TEMP",{"$f":"IF(INPUT!B43=\"\",\"NO SUPPLY TEMP\",\"\")","v":"NO SUPPLY TEMP"},{"$f":"IF(INPUT!C43=\"\",\"NO TARGET TEMP\",\"\")","v":"NO TARGET TEMP"},{"$f":"IF(INPUT!E43=\"\",\"NO PRIMARY HEAT DATA\",\"\")","v":"NO PRIMARY HEAT DATA"},{"$f":"IF(INPUT!F$14=\"\",\"\",IF(INPUT!F43=\"\",\"NO SECONDARY HEAT DATA\",\"\"))","v":""},"",{"$f":"IF(SUM(INPUT!B43:F43)-SUM(INPUT!C43:F43)=0,IF(INPUT!B43=0,\"\",\"NON NUMERICAL INPUT\"),\"\")","v":""},{"$f":"IF(SUM(INPUT!B43:F43)-SUM(INPUT!D43:F43,INPUT!B43)=0,IF(INPUT!C43=0,\"\",\"NON NUMERICAL INPUT\"),\"\")","v":""},{"$f":"IF(SUM(INPUT!B43:F43)-SUM(INPUT!E43:F43,INPUT!B43,INPUT!C43)=0,IF(INPUT!D43=0,\"\",\"NON NUMERICAL INPUT\"),\"\")","v":""},{"$f":"IF(SUM(INPUT!B43:F43)-SUM(INPUT!B43:D43,INPUT!F43)=0,IF(INPUT!E43=0,\"\",\"NON NUMERICAL INPUT\"),\"\")","v":""},{"$f":"IF(INPUT!F$14=\"\",\"\",IF(SUM(INPUT!B43:F43)-SUM(INPUT!B43:E43)=0,IF(INPUT!F43=0,\"\",\"NON NUMERICAL INPUT\"),\"\"))","v":""}]
[{"$f":"IF(INPUT!A44=\"\",\"\",INPUT!A44)","v":""},{"$f":"IF(INPUT!$F$12=$P$3,'A1'!U58,IF(INPUT!$F$12=$P$4,'A1'!U58,'A1'!W58))","v":""},{"$f":"IF(INPUT!$F$12=$P$3,'A1'!V58,IF(INPUT!$F$12=$P$4,'A1'!V58,'A1'!X58))","v":""},{"$f":"IF(INPUT!$F$12=$P$3,'A1'!Y58,IF(INPUT!$F$12=$P$4,'A1'!Y58,'A1'!AA58))","v":""},"",null,{"$f":"IF(C58=\"\",\"\",IF($D58=\"\",IF($F$30=\"\",\"NO dT MIN\",IF(J58=\"HOT\",((C58)-($F$30/2)),((C58)+($F$30/2)))),IF($J58=\"HOT\",C58-INPUT!D58,C58+INPUT!D58)))","v":""},{"$f":"IF(INPUT!$F$12=$P$3,'A1'!R58,IF(INPUT!$F$12=$P$4,'A1'!S58,'A1'!T58))","v":""},"","","","",null,{"$f":"IF(INPUT!E44=\"\",\"\",INPUT!E44)","v":""},"",{"$f":"IF(INPUT!F44=\"\",\"\",INPUT!F44)","v":""},"",{"$f":"IF(N58=\"\",\"\",IF(N$27=B$4,ABS(N58/O58),IF(N$27=B$5,ABS(N58/O58)/ABS(B58-C58),IF(INPUT!F$4=B$6,ABS(N58/O58)*ABS(P58/Q58),IF(INPUT!F$4=B$7,ABS(N58/O58)*ABS(P58/Q58)/ABS(B58-C58),\"\")))))","v":""},"","",{"$f":"IF(INPUT!B44=\"\",\"\",IF(INPUT!$G$6=\"°C\",INPUT!B44,IF(INPUT!$G$6=\"°F\",(INPUT!B44-32)/1.8,IF(INPUT!$G$6=\"K\",INPUT!B44-273.15,(INPUT!B44/1.8)-273.15))))","v":""},{"$f":"IF(INPUT!C44=\"\",\"\",IF(INPUT!$G$6=\"°C\",INPUT!C44,IF(INPUT!$G$6=\"°F\",(INPUT!C44-32)/1.8,IF(INPUT!$G$6=\"K\",INPUT!C44-273.15,(INPUT!C44/1.8)-273.15))))","v":""},{"$f":"IF(INPUT!B44=\"\",\"\",IF(INPUT!$G$6=\"°F\",INPUT!B44,IF(INPUT!$G$6=\"°C\",(INPUT!B44*1.8)+32,IF(INPUT!$G$6=\"°R\",INPUT!B44-459.67,(INPUT!B44*1.8)-459.67))))","v":""},{"$f":"IF(INPUT!C44=\"\",\"\",IF(INPUT!$G$6=\"°F\",INPUT!C44,IF(INPUT!$G$6=\"°C\",(INPUT!C44*1.8)+32,IF(INPUT!$G$6=\"°R\",INPUT!C44-459.67,(INPUT!C44*1.8)-459.67))))","v":""},{"$f":"IF(INPUT!D44=\"\",\"\",IF(OR(INPUT!$G$6=\"K\",INPUT!$G$6=\"°C\"),INPUT!D44,INPUT!D44/1.8))","v":""},null,{"$f":"IF(INPUT!D44=\"\",\"\",IF(OR(INPUT!$G$6=\"K\",INPUT!$G$6=\"°C\"),INPUT!D44*1.8,INPUT!D44))","v":""},null,null,{"$f":"IF(INPUT!$F$4=\"Select Input Data Method\",\"INPUT METHOD NOT SELECTED\",\"\")","v":""},{"$f":"IF(INPUT!$F$6=\"\",\"GLOBAL DTMIN NOT SPECIFIED\",\"\")","v":""},{"$f":"IF(INPUT!F$14=\"\",IF(OR(INPUT!E$15=\"\",INPUT!E$15=\"Select Units\"),\"SELECT UNITS\",\"\"),IF(OR(INPUT!E$15=\"\",INPUT!E$15=\"Select Units\",INPUT!F$15=\"\",INPUT!F$15=\"Select Units\"),\"SELECT UNITS\",\"\"))","v":""},{"$f":"IF(INPUT!$F$14=\"\",IF(COUNTIF('A1'!C$4:C$10,INPUT!E$15)=0,\"INCONSISTENT UNITS\",\"\"),IF(OR(COUNTIF('A1'!C$4:C$10,INPUT!E$15)=0,COUNTIF('A1'!E$4:E$10,INPUT!F$15)=0),\"INCONSISTENT UNITS\",\"\"))","v":""},{"$f":"IF(INPUT!A44=\"\",\"NO STREAM NAME\",\"\")","v":"NO STREAM NAME"},"NO SUPPLY TEMP",{"$f":"IF(INPUT!B44=\"\",\"NO SUPPLY TEMP\",\"\")","v":"NO SUPPLY TEMP"},{"$f":"IF(INPUT!C44=\"\",\"NO TARGET TEMP\",\"\")","v":"NO TARGET TEMP"},{"$f":"IF(INPUT!E44=\"\",\"NO PRIMARY HEAT DATA\",\"\")","v":"NO PRIMARY HEAT DATA"},{"$f":"IF(INPUT!F$14=\"\",\"\",IF(INPUT!F44=\"\",\"NO SECONDARY HEAT DATA\",\"\"))","v":""},"",{"$f":"IF(SUM(INPUT!B44:F44)-SUM(INPUT!C44:F44)=0,IF(INPUT!B44=0,\"\",\"NON NUMERICAL INPUT\"),\"\")","v":""},{"$f":"IF(SUM(INPUT!B44:F44)-SUM(INPUT!D44:F44,INPUT!B44)=0,IF(INPUT!C44=0,\"\",\"NON NUMERICAL INPUT\"),\"\")","v":""},{"$f":"IF(SUM(INPUT!B44:F44)-SUM(INPUT!E44:F44,INPUT!B44,INPUT!C44)=0,IF(INPUT!D44=0,\"\",\"NON NUMERICAL INPUT\"),\"\")","v":""},{"$f":"IF(SUM(INPUT!B44:F44)-SUM(INPUT!B44:D44,INPUT!F44)=0,IF(INPUT!E44=0,\"\",\"NON NUMERICAL INPUT\"),\"\")","v":""},{"$f":"IF(INPUT!F$14=\"\",\"\",IF(SUM(INPUT!B44:F44)-SUM(INPUT!B44:E44)=0,IF(INPUT!F44=0,\"\",\"NON NUMERICAL INPUT\"),\"\"))","v":""}]
[{"$f":"IF(INPUT!A45=\"\",\"\",INPUT!A45)","v":""},{"$f":"IF(INPUT!$F$12=$P$3,'A1'!U59,IF(INPUT!$F$12=$P$4,'A1'!U59,'A1'!W59))","v":""},{"$f":"IF(INPUT!$F$12=$P$3,'A1'!V59,IF(INPUT!$F$12=$P$4,'A1'!V59,'A1'!X59))","v":""},{"$f":"IF(INPUT!$F$12=$P$3,'A1'!Y59,IF(INPUT!$F$12=$P$4,'A1'!Y59,'A1'!AA59))","v":""},"",null,{"$f":"IF(C59=\"\",\"\",IF($D59=\"\",IF($F$30=\"\",\"NO dT MIN\",IF(J59=\"HOT\",((C59)-($F$30/2)),((C59)+($F$30/2)))),IF($J59=\"HOT\",C59-INPUT!D59,C59+INPUT!D59)))","v":""},{"$f":"IF(INPUT!$F$12=$P$3,'A1'!R59,IF(INPUT!$F$12=$P$4,'A1'!S59,'A1'!T59))","v":""},"","","","",null,{"$f":"IF(INPUT!E45=\"\",\"\",INPUT!E45)","v":""},"",{"$f":"IF(INPUT!F45=\"\",\"\",INPUT!F45)","v":""},"",{"$f":"IF(N59=\"\",\"\",IF(N$27=B$4,ABS(N59/O59),IF(N$27=B$5,ABS(N59/O59)/ABS(B59-C59),IF(INPUT!F$4=B$6,ABS(N59/O59)*ABS(P59/Q59),IF(INPUT!F$4=B$7,ABS(N59/O59)*ABS(P59/Q59)/ABS(B59-C59),\"\")))))","v":""},"","",{"$f":"IF(INPUT!B45=\"\",\"\",IF(INPUT!$G$6=\"°C\",INPUT!B45,IF(INPUT!$G$6=\"°F\",(INPUT!B45-32)/1.8,IF(INPUT!$G$6=\"K\",INPUT!B45-273.15,(INPUT!B45/1.8)-273.15))))","v":""},{"$f":"IF(INPUT!C45=\"\",\"\",IF(INPUT!$G$6=\"°C\",INPUT!C45,IF(INPUT!$G$6=\"°F\",(INPUT!C45-32)/1.8,IF(INPUT!$G$6=\"K\",INPUT!C45-273.15,(INPUT!C45/1.8)-273.15))))","v":""},{"$f":"IF(INPUT!B45=\"\",\"\",IF(INPUT!$G$6=\"°F\",INPUT!B45,IF(INPUT!$G$6=\"°C\",(INPUT!B45*1.8)+32,IF(INPUT!$G$6=\"°R\",INPUT!B45-459.67,(INPUT!B45*1.8)-459.67))))","v":""},{"$f":"IF(INPUT!C45=\"\",\"\",IF(INPUT!$G$6=\"°F\",INPUT!C45,IF(INPUT!$G$6=\"°C\",(INPUT!C45*1.8)+32,IF(INPUT!$G$6=\"°R\",INPUT!C45-459.67,(INPUT!C45*1.8)-459.67))))","v":""},{"$f":"IF(INPUT!D45=\"\",\"\",IF(OR(INPUT!$G$6=\"K\",INPUT!$G$6=\"°C\"),INPUT!D45,INPUT!D45/1.8))","v":""},null,{"$f":"IF(INPUT!D45=\"\",\"\",IF(OR(INPUT!$G$6=\"K\",INPUT!$G$6=\"°C\"),INPUT!D45*1.8,INPUT!D45))","v":""},null,null,{"$f":"IF(INPUT!$F$4=\"Select Input Data Method\",\"INPUT METHOD NOT SELECTED\",\"\")","v":""},{"$f":"IF(INPUT!$F$6=\"\",\"GLOBAL DTMIN NOT SPECIFIED\",\"\")","v":""},{"$f":"IF(INPUT!F$14=\"\",IF(OR(INPUT!E$15=\"\",INPUT!E$15=\"Select Units\"),\"SELECT UNITS\",\"\"),IF(OR(INPUT!E$15=\"\",INPUT!E$15=\"Select Units\",INPUT!F$15=\"\",INPUT!F$15=\"Select Units\"),\"SELECT UNITS\",\"\"))","v":""},{"$f":"IF(INPUT!$F$14=\"\",IF(COUNTIF('A1'!C$4:C$10,INPUT!E$15)=0,\"INCONSISTENT UNITS\",\"\"),IF(OR(COUNTIF('A1'!C$4:C$10,INPUT!E$15)=0,COUNTIF('A1'!E$4:E$10,INPUT!F$15)=0),\"INCONSISTENT UNITS\",\"\"))","v":""},{"$f":"IF(INPUT!A45=\"\",\"NO STREAM NAME\",\"\")","v":"NO STREAM NAME"},"NO SUPPLY TEMP",{"$f":"IF(INPUT!B45=\"\",\"NO SUPPLY TEMP\",\"\")","v":"NO SUPPLY TEMP"},{"$f":"IF(INPUT!C45=\"\",\"NO TARGET TEMP\",\"\")","v":"NO TARGET TEMP"},{"$f":"IF(INPUT!E45=\"\",\"NO PRIMARY HEAT DATA\",\"\")","v":"NO PRIMARY HEAT DATA"},{"$f":"IF(INPUT!F$14=\"\",\"\",IF(INPUT!F45=\"\",\"NO SECONDARY HEAT DATA\",\"\"))","v":""},"",{"$f":"IF(SUM(INPUT!B45:F45)-SUM(INPUT!C45:F45)=0,IF(INPUT!B45=0,\"\",\"NON NUMERICAL INPUT\"),\"\")","v":""},{"$f":"IF(SUM(INPUT!B45:F45)-SUM(INPUT!D45:F45,INPUT!B45)=0,IF(INPUT!C45=0,\"\",\"NON NUMERICAL INPUT\"),\"\")","v":""},{"$f":"IF(SUM(INPUT!B45:F45)-SUM(INPUT!E45:F45,INPUT!B45,INPUT!C45)=0,IF(INPUT!D45=0,\"\",\"NON NUMERICAL INPUT\"),\"\")","v":""},{"$f":"IF(SUM(INPUT!B45:F45)-SUM(INPUT!B45:D45,INPUT!F45)=0,IF(INPUT!E45=0,\"\",\"NON NUMERICAL INPUT\"),\"\")","v":""},{"$f":"IF(INPUT!F$14=\"\",\"\",IF(SUM(INPUT!B45:F45)-SUM(INPUT!B45:E45)=0,IF(INPUT!F45=0,\"\",\"NON NUMERICAL INPUT\"),\"\"))","v":""}]
[{"$f":"IF(INPUT!A46=\"\",\"\",INPUT!A46)","v":""},{"$f":"IF(INPUT!$F$12=$P$3,'A1'!U60,IF(INPUT!$F$12=$P$4,'A1'!U60,'A1'!W60))","v":""},{"$f":"IF(INPUT!$F$12=$P$3,'A1'!V60,IF(INPUT!$F$12=$P$4,'A1'!V60,'A1'!X60))","v":""},{"$f":"IF(INPUT!$F$12=$P$3,'A1'!Y60,IF(INPUT!$F$12=$P$4,'A1'!Y60,'A1'!AA60))","v":""},"",null,{"$f":"IF(C60=\"\",\"\",IF($D60=\"\",IF($F$30=\"\",\"NO dT MIN\",IF(J60=\"HOT\",((C60)-($F$30/2)),((C60)+($F$30/2)))),IF($J60=\"HOT\",C60-INPUT!D60,C60+INPUT!D60)))","v":""},{"$f":"IF(INPUT!$F$12=$P$3,'A1'!R60,IF(INPUT!$F$12=$P$4,'A1'!S60,'A1'!T60))","v":""},"","","","",null,{"$f":"IF(INPUT!E46=\"\",\"\",INPUT!E46)","v":""},"",{"$f":"IF(INPUT!F46=\"\",\"\",INPUT!F46)","v":""},"",{"$f":"IF(N60=\"\",\"\",IF(N$27=B$4,ABS(N60/O60),IF(N$27=B$5,ABS(N60/O60)/ABS(B60-C60),IF(INPUT!F$4=B$6,ABS(N60/O60)*ABS(P60/Q60),IF(INPUT!F$4=B$7,ABS(N60/O60)*ABS(P60/Q60)/ABS(B60-C60),\"\")))))","v":""},"","",{"$f":"IF(INPUT!B46=\"\",\"\",IF(INPUT!$G$6=\"°C\",INPUT!B46,IF(INPUT!$G$6=\"°F\",(INPUT!B46-32)/1.8,IF(INPUT!$G$6=\"K\",INPUT!B46-273.15,(INPUT!B46/1.8)-273.15))))","v":""},{"$f":"IF(INPUT!C46=\"\",\"\",IF(INPUT!$G$6=\"°C\",INPUT!C46,IF(INPUT!$G$6=\"°F\",(INPUT!C46-32)/1.8,IF(INPUT!$G$6=\"K\",INPUT!C46-273.15,(INPUT!C46/1.8)-273.15))))","v":""},{"$f":"IF(INPUT!B46=\"\",\"\",IF(INPUT!$G$6=\"°F\",INPUT!B46,IF(INPUT!$G$6=\"°C\",(INPUT!B46*1.8)+32,IF(INPUT!$G$6=\"°R\",INPUT!B46-459.67,(INPUT!B46*1.8)-459.67))))","v":""},{"$f":"IF(INPUT!C46=\"\",\"\",IF(INPUT!$G$6=\"°F\",INPUT!C46,IF(INPUT!$G$6=\"°C\",(INPUT!C46*1.8)+32,IF(INPUT!$G$6=\"°R\",INPUT!C46-459.67,(INPUT!C46*1.8)-459.67))))","v":""},{"$f":"IF(INPUT!D46=\"\",\"\",IF(OR(INPUT!$G$6=\"K\",INPUT!$G$6=\"°C\"),INPUT!D46,INPUT!D46/1.8))","v":""},null,{"$f":"IF(INPUT!D46=\"\",\"\",IF(OR(INPUT!$G$6=\"K\",INPUT!$G$6=\"°C\"),INPUT!D46*1.8,INPUT!D46))","v":""},null,null,{"$f":"IF(INPUT!$F$4=\"Select Input Data Method\",\"INPUT METHOD NOT SELECTED\",\"\")","v":""},{"$f":"IF(INPUT!$F$6=\"\",\"GLOBAL DTMIN NOT SPECIFIED\",\"\")","v":""},{"$f":"IF(INPUT!F$14=\"\",IF(OR(INPUT!E$15=\"\",INPUT!E$15=\"Select Units\"),\"SELECT UNITS\",\"\"),IF(OR(INPUT!E$15=\"\",INPUT!E$15=\"Select Units\",INPUT!F$15=\"\",INPUT!F$15=\"Select Units\"),\"SELECT UNITS\",\"\"))","v":""},{"$f":"IF(INPUT!$F$14=\"\",IF(COUNTIF('A1'!C$4:C$10,INPUT!E$15)=0,\"INCONSISTENT UNITS\",\"\"),IF(OR(COUNTIF('A1'!C$4:C$10,INPUT!E$15)=0,COUNTIF('A1'!E$4:E$10,INPUT!F$15)=0),\"INCONSISTENT UNITS\",\"\"))","v":""},{"$f":"IF(INPUT!A46=\"\",\"NO STREAM NAME\",\"\")","v":"NO STREAM NAME"},"NO SUPPLY TEMP",{"$f":"IF(INPUT!B46=\"\",\"NO SUPPLY TEMP\",\"\")","v":"NO SUPPLY TEMP"},{"$f":"IF(INPUT!C46=\"\",\"NO TARGET TEMP\",\"\")","v":"NO TARGET TEMP"},{"$f":"IF(INPUT!E46=\"\",\"NO PRIMARY HEAT DATA\",\"\")","v":"NO PRIMARY HEAT DATA"},{"$f":"IF(INPUT!F$14=\"\",\"\",IF(INPUT!F46=\"\",\"NO SECONDARY HEAT DATA\",\"\"))","v":""},"",{"$f":"IF(SUM(INPUT!B46:F46)-SUM(INPUT!C46:F46)=0,IF(INPUT!B46=0,\"\",\"NON NUMERICAL INPUT\"),\"\")","v":""},{"$f":"IF(SUM(INPUT!B46:F46)-SUM(INPUT!D46:F46,INPUT!B46)=0,IF(INPUT!C46=0,\"\",\"NON NUMERICAL INPUT\"),\"\")","v":""},{"$f":"IF(SUM(INPUT!B46:F46)-SUM(INPUT!E46:F46,INPUT!B46,INPUT!C46)=0,IF(INPUT!D46=0,\"\",\"NON NUMERICAL INPUT\"),\"\")","v":""},{"$f":"IF(SUM(INPUT!B46:F46)-SUM(INPUT!B46:D46,INPUT!F46)=0,IF(INPUT!E46=0,\"\",\"NON NUMERICAL INPUT\"),\"\")","v":""},{"$f":"IF(INPUT!F$14=\"\",\"\",IF(SUM(INPUT!B46:F46)-SUM(INPUT!B46:E46)=0,IF(INPUT!F46=0,\"\",\"NON NUMERICAL INPUT\"),\"\"))","v":""}]
[{"$f":"IF(INPUT!A47=\"\",\"\",INPUT!A47)","v":""},{"$f":"IF(INPUT!$F$12=$P$3,'A1'!U61,IF(INPUT!$F$12=$P$4,'A1'!U61,'A1'!W61))","v":""},{"$f":"IF(INPUT!$F$12=$P$3,'A1'!V61,IF(INPUT!$F$12=$P$4,'A1'!V61,'A1'!X61))","v":""},{"$f":"IF(INPUT!$F$12=$P$3,'A1'!Y61,IF(INPUT!$F$12=$P$4,'A1'!Y61,'A1'!AA61))","v":""},"",null,{"$f":"IF(C61=\"\",\"\",IF($D61=\"\",IF($F$30=\"\",\"NO dT MIN\",IF(J61=\"HOT\",((C61)-($F$30/2)),((C61)+($F$30/2)))),IF($J61=\"HOT\",C61-INPUT!D61,C61+INPUT!D61)))","v":""},{"$f":"IF(INPUT!$F$12=$P$3,'A1'!R61,IF(INPUT!$F$12=$P$4,'A1'!S61,'A1'!T61))","v":""},"","","","",null,{"$f":"IF(INPUT!E47=\"\",\"\",INPUT!E47)","v":""},"",{"$f":"IF(INPUT!F47=\"\",\"\",INPUT!F47)","v":""},"",{"$f":"IF(N61=\"\",\"\",IF(N$27=B$4,ABS(N61/O61),IF(N$27=B$5,ABS(N61/O61)/ABS(B61-C61),IF(INPUT!F$4=B$6,ABS(N61/O61)*ABS(P61/Q61),IF(INPUT!F$4=B$7,ABS(N61/O61)*ABS(P61/Q61)/ABS(B61-C61),\"\")))))","v":""},"","",{"$f":"IF(INPUT!B47=\"\",\"\",IF(INPUT!$G$6=\"°C\",INPUT!B47,IF(INPUT!$G$6=\"°F\",(INPUT!B47-32)/1.8,IF(INPUT!$G$6=\"K\",INPUT!B47-273.15,(INPUT!B47/1.8)-273.15))))","v":""},{"$f":"IF(INPUT!C47=\"\",\"\",IF(INPUT!$G$6=\"°C\",INPUT!C47,IF(INPUT!$G$6=\"°F\",(INPUT!C47-32)/1.8,IF(INPUT!$G$6=\"K\",INPUT!C47-273.15,(INPUT!C47/1.8)-273.15))))","v":""},{"$f":"IF(INPUT!B47=\"\",\"\",IF(INPUT!$G$6=\"°F\",INPUT!B47,IF(INPUT!$G$6=\"°C\",(INPUT!B47*1.8)+32,IF(INPUT!$G$6=\"°R\",INPUT!B47-459.67,(INPUT!B47*1.8)-459.67))))","v":""},{"$f":"IF(INPUT!C47=\"\",\"\",IF(INPUT!$G$6=\"°F\",INPUT!C47,IF(INPUT!$G$6=\"°C\",(INPUT!C47*1.8)+32,IF(INPUT!$G$6=\"°R\",INPUT!C47-459.67,(INPUT!C47*1.8)-459.67))))","v":""},{"$f":"IF(INPUT!D47=\"\",\"\",IF(OR(INPUT!$G$6=\"K\",INPUT!$G$6=\"°C\"),INPUT!D47,INPUT!D47/1.8))","v":""},null,{"$f":"IF(INPUT!D47=\"\",\"\",IF(OR(INPUT!$G$6=\"K\",INPUT!$G$6=\"°C\"),INPUT!D47*1.8,INPUT!D47))","v":""},null,null,{"$f":"IF(INPUT!$F$4=\"Select Input Data Method\",\"INPUT METHOD NOT SELECTED\",\"\")","v":""},{"$f":"IF(INPUT!$F$6=\"\",\"GLOBAL DTMIN NOT SPECIFIED\",\"\")","v":""},{"$f":"IF(INPUT!F$14=\"\",IF(OR(INPUT!E$15=\"\",INPUT!E$15=\"Select Units\"),\"SELECT UNITS\",\"\"),IF(OR(INPUT!E$15=\"\",INPUT!E$15=\"Select Units\",INPUT!F$15=\"\",INPUT!F$15=\"Select Units\"),\"SELECT UNITS\",\"\"))","v":""},{"$f":"IF(INPUT!$F$14=\"\",IF(COUNTIF('A1'!C$4:C$10,INPUT!E$15)=0,\"INCONSISTENT UNITS\",\"\"),IF(OR(COUNTIF('A1'!C$4:C$10,INPUT!E$15)=0,COUNTIF('A1'!E$4:E$10,INPUT!F$15)=0),\"INCONSISTENT UNITS\",\"\"))","v":""},{"$f":"IF(INPUT!A47=\"\",\"NO STREAM NAME\",\"\")","v":"NO STREAM NAME"},"NO SUPPLY TEMP",{"$f":"IF(INPUT!B47=\"\",\"NO SUPPLY TEMP\",\"\")","v":"NO SUPPLY TEMP"},{"$f":"IF(INPUT!C47=\"\",\"NO TARGET TEMP\",\"\")","v":"NO TARGET TEMP"},{"$f":"IF(INPUT!E47=\"\",\"NO PRIMARY HEAT DATA\",\"\")","v":"NO PRIMARY HEAT DATA"},{"$f":"IF(INPUT!F$14=\"\",\"\",IF(INPUT!F47=\"\",\"NO SECONDARY HEAT DATA\",\"\"))","v":""},"",{"$f":"IF(SUM(INPUT!B47:F47)-SUM(INPUT!C47:F47)=0,IF(INPUT!B47=0,\"\",\"NON NUMERICAL INPUT\"),\"\")","v":""},{"$f":"IF(SUM(INPUT!B47:F47)-SUM(INPUT!D47:F47,INPUT!B47)=0,IF(INPUT!C47=0,\"\",\"NON NUMERICAL INPUT\"),\"\")","v":""},{"$f":"IF(SUM(INPUT!B47:F47)-SUM(INPUT!E47:F47,INPUT!B47,INPUT!C47)=0,IF(INPUT!D47=0,\"\",\"NON NUMERICAL INPUT\"),\"\")","v":""},{"$f":"IF(SUM(INPUT!B47:F47)-SUM(INPUT!B47:D47,INPUT!F47)=0,IF(INPUT!E47=0,\"\",\"NON NUMERICAL INPUT\"),\"\")","v":""},{"$f":"IF(INPUT!F$14=\"\",\"\",IF(SUM(INPUT!B47:F47)-SUM(INPUT!B47:E47)=0,IF(INPUT!F47=0,\"\",\"NON NUMERICAL INPUT\"),\"\"))","v":""}]
[{"$f":"IF(INPUT!A48=\"\",\"\",INPUT!A48)","v":""},{"$f":"IF(INPUT!$F$12=$P$3,'A1'!U62,IF(INPUT!$F$12=$P$4,'A1'!U62,'A1'!W62))","v":""},{"$f":"IF(INPUT!$F$12=$P$3,'A1'!V62,IF(INPUT!$F$12=$P$4,'A1'!V62,'A1'!X62))","v":""},{"$f":"IF(INPUT!$F$12=$P$3,'A1'!Y62,IF(INPUT!$F$12=$P$4,'A1'!Y62,'A1'!AA62))","v":""},{"$f":"IF(B62=\"\",\"\",IF(D62=\"\",IF($F$30=\"\",\"NO dT MIN\",IF(J62=\"HOT\",((B62)-($F$30/2)),((B62)+($F$30/2)))),IF($J62=\"HOT\",B62-D62,B62+D62)))","v":""},null,{"$f":"IF(C62=\"\",\"\",IF($D62=\"\",IF($F$30=\"\",\"NO dT MIN\",IF(J62=\"HOT\",((C62)-($F$30/2)),((C62)+($F$30/2)))),IF($J62=\"HOT\",C62-INPUT!D62,C62+INPUT!D62)))","v":""},{"$f":"IF(INPUT!$F$12=$P$3,'A1'!R62,IF(INPUT!$F$12=$P$4,'A1'!S62,'A1'!T62))","v":""},{"$f":"IF(H62=\"\",\"\",ABS(H62*(L62-K62)))","v":""},{"$f":"IF(B62=\"\",\"\",IF(B62>C62,\"HOT\",\"COLD\"))","v":""},"","",null,{"$f":"IF(INPUT!E48=\"\",\"\",INPUT!E48)","v":""},{"$f":"IF(N62=\"\",\"\",INDEX($C$3:$D$10,MATCH(N$28,$C$3:$C$10,0),2))","v":""},{"$f":"IF(INPUT!F48=\"\",\"\",INPUT!F48)","v":""},{"$f":"IF(P62=\"\",\"\",INDEX($E$3:$F$10,MATCH(P$28,$E$3:$E$10,0),2))","v":""},{"$f":"IF(N62=\"\",\"\",IF(N$27=B$4,ABS(N62/O62),IF(N$27=B$5,ABS(N62/O62)/ABS(B62-C62),IF(INPUT!F$4=B$6,ABS(N62/O62)*ABS(P62/Q62),IF(INPUT!F$4=B$7,ABS(N62/O62)*ABS(P62/Q62)/ABS(B62-C62),\"\")))))","v":""},"","",{"$f":"IF(INPUT!B48=\"\",\"\",IF(INPUT!$G$6=\"°C\",INPUT!B48,IF(INPUT!$G$6=\"°F\",(INPUT!B48-32)/1.8,IF(INPUT!$G$6=\"K\",INPUT!B48-273.15,(INPUT!B48/1.8)-273.15))))","v":""},{"$f":"IF(INPUT!C48=\"\",\"\",IF(INPUT!$G$6=\"°C\",INPUT!C48,IF(INPUT!$G$6=\"°F\",(INPUT!C48-32)/1.8,IF(INPUT!$G$6=\"K\",INPUT!C48-273.15,(INPUT!C48/1.8)-273.15))))","v":""},{"$f":"IF(INPUT!B48=\"\",\"\",IF(INPUT!$G$6=\"°F\",INPUT!B48,IF(INPUT!$G$6=\"°C\",(INPUT!B48*1.8)+32,IF(INPUT!$G$6=\"°R\",INPUT!B48-459.67,(INPUT!B48*1.8)-459.67))))","v":""},{"$f":"IF(INPUT!C48=\"\",\"\",IF(INPUT!$G$6=\"°F\",INPUT!C48,IF(INPUT!$G$6=\"°C\",(INPUT!C48*1.8)+32,IF(INPUT!$G$6=\"°R\",INPUT!C48-459.67,(INPUT!C48*1.8)-459.67))))","v":""},{"$f":"IF(INPUT!D48=\"\",\"\",IF(OR(INPUT!$G$6=\"K\",INPUT!$G$6=\"°C\"),INPUT!D48,INPUT!D48/1.8))","v":""},null,{"$f":"IF(INPUT!D48=\"\",\"\",IF(OR(INPUT!$G$6=\"K\",INPUT!$G$6=\"°C\"),INPUT!D48*1.8,INPUT!D48))","v":""},null,null,{"$f":"IF(INPUT!$F$4=\"Select Input Data Method\",\"INPUT METHOD NOT SELECTED\",\"\")","v":""},{"$f":"IF(INPUT!$F$6=\"\",\"GLOBAL DTMIN NOT SPECIFIED\",\"\")","v":""},{"$f":"IF(INPUT!F$14=\"\",IF(OR(INPUT!E$15=\"\",INPUT!E$15=\"Select Units\"),\"SELECT UNITS\",\"\"),IF(OR(INPUT!E$15=\"\",INPUT!E$15=\"Select Units\",INPUT!F$15=\"\",INPUT!F$15=\"Select Units\"),\"SELECT UNITS\",\"\"))","v":""},{"$f":"IF(INPUT!$F$14=\"\",IF(COUNTIF('A1'!C$4:C$10,INPUT!E$15)=0,\"INCONSISTENT UNITS\",\"\"),IF(OR(COUNTIF('A1'!C$4:C$10,INPUT!E$15)=0,COUNTIF('A1'!E$4:E$10,INPUT!F$15)=0),\"INCONSISTENT UNITS\",\"\"))","v":""},{"$f":"IF(INPUT!A48=\"\",\"NO STREAM NAME\",\"\")","v":"NO STREAM NAME"},"NO SUPPLY TEMP",{"$f":"IF(INPUT!B48=\"\",\"NO SUPPLY TEMP\",\"\")","v":"NO SUPPLY TEMP"},{"$f":"IF(INPUT!C48=\"\",\"NO TARGET TEMP\",\"\")","v":"NO TARGET TEMP"},{"$f":"IF(INPUT!E48=\"\",\"NO PRIMARY HEAT DATA\",\"\")","v":"NO PRIMARY HEAT DATA"},{"$f":"IF(INPUT!F$14=\"\",\"\",IF(INPUT!F48=\"\",\"NO SECONDARY HEAT DATA\",\"\"))","v":""},"",{"$f":"IF(SUM(INPUT!B48:F48)-SUM(INPUT!C48:F48)=0,IF(INPUT!B48=0,\"\",\"NON NUMERICAL INPUT\"),\"\")","v":""},{"$f":"IF(SUM(INPUT!B48:F48)-SUM(INPUT!D48:F48,INPUT!B48)=0,IF(INPUT!C48=0,\"\",\"NON NUMERICAL INPUT\"),\"\")","v":""},{"$f":"IF(SUM(INPUT!B48:F48)-SUM(INPUT!E48:F48,INPUT!B48,INPUT!C48)=0,IF(INPUT!D48=0,\"\",\"NON NUMERICAL INPUT\"),\"\")","v":""},{"$f":"IF(SUM(INPUT!B48:F48)-SUM(INPUT!B48:D48,INPUT!F48)=0,IF(INPUT!E48=0,\"\",\"NON NUMERICAL INPUT\"),\"\")","v":""},{"$f":"IF(INPUT!F$14=\"\",\"\",IF(SUM(INPUT!B48:F48)-SUM(INPUT!B48:E48)=0,IF(INPUT!F48=0,\"\",\"NON NUMERICAL INPUT\"),\"\"))","v":""}]
[{"$f":"IF(INPUT!A49=\"\",\"\",INPUT!A49)","v":""},{"$f":"IF(INPUT!$F$12=$P$3,'A1'!U63,IF(INPUT!$F$12=$P$4,'A1'!U63,'A1'!W63))","v":""},{"$f":"IF(INPUT!$F$12=$P$3,'A1'!V63,IF(INPUT!$F$12=$P$4,'A1'!V63,'A1'!X63))","v":""},{"$f":"IF(INPUT!$F$12=$P$3,'A1'!Y63,IF(INPUT!$F$12=$P$4,'A1'!Y63,'A1'!AA63))","v":""},"",null,{"$f":"IF(C63=\"\",\"\",IF($D63=\"\",IF($F$30=\"\",\"NO dT MIN\",IF(J63=\"HOT\",((C63)-($F$30/2)),((C63)+($F$30/2)))),IF($J63=\"HOT\",C63-INPUT!D63,C63+INPUT!D63)))","v":""},{"$f":"IF(INPUT!$F$12=$P$3,'A1'!R63,IF(INPUT!$F$12=$P$4,'A1'!S63,'A1'!T63))","v":""},"","","","",null,{"$f":"IF(INPUT!E49=\"\",\"\",INPUT!E49)","v":""},"",{"$f":"IF(INPUT!F49=\"\",\"\",INPUT!F49)","v":""},"",{"$f":"IF(N63=\"\",\"\",IF(N$27=B$4,ABS(N63/O63),IF(N$27=B$5,ABS(N63/O63)/ABS(B63-C63),IF(INPUT!F$4=B$6,ABS(N63/O63)*ABS(P63/Q63),IF(INPUT!F$4=B$7,ABS(N63/O63)*ABS(P63/Q63)/ABS(B63-C63),\"\")))))","v":""},"","",{"$f":"IF(INPUT!B49=\"\",\"\",IF(INPUT!$G$6=\"°C\",INPUT!B49,IF(INPUT!$G$6=\"°F\",(INPUT!B49-32)/1.8,IF(INPUT!$G$6=\"K\",INPUT!B49-273.15,(INPUT!B49/1.8)-273.15))))","v":""},{"$f":"IF(INPUT!C49=\"\",\"\",IF(INPUT!$G$6=\"°C\",INPUT!C49,IF(INPUT!$G$6=\"°F\",(INPUT!C49-32)/1.8,IF(INPUT!$G$6=\"K\",INPUT!C49-273.15,(INPUT!C49/1.8)-273.15))))","v":""},{"$f":"IF(INPUT!B49=\"\",\"\",IF(INPUT!$G$6=\"°F\",INPUT!B49,IF(INPUT!$G$6=\"°C\",(INPUT!B49*1.8)+32,IF(INPUT!$G$6=\"°R\",INPUT!B49-459.67,(INPUT!B49*1.8)-459.67))))","v":""},{"$f":"IF(INPUT!C49=\"\",\"\",IF(INPUT!$G$6=\"°F\",INPUT!C49,IF(INPUT!$G$6=\"°C\",(INPUT!C49*1.8)+32,IF(INPUT!$G$6=\"°R\",INPUT!C49-459.67,(INPUT!C49*1.8)-459.67))))","v":""},{"$f":"IF(INPUT!D49=\"\",\"\",IF(OR(INPUT!$G$6=\"K\",INPUT!$G$6=\"°C\"),INPUT!D49,INPUT!D49/1.8))","v":""},null,{"$f":"IF(INPUT!D49=\"\",\"\",IF(OR(INPUT!$G$6=\"K\",INPUT!$G$6=\"°C\"),INPUT!D49*1.8,INPUT!D49))","v":""},null,null,{"$f":"IF(INPUT!$F$4=\"Select Input Data Method\",\"INPUT METHOD NOT SELECTED\",\"\")","v":""},{"$f":"IF(INPUT!$F$6=\"\",\"GLOBAL DTMIN NOT SPECIFIED\",\"\")","v":""},{"$f":"IF(INPUT!F$14=\"\",IF(OR(INPUT!E$15=\"\",INPUT!E$15=\"Select Units\"),\"SELECT UNITS\",\"\"),IF(OR(INPUT!E$15=\"\",INPUT!E$15=\"Select Units\",INPUT!F$15=\"\",INPUT!F$15=\"Select Units\"),\"SELECT UNITS\",\"\"))","v":""},{"$f":"IF(INPUT!$F$14=\"\",IF(COUNTIF('A1'!C$4:C$10,INPUT!E$15)=0,\"INCONSISTENT UNITS\",\"\"),IF(OR(COUNTIF('A1'!C$4:C$10,INPUT!E$15)=0,COUNTIF('A1'!E$4:E$10,INPUT!F$15)=0),\"INCONSISTENT UNITS\",\"\"))","v":""},{"$f":"IF(INPUT!A49=\"\",\"NO STREAM NAME\",\"\")","v":"NO STREAM NAME"},"NO SUPPLY TEMP",{"$f":"IF(INPUT!B49=\"\",\"NO SUPPLY TEMP\",\"\")","v":"NO SUPPLY TEMP"},{"$f":"IF(INPUT!C49=\"\",\"NO TARGET TEMP\",\"\")","v":"NO TARGET TEMP"},{"$f":"IF(INPUT!E49=\"\",\"NO PRIMARY HEAT DATA\",\"\")","v":"NO PRIMARY HEAT DATA"},{"$f":"IF(INPUT!F$14=\"\",\"\",IF(INPUT!F49=\"\",\"NO SECONDARY HEAT DATA\",\"\"))","v":""},"",{"$f":"IF(SUM(INPUT!B49:F49)-SUM(INPUT!C49:F49)=0,IF(INPUT!B49=0,\"\",\"NON NUMERICAL INPUT\"),\"\")","v":""},{"$f":"IF(SUM(INPUT!B49:F49)-SUM(INPUT!D49:F49,INPUT!B49)=0,IF(INPUT!C49=0,\"\",\"NON NUMERICAL INPUT\"),\"\")","v":""},{"$f":"IF(SUM(INPUT!B49:F49)-SUM(INPUT!E49:F49,INPUT!B49,INPUT!C49)=0,IF(INPUT!D49=0,\"\",\"NON NUMERICAL INPUT\"),\"\")","v":""},{"$f":"IF(SUM(INPUT!B49:F49)-SUM(INPUT!B49:D49,INPUT!F49)=0,IF(INPUT!E49=0,\"\",\"NON NUMERICAL INPUT\"),\"\")","v":""},{"$f":"IF(INPUT!F$14=\"\",\"\",IF(SUM(INPUT!B49:F49)-SUM(INPUT!B49:E49)=0,IF(INPUT!F49=0,\"\",\"NON NUMERICAL INPUT\"),\"\"))","v":""}]
[{"$f":"IF(INPUT!A50=\"\",\"\",INPUT!A50)","v":""},{"$f":"IF(INPUT!$F$12=$P$3,'A1'!U64,IF(INPUT!$F$12=$P$4,'A1'!U64,'A1'!W64))","v":""},{"$f":"IF(INPUT!$F$12=$P$3,'A1'!V64,IF(INPUT!$F$12=$P$4,'A1'!V64,'A1'!X64))","v":""},{"$f":"IF(INPUT!$F$12=$P$3,'A1'!Y64,IF(INPUT!$F$12=$P$4,'A1'!Y64,'A1'!AA64))","v":""},"",null,{"$f":"IF(C64=\"\",\"\",IF($D64=\"\",IF($F$30=\"\",\"NO dT MIN\",IF(J64=\"HOT\",((C64)-($F$30/2)),((C64)+($F$30/2)))),IF($J64=\"HOT\",C64-INPUT!D64,C64+INPUT!D64)))","v":""},{"$f":"IF(INPUT!$F$12=$P$3,'A1'!R64,IF(INPUT!$F$12=$P$4,'A1'!S64,'A1'!T64))","v":""},"","","","",null,{"$f":"IF(INPUT!E50=\"\",\"\",INPUT!E50)","v":""},"",{"$f":"IF(INPUT!F50=\"\",\"\",INPUT!F50)","v":""},"",{"$f":"IF(N64=\"\",\"\",IF(N$27=B$4,ABS(N64/O64),IF(N$27=B$5,ABS(N64/O64)/ABS(B64-C64),IF(INPUT!F$4=B$6,ABS(N64/O64)*ABS(P64/Q64),IF(INPUT!F$4=B$7,ABS(N64/O64)*ABS(P64/Q64)/ABS(B64-C64),\"\")))))","v":""},"","",{"$f":"IF(INPUT!B50=\"\",\"\",IF(INPUT!$G$6=\"°C\",INPUT!B50,IF(INPUT!$G$6=\"°F\",(INPUT!B50-32)/1.8,IF(INPUT!$G$6=\"K\",INPUT!B50-273.15,(INPUT!B50/1.8)-273.15))))","v":""},{"$f":"IF(INPUT!C50=\"\",\"\",IF(INPUT!$G$6=\"°C\",INPUT!C50,IF(INPUT!$G$6=\"°F\",(INPUT!C50-32)/1.8,IF(INPUT!$G$6=\"K\",INPUT!C50-273.15,(INPUT!C50/1.8)-273.15))))","v":""},{"$f":"IF(INPUT!B50=\"\",\"\",IF(INPUT!$G$6=\"°F\",INPUT!B50,IF(INPUT!$G$6=\"°C\",(INPUT!B50*1.8)+32,IF(INPUT!$G$6=\"°R\",INPUT!B50-459.67,(INPUT!B50*1.8)-459.67))))","v":""},{"$f":"IF(INPUT!C50=\"\",\"\",IF(INPUT!$G$6=\"°F\",INPUT!C50,IF(INPUT!$G$6=\"°C\",(INPUT!C50*1.8)+32,IF(INPUT!$G$6=\"°R\",INPUT!C50-459.67,(INPUT!C50*1.8)-459.67))))","v":""},{"$f":"IF(INPUT!D50=\"\",\"\",IF(OR(INPUT!$G$6=\"K\",INPUT!$G$6=\"°C\"),INPUT!D50,INPUT!D50/1.8))","v":""},null,{"$f":"IF(INPUT!D50=\"\",\"\",IF(OR(INPUT!$G$6=\"K\",INPUT!$G$6=\"°C\"),INPUT!D50*1.8,INPUT!D50))","v":""},null,null,{"$f":"IF(INPUT!$F$4=\"Select Input Data Method\",\"INPUT METHOD NOT SELECTED\",\"\")","v":""},{"$f":"IF(INPUT!$F$6=\"\",\"GLOBAL DTMIN NOT SPECIFIED\",\"\")","v":""},{"$f":"IF(INPUT!F$14=\"\",IF(OR(INPUT!E$15=\"\",INPUT!E$15=\"Select Units\"),\"SELECT UNITS\",\"\"),IF(OR(INPUT!E$15=\"\",INPUT!E$15=\"Select Units\",INPUT!F$15=\"\",INPUT!F$15=\"Select Units\"),\"SELECT UNITS\",\"\"))","v":""},{"$f":"IF(INPUT!$F$14=\"\",IF(COUNTIF('A1'!C$4:C$10,INPUT!E$15)=0,\"INCONSISTENT UNITS\",\"\"),IF(OR(COUNTIF('A1'!C$4:C$10,INPUT!E$15)=0,COUNTIF('A1'!E$4:E$10,INPUT!F$15)=0),\"INCONSISTENT UNITS\",\"\"))","v":""},{"$f":"IF(INPUT!A50=\"\",\"NO STREAM NAME\",\"\")","v":"NO STREAM NAME"},"NO SUPPLY TEMP",{"$f":"IF(INPUT!B50=\"\",\"NO SUPPLY TEMP\",\"\")","v":"NO SUPPLY TEMP"},{"$f":"IF(INPUT!C50=\"\",\"NO TARGET TEMP\",\"\")","v":"NO TARGET TEMP"},{"$f":"IF(INPUT!E50=\"\",\"NO PRIMARY HEAT DATA\",\"\")","v":"NO PRIMARY HEAT DATA"},{"$f":"IF(INPUT!F$14=\"\",\"\",IF(INPUT!F50=\"\",\"NO SECONDARY HEAT DATA\",\"\"))","v":""},"",{"$f":"IF(SUM(INPUT!B50:F50)-SUM(INPUT!C50:F50)=0,IF(INPUT!B50=0,\"\",\"NON NUMERICAL INPUT\"),\"\")","v":""},{"$f":"IF(SUM(INPUT!B50:F50)-SUM(INPUT!D50:F50,INPUT!B50)=0,IF(INPUT!C50=0,\"\",\"NON NUMERICAL INPUT\"),\"\")","v":""},{"$f":"IF(SUM(INPUT!B50:F50)-SUM(INPUT!E50:F50,INPUT!B50,INPUT!C50)=0,IF(INPUT!D50=0,\"\",\"NON NUMERICAL INPUT\"),\"\")","v":""},{"$f":"IF(SUM(INPUT!B50:F50)-SUM(INPUT!B50:D50,INPUT!F50)=0,IF(INPUT!E50=0,\"\",\"NON NUMERICAL INPUT\"),\"\")","v":""},{"$f":"IF(INPUT!F$14=\"\",\"\",IF(SUM(INPUT!B50:F50)-SUM(INPUT!B50:E50)=0,IF(INPUT!F50=0,\"\",\"NON NUMERICAL INPUT\"),\"\"))","v":""}]
[{"$f":"IF(INPUT!A51=\"\",\"\",INPUT!A51)","v":""},{"$f":"IF(INPUT!$F$12=$P$3,'A1'!U65,IF(INPUT!$F$12=$P$4,'A1'!U65,'A1'!W65))","v":""},{"$f":"IF(INPUT!$F$12=$P$3,'A1'!V65,IF(INPUT!$F$12=$P$4,'A1'!V65,'A1'!X65))","v":""},{"$f":"IF(INPUT!$F$12=$P$3,'A1'!Y65,IF(INPUT!$F$12=$P$4,'A1'!Y65,'A1'!AA65))","v":""},"",null,{"$f":"IF(C65=\"\",\"\",IF($D65=\"\",IF($F$30=\"\",\"NO dT MIN\",IF(J65=\"HOT\",((C65)-($F$30/2)),((C65)+($F$30/2)))),IF($J65=\"HOT\",C65-INPUT!D65,C65+INPUT!D65)))","v":""},{"$f":"IF(INPUT!$F$12=$P$3,'A1'!R65,IF(INPUT!$F$12=$P$4,'A1'!S65,'A1'!T65))","v":""},"","","","",null,{"$f":"IF(INPUT!E51=\"\",\"\",INPUT!E51)","v":""},"",{"$f":"IF(INPUT!F51=\"\",\"\",INPUT!F51)","v":""},"",{"$f":"IF(N65=\"\",\"\",IF(N$27=B$4,ABS(N65/O65),IF(N$27=B$5,ABS(N65/O65)/ABS(B65-C65),IF(INPUT!F$4=B$6,ABS(N65/O65)*ABS(P65/Q65),IF(INPUT!F$4=B$7,ABS(N65/O65)*ABS(P65/Q65)/ABS(B65-C65),\"\")))))","v":""},"","",{"$f":"IF(INPUT!B51=\"\",\"\",IF(INPUT!$G$6=\"°C\",INPUT!B51,IF(INPUT!$G$6=\"°F\",(INPUT!B51-32)/1.8,IF(INPUT!$G$6=\"K\",INPUT!B51-273.15,(INPUT!B51/1.8)-273.15))))","v":""},{"$f":"IF(INPUT!C51=\"\",\"\",IF(INPUT!$G$6=\"°C\",INPUT!C51,IF(INPUT!$G$6=\"°F\",(INPUT!C51-32)/1.8,IF(INPUT!$G$6=\"K\",INPUT!C51-273.15,(INPUT!C51/1.8)-273.15))))","v":""},{"$f":"IF(INPUT!B51=\"\",\"\",IF(INPUT!$G$6=\"°F\",INPUT!B51,IF(INPUT!$G$6=\"°C\",(INPUT!B51*1.8)+32,IF(INPUT!$G$6=\"°R\",INPUT!B51-459.67,(INPUT!B51*1.8)-459.67))))","v":""},{"$f":"IF(INPUT!C51=\"\",\"\",IF(INPUT!$G$6=\"°F\",INPUT!C51,IF(INPUT!$G$6=\"°C\",(INPUT!C51*1.8)+32,IF(INPUT!$G$6=\"°R\",INPUT!C51-459.67,(INPUT!C51*1.8)-459.67))))","v":""},{"$f":"IF(INPUT!D51=\"\",\"\",IF(OR(INPUT!$G$6=\"K\",INPUT!$G$6=\"°C\"),INPUT!D51,INPUT!D51/1.8))","v":""},null,{"$f":"IF(INPUT!D51=\"\",\"\",IF(OR(INPUT!$G$6=\"K\",INPUT!$G$6=\"°C\"),INPUT!D51*1.8,INPUT!D51))","v":""},null,null,{"$f":"IF(INPUT!$F$4=\"Select Input Data Method\",\"INPUT METHOD NOT SELECTED\",\"\")","v":""},{"$f":"IF(INPUT!$F$6=\"\",\"GLOBAL DTMIN NOT SPECIFIED\",\"\")","v":""},{"$f":"IF(INPUT!F$14=\"\",IF(OR(INPUT!E$15=\"\",INPUT!E$15=\"Select Units\"),\"SELECT UNITS\",\"\"),IF(OR(INPUT!E$15=\"\",INPUT!E$15=\"Select Units\",INPUT!F$15=\"\",INPUT!F$15=\"Select Units\"),\"SELECT UNITS\",\"\"))","v":""},{"$f":"IF(INPUT!$F$14=\"\",IF(COUNTIF('A1'!C$4:C$10,INPUT!E$15)=0,\"INCONSISTENT UNITS\",\"\"),IF(OR(COUNTIF('A1'!C$4:C$10,INPUT!E$15)=0,COUNTIF('A1'!E$4:E$10,INPUT!F$15)=0),\"INCONSISTENT UNITS\",\"\"))","v":""},{"$f":"IF(INPUT!A51=\"\",\"NO STREAM NAME\",\"\")","v":"NO STREAM NAME"},"NO SUPPLY TEMP",{"$f":"IF(INPUT!B51=\"\",\"NO SUPPLY TEMP\",\"\")","v":"NO SUPPLY TEMP"},{"$f":"IF(INPUT!C51=\"\",\"NO TARGET TEMP\",\"\")","v":"NO TARGET TEMP"},{"$f":"IF(INPUT!E51=\"\",\"NO PRIMARY HEAT DATA\",\"\")","v":"NO PRIMARY HEAT DATA"},{"$f":"IF(INPUT!F$14=\"\",\"\",IF(INPUT!F51=\"\",\"NO SECONDARY HEAT DATA\",\"\"))","v":""},"",{"$f":"IF(SUM(INPUT!B51:F51)-SUM(INPUT!C51:F51)=0,IF(INPUT!B51=0,\"\",\"NON NUMERICAL INPUT\"),\"\")","v":""},{"$f":"IF(SUM(INPUT!B51:F51)-SUM(INPUT!D51:F51,INPUT!B51)=0,IF(INPUT!C51=0,\"\",\"NON NUMERICAL INPUT\"),\"\")","v":""},{"$f":"IF(SUM(INPUT!B51:F51)-SUM(INPUT!E51:F51,INPUT!B51,INPUT!C51)=0,IF(INPUT!D51=0,\"\",\"NON NUMERICAL INPUT\"),\"\")","v":""},{"$f":"IF(SUM(INPUT!B51:F51)-SUM(INPUT!B51:D51,INPUT!F51)=0,IF(INPUT!E51=0,\"\",\"NON NUMERICAL INPUT\"),\"\")","v":""},{"$f":"IF(INPUT!F$14=\"\",\"\",IF(SUM(INPUT!B51:F51)-SUM(INPUT!B51:E51)=0,IF(INPUT!F51=0,\"\",\"NON NUMERICAL INPUT\"),\"\"))","v":""}]
[{"$f":"IF(INPUT!A52=\"\",\"\",INPUT!A52)","v":""},{"$f":"IF(INPUT!$F$12=$P$3,'A1'!U66,IF(INPUT!$F$12=$P$4,'A1'!U66,'A1'!W66))","v":""},{"$f":"IF(INPUT!$F$12=$P$3,'A1'!V66,IF(INPUT!$F$12=$P$4,'A1'!V66,'A1'!X66))","v":""},{"$f":"IF(INPUT!$F$12=$P$3,'A1'!Y66,IF(INPUT!$F$12=$P$4,'A1'!Y66,'A1'!AA66))","v":""},"",null,{"$f":"IF(C66=\"\",\"\",IF($D66=\"\",IF($F$30=\"\",\"NO dT MIN\",IF(J66=\"HOT\",((C66)-($F$30/2)),((C66)+($F$30/2)))),IF($J66=\"HOT\",C66-INPUT!D66,C66+INPUT!D66)))","v":""},{"$f":"IF(INPUT!$F$12=$P$3,'A1'!R66,IF(INPUT!$F$12=$P$4,'A1'!S66,'A1'!T66))","v":""},"","","","",null,{"$f":"IF(INPUT!E52=\"\",\"\",INPUT!E52)","v":""},"",{"$f":"IF(INPUT!F52=\"\",\"\",INPUT!F52)","v":""},"",{"$f":"IF(N66=\"\",\"\",IF(N$27=B$4,ABS(N66/O66),IF(N$27=B$5,ABS(N66/O66)/ABS(B66-C66),IF(INPUT!F$4=B$6,ABS(N66/O66)*ABS(P66/Q66),IF(INPUT!F$4=B$7,ABS(N66/O66)*ABS(P66/Q66)/ABS(B66-C66),\"\")))))","v":""},"","",{"$f":"IF(INPUT!B52=\"\",\"\",IF(INPUT!$G$6=\"°C\",INPUT!B52,IF(INPUT!$G$6=\"°F\",(INPUT!B52-32)/1.8,IF(INPUT!$G$6=\"K\",INPUT!B52-273.15,(INPUT!B52/1.8)-273.15))))","v":""},{"$f":"IF(INPUT!C52=\"\",\"\",IF(INPUT!$G$6=\"°C\",INPUT!C52,IF(INPUT!$G$6=\"°F\",(INPUT!C52-32)/1.8,IF(INPUT!$G$6=\"K\",INPUT!C52-273.15,(INPUT!C52/1.8)-273.15))))","v":""},{"$f":"IF(INPUT!B52=\"\",\"\",IF(INPUT!$G$6=\"°F\",INPUT!B52,IF(INPUT!$G$6=\"°C\",(INPUT!B52*1.8)+32,IF(INPUT!$G$6=\"°R\",INPUT!B52-459.67,(INPUT!B52*1.8)-459.67))))","v":""},{"$f":"IF(INPUT!C52=\"\",\"\",IF(INPUT!$G$6=\"°F\",INPUT!C52,IF(INPUT!$G$6=\"°C\",(INPUT!C52*1.8)+32,IF(INPUT!$G$6=\"°R\",INPUT!C52-459.67,(INPUT!C52*1.8)-459.67))))","v":""},{"$f":"IF(INPUT!D52=\"\",\"\",IF(OR(INPUT!$G$6=\"K\",INPUT!$G$6=\"°C\"),INPUT!D52,INPUT!D52/1.8))","v":""},null,{"$f":"IF(INPUT!D52=\"\",\"\",IF(OR(INPUT!$G$6=\"K\",INPUT!$G$6=\"°C\"),INPUT!D52*1.8,INPUT!D52))","v":""},null,null,{"$f":"IF(INPUT!$F$4=\"Select Input Data Method\",\"INPUT METHOD NOT SELECTED\",\"\")","v":""},{"$f":"IF(INPUT!$F$6=\"\",\"GLOBAL DTMIN NOT SPECIFIED\",\"\")","v":""},{"$f":"IF(INPUT!F$14=\"\",IF(OR(INPUT!E$15=\"\",INPUT!E$15=\"Select Units\"),\"SELECT UNITS\",\"\"),IF(OR(INPUT!E$15=\"\",INPUT!E$15=\"Select Units\",INPUT!F$15=\"\",INPUT!F$15=\"Select Units\"),\"SELECT UNITS\",\"\"))","v":""},{"$f":"IF(INPUT!$F$14=\"\",IF(COUNTIF('A1'!C$4:C$10,INPUT!E$15)=0,\"INCONSISTENT UNITS\",\"\"),IF(OR(COUNTIF('A1'!C$4:C$10,INPUT!E$15)=0,COUNTIF('A1'!E$4:E$10,INPUT!F$15)=0),\"INCONSISTENT UNITS\",\"\"))","v":""},{"$f":"IF(INPUT!A52=\"\",\"NO STREAM NAME\",\"\")","v":"NO STREAM NAME"},"NO SUPPLY TEMP",{"$f":"IF(INPUT!B52=\"\",\"NO SUPPLY TEMP\",\"\")","v":"NO SUPPLY TEMP"},{"$f":"IF(INPUT!C52=\"\",\"NO TARGET TEMP\",\"\")","v":"NO TARGET TEMP"},{"$f":"IF(INPUT!E52=\"\",\"NO PRIMARY HEAT DATA\",\"\")","v":"NO PRIMARY HEAT DATA"},{"$f":"IF(INPUT!F$14=\"\",\"\",IF(INPUT!F52=\"\",\"NO SECONDARY HEAT DATA\",\"\"))","v":""},"",{"$f":"IF(SUM(INPUT!B52:F52)-SUM(INPUT!C52:F52)=0,IF(INPUT!B52=0,\"\",\"NON NUMERICAL INPUT\"),\"\")","v":""},{"$f":"IF(SUM(INPUT!B52:F52)-SUM(INPUT!D52:F52,INPUT!B52)=0,IF(INPUT!C52=0,\"\",\"NON NUMERICAL INPUT\"),\"\")","v":""},{"$f":"IF(SUM(INPUT!B52:F52)-SUM(INPUT!E52:F52,INPUT!B52,INPUT!C52)=0,IF(INPUT!D52=0,\"\",\"NON NUMERICAL INPUT\"),\"\")","v":""},{"$f":"IF(SUM(INPUT!B52:F52)-SUM(INPUT!B52:D52,INPUT!F52)=0,IF(INPUT!E52=0,\"\",\"NON NUMERICAL INPUT\"),\"\")","v":""},{"$f":"IF(INPUT!F$14=\"\",\"\",IF(SUM(INPUT!B52:F52)-SUM(INPUT!B52:E52)=0,IF(INPUT!F52=0,\"\",\"NON NUMERICAL INPUT\"),\"\"))","v":""}]
[{"$f":"IF(INPUT!A53=\"\",\"\",INPUT!A53)","v":""},{"$f":"IF(INPUT!$F$12=$P$3,'A1'!U67,IF(INPUT!$F$12=$P$4,'A1'!U67,'A1'!W67))","v":""},{"$f":"IF(INPUT!$F$12=$P$3,'A1'!V67,IF(INPUT!$F$12=$P$4,'A1'!V67,'A1'!X67))","v":""},{"$f":"IF(INPUT!$F$12=$P$3,'A1'!Y67,IF(INPUT!$F$12=$P$4,'A1'!Y67,'A1'!AA67))","v":""},"",null,{"$f":"IF(C67=\"\",\"\",IF($D67=\"\",IF($F$30=\"\",\"NO dT MIN\",IF(J67=\"HOT\",((C67)-($F$30/2)),((C67)+($F$30/2)))),IF($J67=\"HOT\",C67-INPUT!D67,C67+INPUT!D67)))","v":""},{"$f":"IF(INPUT!$F$12=$P$3,'A1'!R67,IF(INPUT!$F$12=$P$4,'A1'!S67,'A1'!T67))","v":""},"","","","",null,{"$f":"IF(INPUT!E53=\"\",\"\",INPUT!E53)","v":""},"",{"$f":"IF(INPUT!F53=\"\",\"\",INPUT!F53)","v":""},"",{"$f":"IF(N67=\"\",\"\",IF(N$27=B$4,ABS(N67/O67),IF(N$27=B$5,ABS(N67/O67)/ABS(B67-C67),IF(INPUT!F$4=B$6,ABS(N67/O67)*ABS(P67/Q67),IF(INPUT!F$4=B$7,ABS(N67/O67)*ABS(P67/Q67)/ABS(B67-C67),\"\")))))","v":""},"","",{"$f":"IF(INPUT!B53=\"\",\"\",IF(INPUT!$G$6=\"°C\",INPUT!B53,IF(INPUT!$G$6=\"°F\",(INPUT!B53-32)/1.8,IF(INPUT!$G$6=\"K\",INPUT!B53-273.15,(INPUT!B53/1.8)-273.15))))","v":""},{"$f":"IF(INPUT!C53=\"\",\"\",IF(INPUT!$G$6=\"°C\",INPUT!C53,IF(INPUT!$G$6=\"°F\",(INPUT!C53-32)/1.8,IF(INPUT!$G$6=\"K\",INPUT!C53-273.15,(INPUT!C53/1.8)-273.15))))","v":""},{"$f":"IF(INPUT!B53=\"\",\"\",IF(INPUT!$G$6=\"°F\",INPUT!B53,IF(INPUT!$G$6=\"°C\",(INPUT!B53*1.8)+32,IF(INPUT!$G$6=\"°R\",INPUT!B53-459.67,(INPUT!B53*1.8)-459.67))))","v":""},{"$f":"IF(INPUT!C53=\"\",\"\",IF(INPUT!$G$6=\"°F\",INPUT!C53,IF(INPUT!$G$6=\"°C\",(INPUT!C53*1.8)+32,IF(INPUT!$G$6=\"°R\",INPUT!C53-459.67,(INPUT!C53*1.8)-459.67))))","v":""},{"$f":"IF(INPUT!D53=\"\",\"\",IF(OR(INPUT!$G$6=\"K\",INPUT!$G$6=\"°C\"),INPUT!D53,INPUT!D53/1.8))","v":""},null,{"$f":"IF(INPUT!D53=\"\",\"\",IF(OR(INPUT!$G$6=\"K\",INPUT!$G$6=\"°C\"),INPUT!D53*1.8,INPUT!D53))","v":""},null,null,{"$f":"IF(INPUT!$F$4=\"Select Input Data Method\",\"INPUT METHOD NOT SELECTED\",\"\")","v":""},{"$f":"IF(INPUT!$F$6=\"\",\"GLOBAL DTMIN NOT SPECIFIED\",\"\")","v":""},{"$f":"IF(INPUT!F$14=\"\",IF(OR(INPUT!E$15=\"\",INPUT!E$15=\"Select Units\"),\"SELECT UNITS\",\"\"),IF(OR(INPUT!E$15=\"\",INPUT!E$15=\"Select Units\",INPUT!F$15=\"\",INPUT!F$15=\"Select Units\"),\"SELECT UNITS\",\"\"))","v":""},{"$f":"IF(INPUT!$F$14=\"\",IF(COUNTIF('A1'!C$4:C$10,INPUT!E$15)=0,\"INCONSISTENT UNITS\",\"\"),IF(OR(COUNTIF('A1'!C$4:C$10,INPUT!E$15)=0,COUNTIF('A1'!E$4:E$10,INPUT!F$15)=0),\"INCONSISTENT UNITS\",\"\"))","v":""},{"$f":"IF(INPUT!A53=\"\",\"NO STREAM NAME\",\"\")","v":"NO STREAM NAME"},"NO SUPPLY TEMP",{"$f":"IF(INPUT!B53=\"\",\"NO SUPPLY TEMP\",\"\")","v":"NO SUPPLY TEMP"},{"$f":"IF(INPUT!C53=\"\",\"NO TARGET TEMP\",\"\")","v":"NO TARGET TEMP"},{"$f":"IF(INPUT!E53=\"\",\"NO PRIMARY HEAT DATA\",\"\")","v":"NO PRIMARY HEAT DATA"},{"$f":"IF(INPUT!F$14=\"\",\"\",IF(INPUT!F53=\"\",\"NO SECONDARY HEAT DATA\",\"\"))","v":""},"",{"$f":"IF(SUM(INPUT!B53:F53)-SUM(INPUT!C53:F53)=0,IF(INPUT!B53=0,\"\",\"NON NUMERICAL INPUT\"),\"\")","v":""},{"$f":"IF(SUM(INPUT!B53:F53)-SUM(INPUT!D53:F53,INPUT!B53)=0,IF(INPUT!C53=0,\"\",\"NON NUMERICAL INPUT\"),\"\")","v":""},{"$f":"IF(SUM(INPUT!B53:F53)-SUM(INPUT!E53:F53,INPUT!B53,INPUT!C53)=0,IF(INPUT!D53=0,\"\",\"NON NUMERICAL INPUT\"),\"\")","v":""},{"$f":"IF(SUM(INPUT!B53:F53)-SUM(INPUT!B53:D53,INPUT!F53)=0,IF(INPUT!E53=0,\"\",\"NON NUMERICAL INPUT\"),\"\")","v":""},{"$f":"IF(INPUT!F$14=\"\",\"\",IF(SUM(INPUT!B53:F53)-SUM(INPUT!B53:E53)=0,IF(INPUT!F53=0,\"\",\"NON NUMERICAL INPUT\"),\"\"))","v":""}]
[{"$f":"IF(INPUT!A54=\"\",\"\",INPUT!A54)","v":""},{"$f":"IF(INPUT!$F$12=$P$3,'A1'!U68,IF(INPUT!$F$12=$P$4,'A1'!U68,'A1'!W68))","v":""},{"$f":"IF(INPUT!$F$12=$P$3,'A1'!V68,IF(INPUT!$F$12=$P$4,'A1'!V68,'A1'!X68))","v":""},{"$f":"IF(INPUT!$F$12=$P$3,'A1'!Y68,IF(INPUT!$F$12=$P$4,'A1'!Y68,'A1'!AA68))","v":""},"",null,{"$f":"IF(C68=\"\",\"\",IF($D68=\"\",IF($F$30=\"\",\"NO dT MIN\",IF(J68=\"HOT\",((C68)-($F$30/2)),((C68)+($F$30/2)))),IF($J68=\"HOT\",C68-INPUT!D68,C68+INPUT!D68)))","v":""},{"$f":"IF(INPUT!$F$12=$P$3,'A1'!R68,IF(INPUT!$F$12=$P$4,'A1'!S68,'A1'!T68))","v":""},"","","","",null,{"$f":"IF(INPUT!E54=\"\",\"\",INPUT!E54)","v":""},"",{"$f":"IF(INPUT!F54=\"\",\"\",INPUT!F54)","v":""},"",{"$f":"IF(N68=\"\",\"\",IF(N$27=B$4,ABS(N68/O68),IF(N$27=B$5,ABS(N68/O68)/ABS(B68-C68),IF(INPUT!F$4=B$6,ABS(N68/O68)*ABS(P68/Q68),IF(INPUT!F$4=B$7,ABS(N68/O68)*ABS(P68/Q68)/ABS(B68-C68),\"\")))))","v":""},"","",{"$f":"IF(INPUT!B54=\"\",\"\",IF(INPUT!$G$6=\"°C\",INPUT!B54,IF(INPUT!$G$6=\"°F\",(INPUT!B54-32)/1.8,IF(INPUT!$G$6=\"K\",INPUT!B54-273.15,(INPUT!B54/1.8)-273.15))))","v":""},{"$f":"IF(INPUT!C54=\"\",\"\",IF(INPUT!$G$6=\"°C\",INPUT!C54,IF(INPUT!$G$6=\"°F\",(INPUT!C54-32)/1.8,IF(INPUT!$G$6=\"K\",INPUT!C54-273.15,(INPUT!C54/1.8)-273.15))))","v":""},{"$f":"IF(INPUT!B54=\"\",\"\",IF(INPUT!$G$6=\"°F\",INPUT!B54,IF(INPUT!$G$6=\"°C\",(INPUT!B54*1.8)+32,IF(INPUT!$G$6=\"°R\",INPUT!B54-459.67,(INPUT!B54*1.8)-459.67))))","v":""},{"$f":"IF(INPUT!C54=\"\",\"\",IF(INPUT!$G$6=\"°F\",INPUT!C54,IF(INPUT!$G$6=\"°C\",(INPUT!C54*1.8)+32,IF(INPUT!$G$6=\"°R\",INPUT!C54-459.67,(INPUT!C54*1.8)-459.67))))","v":""},{"$f":"IF(INPUT!D54=\"\",\"\",IF(OR(INPUT!$G$6=\"K\",INPUT!$G$6=\"°C\"),INPUT!D54,INPUT!D54/1.8))","v":""},null,{"$f":"IF(INPUT!D54=\"\",\"\",IF(OR(INPUT!$G$6=\"K\",INPUT!$G$6=\"°C\"),INPUT!D54*1.8,INPUT!D54))","v":""},null,null,{"$f":"IF(INPUT!$F$4=\"Select Input Data Method\",\"INPUT METHOD NOT SELECTED\",\"\")","v":""},{"$f":"IF(INPUT!$F$6=\"\",\"GLOBAL DTMIN NOT SPECIFIED\",\"\")","v":""},{"$f":"IF(INPUT!F$14=\"\",IF(OR(INPUT!E$15=\"\",INPUT!E$15=\"Select Units\"),\"SELECT UNITS\",\"\"),IF(OR(INPUT!E$15=\"\",INPUT!E$15=\"Select Units\",INPUT!F$15=\"\",INPUT!F$15=\"Select Units\"),\"SELECT UNITS\",\"\"))","v":""},{"$f":"IF(INPUT!$F$14=\"\",IF(COUNTIF('A1'!C$4:C$10,INPUT!E$15)=0,\"INCONSISTENT UNITS\",\"\"),IF(OR(COUNTIF('A1'!C$4:C$10,INPUT!E$15)=0,COUNTIF('A1'!E$4:E$10,INPUT!F$15)=0),\"INCONSISTENT UNITS\",\"\"))","v":""},{"$f":"IF(INPUT!A54=\"\",\"NO STREAM NAME\",\"\")","v":"NO STREAM NAME"},"NO SUPPLY TEMP",{"$f":"IF(INPUT!B54=\"\",\"NO SUPPLY TEMP\",\"\")","v":"NO SUPPLY TEMP"},{"$f":"IF(INPUT!C54=\"\",\"NO TARGET TEMP\",\"\")","v":"NO TARGET TEMP"},{"$f":"IF(INPUT!E54=\"\",\"NO PRIMARY HEAT DATA\",\"\")","v":"NO PRIMARY HEAT DATA"},{"$f":"IF(INPUT!F$14=\"\",\"\",IF(INPUT!F54=\"\",\"NO SECONDARY HEAT DATA\",\"\"))","v":""},"",{"$f":"IF(SUM(INPUT!B54:F54)-SUM(INPUT!C54:F54)=0,IF(INPUT!B54=0,\"\",\"NON NUMERICAL INPUT\"),\"\")","v":""},{"$f":"IF(SUM(INPUT!B54:F54)-SUM(INPUT!D54:F54,INPUT!B54)=0,IF(INPUT!C54=0,\"\",\"NON NUMERICAL INPUT\"),\"\")","v":""},{"$f":"IF(SUM(INPUT!B54:F54)-SUM(INPUT!E54:F54,INPUT!B54,INPUT!C54)=0,IF(INPUT!D54=0,\"\",\"NON NUMERICAL INPUT\"),\"\")","v":""},{"$f":"IF(SUM(INPUT!B54:F54)-SUM(INPUT!B54:D54,INPUT!F54)=0,IF(INPUT!E54=0,\"\",\"NON NUMERICAL INPUT\"),\"\")","v":""},{"$f":"IF(INPUT!F$14=\"\",\"\",IF(SUM(INPUT!B54:F54)-SUM(INPUT!B54:E54)=0,IF(INPUT!F54=0,\"\",\"NON NUMERICAL INPUT\"),\"\"))","v":""}]
[{"$f":"IF(INPUT!A55=\"\",\"\",INPUT!A55)","v":""},{"$f":"IF(INPUT!$F$12=$P$3,'A1'!U69,IF(INPUT!$F$12=$P$4,'A1'!U69,'A1'!W69))","v":""},{"$f":"IF(INPUT!$F$12=$P$3,'A1'!V69,IF(INPUT!$F$12=$P$4,'A1'!V69,'A1'!X69))","v":""},{"$f":"IF(INPUT!$F$12=$P$3,'A1'!Y69,IF(INPUT!$F$12=$P$4,'A1'!Y69,'A1'!AA69))","v":""},"",null,{"$f":"IF(C69=\"\",\"\",IF($D69=\"\",IF($F$30=\"\",\"NO dT MIN\",IF(J69=\"HOT\",((C69)-($F$30/2)),((C69)+($F$30/2)))),IF($J69=\"HOT\",C69-INPUT!D69,C69+INPUT!D69)))","v":""},{"$f":"IF(INPUT!$F$12=$P$3,'A1'!R69,IF(INPUT!$F$12=$P$4,'A1'!S69,'A1'!T69))","v":""},"","","","",null,{"$f":"IF(INPUT!E55=\"\",\"\",INPUT!E55)","v":""},"",{"$f":"IF(INPUT!F55=\"\",\"\",INPUT!F55)","v":""},"",{"$f":"IF(N69=\"\",\"\",IF(N$27=B$4,ABS(N69/O69),IF(N$27=B$5,ABS(N69/O69)/ABS(B69-C69),IF(INPUT!F$4=B$6,ABS(N69/O69)*ABS(P69/Q69),IF(INPUT!F$4=B$7,ABS(N69/O69)*ABS(P69/Q69)/ABS(B69-C69),\"\")))))","v":""},"","",{"$f":"IF(INPUT!B55=\"\",\"\",IF(INPUT!$G$6=\"°C\",INPUT!B55,IF(INPUT!$G$6=\"°F\",(INPUT!B55-32)/1.8,IF(INPUT!$G$6=\"K\",INPUT!B55-273.15,(INPUT!B55/1.8)-273.15))))","v":""},{"$f":"IF(INPUT!C55=\"\",\"\",IF(INPUT!$G$6=\"°C\",INPUT!C55,IF(INPUT!$G$6=\"°F\",(INPUT!C55-32)/1.8,IF(INPUT!$G$6=\"K\",INPUT!C55-273.15,(INPUT!C55/1.8)-273.15))))","v":""},{"$f":"IF(INPUT!B55=\"\",\"\",IF(INPUT!$G$6=\"°F\",INPUT!B55,IF(INPUT!$G$6=\"°C\",(INPUT!B55*1.8)+32,IF(INPUT!$G$6=\"°R\",INPUT!B55-459.67,(INPUT!B55*1.8)-459.67))))","v":""},{"$f":"IF(INPUT!C55=\"\",\"\",IF(INPUT!$G$6=\"°F\",INPUT!C55,IF(INPUT!$G$6=\"°C\",(INPUT!C55*1.8)+32,IF(INPUT!$G$6=\"°R\",INPUT!C55-459.67,(INPUT!C55*1.8)-459.67))))","v":""},{"$f":"IF(INPUT!D55=\"\",\"\",IF(OR(INPUT!$G$6=\"K\",INPUT!$G$6=\"°C\"),INPUT!D55,INPUT!D55/1.8))","v":""},null,{"$f":"IF(INPUT!D55=\"\",\"\",IF(OR(INPUT!$G$6=\"K\",INPUT!$G$6=\"°C\"),INPUT!D55*1.8,INPUT!D55))","v":""},null,null,{"$f":"IF(INPUT!$F$4=\"Select Input Data Method\",\"INPUT METHOD NOT SELECTED\",\"\")","v":""},{"$f":"IF(INPUT!$F$6=\"\",\"GLOBAL DTMIN NOT SPECIFIED\",\"\")","v":""},{"$f":"IF(INPUT!F$14=\"\",IF(OR(INPUT!E$15=\"\",INPUT!E$15=\"Select Units\"),\"SELECT UNITS\",\"\"),IF(OR(INPUT!E$15=\"\",INPUT!E$15=\"Select Units\",INPUT!F$15=\"\",INPUT!F$15=\"Select Units\"),\"SELECT UNITS\",\"\"))","v":""},{"$f":"IF(INPUT!$F$14=\"\",IF(COUNTIF('A1'!C$4:C$10,INPUT!E$15)=0,\"INCONSISTENT UNITS\",\"\"),IF(OR(COUNTIF('A1'!C$4:C$10,INPUT!E$15)=0,COUNTIF('A1'!E$4:E$10,INPUT!F$15)=0),\"INCONSISTENT UNITS\",\"\"))","v":""},{"$f":"IF(INPUT!A55=\"\",\"NO STREAM NAME\",\"\")","v":"NO STREAM NAME"},"NO SUPPLY TEMP",{"$f":"IF(INPUT!B55=\"\",\"NO SUPPLY TEMP\",\"\")","v":"NO SUPPLY TEMP"},{"$f":"IF(INPUT!C55=\"\",\"NO TARGET TEMP\",\"\")","v":"NO TARGET TEMP"},{"$f":"IF(INPUT!E55=\"\",\"NO PRIMARY HEAT DATA\",\"\")","v":"NO PRIMARY HEAT DATA"},{"$f":"IF(INPUT!F$14=\"\",\"\",IF(INPUT!F55=\"\",\"NO SECONDARY HEAT DATA\",\"\"))","v":""},"",{"$f":"IF(SUM(INPUT!B55:F55)-SUM(INPUT!C55:F55)=0,IF(INPUT!B55=0,\"\",\"NON NUMERICAL INPUT\"),\"\")","v":""},{"$f":"IF(SUM(INPUT!B55:F55)-SUM(INPUT!D55:F55,INPUT!B55)=0,IF(INPUT!C55=0,\"\",\"NON NUMERICAL INPUT\"),\"\")","v":""},{"$f":"IF(SUM(INPUT!B55:F55)-SUM(INPUT!E55:F55,INPUT!B55,INPUT!C55)=0,IF(INPUT!D55=0,\"\",\"NON NUMERICAL INPUT\"),\"\")","v":""},{"$f":"IF(SUM(INPUT!B55:F55)-SUM(INPUT!B55:D55,INPUT!F55)=0,IF(INPUT!E55=0,\"\",\"NON NUMERICAL INPUT\"),\"\")","v":""},{"$f":"IF(INPUT!F$14=\"\",\"\",IF(SUM(INPUT!B55:F55)-SUM(INPUT!B55:E55)=0,IF(INPUT!F55=0,\"\",\"NON NUMERICAL INPUT\"),\"\"))","v":""}]
[{"$f":"IF(INPUT!A56=\"\",\"\",INPUT!A56)","v":""},{"$f":"IF(INPUT!$F$12=$P$3,'A1'!U70,IF(INPUT!$F$12=$P$4,'A1'!U70,'A1'!W70))","v":""},{"$f":"IF(INPUT!$F$12=$P$3,'A1'!V70,IF(INPUT!$F$12=$P$4,'A1'!V70,'A1'!X70))","v":""},{"$f":"IF(INPUT!$F$12=$P$3,'A1'!Y70,IF(INPUT!$F$12=$P$4,'A1'!Y70,'A1'!AA70))","v":""},"",null,{"$f":"IF(C70=\"\",\"\",IF($D70=\"\",IF($F$30=\"\",\"NO dT MIN\",IF(J70=\"HOT\",((C70)-($F$30/2)),((C70)+($F$30/2)))),IF($J70=\"HOT\",C70-INPUT!D70,C70+INPUT!D70)))","v":""},{"$f":"IF(INPUT!$F$12=$P$3,'A1'!R70,IF(INPUT!$F$12=$P$4,'A1'!S70,'A1'!T70))","v":""},"","","","",null,{"$f":"IF(INPUT!E56=\"\",\"\",INPUT!E56)","v":""},"",{"$f":"IF(INPUT!F56=\"\",\"\",INPUT!F56)","v":""},"",{"$f":"IF(N70=\"\",\"\",IF(N$27=B$4,ABS(N70/O70),IF(N$27=B$5,ABS(N70/O70)/ABS(B70-C70),IF(INPUT!F$4=B$6,ABS(N70/O70)*ABS(P70/Q70),IF(INPUT!F$4=B$7,ABS(N70/O70)*ABS(P70/Q70)/ABS(B70-C70),\"\")))))","v":""},"","",{"$f":"IF(INPUT!B56=\"\",\"\",IF(INPUT!$G$6=\"°C\",INPUT!B56,IF(INPUT!$G$6=\"°F\",(INPUT!B56-32)/1.8,IF(INPUT!$G$6=\"K\",INPUT!B56-273.15,(INPUT!B56/1.8)-273.15))))","v":""},{"$f":"IF(INPUT!C56=\"\",\"\",IF(INPUT!$G$6=\"°C\",INPUT!C56,IF(INPUT!$G$6=\"°F\",(INPUT!C56-32)/1.8,IF(INPUT!$G$6=\"K\",INPUT!C56-273.15,(INPUT!C56/1.8)-273.15))))","v":""},{"$f":"IF(INPUT!B56=\"\",\"\",IF(INPUT!$G$6=\"°F\",INPUT!B56,IF(INPUT!$G$6=\"°C\",(INPUT!B56*1.8)+32,IF(INPUT!$G$6=\"°R\",INPUT!B56-459.67,(INPUT!B56*1.8)-459.67))))","v":""},{"$f":"IF(INPUT!C56=\"\",\"\",IF(INPUT!$G$6=\"°F\",INPUT!C56,IF(INPUT!$G$6=\"°C\",(INPUT!C56*1.8)+32,IF(INPUT!$G$6=\"°R\",INPUT!C56-459.67,(INPUT!C56*1.8)-459.67))))","v":""},{"$f":"IF(INPUT!D56=\"\",\"\",IF(OR(INPUT!$G$6=\"K\",INPUT!$G$6=\"°C\"),INPUT!D56,INPUT!D56/1.8))","v":""},null,{"$f":"IF(INPUT!D56=\"\",\"\",IF(OR(INPUT!$G$6=\"K\",INPUT!$G$6=\"°C\"),INPUT!D56*1.8,INPUT!D56))","v":""},null,null,{"$f":"IF(INPUT!$F$4=\"Select Input Data Method\",\"INPUT METHOD NOT SELECTED\",\"\")","v":""},{"$f":"IF(INPUT!$F$6=\"\",\"GLOBAL DTMIN NOT SPECIFIED\",\"\")","v":""},{"$f":"IF(INPUT!F$14=\"\",IF(OR(INPUT!E$15=\"\",INPUT!E$15=\"Select Units\"),\"SELECT UNITS\",\"\"),IF(OR(INPUT!E$15=\"\",INPUT!E$15=\"Select Units\",INPUT!F$15=\"\",INPUT!F$15=\"Select Units\"),\"SELECT UNITS\",\"\"))","v":""},{"$f":"IF(INPUT!$F$14=\"\",IF(COUNTIF('A1'!C$4:C$10,INPUT!E$15)=0,\"INCONSISTENT UNITS\",\"\"),IF(OR(COUNTIF('A1'!C$4:C$10,INPUT!E$15)=0,COUNTIF('A1'!E$4:E$10,INPUT!F$15)=0),\"INCONSISTENT UNITS\",\"\"))","v":""},{"$f":"IF(INPUT!A56=\"\",\"NO STREAM NAME\",\"\")","v":"NO STREAM NAME"},"NO SUPPLY TEMP",{"$f":"IF(INPUT!B56=\"\",\"NO SUPPLY TEMP\",\"\")","v":"NO SUPPLY TEMP"},{"$f":"IF(INPUT!C56=\"\",\"NO TARGET TEMP\",\"\")","v":"NO TARGET TEMP"},{"$f":"IF(INPUT!E56=\"\",\"NO PRIMARY HEAT DATA\",\"\")","v":"NO PRIMARY HEAT DATA"},{"$f":"IF(INPUT!F$14=\"\",\"\",IF(INPUT!F56=\"\",\"NO SECONDARY HEAT DATA\",\"\"))","v":""},"",{"$f":"IF(SUM(INPUT!B56:F56)-SUM(INPUT!C56:F56)=0,IF(INPUT!B56=0,\"\",\"NON NUMERICAL INPUT\"),\"\")","v":""},{"$f":"IF(SUM(INPUT!B56:F56)-SUM(INPUT!D56:F56,INPUT!B56)=0,IF(INPUT!C56=0,\"\",\"NON NUMERICAL INPUT\"),\"\")","v":""},{"$f":"IF(SUM(INPUT!B56:F56)-SUM(INPUT!E56:F56,INPUT!B56,INPUT!C56)=0,IF(INPUT!D56=0,\"\",\"NON NUMERICAL INPUT\"),\"\")","v":""},{"$f":"IF(SUM(INPUT!B56:F56)-SUM(INPUT!B56:D56,INPUT!F56)=0,IF(INPUT!E56=0,\"\",\"NON NUMERICAL INPUT\"),\"\")","v":""},{"$f":"IF(INPUT!F$14=\"\",\"\",IF(SUM(INPUT!B56:F56)-SUM(INPUT!B56:E56)=0,IF(INPUT!F56=0,\"\",\"NON NUMERICAL INPUT\"),\"\"))","v":""}]
[{"$f":"IF(INPUT!A57=\"\",\"\",INPUT!A57)","v":""},{"$f":"IF(INPUT!$F$12=$P$3,'A1'!U71,IF(INPUT!$F$12=$P$4,'A1'!U71,'A1'!W71))","v":""},{"$f":"IF(INPUT!$F$12=$P$3,'A1'!V71,IF(INPUT!$F$12=$P$4,'A1'!V71,'A1'!X71))","v":""},{"$f":"IF(INPUT!$F$12=$P$3,'A1'!Y71,IF(INPUT!$F$12=$P$4,'A1'!Y71,'A1'!AA71))","v":""},"",null,{"$f":"IF(C71=\"\",\"\",IF($D71=\"\",IF($F$30=\"\",\"NO dT MIN\",IF(J71=\"HOT\",((C71)-($F$30/2)),((C71)+($F$30/2)))),IF($J71=\"HOT\",C71-INPUT!D71,C71+INPUT!D71)))","v":""},{"$f":"IF(INPUT!$F$12=$P$3,'A1'!R71,IF(INPUT!$F$12=$P$4,'A1'!S71,'A1'!T71))","v":""},"","","","",null,{"$f":"IF(INPUT!E57=\"\",\"\",INPUT!E57)","v":""},"",{"$f":"IF(INPUT!F57=\"\",\"\",INPUT!F57)","v":""},"",{"$f":"IF(N71=\"\",\"\",IF(N$27=B$4,ABS(N71/O71),IF(N$27=B$5,ABS(N71/O71)/ABS(B71-C71),IF(INPUT!F$4=B$6,ABS(N71/O71)*ABS(P71/Q71),IF(INPUT!F$4=B$7,ABS(N71/O71)*ABS(P71/Q71)/ABS(B71-C71),\"\")))))","v":""},"","",{"$f":"IF(INPUT!B57=\"\",\"\",IF(INPUT!$G$6=\"°C\",INPUT!B57,IF(INPUT!$G$6=\"°F\",(INPUT!B57-32)/1.8,IF(INPUT!$G$6=\"K\",INPUT!B57-273.15,(INPUT!B57/1.8)-273.15))))","v":""},{"$f":"IF(INPUT!C57=\"\",\"\",IF(INPUT!$G$6=\"°C\",INPUT!C57,IF(INPUT!$G$6=\"°F\",(INPUT!C57-32)/1.8,IF(INPUT!$G$6=\"K\",INPUT!C57-273.15,(INPUT!C57/1.8)-273.15))))","v":""},{"$f":"IF(INPUT!B57=\"\",\"\",IF(INPUT!$G$6=\"°F\",INPUT!B57,IF(INPUT!$G$6=\"°C\",(INPUT!B57*1.8)+32,IF(INPUT!$G$6=\"°R\",INPUT!B57-459.67,(INPUT!B57*1.8)-459.67))))","v":""},{"$f":"IF(INPUT!C57=\"\",\"\",IF(INPUT!$G$6=\"°F\",INPUT!C57,IF(INPUT!$G$6=\"°C\",(INPUT!C57*1.8)+32,IF(INPUT!$G$6=\"°R\",INPUT!C57-459.67,(INPUT!C57*1.8)-459.67))))","v":""},{"$f":"IF(INPUT!D57=\"\",\"\",IF(OR(INPUT!$G$6=\"K\",INPUT!$G$6=\"°C\"),INPUT!D57,INPUT!D57/1.8))","v":""},null,{"$f":"IF(INPUT!D57=\"\",\"\",IF(OR(INPUT!$G$6=\"K\",INPUT!$G$6=\"°C\"),INPUT!D57*1.8,INPUT!D57))","v":""},null,null,{"$f":"IF(INPUT!$F$4=\"Select Input Data Method\",\"INPUT METHOD NOT SELECTED\",\"\")","v":""},{"$f":"IF(INPUT!$F$6=\"\",\"GLOBAL DTMIN NOT SPECIFIED\",\"\")","v":""},{"$f":"IF(INPUT!F$14=\"\",IF(OR(INPUT!E$15=\"\",INPUT!E$15=\"Select Units\"),\"SELECT UNITS\",\"\"),IF(OR(INPUT!E$15=\"\",INPUT!E$15=\"Select Units\",INPUT!F$15=\"\",INPUT!F$15=\"Select Units\"),\"SELECT UNITS\",\"\"))","v":""},{"$f":"IF(INPUT!$F$14=\"\",IF(COUNTIF('A1'!C$4:C$10,INPUT!E$15)=0,\"INCONSISTENT UNITS\",\"\"),IF(OR(COUNTIF('A1'!C$4:C$10,INPUT!E$15)=0,COUNTIF('A1'!E$4:E$10,INPUT!F$15)=0),\"INCONSISTENT UNITS\",\"\"))","v":""},{"$f":"IF(INPUT!A57=\"\",\"NO STREAM NAME\",\"\")","v":"NO STREAM NAME"},"NO SUPPLY TEMP",{"$f":"IF(INPUT!B57=\"\",\"NO SUPPLY TEMP\",\"\")","v":"NO SUPPLY TEMP"},{"$f":"IF(INPUT!C57=\"\",\"NO TARGET TEMP\",\"\")","v":"NO TARGET TEMP"},{"$f":"IF(INPUT!E57=\"\",\"NO PRIMARY HEAT DATA\",\"\")","v":"NO PRIMARY HEAT DATA"},{"$f":"IF(INPUT!F$14=\"\",\"\",IF(INPUT!F57=\"\",\"NO SECONDARY HEAT DATA\",\"\"))","v":""},"",{"$f":"IF(SUM(INPUT!B57:F57)-SUM(INPUT!C57:F57)=0,IF(INPUT!B57=0,\"\",\"NON NUMERICAL INPUT\"),\"\")","v":""},{"$f":"IF(SUM(INPUT!B57:F57)-SUM(INPUT!D57:F57,INPUT!B57)=0,IF(INPUT!C57=0,\"\",\"NON NUMERICAL INPUT\"),\"\")","v":""},{"$f":"IF(SUM(INPUT!B57:F57)-SUM(INPUT!E57:F57,INPUT!B57,INPUT!C57)=0,IF(INPUT!D57=0,\"\",\"NON NUMERICAL INPUT\"),\"\")","v":""},{"$f":"IF(SUM(INPUT!B57:F57)-SUM(INPUT!B57:D57,INPUT!F57)=0,IF(INPUT!E57=0,\"\",\"NON NUMERICAL INPUT\"),\"\")","v":""},{"$f":"IF(INPUT!F$14=\"\",\"\",IF(SUM(INPUT!B57:F57)-SUM(INPUT!B57:E57)=0,IF(INPUT!F57=0,\"\",\"NON NUMERICAL INPUT\"),\"\"))","v":""}]
[{"$f":"IF(INPUT!A58=\"\",\"\",INPUT!A58)","v":""},{"$f":"IF(INPUT!$F$12=$P$3,'A1'!U72,IF(INPUT!$F$12=$P$4,'A1'!U72,'A1'!W72))","v":""},{"$f":"IF(INPUT!$F$12=$P$3,'A1'!V72,IF(INPUT!$F$12=$P$4,'A1'!V72,'A1'!X72))","v":""},{"$f":"IF(INPUT!$F$12=$P$3,'A1'!Y72,IF(INPUT!$F$12=$P$4,'A1'!Y72,'A1'!AA72))","v":""},"",null,{"$f":"IF(C72=\"\",\"\",IF($D72=\"\",IF($F$30=\"\",\"NO dT MIN\",IF(J72=\"HOT\",((C72)-($F$30/2)),((C72)+($F$30/2)))),IF($J72=\"HOT\",C72-INPUT!D72,C72+INPUT!D72)))","v":""},{"$f":"IF(INPUT!$F$12=$P$3,'A1'!R72,IF(INPUT!$F$12=$P$4,'A1'!S72,'A1'!T72))","v":""},"","","","",null,{"$f":"IF(INPUT!E58=\"\",\"\",INPUT!E58)","v":""},"",{"$f":"IF(INPUT!F58=\"\",\"\",INPUT!F58)","v":""},"",{"$f":"IF(N72=\"\",\"\",IF(N$27=B$4,ABS(N72/O72),IF(N$27=B$5,ABS(N72/O72)/ABS(B72-C72),IF(INPUT!F$4=B$6,ABS(N72/O72)*ABS(P72/Q72),IF(INPUT!F$4=B$7,ABS(N72/O72)*ABS(P72/Q72)/ABS(B72-C72),\"\")))))","v":""},"","",{"$f":"IF(INPUT!B58=\"\",\"\",IF(INPUT!$G$6=\"°C\",INPUT!B58,IF(INPUT!$G$6=\"°F\",(INPUT!B58-32)/1.8,IF(INPUT!$G$6=\"K\",INPUT!B58-273.15,(INPUT!B58/1.8)-273.15))))","v":""},{"$f":"IF(INPUT!C58=\"\",\"\",IF(INPUT!$G$6=\"°C\",INPUT!C58,IF(INPUT!$G$6=\"°F\",(INPUT!C58-32)/1.8,IF(INPUT!$G$6=\"K\",INPUT!C58-273.15,(INPUT!C58/1.8)-273.15))))","v":""},{"$f":"IF(INPUT!B58=\"\",\"\",IF(INPUT!$G$6=\"°F\",INPUT!B58,IF(INPUT!$G$6=\"°C\",(INPUT!B58*1.8)+32,IF(INPUT!$G$6=\"°R\",INPUT!B58-459.67,(INPUT!B58*1.8)-459.67))))","v":""},{"$f":"IF(INPUT!C58=\"\",\"\",IF(INPUT!$G$6=\"°F\",INPUT!C58,IF(INPUT!$G$6=\"°C\",(INPUT!C58*1.8)+32,IF(INPUT!$G$6=\"°R\",INPUT!C58-459.67,(INPUT!C58*1.8)-459.67))))","v":""},{"$f":"IF(INPUT!D58=\"\",\"\",IF(OR(INPUT!$G$6=\"K\",INPUT!$G$6=\"°C\"),INPUT!D58,INPUT!D58/1.8))","v":""},null,{"$f":"IF(INPUT!D58=\"\",\"\",IF(OR(INPUT!$G$6=\"K\",INPUT!$G$6=\"°C\"),INPUT!D58*1.8,INPUT!D58))","v":""},null,null,{"$f":"IF(INPUT!$F$4=\"Select Input Data Method\",\"INPUT METHOD NOT SELECTED\",\"\")","v":""},{"$f":"IF(INPUT!$F$6=\"\",\"GLOBAL DTMIN NOT SPECIFIED\",\"\")","v":""},{"$f":"IF(INPUT!F$14=\"\",IF(OR(INPUT!E$15=\"\",INPUT!E$15=\"Select Units\"),\"SELECT UNITS\",\"\"),IF(OR(INPUT!E$15=\"\",INPUT!E$15=\"Select Units\",INPUT!F$15=\"\",INPUT!F$15=\"Select Units\"),\"SELECT UNITS\",\"\"))","v":""},{"$f":"IF(INPUT!$F$14=\"\",IF(COUNTIF('A1'!C$4:C$10,INPUT!E$15)=0,\"INCONSISTENT UNITS\",\"\"),IF(OR(COUNTIF('A1'!C$4:C$10,INPUT!E$15)=0,COUNTIF('A1'!E$4:E$10,INPUT!F$15)=0),\"INCONSISTENT UNITS\",\"\"))","v":""},{"$f":"IF(INPUT!A58=\"\",\"NO STREAM NAME\",\"\")","v":"NO STREAM NAME"},"NO SUPPLY TEMP",{"$f":"IF(INPUT!B58=\"\",\"NO SUPPLY TEMP\",\"\")","v":"NO SUPPLY TEMP"},{"$f":"IF(INPUT!C58=\"\",\"NO TARGET TEMP\",\"\")","v":"NO TARGET TEMP"},{"$f":"IF(INPUT!E58=\"\",\"NO PRIMARY HEAT DATA\",\"\")","v":"NO PRIMARY HEAT DATA"},{"$f":"IF(INPUT!F$14=\"\",\"\",IF(INPUT!F58=\"\",\"NO SECONDARY HEAT DATA\",\"\"))","v":""},"",{"$f":"IF(SUM(INPUT!B58:F58)-SUM(INPUT!C58:F58)=0,IF(INPUT!B58=0,\"\",\"NON NUMERICAL INPUT\"),\"\")","v":""},{"$f":"IF(SUM(INPUT!B58:F58)-SUM(INPUT!D58:F58,INPUT!B58)=0,IF(INPUT!C58=0,\"\",\"NON NUMERICAL INPUT\"),\"\")","v":""},{"$f":"IF(SUM(INPUT!B58:F58)-SUM(INPUT!E58:F58,INPUT!B58,INPUT!C58)=0,IF(INPUT!D58=0,\"\",\"NON NUMERICAL INPUT\"),\"\")","v":""},{"$f":"IF(SUM(INPUT!B58:F58)-SUM(INPUT!B58:D58,INPUT!F58)=0,IF(INPUT!E58=0,\"\",\"NON NUMERICAL INPUT\"),\"\")","v":""},{"$f":"IF(INPUT!F$14=\"\",\"\",IF(SUM(INPUT!B58:F58)-SUM(INPUT!B58:E58)=0,IF(INPUT!F58=0,\"\",\"NON NUMERICAL INPUT\"),\"\"))","v":""}]
[{"$f":"IF(INPUT!A59=\"\",\"\",INPUT!A59)","v":""},{"$f":"IF(INPUT!$F$12=$P$3,'A1'!U73,IF(INPUT!$F$12=$P$4,'A1'!U73,'A1'!W73))","v":""},{"$f":"IF(INPUT!$F$12=$P$3,'A1'!V73,IF(INPUT!$F$12=$P$4,'A1'!V73,'A1'!X73))","v":""},{"$f":"IF(INPUT!$F$12=$P$3,'A1'!Y73,IF(INPUT!$F$12=$P$4,'A1'!Y73,'A1'!AA73))","v":""},"",null,{"$f":"IF(C73=\"\",\"\",IF($D73=\"\",IF($F$30=\"\",\"NO dT MIN\",IF(J73=\"HOT\",((C73)-($F$30/2)),((C73)+($F$30/2)))),IF($J73=\"HOT\",C73-INPUT!D73,C73+INPUT!D73)))","v":""},{"$f":"IF(INPUT!$F$12=$P$3,'A1'!R73,IF(INPUT!$F$12=$P$4,'A1'!S73,'A1'!T73))","v":""},"","","","",null,{"$f":"IF(INPUT!E59=\"\",\"\",INPUT!E59)","v":""},"",{"$f":"IF(INPUT!F59=\"\",\"\",INPUT!F59)","v":""},"",{"$f":"IF(N73=\"\",\"\",IF(N$27=B$4,ABS(N73/O73),IF(N$27=B$5,ABS(N73/O73)/ABS(B73-C73),IF(INPUT!F$4=B$6,ABS(N73/O73)*ABS(P73/Q73),IF(INPUT!F$4=B$7,ABS(N73/O73)*ABS(P73/Q73)/ABS(B73-C73),\"\")))))","v":""},"","",{"$f":"IF(INPUT!B59=\"\",\"\",IF(INPUT!$G$6=\"°C\",INPUT!B59,IF(INPUT!$G$6=\"°F\",(INPUT!B59-32)/1.8,IF(INPUT!$G$6=\"K\",INPUT!B59-273.15,(INPUT!B59/1.8)-273.15))))","v":""},{"$f":"IF(INPUT!C59=\"\",\"\",IF(INPUT!$G$6=\"°C\",INPUT!C59,IF(INPUT!$G$6=\"°F\",(INPUT!C59-32)/1.8,IF(INPUT!$G$6=\"K\",INPUT!C59-273.15,(INPUT!C59/1.8)-273.15))))","v":""},{"$f":"IF(INPUT!B59=\"\",\"\",IF(INPUT!$G$6=\"°F\",INPUT!B59,IF(INPUT!$G$6=\"°C\",(INPUT!B59*1.8)+32,IF(INPUT!$G$6=\"°R\",INPUT!B59-459.67,(INPUT!B59*1.8)-459.67))))","v":""},{"$f":"IF(INPUT!C59=\"\",\"\",IF(INPUT!$G$6=\"°F\",INPUT!C59,IF(INPUT!$G$6=\"°C\",(INPUT!C59*1.8)+32,IF(INPUT!$G$6=\"°R\",INPUT!C59-459.67,(INPUT!C59*1.8)-459.67))))","v":""},{"$f":"IF(INPUT!D59=\"\",\"\",IF(OR(INPUT!$G$6=\"K\",INPUT!$G$6=\"°C\"),INPUT!D59,INPUT!D59/1.8))","v":""},null,{"$f":"IF(INPUT!D59=\"\",\"\",IF(OR(INPUT!$G$6=\"K\",INPUT!$G$6=\"°C\"),INPUT!D59*1.8,INPUT!D59))","v":""},null,null,{"$f":"IF(INPUT!$F$4=\"Select Input Data Method\",\"INPUT METHOD NOT SELECTED\",\"\")","v":""},{"$f":"IF(INPUT!$F$6=\"\",\"GLOBAL DTMIN NOT SPECIFIED\",\"\")","v":""},{"$f":"IF(INPUT!F$14=\"\",IF(OR(INPUT!E$15=\"\",INPUT!E$15=\"Select Units\"),\"SELECT UNITS\",\"\"),IF(OR(INPUT!E$15=\"\",INPUT!E$15=\"Select Units\",INPUT!F$15=\"\",INPUT!F$15=\"Select Units\"),\"SELECT UNITS\",\"\"))","v":""},{"$f":"IF(INPUT!$F$14=\"\",IF(COUNTIF('A1'!C$4:C$10,INPUT!E$15)=0,\"INCONSISTENT UNITS\",\"\"),IF(OR(COUNTIF('A1'!C$4:C$10,INPUT!E$15)=0,COUNTIF('A1'!E$4:E$10,INPUT!F$15)=0),\"INCONSISTENT UNITS\",\"\"))","v":""},{"$f":"IF(INPUT!A59=\"\",\"NO STREAM NAME\",\"\")","v":"NO STREAM NAME"},"NO SUPPLY TEMP",{"$f":"IF(INPUT!B59=\"\",\"NO SUPPLY TEMP\",\"\")","v":"NO SUPPLY TEMP"},{"$f":"IF(INPUT!C59=\"\",\"NO TARGET TEMP\",\"\")","v":"NO TARGET TEMP"},{"$f":"IF(INPUT!E59=\"\",\"NO PRIMARY HEAT DATA\",\"\")","v":"NO PRIMARY HEAT DATA"},{"$f":"IF(INPUT!F$14=\"\",\"\",IF(INPUT!F59=\"\",\"NO SECONDARY HEAT DATA\",\"\"))","v":""},"",{"$f":"IF(SUM(INPUT!B59:F59)-SUM(INPUT!C59:F59)=0,IF(INPUT!B59=0,\"\",\"NON NUMERICAL INPUT\"),\"\")","v":""},{"$f":"IF(SUM(INPUT!B59:F59)-SUM(INPUT!D59:F59,INPUT!B59)=0,IF(INPUT!C59=0,\"\",\"NON NUMERICAL INPUT\"),\"\")","v":""},{"$f":"IF(SUM(INPUT!B59:F59)-SUM(INPUT!E59:F59,INPUT!B59,INPUT!C59)=0,IF(INPUT!D59=0,\"\",\"NON NUMERICAL INPUT\"),\"\")","v":""},{"$f":"IF(SUM(INPUT!B59:F59)-SUM(INPUT!B59:D59,INPUT!F59)=0,IF(INPUT!E59=0,\"\",\"NON NUMERICAL INPUT\"),\"\")","v":""},{"$f":"IF(INPUT!F$14=\"\",\"\",IF(SUM(INPUT!B59:F59)-SUM(INPUT!B59:E59)=0,IF(INPUT!F59=0,\"\",\"NON NUMERICAL INPUT\"),\"\"))","v":""}]
[{"$f":"IF(INPUT!A60=\"\",\"\",INPUT!A60)","v":""},{"$f":"IF(INPUT!$F$12=$P$3,'A1'!U74,IF(INPUT!$F$12=$P$4,'A1'!U74,'A1'!W74))","v":""},{"$f":"IF(INPUT!$F$12=$P$3,'A1'!V74,IF(INPUT!$F$12=$P$4,'A1'!V74,'A1'!X74))","v":""},{"$f":"IF(INPUT!$F$12=$P$3,'A1'!Y74,IF(INPUT!$F$12=$P$4,'A1'!Y74,'A1'!AA74))","v":""},"",null,{"$f":"IF(C74=\"\",\"\",IF($D74=\"\",IF($F$30=\"\",\"NO dT MIN\",IF(J74=\"HOT\",((C74)-($F$30/2)),((C74)+($F$30/2)))),IF($J74=\"HOT\",C74-INPUT!D74,C74+INPUT!D74)))","v":""},{"$f":"IF(INPUT!$F$12=$P$3,'A1'!R74,IF(INPUT!$F$12=$P$4,'A1'!S74,'A1'!T74))","v":""},"","","","",null,{"$f":"IF(INPUT!E60=\"\",\"\",INPUT!E60)","v":""},"",{"$f":"IF(INPUT!F60=\"\",\"\",INPUT!F60)","v":""},"",{"$f":"IF(N74=\"\",\"\",IF(N$27=B$4,ABS(N74/O74),IF(N$27=B$5,ABS(N74/O74)/ABS(B74-C74),IF(INPUT!F$4=B$6,ABS(N74/O74)*ABS(P74/Q74),IF(INPUT!F$4=B$7,ABS(N74/O74)*ABS(P74/Q74)/ABS(B74-C74),\"\")))))","v":""},"","",{"$f":"IF(INPUT!B60=\"\",\"\",IF(INPUT!$G$6=\"°C\",INPUT!B60,IF(INPUT!$G$6=\"°F\",(INPUT!B60-32)/1.8,IF(INPUT!$G$6=\"K\",INPUT!B60-273.15,(INPUT!B60/1.8)-273.15))))","v":""},{"$f":"IF(INPUT!C60=\"\",\"\",IF(INPUT!$G$6=\"°C\",INPUT!C60,IF(INPUT!$G$6=\"°F\",(INPUT!C60-32)/1.8,IF(INPUT!$G$6=\"K\",INPUT!C60-273.15,(INPUT!C60/1.8)-273.15))))","v":""},{"$f":"IF(INPUT!B60=\"\",\"\",IF(INPUT!$G$6=\"°F\",INPUT!B60,IF(INPUT!$G$6=\"°C\",(INPUT!B60*1.8)+32,IF(INPUT!$G$6=\"°R\",INPUT!B60-459.67,(INPUT!B60*1.8)-459.67))))","v":""},{"$f":"IF(INPUT!C60=\"\",\"\",IF(INPUT!$G$6=\"°F\",INPUT!C60,IF(INPUT!$G$6=\"°C\",(INPUT!C60*1.8)+32,IF(INPUT!$G$6=\"°R\",INPUT!C60-459.67,(INPUT!C60*1.8)-459.67))))","v":""},{"$f":"IF(INPUT!D60=\"\",\"\",IF(OR(INPUT!$G$6=\"K\",INPUT!$G$6=\"°C\"),INPUT!D60,INPUT!D60/1.8))","v":""},null,{"$f":"IF(INPUT!D60=\"\",\"\",IF(OR(INPUT!$G$6=\"K\",INPUT!$G$6=\"°C\"),INPUT!D60*1.8,INPUT!D60))","v":""},null,null,{"$f":"IF(INPUT!$F$4=\"Select Input Data Method\",\"INPUT METHOD NOT SELECTED\",\"\")","v":""},{"$f":"IF(INPUT!$F$6=\"\",\"GLOBAL DTMIN NOT SPECIFIED\",\"\")","v":""},{"$f":"IF(INPUT!F$14=\"\",IF(OR(INPUT!E$15=\"\",INPUT!E$15=\"Select Units\"),\"SELECT UNITS\",\"\"),IF(OR(INPUT!E$15=\"\",INPUT!E$15=\"Select Units\",INPUT!F$15=\"\",INPUT!F$15=\"Select Units\"),\"SELECT UNITS\",\"\"))","v":""},{"$f":"IF(INPUT!$F$14=\"\",IF(COUNTIF('A1'!C$4:C$10,INPUT!E$15)=0,\"INCONSISTENT UNITS\",\"\"),IF(OR(COUNTIF('A1'!C$4:C$10,INPUT!E$15)=0,COUNTIF('A1'!E$4:E$10,INPUT!F$15)=0),\"INCONSISTENT UNITS\",\"\"))","v":""},{"$f":"IF(INPUT!A60=\"\",\"NO STREAM NAME\",\"\")","v":"NO STREAM NAME"},"NO SUPPLY TEMP",{"$f":"IF(INPUT!B60=\"\",\"NO SUPPLY TEMP\",\"\")","v":"NO SUPPLY TEMP"},{"$f":"IF(INPUT!C60=\"\",\"NO TARGET TEMP\",\"\")","v":"NO TARGET TEMP"},{"$f":"IF(INPUT!E60=\"\",\"NO PRIMARY HEAT DATA\",\"\")","v":"NO PRIMARY HEAT DATA"},{"$f":"IF(INPUT!F$14=\"\",\"\",IF(INPUT!F60=\"\",\"NO SECONDARY HEAT DATA\",\"\"))","v":""},"",{"$f":"IF(SUM(INPUT!B60:F60)-SUM(INPUT!C60:F60)=0,IF(INPUT!B60=0,\"\",\"NON NUMERICAL INPUT\"),\"\")","v":""},{"$f":"IF(SUM(INPUT!B60:F60)-SUM(INPUT!D60:F60,INPUT!B60)=0,IF(INPUT!C60=0,\"\",\"NON NUMERICAL INPUT\"),\"\")","v":""},{"$f":"IF(SUM(INPUT!B60:F60)-SUM(INPUT!E60:F60,INPUT!B60,INPUT!C60)=0,IF(INPUT!D60=0,\"\",\"NON NUMERICAL INPUT\"),\"\")","v":""},{"$f":"IF(SUM(INPUT!B60:F60)-SUM(INPUT!B60:D60,INPUT!F60)=0,IF(INPUT!E60=0,\"\",\"NON NUMERICAL INPUT\"),\"\")","v":""},{"$f":"IF(INPUT!F$14=\"\",\"\",IF(SUM(INPUT!B60:F60)-SUM(INPUT!B60:E60)=0,IF(INPUT!F60=0,\"\",\"NON NUMERICAL INPUT\"),\"\"))","v":""}]
[{"$f":"IF(INPUT!A61=\"\",\"\",INPUT!A61)","v":""},{"$f":"IF(INPUT!$F$12=$P$3,'A1'!U75,IF(INPUT!$F$12=$P$4,'A1'!U75,'A1'!W75))","v":""},{"$f":"IF(INPUT!$F$12=$P$3,'A1'!V75,IF(INPUT!$F$12=$P$4,'A1'!V75,'A1'!X75))","v":""},{"$f":"IF(INPUT!$F$12=$P$3,'A1'!Y75,IF(INPUT!$F$12=$P$4,'A1'!Y75,'A1'!AA75))","v":""},"",null,{"$f":"IF(C75=\"\",\"\",IF($D75=\"\",IF($F$30=\"\",\"NO dT MIN\",IF(J75=\"HOT\",((C75)-($F$30/2)),((C75)+($F$30/2)))),IF($J75=\"HOT\",C75-INPUT!D75,C75+INPUT!D75)))","v":""},{"$f":"IF(INPUT!$F$12=$P$3,'A1'!R75,IF(INPUT!$F$12=$P$4,'A1'!S75,'A1'!T75))","v":""},"","","","",null,{"$f":"IF(INPUT!E61=\"\",\"\",INPUT!E61)","v":""},"",{"$f":"IF(INPUT!F61=\"\",\"\",INPUT!F61)","v":""},"",{"$f":"IF(N75=\"\",\"\",IF(N$27=B$4,ABS(N75/O75),IF(N$27=B$5,ABS(N75/O75)/ABS(B75-C75),IF(INPUT!F$4=B$6,ABS(N75/O75)*ABS(P75/Q75),IF(INPUT!F$4=B$7,ABS(N75/O75)*ABS(P75/Q75)/ABS(B75-C75),\"\")))))","v":""},"","",{"$f":"IF(INPUT!B61=\"\",\"\",IF(INPUT!$G$6=\"°C\",INPUT!B61,IF(INPUT!$G$6=\"°F\",(INPUT!B61-32)/1.8,IF(INPUT!$G$6=\"K\",INPUT!B61-273.15,(INPUT!B61/1.8)-273.15))))","v":""},{"$f":"IF(INPUT!C61=\"\",\"\",IF(INPUT!$G$6=\"°C\",INPUT!C61,IF(INPUT!$G$6=\"°F\",(INPUT!C61-32)/1.8,IF(INPUT!$G$6=\"K\",INPUT!C61-273.15,(INPUT!C61/1.8)-273.15))))","v":""},{"$f":"IF(INPUT!B61=\"\",\"\",IF(INPUT!$G$6=\"°F\",INPUT!B61,IF(INPUT!$G$6=\"°C\",(INPUT!B61*1.8)+32,IF(INPUT!$G$6=\"°R\",INPUT!B61-459.67,(INPUT!B61*1.8)-459.67))))","v":""},{"$f":"IF(INPUT!C61=\"\",\"\",IF(INPUT!$G$6=\"°F\",INPUT!C61,IF(INPUT!$G$6=\"°C\",(INPUT!C61*1.8)+32,IF(INPUT!$G$6=\"°R\",INPUT!C61-459.67,(INPUT!C61*1.8)-459.67))))","v":""},{"$f":"IF(INPUT!D61=\"\",\"\",IF(OR(INPUT!$G$6=\"K\",INPUT!$G$6=\"°C\"),INPUT!D61,INPUT!D61/1.8))","v":""},null,{"$f":"IF(INPUT!D61=\"\",\"\",IF(OR(INPUT!$G$6=\"K\",INPUT!$G$6=\"°C\"),INPUT!D61*1.8,INPUT!D61))","v":""},null,null,{"$f":"IF(INPUT!$F$4=\"Select Input Data Method\",\"INPUT METHOD NOT SELECTED\",\"\")","v":""},{"$f":"IF(INPUT!$F$6=\"\",\"GLOBAL DTMIN NOT SPECIFIED\",\"\")","v":""},{"$f":"IF(INPUT!F$14=\"\",IF(OR(INPUT!E$15=\"\",INPUT!E$15=\"Select Units\"),\"SELECT UNITS\",\"\"),IF(OR(INPUT!E$15=\"\",INPUT!E$15=\"Select Units\",INPUT!F$15=\"\",INPUT!F$15=\"Select Units\"),\"SELECT UNITS\",\"\"))","v":""},{"$f":"IF(INPUT!$F$14=\"\",IF(COUNTIF('A1'!C$4:C$10,INPUT!E$15)=0,\"INCONSISTENT UNITS\",\"\"),IF(OR(COUNTIF('A1'!C$4:C$10,INPUT!E$15)=0,COUNTIF('A1'!E$4:E$10,INPUT!F$15)=0),\"INCONSISTENT UNITS\",\"\"))","v":""},{"$f":"IF(INPUT!A61=\"\",\"NO STREAM NAME\",\"\")","v":"NO STREAM NAME"},"NO SUPPLY TEMP",{"$f":"IF(INPUT!B61=\"\",\"NO SUPPLY TEMP\",\"\")","v":"NO SUPPLY TEMP"},{"$f":"IF(INPUT!C61=\"\",\"NO TARGET TEMP\",\"\")","v":"NO TARGET TEMP"},{"$f":"IF(INPUT!E61=\"\",\"NO PRIMARY HEAT DATA\",\"\")","v":"NO PRIMARY HEAT DATA"},{"$f":"IF(INPUT!F$14=\"\",\"\",IF(INPUT!F61=\"\",\"NO SECONDARY HEAT DATA\",\"\"))","v":""},"",{"$f":"IF(SUM(INPUT!B61:F61)-SUM(INPUT!C61:F61)=0,IF(INPUT!B61=0,\"\",\"NON NUMERICAL INPUT\"),\"\")","v":""},{"$f":"IF(SUM(INPUT!B61:F61)-SUM(INPUT!D61:F61,INPUT!B61)=0,IF(INPUT!C61=0,\"\",\"NON NUMERICAL INPUT\"),\"\")","v":""},{"$f":"IF(SUM(INPUT!B61:F61)-SUM(INPUT!E61:F61,INPUT!B61,INPUT!C61)=0,IF(INPUT!D61=0,\"\",\"NON NUMERICAL INPUT\"),\"\")","v":""},{"$f":"IF(SUM(INPUT!B61:F61)-SUM(INPUT!B61:D61,INPUT!F61)=0,IF(INPUT!E61=0,\"\",\"NON NUMERICAL INPUT\"),\"\")","v":""},{"$f":"IF(INPUT!F$14=\"\",\"\",IF(SUM(INPUT!B61:F61)-SUM(INPUT!B61:E61)=0,IF(INPUT!F61=0,\"\",\"NON NUMERICAL INPUT\"),\"\"))","v":""}]
[{"$f":"IF(INPUT!A62=\"\",\"\",INPUT!A62)","v":""},{"$f":"IF(INPUT!$F$12=$P$3,'A1'!U76,IF(INPUT!$F$12=$P$4,'A1'!U76,'A1'!W76))","v":""},{"$f":"IF(INPUT!$F$12=$P$3,'A1'!V76,IF(INPUT!$F$12=$P$4,'A1'!V76,'A1'!X76))","v":""},{"$f":"IF(INPUT!$F$12=$P$3,'A1'!Y76,IF(INPUT!$F$12=$P$4,'A1'!Y76,'A1'!AA76))","v":""},"",null,{"$f":"IF(C76=\"\",\"\",IF($D76=\"\",IF($F$30=\"\",\"NO dT MIN\",IF(J76=\"HOT\",((C76)-($F$30/2)),((C76)+($F$30/2)))),IF($J76=\"HOT\",C76-INPUT!D76,C76+INPUT!D76)))","v":""},{"$f":"IF(INPUT!$F$12=$P$3,'A1'!R76,IF(INPUT!$F$12=$P$4,'A1'!S76,'A1'!T76))","v":""},"","","","",null,{"$f":"IF(INPUT!E62=\"\",\"\",INPUT!E62)","v":""},"",{"$f":"IF(INPUT!F62=\"\",\"\",INPUT!F62)","v":""},"",{"$f":"IF(N76=\"\",\"\",IF(N$27=B$4,ABS(N76/O76),IF(N$27=B$5,ABS(N76/O76)/ABS(B76-C76),IF(INPUT!F$4=B$6,ABS(N76/O76)*ABS(P76/Q76),IF(INPUT!F$4=B$7,ABS(N76/O76)*ABS(P76/Q76)/ABS(B76-C76),\"\")))))","v":""},"","",{"$f":"IF(INPUT!B62=\"\",\"\",IF(INPUT!$G$6=\"°C\",INPUT!B62,IF(INPUT!$G$6=\"°F\",(INPUT!B62-32)/1.8,IF(INPUT!$G$6=\"K\",INPUT!B62-273.15,(INPUT!B62/1.8)-273.15))))","v":""},{"$f":"IF(INPUT!C62=\"\",\"\",IF(INPUT!$G$6=\"°C\",INPUT!C62,IF(INPUT!$G$6=\"°F\",(INPUT!C62-32)/1.8,IF(INPUT!$G$6=\"K\",INPUT!C62-273.15,(INPUT!C62/1.8)-273.15))))","v":""},{"$f":"IF(INPUT!B62=\"\",\"\",IF(INPUT!$G$6=\"°F\",INPUT!B62,IF(INPUT!$G$6=\"°C\",(INPUT!B62*1.8)+32,IF(INPUT!$G$6=\"°R\",INPUT!B62-459.67,(INPUT!B62*1.8)-459.67))))","v":""},{"$f":"IF(INPUT!C62=\"\",\"\",IF(INPUT!$G$6=\"°F\",INPUT!C62,IF(INPUT!$G$6=\"°C\",(INPUT!C62*1.8)+32,IF(INPUT!$G$6=\"°R\",INPUT!C62-459.67,(INPUT!C62*1.8)-459.67))))","v":""},{"$f":"IF(INPUT!D62=\"\",\"\",IF(OR(INPUT!$G$6=\"K\",INPUT!$G$6=\"°C\"),INPUT!D62,INPUT!D62/1.8))","v":""},null,{"$f":"IF(INPUT!D62=\"\",\"\",IF(OR(INPUT!$G$6=\"K\",INPUT!$G$6=\"°C\"),INPUT!D62*1.8,INPUT!D62))","v":""},null,null,{"$f":"IF(INPUT!$F$4=\"Select Input Data Method\",\"INPUT METHOD NOT SELECTED\",\"\")","v":""},{"$f":"IF(INPUT!$F$6=\"\",\"GLOBAL DTMIN NOT SPECIFIED\",\"\")","v":""},{"$f":"IF(INPUT!F$14=\"\",IF(OR(INPUT!E$15=\"\",INPUT!E$15=\"Select Units\"),\"SELECT UNITS\",\"\"),IF(OR(INPUT!E$15=\"\",INPUT!E$15=\"Select Units\",INPUT!F$15=\"\",INPUT!F$15=\"Select Units\"),\"SELECT UNITS\",\"\"))","v":""},{"$f":"IF(INPUT!$F$14=\"\",IF(COUNTIF('A1'!C$4:C$10,INPUT!E$15)=0,\"INCONSISTENT UNITS\",\"\"),IF(OR(COUNTIF('A1'!C$4:C$10,INPUT!E$15)=0,COUNTIF('A1'!E$4:E$10,INPUT!F$15)=0),\"INCONSISTENT UNITS\",\"\"))","v":""},{"$f":"IF(INPUT!A62=\"\",\"NO STREAM NAME\",\"\")","v":"NO STREAM NAME"},"NO SUPPLY TEMP",{"$f":"IF(INPUT!B62=\"\",\"NO SUPPLY TEMP\",\"\")","v":"NO SUPPLY TEMP"},{"$f":"IF(INPUT!C62=\"\",\"NO TARGET TEMP\",\"\")","v":"NO TARGET TEMP"},{"$f":"IF(INPUT!E62=\"\",\"NO PRIMARY HEAT DATA\",\"\")","v":"NO PRIMARY HEAT DATA"},{"$f":"IF(INPUT!F$14=\"\",\"\",IF(INPUT!F62=\"\",\"NO SECONDARY HEAT DATA\",\"\"))","v":""},"",{"$f":"IF(SUM(INPUT!B62:F62)-SUM(INPUT!C62:F62)=0,IF(INPUT!B62=0,\"\",\"NON NUMERICAL INPUT\"),\"\")","v":""},{"$f":"IF(SUM(INPUT!B62:F62)-SUM(INPUT!D62:F62,INPUT!B62)=0,IF(INPUT!C62=0,\"\",\"NON NUMERICAL INPUT\"),\"\")","v":""},{"$f":"IF(SUM(INPUT!B62:F62)-SUM(INPUT!E62:F62,INPUT!B62,INPUT!C62)=0,IF(INPUT!D62=0,\"\",\"NON NUMERICAL INPUT\"),\"\")","v":""},{"$f":"IF(SUM(INPUT!B62:F62)-SUM(INPUT!B62:D62,INPUT!F62)=0,IF(INPUT!E62=0,\"\",\"NON NUMERICAL INPUT\"),\"\")","v":""},{"$f":"IF(INPUT!F$14=\"\",\"\",IF(SUM(INPUT!B62:F62)-SUM(INPUT!B62:E62)=0,IF(INPUT!F62=0,\"\",\"NON NUMERICAL INPUT\"),\"\"))","v":""}]
[{"$f":"IF(INPUT!A63=\"\",\"\",INPUT!A63)","v":""},{"$f":"IF(INPUT!$F$12=$P$3,'A1'!U77,IF(INPUT!$F$12=$P$4,'A1'!U77,'A1'!W77))","v":""},{"$f":"IF(INPUT!$F$12=$P$3,'A1'!V77,IF(INPUT!$F$12=$P$4,'A1'!V77,'A1'!X77))","v":""},{"$f":"IF(INPUT!$F$12=$P$3,'A1'!Y77,IF(INPUT!$F$12=$P$4,'A1'!Y77,'A1'!AA77))","v":""},"",null,{"$f":"IF(C77=\"\",\"\",IF($D77=\"\",IF($F$30=\"\",\"NO dT MIN\",IF(J77=\"HOT\",((C77)-($F$30/2)),((C77)+($F$30/2)))),IF($J77=\"HOT\",C77-INPUT!D77,C77+INPUT!D77)))","v":""},{"$f":"IF(INPUT!$F$12=$P$3,'A1'!R77,IF(INPUT!$F$12=$P$4,'A1'!S77,'A1'!T77))","v":""},"","","","",null,{"$f":"IF(INPUT!E63=\"\",\"\",INPUT!E63)","v":""},"",{"$f":"IF(INPUT!F63=\"\",\"\",INPUT!F63)","v":""},"",{"$f":"IF(N77=\"\",\"\",IF(N$27=B$4,ABS(N77/O77),IF(N$27=B$5,ABS(N77/O77)/ABS(B77-C77),IF(INPUT!F$4=B$6,ABS(N77/O77)*ABS(P77/Q77),IF(INPUT!F$4=B$7,ABS(N77/O77)*ABS(P77/Q77)/ABS(B77-C77),\"\")))))","v":""},"","",{"$f":"IF(INPUT!B63=\"\",\"\",IF(INPUT!$G$6=\"°C\",INPUT!B63,IF(INPUT!$G$6=\"°F\",(INPUT!B63-32)/1.8,IF(INPUT!$G$6=\"K\",INPUT!B63-273.15,(INPUT!B63/1.8)-273.15))))","v":""},{"$f":"IF(INPUT!C63=\"\",\"\",IF(INPUT!$G$6=\"°C\",INPUT!C63,IF(INPUT!$G$6=\"°F\",(INPUT!C63-32)/1.8,IF(INPUT!$G$6=\"K\",INPUT!C63-273.15,(INPUT!C63/1.8)-273.15))))","v":""},{"$f":"IF(INPUT!B63=\"\",\"\",IF(INPUT!$G$6=\"°F\",INPUT!B63,IF(INPUT!$G$6=\"°C\",(INPUT!B63*1.8)+32,IF(INPUT!$G$6=\"°R\",INPUT!B63-459.67,(INPUT!B63*1.8)-459.67))))","v":""},{"$f":"IF(INPUT!C63=\"\",\"\",IF(INPUT!$G$6=\"°F\",INPUT!C63,IF(INPUT!$G$6=\"°C\",(INPUT!C63*1.8)+32,IF(INPUT!$G$6=\"°R\",INPUT!C63-459.67,(INPUT!C63*1.8)-459.67))))","v":""},{"$f":"IF(INPUT!D63=\"\",\"\",IF(OR(INPUT!$G$6=\"K\",INPUT!$G$6=\"°C\"),INPUT!D63,INPUT!D63/1.8))","v":""},null,{"$f":"IF(INPUT!D63=\"\",\"\",IF(OR(INPUT!$G$6=\"K\",INPUT!$G$6=\"°C\"),INPUT!D63*1.8,INPUT!D63))","v":""},null,null,{"$f":"IF(INPUT!$F$4=\"Select Input Data Method\",\"INPUT METHOD NOT SELECTED\",\"\")","v":""},{"$f":"IF(INPUT!$F$6=\"\",\"GLOBAL DTMIN NOT SPECIFIED\",\"\")","v":""},{"$f":"IF(INPUT!F$14=\"\",IF(OR(INPUT!E$15=\"\",INPUT!E$15=\"Select Units\"),\"SELECT UNITS\",\"\"),IF(OR(INPUT!E$15=\"\",INPUT!E$15=\"Select Units\",INPUT!F$15=\"\",INPUT!F$15=\"Select Units\"),\"SELECT UNITS\",\"\"))","v":""},{"$f":"IF(INPUT!$F$14=\"\",IF(COUNTIF('A1'!C$4:C$10,INPUT!E$15)=0,\"INCONSISTENT UNITS\",\"\"),IF(OR(COUNTIF('A1'!C$4:C$10,INPUT!E$15)=0,COUNTIF('A1'!E$4:E$10,INPUT!F$15)=0),\"INCONSISTENT UNITS\",\"\"))","v":""},{"$f":"IF(INPUT!A63=\"\",\"NO STREAM NAME\",\"\")","v":"NO STREAM NAME"},"NO SUPPLY TEMP",{"$f":"IF(INPUT!B63=\"\",\"NO SUPPLY TEMP\",\"\")","v":"NO SUPPLY TEMP"},{"$f":"IF(INPUT!C63=\"\",\"NO TARGET TEMP\",\"\")","v":"NO TARGET TEMP"},{"$f":"IF(INPUT!E63=\"\",\"NO PRIMARY HEAT DATA\",\"\")","v":"NO PRIMARY HEAT DATA"},{"$f":"IF(INPUT!F$14=\"\",\"\",IF(INPUT!F63=\"\",\"NO SECONDARY HEAT DATA\",\"\"))","v":""},"",{"$f":"IF(SUM(INPUT!B63:F63)-SUM(INPUT!C63:F63)=0,IF(INPUT!B63=0,\"\",\"NON NUMERICAL INPUT\"),\"\")","v":""},{"$f":"IF(SUM(INPUT!B63:F63)-SUM(INPUT!D63:F63,INPUT!B63)=0,IF(INPUT!C63=0,\"\",\"NON NUMERICAL INPUT\"),\"\")","v":""},{"$f":"IF(SUM(INPUT!B63:F63)-SUM(INPUT!E63:F63,INPUT!B63,INPUT!C63)=0,IF(INPUT!D63=0,\"\",\"NON NUMERICAL INPUT\"),\"\")","v":""},{"$f":"IF(SUM(INPUT!B63:F63)-SUM(INPUT!B63:D63,INPUT!F63)=0,IF(INPUT!E63=0,\"\",\"NON NUMERICAL INPUT\"),\"\")","v":""},{"$f":"IF(INPUT!F$14=\"\",\"\",IF(SUM(INPUT!B63:F63)-SUM(INPUT!B63:E63)=0,IF(INPUT!F63=0,\"\",\"NON NUMERICAL INPUT\"),\"\"))","v":""}]
[{"$f":"IF(INPUT!A64=\"\",\"\",INPUT!A64)","v":""},{"$f":"IF(INPUT!$F$12=$P$3,'A1'!U78,IF(INPUT!$F$12=$P$4,'A1'!U78,'A1'!W78))","v":""},{"$f":"IF(INPUT!$F$12=$P$3,'A1'!V78,IF(INPUT!$F$12=$P$4,'A1'!V78,'A1'!X78))","v":""},{"$f":"IF(INPUT!$F$12=$P$3,'A1'!Y78,IF(INPUT!$F$12=$P$4,'A1'!Y78,'A1'!AA78))","v":""},"",null,{"$f":"IF(C78=\"\",\"\",IF($D78=\"\",IF($F$30=\"\",\"NO dT MIN\",IF(J78=\"HOT\",((C78)-($F$30/2)),((C78)+($F$30/2)))),IF($J78=\"HOT\",C78-INPUT!D78,C78+INPUT!D78)))","v":""},{"$f":"IF(INPUT!$F$12=$P$3,'A1'!R78,IF(INPUT!$F$12=$P$4,'A1'!S78,'A1'!T78))","v":""},"","","","",null,{"$f":"IF(INPUT!E64=\"\",\"\",INPUT!E64)","v":""},"",{"$f":"IF(INPUT!F64=\"\",\"\",INPUT!F64)","v":""},"",{"$f":"IF(N78=\"\",\"\",IF(N$27=B$4,ABS(N78/O78),IF(N$27=B$5,ABS(N78/O78)/ABS(B78-C78),IF(INPUT!F$4=B$6,ABS(N78/O78)*ABS(P78/Q78),IF(INPUT!F$4=B$7,ABS(N78/O78)*ABS(P78/Q78)/ABS(B78-C78),\"\")))))","v":""},"","",{"$f":"IF(INPUT!B64=\"\",\"\",IF(INPUT!$G$6=\"°C\",INPUT!B64,IF(INPUT!$G$6=\"°F\",(INPUT!B64-32)/1.8,IF(INPUT!$G$6=\"K\",INPUT!B64-273.15,(INPUT!B64/1.8)-273.15))))","v":""},{"$f":"IF(INPUT!C64=\"\",\"\",IF(INPUT!$G$6=\"°C\",INPUT!C64,IF(INPUT!$G$6=\"°F\",(INPUT!C64-32)/1.8,IF(INPUT!$G$6=\"K\",INPUT!C64-273.15,(INPUT!C64/1.8)-273.15))))","v":""},{"$f":"IF(INPUT!B64=\"\",\"\",IF(INPUT!$G$6=\"°F\",INPUT!B64,IF(INPUT!$G$6=\"°C\",(INPUT!B64*1.8)+32,IF(INPUT!$G$6=\"°R\",INPUT!B64-459.67,(INPUT!B64*1.8)-459.67))))","v":""},{"$f":"IF(INPUT!C64=\"\",\"\",IF(INPUT!$G$6=\"°F\",INPUT!C64,IF(INPUT!$G$6=\"°C\",(INPUT!C64*1.8)+32,IF(INPUT!$G$6=\"°R\",INPUT!C64-459.67,(INPUT!C64*1.8)-459.67))))","v":""},{"$f":"IF(INPUT!D64=\"\",\"\",IF(OR(INPUT!$G$6=\"K\",INPUT!$G$6=\"°C\"),INPUT!D64,INPUT!D64/1.8))","v":""},null,{"$f":"IF(INPUT!D64=\"\",\"\",IF(OR(INPUT!$G$6=\"K\",INPUT!$G$6=\"°C\"),INPUT!D64*1.8,INPUT!D64))","v":""},null,null,{"$f":"IF(INPUT!$F$4=\"Select Input Data Method\",\"INPUT METHOD NOT SELECTED\",\"\")","v":""},{"$f":"IF(INPUT!$F$6=\"\",\"GLOBAL DTMIN NOT SPECIFIED\",\"\")","v":""},{"$f":"IF(INPUT!F$14=\"\",IF(OR(INPUT!E$15=\"\",INPUT!E$15=\"Select Units\"),\"SELECT UNITS\",\"\"),IF(OR(INPUT!E$15=\"\",INPUT!E$15=\"Select Units\",INPUT!F$15=\"\",INPUT!F$15=\"Select Units\"),\"SELECT UNITS\",\"\"))","v":""},{"$f":"IF(INPUT!$F$14=\"\",IF(COUNTIF('A1'!C$4:C$10,INPUT!E$15)=0,\"INCONSISTENT UNITS\",\"\"),IF(OR(COUNTIF('A1'!C$4:C$10,INPUT!E$15)=0,COUNTIF('A1'!E$4:E$10,INPUT!F$15)=0),\"INCONSISTENT UNITS\",\"\"))","v":""},{"$f":"IF(INPUT!A64=\"\",\"NO STREAM NAME\",\"\")","v":"NO STREAM NAME"},"NO SUPPLY TEMP",{"$f":"IF(INPUT!B64=\"\",\"NO SUPPLY TEMP\",\"\")","v":"NO SUPPLY TEMP"},{"$f":"IF(INPUT!C64=\"\",\"NO TARGET TEMP\",\"\")","v":"NO TARGET TEMP"},{"$f":"IF(INPUT!E64=\"\",\"NO PRIMARY HEAT DATA\",\"\")","v":"NO PRIMARY HEAT DATA"},{"$f":"IF(INPUT!F$14=\"\",\"\",IF(INPUT!F64=\"\",\"NO SECONDARY HEAT DATA\",\"\"))","v":""},"",{"$f":"IF(SUM(INPUT!B64:F64)-SUM(INPUT!C64:F64)=0,IF(INPUT!B64=0,\"\",\"NON NUMERICAL INPUT\"),\"\")","v":""},{"$f":"IF(SUM(INPUT!B64:F64)-SUM(INPUT!D64:F64,INPUT!B64)=0,IF(INPUT!C64=0,\"\",\"NON NUMERICAL INPUT\"),\"\")","v":""},{"$f":"IF(SUM(INPUT!B64:F64)-SUM(INPUT!E64:F64,INPUT!B64,INPUT!C64)=0,IF(INPUT!D64=0,\"\",\"NON NUMERICAL INPUT\"),\"\")","v":""},{"$f":"IF(SUM(INPUT!B64:F64)-SUM(INPUT!B64:D64,INPUT!F64)=0,IF(INPUT!E64=0,\"\",\"NON NUMERICAL INPUT\"),\"\")","v":""},{"$f":"IF(INPUT!F$14=\"\",\"\",IF(SUM(INPUT!B64:F64)-SUM(INPUT!B64:E64)=0,IF(INPUT!F64=0,\"\",\"NON NUMERICAL INPUT\"),\"\"))","v":""}]
[{"$f":"IF(INPUT!A65=\"\",\"\",INPUT!A65)","v":""},{"$f":"IF(INPUT!$F$12=$P$3,'A1'!U79,IF(INPUT!$F$12=$P$4,'A1'!U79,'A1'!W79))","v":""},{"$f":"IF(INPUT!$F$12=$P$3,'A1'!V79,IF(INPUT!$F$12=$P$4,'A1'!V79,'A1'!X79))","v":""},{"$f":"IF(INPUT!$F$12=$P$3,'A1'!Y79,IF(INPUT!$F$12=$P$4,'A1'!Y79,'A1'!AA79))","v":""},"",null,{"$f":"IF(C79=\"\",\"\",IF($D79=\"\",IF($F$30=\"\",\"NO dT MIN\",IF(J79=\"HOT\",((C79)-($F$30/2)),((C79)+($F$30/2)))),IF($J79=\"HOT\",C79-INPUT!D79,C79+INPUT!D79)))","v":""},{"$f":"IF(INPUT!$F$12=$P$3,'A1'!R79,IF(INPUT!$F$12=$P$4,'A1'!S79,'A1'!T79))","v":""},"","","","",null,{"$f":"IF(INPUT!E65=\"\",\"\",INPUT!E65)","v":""},"",{"$f":"IF(INPUT!F65=\"\",\"\",INPUT!F65)","v":""},"",{"$f":"IF(N79=\"\",\"\",IF(N$27=B$4,ABS(N79/O79),IF(N$27=B$5,ABS(N79/O79)/ABS(B79-C79),IF(INPUT!F$4=B$6,ABS(N79/O79)*ABS(P79/Q79),IF(INPUT!F$4=B$7,ABS(N79/O79)*ABS(P79/Q79)/ABS(B79-C79),\"\")))))","v":""},"","",{"$f":"IF(INPUT!B65=\"\",\"\",IF(INPUT!$G$6=\"°C\",INPUT!B65,IF(INPUT!$G$6=\"°F\",(INPUT!B65-32)/1.8,IF(INPUT!$G$6=\"K\",INPUT!B65-273.15,(INPUT!B65/1.8)-273.15))))","v":""},{"$f":"IF(INPUT!C65=\"\",\"\",IF(INPUT!$G$6=\"°C\",INPUT!C65,IF(INPUT!$G$6=\"°F\",(INPUT!C65-32)/1.8,IF(INPUT!$G$6=\"K\",INPUT!C65-273.15,(INPUT!C65/1.8)-273.15))))","v":""},{"$f":"IF(INPUT!B65=\"\",\"\",IF(INPUT!$G$6=\"°F\",INPUT!B65,IF(INPUT!$G$6=\"°C\",(INPUT!B65*1.8)+32,IF(INPUT!$G$6=\"°R\",INPUT!B65-459.67,(INPUT!B65*1.8)-459.67))))","v":""},{"$f":"IF(INPUT!C65=\"\",\"\",IF(INPUT!$G$6=\"°F\",INPUT!C65,IF(INPUT!$G$6=\"°C\",(INPUT!C65*1.8)+32,IF(INPUT!$G$6=\"°R\",INPUT!C65-459.67,(INPUT!C65*1.8)-459.67))))","v":""},{"$f":"IF(INPUT!D65=\"\",\"\",IF(OR(INPUT!$G$6=\"K\",INPUT!$G$6=\"°C\"),INPUT!D65,INPUT!D65/1.8))","v":""},null,{"$f":"IF(INPUT!D65=\"\",\"\",IF(OR(INPUT!$G$6=\"K\",INPUT!$G$6=\"°C\"),INPUT!D65*1.8,INPUT!D65))","v":""},null,null,{"$f":"IF(INPUT!$F$4=\"Select Input Data Method\",\"INPUT METHOD NOT SELECTED\",\"\")","v":""},{"$f":"IF(INPUT!$F$6=\"\",\"GLOBAL DTMIN NOT SPECIFIED\",\"\")","v":""},{"$f":"IF(INPUT!F$14=\"\",IF(OR(INPUT!E$15=\"\",INPUT!E$15=\"Select Units\"),\"SELECT UNITS\",\"\"),IF(OR(INPUT!E$15=\"\",INPUT!E$15=\"Select Units\",INPUT!F$15=\"\",INPUT!F$15=\"Select Units\"),\"SELECT UNITS\",\"\"))","v":""},{"$f":"IF(INPUT!$F$14=\"\",IF(COUNTIF('A1'!C$4:C$10,INPUT!E$15)=0,\"INCONSISTENT UNITS\",\"\"),IF(OR(COUNTIF('A1'!C$4:C$10,INPUT!E$15)=0,COUNTIF('A1'!E$4:E$10,INPUT!F$15)=0),\"INCONSISTENT UNITS\",\"\"))","v":""},{"$f":"IF(INPUT!A65=\"\",\"NO STREAM NAME\",\"\")","v":"NO STREAM NAME"},"NO SUPPLY TEMP",{"$f":"IF(INPUT!B65=\"\",\"NO SUPPLY TEMP\",\"\")","v":"NO SUPPLY TEMP"},{"$f":"IF(INPUT!C65=\"\",\"NO TARGET TEMP\",\"\")","v":"NO TARGET TEMP"},{"$f":"IF(INPUT!E65=\"\",\"NO PRIMARY HEAT DATA\",\"\")","v":"NO PRIMARY HEAT DATA"},{"$f":"IF(INPUT!F$14=\"\",\"\",IF(INPUT!F65=\"\",\"NO SECONDARY HEAT DATA\",\"\"))","v":""},"",{"$f":"IF(SUM(INPUT!B65:F65)-SUM(INPUT!C65:F65)=0,IF(INPUT!B65=0,\"\",\"NON NUMERICAL INPUT\"),\"\")","v":""},{"$f":"IF(SUM(INPUT!B65:F65)-SUM(INPUT!D65:F65,INPUT!B65)=0,IF(INPUT!C65=0,\"\",\"NON NUMERICAL INPUT\"),\"\")","v":""},{"$f":"IF(SUM(INPUT!B65:F65)-SUM(INPUT!E65:F65,INPUT!B65,INPUT!C65)=0,IF(INPUT!D65=0,\"\",\"NON NUMERICAL INPUT\"),\"\")","v":""},{"$f":"IF(SUM(INPUT!B65:F65)-SUM(INPUT!B65:D65,INPUT!F65)=0,IF(INPUT!E65=0,\"\",\"NON NUMERICAL INPUT\"),\"\")","v":""},{"$f":"IF(INPUT!F$14=\"\",\"\",IF(SUM(INPUT!B65:F65)-SUM(INPUT!B65:E65)=0,IF(INPUT!F65=0,\"\",\"NON NUMERICAL INPUT\"),\"\"))","v":""}]
[]
[]
[]
[]
[]
[]
[]
[]
[]
[]
[]
[]
[]
[]
[]
[]
[]
[]
[]
[]
[]
[]
[]
[]
[]
[]
[null,null,null,null,null,null,null,null,null,{"$f":"IF(B106=\"\",\"\",IF(B106>C106,\"HOT\",\"COLD\"))","v":""}]
[null,null,null,null,null,null,null,null,null,""]
[null,null,null,null,null,null,null,null,null,""]
[null,null,null,null,null,null,null,null,null,""]
[null,null,null,null,null,null,null,null,null,""]
[null,null,null,null,null,null,null,null,null,""]
[null,null,null,null,null,null,null,null,null,""]
[null,null,null,null,null,null,null,null,null,""]
[null,null,null,null,null,null,null,null,null,""]
[null,null,null,null,null,null,null,null,null,""]
[null,null,null,null,null,null,null,null,null,""]
[null,null,null,null,null,null,null,null,null,""]
[null,null,null,null,null,null,null,null,null,""]
[null,null,null,null,null,null,null,null,null,""]
[null,null,null,null,null,null,null,null,null,""]
[null,null,null,null,null,null,null,null,null,""]
[null,null,null,null,null,null,null,null,null,""]
[null,null,null,null,null,null,null,null,null,""]
[null,null,null,null,null,null,null,null,null,""]
[null,null,null,null,null,null,null,null,null,""]
[null,null,null,null,null,null,null,null,null,""]
[null,null,null,null,null,null,null,null,null,""]
[null,null,null,null,null,null,null,null,null,""]
[null,null,null,null,null,null,null,null,null,""]
[null,null,null,null,null,null,null,null,null,""]
[null,null,null,null,null,null,null,null,null,""]
[null,null,null,null,null,null,null,null,null,""]
[null,null,null,null,null,null,null,null,null,""]
[null,null,null,null,null,null,null,null,null,""]
[null,null,null,null,null,null,null,null,null,""]
[null,null,null,null,null,null,null,null,null,""]
[null,null,null,null,null,null,null,null,null,""]
[null,null,null,null,null,null,null,null,null,""]
[null,null,null,null,null,null,null,null,null,""]
[null,null,null,null,null,null,null,null,null,""]
[null,null,null,null,null,null,null,null,null,""]
[null,null,null,null,null,null,null,null,null,""]
[null,null,null,null,null,null,null,null,null,""]
[null,null,null,null,null,null,null,null,null,""]
[null,null,null,null,null,null,null,null,null,""]
[null,null,null,null,null,null,null,null,null,""]
[null,null,null,null,null,null,null,null,null,""]
[null,null,null,null,null,null,null,null,null,""]
[null,null,null,null,null,null,null,null,null,""]
[null,null,null,null,null,null,null,null,null,""]
[null,null,null,null,null,null,null,null,null,""]
[null,null,null,null,null,null,null,null,null,""]
[null,null,null,null,null,null,null,null,null,""]
[null,null,null,null,null,null,null,null,null,""]
[null,null,null,null,null,null,null,null,null,""]
[null,null,null,null,null,null,null,null,null,""]
[null,null,null,null,null,null,null,null,null,""]
[null,null,null,null,null,null,null,null,null,{"$f":"IF(B158=\"\",\"\",IF(B158>C158,\"HOT\",\"COLD\"))","v":""}]
[null,null,null,null,null,null,null,null,null,""]
[null,null,null,null,null,null,null,null,null,""]
[null,null,null,null,null,null,null,null,null,""]
[null,null,null,null,null,null,null,null,null,""]
[null,null,null,null,null,null,null,null,null,""]
[null,null,null,null,null,null,null,null,null,""]
[null,null,null,null,null,null,null,null,null,""]
[null,null,null,null,null,null,null,null,null,""]
[null,null,null,null,null,null,null,null,null,""]
[null,null,null,null,null,null,null,null,null,""]
[null,null,null,null,null,null,null,null,null,""]
[null,null,null,null,null,null,null,null,null,""]
[null,null,null,null,null,null,null,null,null,""]
[null,null,null,null,null,null,null,null,null,""]
[null,null,null,null,null,null,null,null,null,""]
[null,null,null,null,null,null,null,null,null,""]
[null,null,null,null,null,null,null,null,null,""]
[null,null,null,null,null,null,null,null,null,""]
[null,null,null,null,null,null,null,null,null,""]
[null,null,null,null,null,null,null,null,null,""]
[null,null,null,null,null,null,null,null,null,""]
[null,null,null,null,null,null,null,null,null,""]
[null,null,null,null,null,null,null,null,null,""]
[null,null,null,null,null,null,null,null,null,""]
[null,null,null,null,null,null,null,null,null,""]
[null,null,null,null,null,null,null,null,null,""]
[null,null,null,null,null,null,null,null,null,""]
[null,null,null,null,null,null,null,null,null,""]
[null,null,null,null,null,null,null,null,null,""]
[null,null,null,null,null,null,null,null,null,""]
[null,null,null,null,null,null,null,null,null,""]
[null,null,null,null,null,null,null,null,null,""]
[null,null,null,null,null,null,null,null,null,""]
[null,null,null,null,null,null,null,null,null,""]
[null,null,null,null,null,null,null,null,null,""]
[null,null,null,null,null,null,null,null,null,""]
[null,null,null,null,null,null,null,null,null,""]
[null,null,null,null,null,null,null,null,null,""]
[null,null,null,null,null,null,null,null,null,""]
[null,null,null,null,null,null,null,null,null,""]
[null,null,null,null,null,null,null,null,null,""]
[null,null,null,null,null,null,null,null,null,""]
[null,null,null,null,null,null,null,null,null,""]
[null,null,null,null,null,null,null,null,null,""]
[null,null,null,null,null,null,null,null,null,""]
[null,null,null,null,null,null,null,null,null,""]
[null,null,null,null,null,null,null,null,null,""]
[null,null,null,null,null,null,null,null,null,""]
[null,null,null,null,null,null,null,null,null,""]
[null,null,null,null,null,null,null,null,null,""]
[null,null,null,null,null,null,null,null,null,""]
[null,null,null,null,null,null,null,null,null,""]
[null,null,null,null,null,null,null,null,null,""]
[null,null,null,null,null,null,null,null,null,""]
[null,null,null,null,null,null,null,null,null,""]
[null,null,null,null,null,null,null,null,null,""]
[null,null,null,null,null,null,null,null,null,""]
[null,null,null,null,null,null,null,null,null,""]
[null,null,null,null,null,null,null,null,null,""]
[null,null,null,null,null,null,null,null,null,""]
[null,null,null,null,null,null,null,null,null,""]
[null,null,null,null,null,null,null,null,null,""]
[null,null,null,null,null,null,null,null,null,""]
[null,null,null,null,null,null,null,null,null,{"$f":"IF(B222=\"\",\"\",IF(B222>C222,\"HOT\",\"COLD\"))","v":""}]
[null,null,null,null,null,null,null,null,null,""]
[null,null,null,null,null,null,null,null,null,""]
[null,null,null,null,null,null,null,null,null,""]
[null,null,null,null,null,null,null,null,null,""]
[null,null,null,null,null,null,null,null,null,""]
[null,null,null,null,null,null,null,null,null,""]
[null,null,null,null,null,null,null,null,null,""]
[null,null,null,null,null,null,null,null,null,""]
[null,null,null,null,null,null,null,null,null,""]
[null,null,null,null,null,null,null,null,null,""]
[null,null,null,null,null,null,null,null,null,""]
[null,null,null,null,null,null,null,null,null,""]
[null,null,null,null,null,null,null,null,null,""]
[null,null,null,null,null,null,null,null,null,""]
[null,null,null,null,null,null,null,null,null,""]
[null,null,null,null,null,null,null,null,null,""]
[null,null,null,null,null,null,null,null,null,""]
[null,null,null,null,null,null,null,null,null,""]
[null,null,null,null,null,null,null,null,null,""]
[null,null,null,null,null,null,null,null,null,""]
[null,null,null,null,null,null,null,null,null,""]
[null,null,null,null,null,null,null,null,null,""]
[null,null,null,null,null,null,null,null,null,""]
[null,null,null,null,null,null,null,null,null,""]
[null,null,null,null,null,null,null,null,null,""]
[null,null,null,null,null,null,null,null,null,""]
[null,null,null,null,null,null,null,null,null,""]
[null,null,null,null,null,null,null,null,null,""]
[null,null,null,null,null,null,null,null,null,""]
[null,null,null,null,null,null,null,null,null,""]
[null,null,null,null,null,null,null,null,null,""]
[null,null,null,null,null,null,null,null,null,""]
[null,null,null,null,null,null,null,null,null,""]
[null,null,null,null,null,null,null,null,null,""]
[null,null,null,null,null,null,null,null,null,""]
[null,null,null,null,null,null,null,null,null,""]
[null,null,null,null,null,null,null,null,null,""]
[null,null,null,null,null,null,null,null,null,""]
[null,null,null,null,null,null,null,null,null,""]
[null,null,null,null,null,null,null,null,null,""]
[null,null,null,null,null,null,null,null,null,""]
[null,null,null,null,null,null,null,null,null,""]
[null,null,null,null,null,null,null,null,null,""]
[null,null,null,null,null,null,null,null,null,""]
[null,null,null,null,null,null,null,null,null,""]
[null,null,null,null,null,null,null,null,null,""]
[null,null,null,null,null,null,null,null,null,""]
[null,null,null,null,null,null,null,null,null,""]
[null,null,null,null,null,null,null,null,null,""]
[null,null,null,null,null,null,null,null,null,""]
[null,null,null,null,null,null,null,null,null,""]
[null,null,null,null,null,null,null,null,null,""]
[null,null,null,null,null,null,null,null,null,""]
[null,null,null,null,null,null,null,null,null,""]
[null,null,null,null,null,null,null,null,null,""]
[null,null,null,null,null,null,null,null,null,""]
[null,null,null,null,null,null,null,null,null,""]
[null,null,null,null,null,null,null,null,null,""]
[null,null,null,null,null,null,null,null,null,""]
[null,null,null,null,null,null,null,null,null,""]
[null,null,null,null,null,null,null,null,null,""]
[null,null,null,null,null,null,null,null,null,""]
[null,null,null,null,null,null,null,null,null,""]
[null,null,null,null,null,null,null,null,null,{"$f":"IF(B286=\"\",\"\",IF(B286>C286,\"HOT\",\"COLD\"))","v":""}]
[null,null,null,null,null,null,null,null,null,""]
[null,null,null,null,null,null,null,null,null,""]
[null,null,null,null,null,null,null,null,null,""]
[null,null,null,null,null,null,null,null,null,""]
[null,null,null,null,null,null,null,null,null,""]
[null,null,null,null,null,null,null,null,null,""]
[null,null,null,null,null,null,null,null,null,""]
[null,null,null,null,null,null,null,null,null,""]
[null,null,null,null,null,null,null,null,null,""]
[null,null,null,null,null,null,null,null,null,""]
[null,null,null,null,null,null,null,null,null,""]
[null,null,null,null,null,null,null,null,null,""]
[null,null,null,null,null,null,null,null,null,""]
[null,null,null,null,null,null,null,null,null,""]
[null,null,null,null,null,null,null,null,null,""]
[null,null,null,null,null,null,null,null,null,""]
[null,null,null,null,null,null,null,null,null,""]
[null,null,null,null,null,null,null,null,null,""]
[null,null,null,null,null,null,null,null,null,""]
[null,null,null,null,null,null,null,null,null,""]
[null,null,null,null,null,null,null,null,null,""]
[null,null,null,null,null,null,null,null,null,""]
[null,null,null,null,null,null,null,null,null,""]
[null,null,null,null,null,null,null,null,null,""]
[null,null,null,null,null,null,null,null,null,""]
[null,null,null,null,null,null,null,null,null,""]
[null,null,null,null,null,null,null,null,null,""]
[null,null,null,null,null,null,null,null,null,""]
[null,null,null,null,null,null,null,null,null,""]
[null,null,null,null,null,null,null,null,null,""]
[null,null,null,null,null,null,null,null,null,""]
[null,null,null,null,null,null,null,null,null,""]
[null,null,null,null,null,null,null,null,null,""]
[null,null,null,null,null,null,null,null,null,""]
[null,null,null,null,null,null,null,null,null,""]
[null,null,null,null,null,null,null,null,null,""]
[null,null,null,null,null,null,null,null,null,""]
[null,null,null,null,null,null,null,null,null,""]
[null,null,null,null,null,null,null,null,null,""]
[null,null,null,null,null,null,null,null,null,""]
[null,null,null,null,null,null,null,null,null,""]
[null,null,null,null,null,null,null,null,null,""]
[null,null,null,null,null,null,null,null,null,""]
[null,null,null,null,null,null,null,null,null,""]
[null,null,null,null,null,null,null,null,null,""]
[null,null,null,null,null,null,null,null,null,""]
[null,null,null,null,null,null,null,null,null,""]
[null,null,null,null,null,null,null,null,null,""]
[null,null,null,null,null,null,null,null,null,""]
[null,null,null,null,null,null,null,null,null,""]
[null,null,null,null,null,null,null,null,null,""]
[null,null,null,null,null,null,null,null,null,""]
[null,null,null,null,null,null,null,null,null,""]
[null,null,null,null,null,null,null,null,null,""]
[null,null,null,null,null,null,null,null,null,""]
[null,null,null,null,null,null,null,null,null,""]
[null,null,null,null,null,null,null,null,null,""]
[null,null,null,null,null,null,null,null,null,""]
[null,null,null,null,null,null,null,null,null,""]
[null,null,null,null,null,null,null,null,null,""]
[null,null,null,null,null,null,null,null,null,""]
[null,null,null,null,null,null,null,null,null,""]
[null,null,null,null,null,null,null,null,null,""]
[null,null,null,null,null,null,null,null,null,{"$f":"IF(B350=\"\",\"\",IF(B350>C350,\"HOT\",\"COLD\"))","v":""}]
[null,null,null,null,null,null,null,null,null,""]
[null,null,null,null,null,null,null,null,null,""]
[null,null,null,null,null,null,null,null,null,""]
[null,null,null,null,null,null,null,null,null,""]
[null,null,null,null,null,null,null,null,null,""]
[null,null,null,null,null,null,null,null,null,""]
[null,null,null,null,null,null,null,null,null,""]
[null,null,null,null,null,null,null,null,null,""]
[null,null,null,null,null,null,null,null,null,""]
[null,null,null,null,null,null,null,null,null,""]
[null,null,null,null,null,null,null,null,null,""]
[null,null,null,null,null,null,null,null,null,""]
[null,null,null,null,null,null,null,null,null,""]
[null,null,null,null,null,null,null,null,null,""]
[null,null,null,null,null,null,null,null,null,""]
[null,null,null,null,null,null,null,null,null,""]
[null,null,null,null,null,null,null,null,null,""]
[null,null,null,null,null,null,null,null,null,""]
[null,null,null,null,null,null,null,null,null,""]
[null,null,null,null,null,null,null,null,null,""]
[null,null,null,null,null,null,null,null,null,""]
[null,null,null,null,null,null,null,null,null,""]
[null,null,null,null,null,null,null,null,null,""]
[null,null,null,null,null,null,null,null,null,""]
[null,null,null,null,null,null,null,null,null,""]
[null,null,null,null,null,null,null,null,null,""]
[null,null,null,null,null,null,null,null,null,""]
[null,null,null,null,null,null,null,null,null,""]
[null,null,null,null,null,null,null,null,null,""]
[null,null,null,null,null,null,null,null,null,""]
[null,null,null,null,null,null,null,null,null,""]
[null,null,null,null,null,null,null,null,null,""]
[null,null,null,null,null,null,null,null,null,""]
[null,null,null,null,null,null,null,null,null,""]
[null,null,null,null,null,null,null,null,null,""]
[null,null,null,null,null,null,null,null,null,""]
[null,null,null,null,null,null,null,null,null,""]
[null,null,null,null,null,null,null,null,null,""]
[null,null,null,null,null,null,null,null,null,""]
[null,null,null,null,null,null,null,null,null,""]
[null,null,null,null,null,null,null,null,null,""]
[null,null,null,null,null,null,null,null,null,""]
[null,null,null,null,null,null,null,null,null,""]
[null,null,null,null,null,null,null,null,null,""]
[null,null,null,null,null,null,null,null,null,""]
[null,null,null,null,null,null,null,null,null,""]
[null,null,null,null,null,null,null,null,null,""]
[null,null,null,null,null,null,null,null,null,""]
[null,null,null,null,null,null,null,null,null,""]
[null,null,null,null,null,null,null,null,null,""]
[null,null,null,null,null,null,null,null,null,""]
[null,null,null,null,null,null,null,null,null,""]
[null,null,null,null,null,null,null,null,null,""]
[null,null,null,null,null,null,null,null,null,""]
[null,null,null,null,null,null,null,null,null,""]
[null,null,null,null,null,null,null,null,null,""]
[null,null,null,null,null,null,null,null,null,""]
[null,null,null,null,null,null,null,null,null,""]
[null,null,null,null,null,null,null,null,null,""]
[null,null,null,null,null,null,null,null,null,""]
[null,null,null,null,null,null,null,null,null,""]
[null,null,null,null,null,null,null,null,null,""]
[null,null,null,null,null,null,null,null,null,""]
[null,null,null,null,null,null,null,null,null,{"$f":"IF(B414=\"\",\"\",IF(B414>C414,\"HOT\",\"COLD\"))","v":""}]
[null,null,null,null,null,null,null,null,null,""]
[null,null,null,null,null,null,null,null,null,""]
[null,null,null,null,null,null,null,null,null,""]
[null,null,null,null,null,null,null,null,null,""]
[null,null,null,null,null,null,null,null,null,""]
[null,null,null,null,null,null,null,null,null,""]
[null,null,null,null,null,null,null,null,null,""]
[null,null,null,null,null,null,null,null,null,""]
[null,null,null,null,null,null,null,null,null,""]
[null,null,null,null,null,null,null,null,null,""]
[null,null,null,null,null,null,null,null,null,""]
[null,null,null,null,null,null,null,null,null,""]
[null,null,null,null,null,null,null,null,null,""]
[null,null,null,null,null,null,null,null,null,""]
[null,null,null,null,null,null,null,null,null,""]
[null,null,null,null,null,null,null,null,null,""]
[null,null,null,null,null,null,null,null,null,""]
[null,null,null,null,null,null,null,null,null,""]
[null,null,null,null,null,null,null,null,null,""]
[null,null,null,null,null,null,null,null,null,""]
[null,null,null,null,null,null,null,null,null,""]
[null,null,null,null,null,null,null,null,null,""]
[null,null,null,null,null,null,null,null,null,""]
[null,null,null,null,null,null,null,null,null,""]
[null,null,null,null,null,null,null,null,null,""]
[null,null,null,null,null,null,null,null,null,""]
[null,null,null,null,null,null,null,null,null,""]
[null,null,null,null,null,null,null,null,null,""]
[null,null,null,null,null,null,null,null,null,""]
[null,null,null,null,null,null,null,null,null,""]
[null,null,null,null,null,null,null,null,null,""]
[null,null,null,null,null,null,null,null,null,""]
[null,null,null,null,null,null,null,null,null,""]
[null,null,null,null,null,null,null,null,null,""]
[null,null,null,null,null,null,null,null,null,""]
[null,null,null,null,null,null,null,null,null,""]
[null,null,null,null,null,null,null,null,null,""]
[null,null,null,null,null,null,null,null,null,""]
[null,null,null,null,null,null,null,null,null,""]
[null,null,null,null,null,null,null,null,null,""]
[null,null,null,null,null,null,null,null,null,""]
[null,null,null,null,null,null,null,null,null,""]
[null,null,null,null,null,null,null,null,null,""]
[null,null,null,null,null,null,null,null,null,""]
[null,null,null,null,null,null,null,null,null,""]
[null,null,null,null,null,null,null,null,null,""]
[null,null,null,null,null,null,null,null,null,""]
[null,null,null,null,null,null,null,null,null,""]
[null,null,null,null,null,null,null,null,null,""]
[null,null,null,null,null,null,null,null,null,""]
[null,null,null,null,null,null,null,null,null,""]
[null,null,null,null,null,null,null,null,null,""]
[null,null,null,null,null,null,null,null,null,""]
[null,null,null,null,null,null,null,null,null,""]
[null,null,null,null,null,null,null,null,null,""]
[null,null,null,null,null,null,null,null,null,""]
[null,null,null,null,null,null,null,null,null,""]
[null,null,null,null,null,null,null,null,null,""]
[null,null,null,null,null,null,null,null,null,""]
[null,null,null,null,null,null,null,null,null,""]
[null,null,null,null,null,null,null,null,null,""]
[null,null,null,null,null,null,null,null,null,""]
[null,null,null,null,null,null,null,null,null,""]
[null,null,null,null,null,null,null,null,null,{"$f":"IF(B478=\"\",\"\",IF(B478>C478,\"HOT\",\"COLD\"))","v":""}]
[null,null,null,null,null,null,null,null,null,""]
[null,null,null,null,null,null,null,null,null,""]
[null,null,null,null,null,null,null,null,null,""]
[null,null,null,null,null,null,null,null,null,""]
[null,null,null,null,null,null,null,null,null,""]
[null,null,null,null,null,null,null,null,null,""]
[null,null,null,null,null,null,null,null,null,""]
[null,null,null,null,null,null,null,null,null,""]
[null,null,null,null,null,null,null,null,null,""]
[null,null,null,null,null,null,null,null,null,""]
[null,null,null,null,null,null,null,null,null,""]
[null,null,null,null,null,null,null,null,null,""]
[null,null,null,null,null,null,null,null,null,""]
[null,null,null,null,null,null,null,null,null,""]
[null,null,null,null,null,null,null,null,null,""]
[null,null,null,null,null,null,null,null,null,""]
[null,null,null,null,null,null,null,null,null,""]
[null,null,null,null,null,null,null,null,null,""]
[null,null,null,null,null,null,null,null,null,""]
[null,null,null,null,null,null,null,null,null,""]
[null,null,null,null,null,null,null,null,null,""]
[null,null,null,null,null,null,null,null,null,""]
[null,null,null,null,null,null,null,null,null,""]
[null,null,null,null,null,null,null,null,null,""]
[null,null,null,null,null,null,null,null,null,""]
[null,null,null,null,null,null,null,null,null,""]
[null,null,null,null,null,null,null,null,null,""]
[null,null,null,null,null,null,null,null,null,""]
[null,null,null,null,null,null,null,null,null,""]
[null,null,null,null,null,null,null,null,null,""]
[null,null,null,null,null,null,null,null,null,""]
[null,null,null,null,null,null,null,null,null,""]
[null,null,null,null,null,null,null,null,null,""]
[null,null,null,null,null,null,null,null,null,""]
[null,null,null,null,null,null,null,null,null,""]
[null,null,null,null,null,null,null,null,null,""]
[null,null,null,null,null,null,null,null,null,""]
[null,null,null,null,null,null,null,null,null,""]
[null,null,null,null,null,null,null,null,null,""]
[null,null,null,null,null,null,null,null,null,""]
[null,null,null,null,null,null,null,null,null,""]
[null,null,null,null,null,null,null,null,null,""]
[null,null,null,null,null,null,null,null,null,""]
[null,null,null,null,null,null,null,null,null,""]
[null,null,null,null,null,null,null,null,null,""]
[null,null,null,null,null,null,null,null,null,""]
[null,null,null,null,null,null,null,null,null,""]
[null,null,null,null,null,null,null,null,null,""]
[null,null,null,null,null,null,null,null,null,""]
[null,null,null,null,null,null,null,null,null,""]
[null,null,null,null,null,null,null,null,null,""]
[null,null,null,null,null,null,null,null,null,""]
[null,null,null,null,null,null,null,null,null,""]
[null,null,null,null,null,null,null,null,null,""]
[null,null,null,null,null,null,null,null,null,""]
[null,null,null,null,null,null,null,null,null,""]
[null,null,null,null,null,null,null,null,null,""]
[null,null,null,null,null,null,null,null,null,""]
[null,null,null,null,null,null,null,null,null,""]
[null,null,null,null,null,null,null,null,null,""]
[null,null,null,null,null,null,null,null,null,""]
[null,null,null,null,null,null,null,null,null,""]
[null,null,null,null,null,null,null,null,null,""]
[null,null,null,null,null,null,null,null,null,{"$f":"IF(B542=\"\",\"\",IF(B542>C542,\"HOT\",\"COLD\"))","v":""}]
[null,null,null,null,null,null,null,null,null,""]
[null,null,null,null,null,null,null,null,null,""]
[null,null,null,null,null,null,null,null,null,""]
[null,null,null,null,null,null,null,null,null,""]
[null,null,null,null,null,null,null,null,null,""]
[null,null,null,null,null,null,null,null,null,""]
[null,null,null,null,null,null,null,null,null,""]
[null,null,null,null,null,null,null,null,null,""]
[null,null,null,null,null,null,null,null,null,""]
[null,null,null,null,null,null,null,null,null,""]
[null,null,null,null,null,null,null,null,null,""]
[null,null,null,null,null,null,null,null,null,""]
[null,null,null,null,null,null,null,null,null,""]
[null,null,null,null,null,null,null,null,null,""]
[null,null,null,null,null,null,null,null,null,""]
[null,null,null,null,null,null,null,null,null,""]
[null,null,null,null,null,null,null,null,null,""]
[null,null,null,null,null,null,null,null,null,""]
[null,null,null,null,null,null,null,null,null,""]
[null,null,null,null,null,null,null,null,null,""]
[null,null,null,null,null,null,null,null,null,""]
[null,null,null,null,null,null,null,null,null,""]
[null,null,null,null,null,null,null,null,null,""]
[null,null,null,null,null,null,null,null,null,""]
[null,null,null,null,null,null,null,null,null,""]
[null,null,null,null,null,null,null,null,null,""]
[null,null,null,null,null,null,null,null,null,""]
[null,null,null,null,null,null,null,null,null,""]
[null,null,null,null,null,null,null,null,null,""]
[null,null,null,null,null,null,null,null,null,""]
[null,null,null,null,null,null,null,null,null,""]
[null,null,null,null,null,null,null,null,null,""]
[null,null,null,null,null,null,null,null,null,""]
[null,null,null,null,null,null,null,null,null,""]
[null,null,null,null,null,null,null,null,null,""]
[null,null,null,null,null,null,null,null,null,""]
[null,null,null,null,null,null,null,null,null,""]
[null,null,null,null,null,null,null,null,null,""]
[null,null,null,null,null,null,null,null,null,""]
[null,null,null,null,null,null,null,null,null,""]
[null,null,null,null,null,null,null,null,null,""]
[null,null,null,null,null,null,null,null,null,""]
[null,null,null,null,null,null,null,null,null,""]
[null,null,null,null,null,null,null,null,null,""]
[null,null,null,null,null,null,null,null,null,""]
[null,null,null,null,null,null,null,null,null,""]
[null,null,null,null,null,null,null,null,null,""]
[null,null,null,null,null,null,null,null,null,""]
[null,null,null,null,null,null,null,null,null,""]
[null,null,null,null,null,null,null,null,null,""]
[null,null,null,null,null,null,null,null,null,""]
[null,null,null,null,null,null,null,null,null,""]
[null,null,null,null,null,null,null,null,null,""]
[null,null,null,null,null,null,null,null,null,""]
[null,null,null,null,null,null,null,null,null,""]
[null,null,null,null,null,null,null,null,null,""]
[null,null,null,null,null,null,null,null,null,""]
[null,null,null,null,null,null,null,null,null,""]
[null,null,null,null,null,null,null,null,null,""]
[null,null,null,null,null,null,null,null,null,""]
[null,null,null,null,null,null,null,null,null,""]
[null,null,null,null,null,null,null,null,null,""]
[null,null,null,null,null,null,null,null,null,""]
[null,null,null,null,null,null,null,null,null,{"$f":"IF(B606=\"\",\"\",IF(B606>C606,\"HOT\",\"COLD\"))","v":""}]
[null,null,null,null,null,null,null,null,null,""]
[null,null,null,null,null,null,null,null,null,""]
[null,null,null,null,null,null,null,null,null,""]
[null,null,null,null,null,null,null,null,null,""]
[null,null,null,null,null,null,null,null,null,""]
[null,null,null,null,null,null,null,null,null,""]
[null,null,null,null,null,null,null,null,null,""]
[null,null,null,null,null,null,null,null,null,""]
[null,null,null,null,null,null,null,null,null,""]
[null,null,null,null,null,null,null,null,null,""]
[null,null,null,null,null,null,null,null,null,""]
[null,null,null,null,null,null,null,null,null,""]
[null,null,null,null,null,null,null,null,null,""]
[null,null,null,null,null,null,null,null,null,""]
[null,null,null,null,null,null,null,null,null,""]
[null,null,null,null,null,null,null,null,null,""]
[null,null,null,null,null,null,null,null,null,""]
[null,null,null,null,null,null,null,null,null,""]
[null,null,null,null,null,null,null,null,null,""]
[null,null,null,null,null,null,null,null,null,""]
[null,null,null,null,null,null,null,null,null,""]
[null,null,null,null,null,null,null,null,null,""]
[null,null,null,null,null,null,null,null,null,""]
[null,null,null,null,null,null,null,null,null,""]
[null,null,null,null,null,null,null,null,null,""]
[null,null,null,null,null,null,null,null,null,""]
[null,null,null,null,null,null,null,null,null,""]
[null,null,null,null,null,null,null,null,null,""]
[null,null,null,null,null,null,null,null,null,""]
[null,null,null,null,null,null,null,null,null,""]
[null,null,null,null,null,null,null,null,null,""]
[null,null,null,null,null,null,null,null,null,""]
[null,null,null,null,null,null,null,null,null,""]
[null,null,null,null,null,null,null,null,null,""]
[null,null,null,null,null,null,null,null,null,""]
[null,null,null,null,null,null,null,null,null,""]
[null,null,null,null,null,null,null,null,null,""]
[null,null,null,null,null,null,null,null,null,""]
[null,null,null,null,null,null,null,null,null,""]
[null,null,null,null,null,null,null,null,null,""]
[null,null,null,null,null,null,null,null,null,""]
[null,null,null,null,null,null,null,null,null,""]
[null,null,null,null,null,null,null,null,null,""]
[null,null,null,null,null,null,null,null,null,""]
[null,null,null,null,null,null,null,null,null,""]
[null,null,null,null,null,null,null,null,null,""]
[null,null,null,null,null,null,null,null,null,""]
[null,null,null,null,null,null,null,null,null,""]
[null,null,null,null,null,null,null,null,null,""]
[null,null,null,null,null,null,null,null,null,""]
[null,null,null,null,null,null,null,null,null,""]
[null,null,null,null,null,null,null,null,null,""]
[null,null,null,null,null,null,null,null,null,""]
[null,null,null,null,null,null,null,null,null,""]
[null,null,null,null,null,null,null,null,null,""]
[null,null,null,null,null,null,null,null,null,""]
[null,null,null,null,null,null,null,null,null,""]
[null,null,null,null,null,null,null,null,null,""]
[null,null,null,null,null,null,null,null,null,""]
[null,null,null,null,null,null,null,null,null,""]
[null,null,null,null,null,null,null,null,null,""]
[null,null,null,null,null,null,null,null,null,""]
[null,null,null,null,null,null,null,null,null,""]
[null,null,null,null,null,null,null,null,null,{"$f":"IF(B670=\"\",\"\",IF(B670>C670,\"HOT\",\"COLD\"))","v":""}]
[null,null,null,null,null,null,null,null,null,""]
[null,null,null,null,null,null,null,null,null,""]
[null,null,null,null,null,null,null,null,null,""]
[null,null,null,null,null,null,null,null,null,""]
[null,null,null,null,null,null,null,null,null,""]
[null,null,null,null,null,null,null,null,null,""]
[null,null,null,null,null,null,null,null,null,""]
[null,null,null,null,null,null,null,null,null,""]
[null,null,null,null,null,null,null,null,null,""]
[null,null,null,null,null,null,null,null,null,""]
[null,null,null,null,null,null,null,null,null,""]
[null,null,null,null,null,null,null,null,null,""]
[null,null,null,null,null,null,null,null,null,""]
[null,null,null,null,null,null,null,null,null,""]
[null,null,null,null,null,null,null,null,null,""]
[null,null,null,null,null,null,null,null,null,""]
[null,null,null,null,null,null,null,null,null,""]
[null,null,null,null,null,null,null,null,null,""]
[null,null,null,null,null,null,null,null,null,""]
[null,null,null,null,null,null,null,null,null,""]
[null,null,null,null,null,null,null,null,null,""]
[null,null,null,null,null,null,null,null,null,""]
[null,null,null,null,null,null,null,null,null,""]
[null,null,null,null,null,null,null,null,null,""]
[null,null,null,null,null,null,null,null,null,""]
[null,null,null,null,null,null,null,null,null,""]
[null,null,null,null,null,null,null,null,null,""]
[null,null,null,null,null,null,null,null,null,""]
[null,null,null,null,null,null,null,null,null,""]
[null,null,null,null,null,null,null,null,null,""]
[null,null,null,null,null,null,null,null,null,""]
[null,null,null,null,null,null,null,null,null,""]
[null,null,null,null,null,null,null,null,null,""]
[null,null,null,null,null,null,null,null,null,""]
[null,null,null,null,null,null,null,null,null,""]
[null,null,null,null,null,null,null,null,null,""]
[null,null,null,null,null,null,null,null,null,""]
[null,null,null,null,null,null,null,null,null,""]
[null,null,null,null,null,null,null,null,null,""]
[null,null,null,null,null,null,null,null,null,""]
[null,null,null,null,null,null,null,null,null,""]
[null,null,null,null,null,null,null,null,null,""]
[null,null,null,null,null,null,null,null,null,""]
[null,null,null,null,null,null,null,null,null,""]
[null,null,null,null,null,null,null,null,null,""]
[null,null,null,null,null,null,null,null,null,""]
[null,null,null,null,null,null,null,null,null,""]
[null,null,null,null,null,null,null,null,null,""]
[null,null,null,null,null,null,null,null,null,""]
[null,null,null,null,null,null,null,null,null,""]
[null,null,null,null,null,null,null,null,null,""]
[null,null,null,null,null,null,null,null,null,""]
[null,null,null,null,null,null,null,null,null,""]
[null,null,null,null,null,null,null,null,null,""]
[null,null,null,null,null,null,null,null,null,""]
[null,null,null,null,null,null,null,null,null,""]
[null,null,null,null,null,null,null,null,null,""]
[null,null,null,null,null,null,null,null,null,""]
[null,null,null,null,null,null,null,null,null,""]
[null,null,null,null,null,null,null,null,null,""]
[null,null,null,null,null,null,null,null,null,""]
[null,null,null,null,null,null,null,null,null,""]
[null,null,null,null,null,null,null,null,null,""]
[null,null,null,null,null,null,null,null,null,{"$f":"IF(B734=\"\",\"\",IF(B734>C734,\"HOT\",\"COLD\"))","v":""}]
[null,null,null,null,null,null,null,null,null,""]
[null,null,null,null,null,null,null,null,null,""]
[null,null,null,null,null,null,null,null,null,""]
[null,null,null,null,null,null,null,null,null,""]
[null,null,null,null,null,null,null,null,null,""]
[null,null,null,null,null,null,null,null,null,""]
[null,null,null,null,null,null,null,null,null,""]
[null,null,null,null,null,null,null,null,null,""]
[null,null,null,null,null,null,null,null,null,""]
[null,null,null,null,null,null,null,null,null,""]
[null,null,null,null,null,null,null,null,null,""]
[null,null,null,null,null,null,null,null,null,""]
[null,null,null,null,null,null,null,null,null,""]
[null,null,null,null,null,null,null,null,null,""]
[null,null,null,null,null,null,null,null,null,""]
[null,null,null,null,null,null,null,null,null,""]
[null,null,null,null,null,null,null,null,null,""]
[null,null,null,null,null,null,null,null,null,""]
[null,null,null,null,null,null,null,null,null,""]
[null,null,null,null,null,null,null,null,null,""]
[null,null,null,null,null,null,null,null,null,""]
[null,null,null,null,null,null,null,null,null,""]
[null,null,null,null,null,null,null,null,null,""]
[null,null,null,null,null,null,null,null,null,""]
[null,null,null,null,null,null,null,null,null,""]
[null,null,null,null,null,null,null,null,null,""]
[null,null,null,null,null,null,null,null,null,""]
[null,null,null,null,null,null,null,null,null,""]
[null,null,null,null,null,null,null,null,null,""]
[null,null,null,null,null,null,null,null,null,""]
[null,null,null,null,null,null,null,null,null,""]
[null,null,null,null,null,null,null,null,null,""]
[null,null,null,null,null,null,null,null,null,""]
[null,null,null,null,null,null,null,null,null,""]
[null,null,null,null,null,null,null,null,null,""]
[null,null,null,null,null,null,null,null,null,""]
[null,null,null,null,null,null,null,null,null,""]
[null,null,null,null,null,null,null,null,null,""]
[null,null,null,null,null,null,null,null,null,""]
[null,null,null,null,null,null,null,null,null,""]
[null,null,null,null,null,null,null,null,null,""]
[null,null,null,null,null,null,null,null,null,""]
[null,null,null,null,null,null,null,null,null,""]
[null,null,null,null,null,null,null,null,null,""]
[null,null,null,null,null,null,null,null,null,""]
[null,null,null,null,null,null,null,null,null,""]
[null,null,null,null,null,null,null,null,null,""]
[null,null,null,null,null,null,null,null,null,""]
[null,null,null,null,null,null,null,null,null,""]
[null,null,null,null,null,null,null,null,null,""]
[null,null,null,null,null,null,null,null,null,""]
[null,null,null,null,null,null,null,null,null,""]
[null,null,null,null,null,null,null,null,null,""]
[null,null,null,null,null,null,null,null,null,""]
[null,null,null,null,null,null,null,null,null,""]
[null,null,null,null,null,null,null,null,null,""]
[null,null,null,null,null,null,null,null,null,""]
[null,null,null,null,null,null,null,null,null,""]
[null,null,null,null,null,null,null,null,null,""]
[null,null,null,null,null,null,null,null,null,""]
[null,null,null,null,null,null,null,null,null,""]
[null,null,null,null,null,null,null,null,null,""]
[null,null,null,null,null,null,null,null,null,""]
[null,null,null,null,null,null,null,null,null,{"$f":"IF(B798=\"\",\"\",IF(B798>C798,\"HOT\",\"COLD\"))","v":""}]
[null,null,null,null,null,null,null,null,null,""]
[null,null,null,null,null,null,null,null,null,""]
[null,null,null,null,null,null,null,null,null,""]
[null,null,null,null,null,null,null,null,null,""]
[null,null,null,null,null,null,null,null,null,""]
[null,null,null,null,null,null,null,null,null,""]
[null,null,null,null,null,null,null,null,null,""]
[null,null,null,null,null,null,null,null,null,""]
[null,null,null,null,null,null,null,null,null,""]
[null,null,null,null,null,null,null,null,null,""]
[null,null,null,null,null,null,null,null,null,""]
[null,null,null,null,null,null,null,null,null,""]
[null,null,null,null,null,null,null,null,null,""]
[null,null,null,null,null,null,null,null,null,""]
[null,null,null,null,null,null,null,null,null,""]
[null,null,null,null,null,null,null,null,null,""]
[null,null,null,null,null,null,null,null,null,""]
[null,null,null,null,null,null,null,null,null,""]
[null,null,null,null,null,null,null,null,null,""]
[null,null,null,null,null,null,null,null,null,""]
[null,null,null,null,null,null,null,null,null,""]
[null,null,null,null,null,null,null,null,null,""]
[null,null,null,null,null,null,null,null,null,""]
[null,null,null,null,null,null,null,null,null,""]
[null,null,null,null,null,null,null,null,null,""]
[null,null,null,null,null,null,null,null,null,""]
[null,null,null,null,null,null,null,null,null,""]
[null,null,null,null,null,null,null,null,null,""]
[null,null,null,null,null,null,null,null,null,""]
[null,null,null,null,null,null,null,null,null,""]
[null,null,null,null,null,null,null,null,null,""]
[null,null,null,null,null,null,null,null,null,""]
[null,null,null,null,null,null,null,null,null,""]
[null,null,null,null,null,null,null,null,null,""]
[null,null,null,null,null,null,null,null,null,""]
[null,null,null,null,null,null,null,null,null,""]
[null,null,null,null,null,null,null,null,null,""]
[null,null,null,null,null,null,null,null,null,""]
[null,null,null,null,null,null,null,null,null,""]
[null,null,null,null,null,null,null,null,null,""]
[null,null,null,null,null,null,null,null,null,""]
[null,null,null,null,null,null,null,null,null,""]
[null,null,null,null,null,null,null,null,null,""]
[null,null,null,null,null,null,null,null,null,""]
[null,null,null,null,null,null,null,null,null,""]
[null,null,null,null,null,null,null,null,null,""]
[null,null,null,null,null,null,null,null,null,""]
[null,null,null,null,null,null,null,null,null,""]
[null,null,null,null,null,null,null,null,null,""]
[null,null,null,null,null,null,null,null,null,""]
[null,null,null,null,null,null,null,null,null,""]
[null,null,null,null,null,null,null,null,null,""]
[null,null,null,null,null,null,null,null,null,""]
[null,null,null,null,null,null,null,null,null,""]
[null,null,null,null,null,null,null,null,null,""]
[null,null,null,null,null,null,null,null,null,""]
[null,null,null,null,null,null,null,null,null,""]
[null,null,null,null,null,null,null,null,null,""]
[null,null,null,null,null,null,null,null,null,""]
[null,null,null,null,null,null,null,null,null,""]
[null,null,null,null,null,null,null,null,null,""]
[null,null,null,null,null,null,null,null,null,""]
[null,null,null,null,null,null,null,null,null,""]
[null,null,null,null,null,null,null,null,null,{"$f":"IF(B862=\"\",\"\",IF(B862>C862,\"HOT\",\"COLD\"))","v":""}]
[null,null,null,null,null,null,null,null,null,""]
[null,null,null,null,null,null,null,null,null,""]
[null,null,null,null,null,null,null,null,null,""]
[null,null,null,null,null,null,null,null,null,""]
[null,null,null,null,null,null,null,null,null,""]
[null,null,null,null,null,null,null,null,null,""]
[null,null,null,null,null,null,null,null,null,""]
[null,null,null,null,null,null,null,null,null,""]
[null,null,null,null,null,null,null,null,null,""]
[null,null,null,null,null,null,null,null,null,""]
[null,null,null,null,null,null,null,null,null,""]
[null,null,null,null,null,null,null,null,null,""]
[null,null,null,null,null,null,null,null,null,""]
[null,null,null,null,null,null,null,null,null,""]
[null,null,null,null,null,null,null,null,null,""]
[null,null,null,null,null,null,null,null,null,""]
[null,null,null,null,null,null,null,null,null,""]
[null,null,null,null,null,null,null,null,null,""]
[null,null,null,null,null,null,null,null,null,""]
[null,null,null,null,null,null,null,null,null,""]
[null,null,null,null,null,null,null,null,null,""]
[null,null,null,null,null,null,null,null,null,""]
[null,null,null,null,null,null,null,null,null,""]
[null,null,null,null,null,null,null,null,null,""]
[null,null,null,null,null,null,null,null,null,""]
[null,null,null,null,null,null,null,null,null,""]
[null,null,null,null,null,null,null,null,null,""]
[null,null,null,null,null,null,null,null,null,""]
[null,null,null,null,null,null,null,null,null,""]
[null,null,null,null,null,null,null,null,null,""]
[null,null,null,null,null,null,null,null,null,""]
[null,null,null,null,null,null,null,null,null,""]
[null,null,null,null,null,null,null,null,null,""]
[null,null,null,null,null,null,null,null,null,""]
[null,null,null,null,null,null,null,null,null,""]
[null,null,null,null,null,null,null,null,null,""]
[null,null,null,null,null,null,null,null,null,""]
[null,null,null,null,null,null,null,null,null,""]
[null,null,null,null,null,null,null,null,null,""]
[null,null,null,null,null,null,null,null,null,""]
[null,null,null,null,null,null,null,null,null,""]
[null,null,null,null,null,null,null,null,null,""]
[null,null,null,null,null,null,null,null,null,""]
[null,null,null,null,null,null,null,null,null,""]
[null,null,null,null,null,null,null,null,null,""]
[null,null,null,null,null,null,null,null,null,""]
[null,null,null,null,null,null,null,null,null,""]
[null,null,null,null,null,null,null,null,null,""]
[null,null,null,null,null,null,null,null,null,""]
[null,null,null,null,null,null,null,null,null,""]
[null,null,null,null,null,null,null,null,null,""]
[null,null,null,null,null,null,null,null,null,""]
[null,null,null,null,null,null,null,null,null,""]
[null,null,null,null,null,null,null,null,null,""]
[null,null,null,null,null,null,null,null,null,""]
[null,null,null,null,null,null,null,null,null,""]
[null,null,null,null,null,null,null,null,null,""]
[null,null,null,null,null,null,null,null,null,""]
[null,null,null,null,null,null,null,null,null,""]
[null,null,null,null,null,null,null,null,null,""]
[null,null,null,null,null,null,null,null,null,""]
[null,null,null,null,null,null,null,null,null,""]
[null,null,null,null,null,null,null,null,null,""]
[null,null,null,null,null,null,null,null,null,{"$f":"IF(B926=\"\",\"\",IF(B926>C926,\"HOT\",\"COLD\"))","v":""}]
[null,null,null,null,null,null,null,null,null,""]
[null,null,null,null,null,null,null,null,null,""]
[null,null,null,null,null,null,null,null,null,""]
[null,null,null,null,null,null,null,null,null,""]
[null,null,null,null,null,null,null,null,null,""]
[null,null,null,null,null,null,null,null,null,""]
[null,null,null,null,null,null,null,null,null,""]
[null,null,null,null,null,null,null,null,null,""]
[null,null,null,null,null,null,null,null,null,""]
[null,null,null,null,null,null,null,null,null,""]
[null,null,null,null,null,null,null,null,null,""]
[null,null,null,null,null,null,null,null,null,""]
[null,null,null,null,null,null,null,null,null,""]
[null,null,null,null,null,null,null,null,null,""]
[null,null,null,null,null,null,null,null,null,""]
[null,null,null,null,null,null,null,null,null,""]
[null,null,null,null,null,null,null,null,null,""]
[null,null,null,null,null,null,null,null,null,""]
[null,null,null,null,null,null,null,null,null,""]
[null,null,null,null,null,null,null,null,null,""]
[null,null,null,null,null,null,null,null,null,""]
[null,null,null,null,null,null,null,null,null,""]
[null,null,null,null,null,null,null,null,null,""]
[null,null,null,null,null,null,null,null,null,""]
[null,null,null,null,null,null,null,null,null,""]
[null,null,null,null,null,null,null,null,null,""]
[null,null,null,null,null,null,null,null,null,""]
[null,null,null,null,null,null,null,null,null,""]
[null,null,null,null,null,null,null,null,null,""]
[null,null,null,null,null,null,null,null,null,""]
[null,null,null,null,null,null,null,null,null,""]
[null,null,null,null,null,null,null,null,null,""]
[null,null,null,null,null,null,null,null,null,""]
[null,null,null,null,null,null,null,null,null,""]
[null,null,null,null,null,null,null,null,null,""]
[null,null,null,null,null,null,null,null,null,""]
[null,null,null,null,null,null,null,null,null,""]
[null,null,null,null,null,null,null,null,null,""]
[null,null,null,null,null,null,null,null,null,""]
[null,null,null,null,null,null,null,null,null,""]
[null,null,null,null,null,null,null,null,null,""]
[null,null,null,null,null,null,null,null,null,""]
[null,null,null,null,null,null,null,null,null,""]
[null,null,null,null,null,null,null,null,null,""]
[null,null,null,null,null,null,null,null,null,""]
[null,null,null,null,null,null,null,null,null,""]
[null,null,null,null,null,null,null,null,null,""]
[null,null,null,null,null,null,null,null,null,""]
[null,null,null,null,null,null,null,null,null,""]
[null,null,null,null,null,null,null,null,null,""]
[null,null,null,null,null,null,null,null,null,""]
[null,null,null,null,null,null,null,null,null,""]
[null,null,null,null,null,null,null,null,null,""]
[null,null,null,null,null,null,null,null,null,""]
[null,null,null,null,null,null,null,null,null,""]
[null,null,null,null,null,null,null,null,null,""]
[null,null,null,null,null,null,null,null,null,""]
[null,null,null,null,null,null,null,null,null,""]
[null,null,null,null,null,null,null,null,null,""]
[null,null,null,null,null,null,null,null,null,""]
[null,null,null,null,null,null,null,null,null,""]
[null,null,null,null,null,null,null,null,null,""]
[null,null,null,null,null,null,null,null,null,""]
[null,null,null,null,null,null,null,null,null,{"$f":"IF(B990=\"\",\"\",IF(B990>C990,\"HOT\",\"COLD\"))","v":""}]
[null,null,null,null,null,null,null,null,null,""]
[null,null,null,null,null,null,null,null,null,""]
[null,null,null,null,null,null,null,null,null,""]
[null,null,null,null,null,null,null,null,null,""]
[null,null,null,null,null,null,null,null,null,""]
[null,null,null,null,null,null,null,null,null,""]
[null,null,null,null,null,null,null,null,null,""]
[null,null,null,null,null,null,null,null,null,""]
[null,null,null,null,null,null,null,null,null,""]
[null,null,null,null,null,null,null,null,null,""]
[null,null,null,null,null,null,null,null,null,""]
[null,null,null,null,null,null,null,null,null,""]
[null,null,null,null,null,null,null,null,null,""]
[null,null,null,null,null,null,null,null,null,""]
[null,null,null,null,null,null,null,null,null,""]
[null,null,null,null,null,null,null,null,null,""]
[null,null,null,null,null,null,null,null,null,""]
[null,null,null,null,null,null,null,null,null,""]
[null,null,null,null,null,null,null,null,null,""]
[null,null,null,null,null,null,null,null,null,""]
[null,null,null,null,null,null,null,null,null,""]
[null,null,null,null,null,null,null,null,null,""]
[null,null,null,null,null,null,null,null,null,""]
[null,null,null,null,null,null,null,null,null,""]
[null,null,null,null,null,null,null,null,null,""]
[null,null,null,null,null,null,null,null,null,""]
[null,null,null,null,null,null,null,null,null,""]
[null,null,null,null,null,null,null,null,null,""]
[null,null,null,null,null,null,null,null,null,""]
[null,null,null,null,null,null,null,null,null,""]
[null,null,null,null,null,null,null,null,null,""]
[null,null,null,null,null,null,null,null,null,""]
[null,null,null,null,null,null,null,null,null,""]
[null,null,null,null,null,null,null,null,null,""]
[null,null,null,null,null,null,null,null,null,""]
[null,null,null,null,null,null,null,null,null,""]
[null,null,null,null,null,null,null,null,null,""]
[null,null,null,null,null,null,null,null,null,""]
[null,null,null,null,null,null,null,null,null,""]
[null,null,null,null,null,null,null,null,null,""]
[null,null,null,null,null,null,null,null,null,""]
[null,null,null,null,null,null,null,null,null,""]
[null,null,null,null,null,null,null,null,null,""]
[null,null,null,null,null,null,null,null,null,""]
[null,null,null,null,null,null,null,null,null,""]
[null,null,null,null,null,null,null,null,null,""]
[null,null,null,null,null,null,null,null,null,""]
[null,null,null,null,null,null,null,null,null,""]
[null,null,null,null,null,null,null,null,null,""]
[null,null,null,null,null,null,null,null,null,""]
[null,null,null,null,null,null,null,null,null,""]
[null,null,null,null,null,null,null,null,null,""]
[null,null,null,null,null,null,null,null,null,""]
[null,null,null,null,null,null,null,null,null,""]
[null,null,null,null,null,null,null,null,null,""]
[null,null,null,null,null,null,null,null,null,""]
[null,null,null,null,null,null,null,null,null,""]
[null,null,null,null,null,null,null,null,null,""]
[null,null,null,null,null,null,null,null,null,""]
[null,null,null,null,null,null,null,null,null,""]
[null,null,null,null,null,null,null,null,null,""]
[null,null,null,null,null,null,null,null,null,""]
[null,null,null,null,null,null,null,null,null,""]
[null,null,null,null,null,null,null,null,null,{"$f":"IF(B1054=\"\",\"\",IF(B1054>C1054,\"HOT\",\"COLD\"))","v":""}]
[null,null,null,null,null,null,null,null,null,""]
[null,null,null,null,null,null,null,null,null,""]
[null,null,null,null,null,null,null,null,null,""]
[null,null,null,null,null,null,null,null,null,""]
[null,null,null,null,null,null,null,null,null,""]
[null,null,null,null,null,null,null,null,null,""]
[null,null,null,null,null,null,null,null,null,""]
[null,null,null,null,null,null,null,null,null,""]
[null,null,null,null,null,null,null,null,null,""]
[null,null,null,null,null,null,null,null,null,""]
[null,null,null,null,null,null,null,null,null,""]
[null,null,null,null,null,null,null,null,null,""]
[null,null,null,null,null,null,null,null,null,""]
[null,null,null,null,null,null,null,null,null,""]
[null,null,null,null,null,null,null,null,null,""]
[null,null,null,null,null,null,null,null,null,""]
[null,null,null,null,null,null,null,null,null,""]
[null,null,null,null,null,null,null,null,null,""]
[null,null,null,null,null,null,null,null,null,""]
[null,null,null,null,null,null,null,null,null,""]
[null,null,null,null,null,null,null,null,null,""]
[null,null,null,null,null,null,null,null,null,""]
[null,null,null,null,null,null,null,null,null,""]
[null,null,null,null,null,null,null,null,null,""]
[null,null,null,null,null,null,null,null,null,""]
[null,null,null,null,null,null,null,null,null,""]
[null,null,null,null,null,null,null,null,null,""]
[null,null,null,null,null,null,null,null,null,""]
[null,null,null,null,null,null,null,null,null,""]
[null,null,null,null,null,null,null,null,null,""]
[null,null,null,null,null,null,null,null,null,""]
[null,null,null,null,null,null,null,null,null,""]
[null,null,null,null,null,null,null,null,null,""]
[null,null,null,null,null,null,null,null,null,""]
[null,null,null,null,null,null,null,null,null,""]
[null,null,null,null,null,null,null,null,null,""]
[null,null,null,null,null,null,null,null,null,""]
[null,null,null,null,null,null,null,null,null,""]
[null,null,null,null,null,null,null,null,null,""]
[null,null,null,null,null,null,null,null,null,""]
[null,null,null,null,null,null,null,null,null,""]
[null,null,null,null,null,null,null,null,null,""]
[null,null,null,null,null,null,null,null,null,""]
[null,null,null,null,null,null,null,null,null,""]
[null,null,null,null,null,null,null,null,null,""]
[null,null,null,null,null,null,null,null,null,""]
[null,null,null,null,null,null,null,null,null,""]
[null,null,null,null,null,null,null,null,null,""]
[null,null,null,null,null,null,null,null,null,""]
[null,null,null,null,null,null,null,null,null,""]
[null,null,null,null,null,null,null,null,null,""]
[null,null,null,null,null,null,null,null,null,""]
[null,null,null,null,null,null,null,null,null,""]
[null,null,null,null,null,null,null,null,null,""]
[null,null,null,null,null,null,null,null,null,""]
[null,null,null,null,null,null,null,null,null,""]
[null,null,null,null,null,null,null,null,null,""]
[null,null,null,null,null,null,null,null,null,""]
[null,null,null,null,null,null,null,null,null,""]
[null,null,null,null,null,null,null,null,null,""]
[null,null,null,null,null,null,null,null,null,""]
[null,null,null,null,null,null,null,null,null,""]
[null,null,null,null,null,null,null,null,null,""]
[null,null,null,null,null,null,null,null,null,{"$f":"IF(B1118=\"\",\"\",IF(B1118>C1118,\"HOT\",\"COLD\"))","v":""}]
[null,null,null,null,null,null,null,null,null,""]
[null,null,null,null,null,null,null,null,null,""]
[null,null,null,null,null,null,null,null,null,""]
[null,null,null,null,null,null,null,null,null,""]
[null,null,null,null,null,null,null,null,null,""]
[null,null,null,null,null,null,null,null,null,""]
[null,null,null,null,null,null,null,null,null,""]
[null,null,null,null,null,null,null,null,null,""]
[null,null,null,null,null,null,null,null,null,""]
[null,null,null,null,null,null,null,null,null,""]
[null,null,null,null,null,null,null,null,null,""]
[null,null,null,null,null,null,null,null,null,""]
[null,null,null,null,null,null,null,null,null,""]
[null,null,null,null,null,null,null,null,null,""]
[null,null,null,null,null,null,null,null,null,""]
[null,null,null,null,null,null,null,null,null,""]
[null,null,null,null,null,null,null,null,null,""]
[null,null,null,null,null,null,null,null,null,""]
[null,null,null,null,null,null,null,null,null,""]
[null,null,null,null,null,null,null,null,null,""]
[null,null,null,null,null,null,null,null,null,""]
[null,null,null,null,null,null,null,null,null,""]
[null,null,null,null,null,null,null,null,null,""]
[null,null,null,null,null,null,null,null,null,""]
[null,null,null,null,null,null,null,null,null,""]
[null,null,null,null,null,null,null,null,null,""]
[null,null,null,null,null,null,null,null,null,""]
[null,null,null,null,null,null,null,null,null,""]
[null,null,null,null,null,null,null,null,null,""]
[null,null,null,null,null,null,null,null,null,""]
[null,null,null,null,null,null,null,null,null,""]
[null,null,null,null,null,null,null,null,null,""]
[null,null,null,null,null,null,null,null,null,""]
[null,null,null,null,null,null,null,null,null,""]
[null,null,null,null,null,null,null,null,null,""]
[null,null,null,null,null,null,null,null,null,""]
[null,null,null,null,null,null,null,null,null,""]
[null,null,null,null,null,null,null,null,null,""]
[null,null,null,null,null,null,null,null,null,""]
[null,null,null,null,null,null,null,null,null,""]
[null,null,null,null,null,null,null,null,null,""]
[null,null,null,null,null,null,null,null,null,""]
[null,null,null,null,null,null,null,null,null,""]
[null,null,null,null,null,null,null,null,null,""]
[null,null,null,null,null,null,null,null,null,""]
[null,null,null,null,null,null,null,null,null,""]
[null,null,null,null,null,null,null,null,null,""]
[null,null,null,null,null,null,null,null,null,""]
[null,null,null,null,null,null,null,null,null,""]
[null,null,null,null,null,null,null,null,null,""]
[null,null,null,null,null,null,null,null,null,""]
[null,null,null,null,null,null,null,null,null,""]
[null,null,null,null,null,null,null,null,null,""]
[null,null,null,null,null,null,null,null,null,""]
[null,null,null,null,null,null,null,null,null,""]
[null,null,null,null,null,null,null,null,null,""]
[null,null,null,null,null,null,null,null,null,""]
[null,null,null,null,null,null,null,null,null,""]
[null,null,null,null,null,null,null,null,null,""]
[null,null,null,null,null,null,null,null,null,""]
[null,null,null,null,null,null,null,null,null,""]
[null,null,null,null,null,null,null,null,null,""]
[null,null,null,null,null,null,null,null,null,""]
[null,null,null,null,null,null,null,null,null,{"$f":"IF(B1182=\"\",\"\",IF(B1182>C1182,\"HOT\",\"COLD\"))","v":""}]
[null,null,null,null,null,null,null,null,null,""]
[null,null,null,null,null,null,null,null,null,""]
[null,null,null,null,null,null,null,null,null,""]
[null,null,null,null,null,null,null,null,null,""]
[null,null,null,null,null,null,null,null,null,""]
[null,null,null,null,null,null,null,null,null,""]
[null,null,null,null,null,null,null,null,null,""]
[null,null,null,null,null,null,null,null,null,""]
[null,null,null,null,null,null,null,null,null,""]
[null,null,null,null,null,null,null,null,null,""]
[null,null,null,null,null,null,null,null,null,""]
[null,null,null,null,null,null,null,null,null,""]
[null,null,null,null,null,null,null,null,null,""]
[null,null,null,null,null,null,null,null,null,""]
[null,null,null,null,null,null,null,null,null,""]
[null,null,null,null,null,null,null,null,null,""]
[null,null,null,null,null,null,null,null,null,""]
[null,null,null,null,null,null,null,null,null,""]
[null,null,null,null,null,null,null,null,null,""]
[null,null,null,null,null,null,null,null,null,""]
[null,null,null,null,null,null,null,null,null,""]
[null,null,null,null,null,null,null,null,null,""]
[null,null,null,null,null,null,null,null,null,""]
[null,null,null,null,null,null,null,null,null,""]
[null,null,null,null,null,null,null,null,null,""]
[null,null,null,null,null,null,null,null,null,""]
[null,null,null,null,null,null,null,null,null,""]
[null,null,null,null,null,null,null,null,null,""]
[null,null,null,null,null,null,null,null,null,""]
[null,null,null,null,null,null,null,null,null,""]
[null,null,null,null,null,null,null,null,null,""]
[null,null,null,null,null,null,null,null,null,""]
[null,null,null,null,null,null,null,null,null,""]
[null,null,null,null,null,null,null,null,null,""]
[null,null,null,null,null,null,null,null,null,""]
[null,null,null,null,null,null,null,null,null,""]
[null,null,null,null,null,null,null,null,null,""]
[null,null,null,null,null,null,null,null,null,""]
[null,null,null,null,null,null,null,null,null,""]
[null,null,null,null,null,null,null,null,null,""]
[null,null,null,null,null,null,null,null,null,""]
[null,null,null,null,null,null,null,null,null,""]
[null,null,null,null,null,null,null,null,null,""]
[null,null,null,null,null,null,null,null,null,""]
[null,null,null,null,null,null,null,null,null,""]
[null,null,null,null,null,null,null,null,null,""]
[null,null,null,null,null,null,null,null,null,""]
[null,null,null,null,null,null,null,null,null,""]
[null,null,null,null,null,null,null,null,null,""]
[null,null,null,null,null,null,null,null,null,""]
[null,null,null,null,null,null,null,null,null,""]
[null,null,null,null,null,null,null,null,null,""]
[null,null,null,null,null,null,null,null,null,""]
[null,null,null,null,null,null,null,null,null,""]
[null,null,null,null,null,null,null,null,null,""]
[null,null,null,null,null,null,null,null,null,""]
[null,null,null,null,null,null,null,null,null,""]
[null,null,null,null,null,null,null,null,null,""]
[null,null,null,null,null,null,null,null,null,""]
[null,null,null,null,null,null,null,null,null,""]
[null,null,null,null,null,null,null,null,null,""]
[null,null,null,null,null,null,null,null,null,""]
[null,null,null,null,null,null,null,null,null,""]
[null,null,null,null,null,null,null,null,null,{"$f":"IF(B1246=\"\",\"\",IF(B1246>C1246,\"HOT\",\"COLD\"))","v":""}]
[null,null,null,null,null,null,null,null,null,""]
[null,null,null,null,null,null,null,null,null,""]
[null,null,null,null,null,null,null,null,null,""]
[null,null,null,null,null,null,null,null,null,""]
[null,null,null,null,null,null,null,null,null,""]
[null,null,null,null,null,null,null,null,null,""]
[null,null,null,null,null,null,null,null,null,""]
[null,null,null,null,null,null,null,null,null,""]
[null,null,null,null,null,null,null,null,null,""]
[null,null,null,null,null,null,null,null,null,""]
[null,null,null,null,null,null,null,null,null,""]
[null,null,null,null,null,null,null,null,null,""]
[null,null,null,null,null,null,null,null,null,""]
[null,null,null,null,null,null,null,null,null,""]
[null,null,null,null,null,null,null,null,null,""]
[null,null,null,null,null,null,null,null,null,""]
[null,null,null,null,null,null,null,null,null,""]
[null,null,null,null,null,null,null,null,null,""]
[null,null,null,null,null,null,null,null,null,""]
[null,null,null,null,null,null,null,null,null,""]
[null,null,null,null,null,null,null,null,null,""]
[null,null,null,null,null,null,null,null,null,""]
[null,null,null,null,null,null,null,null,null,""]
[null,null,null,null,null,null,null,null,null,""]
[null,null,null,null,null,null,null,null,null,""]
[null,null,null,null,null,null,null,null,null,""]
[null,null,null,null,null,null,null,null,null,""]
[null,null,null,null,null,null,null,null,null,""]
[null,null,null,null,null,null,null,null,null,""]
[null,null,null,null,null,null,null,null,null,""]
[null,null,null,null,null,null,null,null,null,""]
[null,null,null,null,null,null,null,null,null,""]
[null,null,null,null,null,null,null,null,null,""]
[null,null,null,null,null,null,null,null,null,""]
[null,null,null,null,null,null,null,null,null,""]
[null,null,null,null,null,null,null,null,null,""]
[null,null,null,null,null,null,null,null,null,""]
[null,null,null,null,null,null,null,null,null,""]
[null,null,null,null,null,null,null,null,null,""]
[null,null,null,null,null,null,null,null,null,""]
[null,null,null,null,null,null,null,null,null,""]
[null,null,null,null,null,null,null,null,null,""]
[null,null,null,null,null,null,null,null,null,""]
[null,null,null,null,null,null,null,null,null,""]
[null,null,null,null,null,null,null,null,null,""]
[null,null,null,null,null,null,null,null,null,""]
[null,null,null,null,null,null,null,null,null,""]
[null,null,null,null,null,null,null,null,null,""]
[null,null,null,null,null,null,null,null,null,""]
[null,null,null,null,null,null,null,null,null,""]
[null,null,null,null,null,null,null,null,null,""]
[null,null,null,null,null,null,null,null,null,""]
[null,null,null,null,null,null,null,null,null,""]
[null,null,null,null,null,null,null,null,null,""]
[null,null,null,null,null,null,null,null,null,""]
[null,null,null,null,null,null,null,null,null,""]
[null,null,null,null,null,null,null,null,null,""]
[null,null,null,null,null,null,null,null,null,""]
[null,null,null,null,null,null,null,null,null,""]
[null,null,null,null,null,null,null,null,null,""]
[null,null,null,null,null,null,null,null,null,""]
[null,null,null,null,null,null,null,null,null,""]
[null,null,null,null,null,null,null,null,null,""]
[null,null,null,null,null,null,null,null,null,{"$f":"IF(B1310=\"\",\"\",IF(B1310>C1310,\"HOT\",\"COLD\"))","v":""}]
[null,null,null,null,null,null,null,null,null,""]
[null,null,null,null,null,null,null,null,null,""]
[null,null,null,null,null,null,null,null,null,""]
[null,null,null,null,null,null,null,null,null,""]
[null,null,null,null,null,null,null,null,null,""]
[null,null,null,null,null,null,null,null,null,""]
[null,null,null,null,null,null,null,null,null,""]
[null,null,null,null,null,null,null,null,null,""]
[null,null,null,null,null,null,null,null,null,""]
[null,null,null,null,null,null,null,null,null,""]
[null,null,null,null,null,null,null,null,null,""]
[null,null,null,null,null,null,null,null,null,""]
[null,null,null,null,null,null,null,null,null,""]
[null,null,null,null,null,null,null,null,null,""]
[null,null,null,null,null,null,null,null,null,""]
[null,null,null,null,null,null,null,null,null,""]
[null,null,null,null,null,null,null,null,null,""]
[null,null,null,null,null,null,null,null,null,""]
[null,null,null,null,null,null,null,null,null,""]
[null,null,null,null,null,null,null,null,null,""]
[null,null,null,null,null,null,null,null,null,""]
[null,null,null,null,null,null,null,null,null,""]
[null,null,null,null,null,null,null,null,null,""]
[null,null,null,null,null,null,null,null,null,""]
[null,null,null,null,null,null,null,null,null,""]
[null,null,null,null,null,null,null,null,null,""]
[null,null,null,null,null,null,null,null,null,""]
[null,null,null,null,null,null,null,null,null,""]
[null,null,null,null,null,null,null,null,null,""]
[null,null,null,null,null,null,null,null,null,""]
[null,null,null,null,null,null,null,null,null,""]
[null,null,null,null,null,null,null,null,null,""]
[null,null,null,null,null,null,null,null,null,""]
[null,null,null,null,null,null,null,null,null,""]
[null,null,null,null,null,null,null,null,null,""]
[null,null,null,null,null,null,null,null,null,""]
[null,null,null,null,null,null,null,null,null,""]
[null,null,null,null,null,null,null,null,null,""]
[null,null,null,null,null,null,null,null,null,""]
[null,null,null,null,null,null,null,null,null,""]
[null,null,null,null,null,null,null,null,null,""]
[null,null,null,null,null,null,null,null,null,""]
[null,null,null,null,null,null,null,null,null,""]
[null,null,null,null,null,null,null,null,null,""]
[null,null,null,null,null,null,null,null,null,""]
[null,null,null,null,null,null,null,null,null,""]
[null,null,null,null,null,null,null,null,null,""]
[null,null,null,null,null,null,null,null,null,""]
[null,null,null,null,null,null,null,null,null,""]
[null,null,null,null,null,null,null,null,null,""]
[null,null,null,null,null,null,null,null,null,""]
[null,null,null,null,null,null,null,null,null,""]
[null,null,null,null,null,null,null,null,null,""]
[null,null,null,null,null,null,null,null,null,""]
[null,null,null,null,null,null,null,null,null,""]
[null,null,null,null,null,null,null,null,null,""]
[null,null,null,null,null,null,null,null,null,""]
[null,null,null,null,null,null,null,null,null,""]
[null,null,null,null,null,null,null,null,null,""]
[null,null,null,null,null,null,null,null,null,""]
[null,null,null,null,null,null,null,null,null,""]
[null,null,null,null,null,null,null,null,null,""]
[null,null,null,null,null,null,null,null,null,""]
[null,null,null,null,null,null,null,null,null,{"$f":"IF(B1374=\"\",\"\",IF(B1374>C1374,\"HOT\",\"COLD\"))","v":""}]
[null,null,null,null,null,null,null,null,null,""]
[null,null,null,null,null,null,null,null,null,""]
[null,null,null,null,null,null,null,null,null,""]
[null,null,null,null,null,null,null,null,null,""]
[null,null,null,null,null,null,null,null,null,""]
[null,null,null,null,null,null,null,null,null,""]
[null,null,null,null,null,null,null,null,null,""]
[null,null,null,null,null,null,null,null,null,""]
[null,null,null,null,null,null,null,null,null,""]
[null,null,null,null,null,null,null,null,null,""]
[null,null,null,null,null,null,null,null,null,""]
[null,null,null,null,null,null,null,null,null,""]
[null,null,null,null,null,null,null,null,null,""]
[null,null,null,null,null,null,null,null,null,""]
[null,null,null,null,null,null,null,null,null,""]
[null,null,null,null,null,null,null,null,null,""]
[null,null,null,null,null,null,null,null,null,""]
[null,null,null,null,null,null,null,null,null,""]
[null,null,null,null,null,null,null,null,null,""]
[null,null,null,null,null,null,null,null,null,""]
[null,null,null,null,null,null,null,null,null,""]
[null,null,null,null,null,null,null,null,null,""]
[null,null,null,null,null,null,null,null,null,""]
[null,null,null,null,null,null,null,null,null,""]
[null,null,null,null,null,null,null,null,null,""]
[null,null,null,null,null,null,null,null,null,""]
[null,null,null,null,null,null,null,null,null,""]
[null,null,null,null,null,null,null,null,null,""]
[null,null,null,null,null,null,null,null,null,""]
[null,null,null,null,null,null,null,null,null,""]
[null,null,null,null,null,null,null,null,null,""]
[null,null,null,null,null,null,null,null,null,""]
[null,null,null,null,null,null,null,null,null,""]
[null,null,null,null,null,null,null,null,null,""]
[null,null,null,null,null,null,null,null,null,""]
[null,null,null,null,null,null,null,null,null,""]
[null,null,null,null,null,null,null,null,null,""]
[null,null,null,null,null,null,null,null,null,""]
[null,null,null,null,null,null,null,null,null,""]
[null,null,null,null,null,null,null,null,null,""]
[null,null,null,null,null,null,null,null,null,""]
[null,null,null,null,null,null,null,null,null,""]
[null,null,null,null,null,null,null,null,null,""]
[null,null,null,null,null,null,null,null,null,""]
[null,null,null,null,null,null,null,null,null,""]
[null,null,null,null,null,null,null,null,null,""]
[null,null,null,null,null,null,null,null,null,""]
[null,null,null,null,null,null,null,null,null,""]
[null,null,null,null,null,null,null,null,null,""]
[null,null,null,null,null,null,null,null,null,""]
[null,null,null,null,null,null,null,null,null,""]
[null,null,null,null,null,null,null,null,null,""]
[null,null,null,null,null,null,null,null,null,""]
[null,null,null,null,null,null,null,null,null,""]
[null,null,null,null,null,null,null,null,null,""]
[null,null,null,null,null,null,null,null,null,""]
[null,null,null,null,null,null,null,null,null,""]
[null,null,null,null,null,null,null,null,null,""]
[null,null,null,null,null,null,null,null,null,""]
[null,null,null,null,null,null,null,null,null,""]
[null,null,null,null,null,null,null,null,null,""]
[null,null,null,null,null,null,null,null,null,""]
[null,null,null,null,null,null,null,null,null,""]
[null,null,null,null,null,null,null,null,null,{"$f":"IF(B1438=\"\",\"\",IF(B1438>C1438,\"HOT\",\"COLD\"))","v":""}]
[null,null,null,null,null,null,null,null,null,""]
[null,null,null,null,null,null,null,null,null,""]
[null,null,null,null,null,null,null,null,null,""]
[null,null,null,null,null,null,null,null,null,""]
[null,null,null,null,null,null,null,null,null,""]
[null,null,null,null,null,null,null,null,null,""]
[null,null,null,null,null,null,null,null,null,""]
[null,null,null,null,null,null,null,null,null,""]
[null,null,null,null,null,null,null,null,null,""]
[null,null,null,null,null,null,null,null,null,""]
[null,null,null,null,null,null,null,null,null,""]
[null,null,null,null,null,null,null,null,null,""]
[null,null,null,null,null,null,null,null,null,""]
[null,null,null,null,null,null,null,null,null,""]
[null,null,null,null,null,null,null,null,null,""]
[null,null,null,null,null,null,null,null,null,""]
[null,null,null,null,null,null,null,null,null,""]
[null,null,null,null,null,null,null,null,null,""]
[null,null,null,null,null,null,null,null,null,""]
[null,null,null,null,null,null,null,null,null,""]
[null,null,null,null,null,null,null,null,null,""]
[null,null,null,null,null,null,null,null,null,""]
[null,null,null,null,null,null,null,null,null,""]
[null,null,null,null,null,null,null,null,null,""]
[null,null,null,null,null,null,null,null,null,""]
[null,null,null,null,null,null,null,null,null,""]
[null,null,null,null,null,null,null,null,null,""]
[null,null,null,null,null,null,null,null,null,""]
[null,null,null,null,null,null,null,null,null,""]
[null,null,null,null,null,null,null,null,null,""]
[null,null,null,null,null,null,null,null,null,""]
[null,null,null,null,null,null,null,null,null,""]
[null,null,null,null,null,null,null,null,null,""]
[null,null,null,null,null,null,null,null,null,""]
[null,null,null,null,null,null,null,null,null,""]
[null,null,null,null,null,null,null,null,null,""]
[null,null,null,null,null,null,null,null,null,""]
[null,null,null,null,null,null,null,null,null,""]
[null,null,null,null,null,null,null,null,null,""]
[null,null,null,null,null,null,null,null,null,""]
[null,null,null,null,null,null,null,null,null,""]
[null,null,null,null,null,null,null,null,null,""]
[null,null,null,null,null,null,null,null,null,""]
[null,null,null,null,null,null,null,null,null,""]
[null,null,null,null,null,null,null,null,null,""]
[null,null,null,null,null,null,null,null,null,""]
[null,null,null,null,null,null,null,null,null,""]
[null,null,null,null,null,null,null,null,null,""]
[null,null,null,null,null,null,null,null,null,""]
[null,null,null,null,null,null,null,null,null,""]
[null,null,null,null,null,null,null,null,null,""]
[null,null,null,null,null,null,null,null,null,""]
[null,null,null,null,null,null,null,null,null,""]
[null,null,null,null,null,null,null,null,null,""]
[null,null,null,null,null,null,null,null,null,""]
[null,null,null,null,null,null,null,null,null,""]
[null,null,null,null,null,null,null,null,null,""]
[null,null,null,null,null,null,null,null,null,""]
[null,null,null,null,null,null,null,null,null,""]
[null,null,null,null,null,null,null,null,null,""]
[null,null,null,null,null,null,null,null,null,""]
[null,null,null,null,null,null,null,null,null,""]
[null,null,null,null,null,null,null,null,null,""]
[null,null,null,null,null,null,null,null,null,{"$f":"IF(B1502=\"\",\"\",IF(B1502>C1502,\"HOT\",\"COLD\"))","v":""}]
[null,null,null,null,null,null,null,null,null,""]
[null,null,null,null,null,null,null,null,null,""]
[null,null,null,null,null,null,null,null,null,""]
[null,null,null,null,null,null,null,null,null,""]
[null,null,null,null,null,null,null,null,null,""]
[null,null,null,null,null,null,null,null,null,""]
[null,null,null,null,null,null,null,null,null,""]
[null,null,null,null,null,null,null,null,null,""]
[null,null,null,null,null,null,null,null,null,""]
[null,null,null,null,null,null,null,null,null,""]
[null,null,null,null,null,null,null,null,null,""]
[null,null,null,null,null,null,null,null,null,""]
[null,null,null,null,null,null,null,null,null,""]
[null,null,null,null,null,null,null,null,null,""]
[null,null,null,null,null,null,null,null,null,""]
[null,null,null,null,null,null,null,null,null,""]
[null,null,null,null,null,null,null,null,null,""]
[null,null,null,null,null,null,null,null,null,""]
[null,null,null,null,null,null,null,null,null,""]
[null,null,null,null,null,null,null,null,null,""]
[null,null,null,null,null,null,null,null,null,""]
[null,null,null,null,null,null,null,null,null,""]
[null,null,null,null,null,null,null,null,null,""]

{"sheet":"A2","index":13,"n_rows":106,"n_cols":13,"rows_kept":106,"cut":false,"hidden":false,"merged":[[2,11,2,12],[2,1,2,2],[2,3,2,4],[2,8,2,9],[2,6,2,7]]}
["A2. Plot Tables"]
[]
[null,"Cold Composite",null,"Shift Cold Composite",null,null,"Hot Composite",null,"Shift Hot Composite",null,null,"Grand Composite"]
[null,"Actual Temp","Heat Load","Shift Temp","Heat Load",null,"Actual Temp","Heat Load","Shift Temp","Heat Load",null,"Shift Temp","Net Heat Load"]
[null,{"$f":"'A1'!T3","v":"°C"},{"$f":"'A1'!T5","v":"kW"},{"$f":"'A1'!T3","v":"°C"},{"$f":"'A1'!T5","v":"kW"},null,{"$f":"'A1'!T3","v":"°C"},{"$f":"'A1'!T5","v":"kW"},{"$f":"'A1'!T3","v":"°C"},{"$f":"'A1'!T5","v":"kW"},null,{"$f":"'A1'!T3","v":"°C"},{"$f":"'A1'!T5","v":"kW"}]
[null,{"$f":"IF(AT!H5=\"\",NA(),AT!A5)","v":250},{"$f":"IF(AT!H5=\"\",NA(),AT!H5)","v":1240},{"$f":"IF(ST!H5=\"\",NA(),ST!A5)","v":260},{"$f":"IF(ST!H5=\"\",NA(),ST!H5)","v":1240},null,{"$f":"IF(AT!E5=\"\",NA(),AT!A5)","v":{"$error":"#N/A"}},{"$f":"IF(AT!E5=\"\",NA(),AT!E5)","v":{"$error":"#N/A"}},{"$f":"IF(ST!E5=\"\",NA(),ST!A5)","v":{"$error":"#N/A"}},{"$f":"IF(ST!E5=\"\",NA(),ST!E5)","v":{"$error":"#N/A"}},null,{"$f":"IF(PT!A5=\"\",NA(),PT!A5)","v":260},{"$f":"IF(PT!M5=\"\",NA(),PT!M5)","v":280}]
[null,{"$f":"IF(AT!H7=\"\",NA(),AT!A7)","v":240},{"$f":"IF(AT!H7=\"\",NA(),AT!H7)","v":1220},{"$f":"IF(ST!H7=\"\",NA(),ST!A7)","v":230},{"$f":"IF(ST!H7=\"\",NA(),ST!H7)","v":1180},null,{"$f":"IF(AT!E7=\"\",NA(),AT!A7)","v":240},{"$f":"IF(AT!E7=\"\",NA(),AT!E7)","v":960},{"$f":"IF(ST!E7=\"\",NA(),ST!A7)","v":230},{"$f":"IF(ST!E7=\"\",NA(),ST!E7)","v":960},null,{"$f":"IF(PT!A7=\"\",NA(),PT!A7)","v":230},{"$f":"IF(PT!M7=\"\",NA(),PT!M7)","v":220}]
[null,{"$f":"IF(AT!H9=\"\",NA(),AT!A9)","v":200},{"$f":"IF(AT!H9=\"\",NA(),AT!H9)","v":1140},{"$f":"IF(ST!H9=\"\",NA(),ST!A9)","v":210},{"$f":"IF(ST!H9=\"\",NA(),ST!H9)","v":1140},null,{"$f":"IF(AT!E9=\"\",NA(),AT!A9)","v":200},{"$f":"IF(AT!E9=\"\",NA(),AT!E9)","v":900},{"$f":"IF(ST!E9=\"\",NA(),ST!A9)","v":210},{"$f":"IF(ST!E9=\"\",NA(),ST!E9)","v":930},null,{"$f":"IF(PT!A9=\"\",NA(),PT!A9)","v":210},{"$f":"IF(PT!M9=\"\",NA(),PT!M9)","v":210}]
[null,{"$f":"IF(AT!H11=\"\",NA(),AT!A11)","v":120},{"$f":"IF(AT!H11=\"\",NA(),AT!H11)","v":660},{"$f":"IF(ST!H11=\"\",NA(),ST!A11)","v":190},{"$f":"IF(ST!H11=\"\",NA(),ST!H11)","v":1020},null,{"$f":"IF(AT!E11=\"\",NA(),AT!A11)","v":120},{"$f":"IF(AT!E11=\"\",NA(),AT!E11)","v":540},{"$f":"IF(ST!E11=\"\",NA(),ST!A11)","v":190},{"$f":"IF(ST!E11=\"\",NA(),ST!E11)","v":900},null,{"$f":"IF(PT!A11=\"\",NA(),PT!A11)","v":190},{"$f":"IF(PT!M11=\"\",NA(),PT!M11)","v":120}]
[null,{"$f":"IF(AT!H13=\"\",NA(),AT!A13)","v":119},{"$f":"IF(AT!H13=\"\",NA(),AT!H13)","v":654},{"$f":"IF(ST!H13=\"\",NA(),ST!A13)","v":110},{"$f":"IF(ST!H13=\"\",NA(),ST!H13)","v":540},null,{"$f":"IF(AT!E13=\"\",NA(),AT!A13)","v":119},{"$f":"IF(AT!E13=\"\",NA(),AT!E13)","v":235.5},{"$f":"IF(ST!E13=\"\",NA(),ST!A13)","v":110},{"$f":"IF(ST!E13=\"\",NA(),ST!E13)","v":540},null,{"$f":"IF(PT!A13=\"\",NA(),PT!A13)","v":110},{"$f":"IF(PT!M13=\"\",NA(),PT!M13)","v":0}]
[null,{"$f":"IF(AT!H15=\"\",NA(),AT!A15)","v":100},{"$f":"IF(AT!H15=\"\",NA(),AT!H15)","v":540},{"$f":"IF(ST!H15=\"\",NA(),ST!A15)","v":109},{"$f":"IF(ST!H15=\"\",NA(),ST!H15)","v":534},null,{"$f":"IF(AT!E15=\"\",NA(),AT!A15)","v":100},{"$f":"IF(AT!E15=\"\",NA(),AT!E15)","v":150},{"$f":"IF(ST!E15=\"\",NA(),ST!A15)","v":109},{"$f":"IF(ST!E15=\"\",NA(),ST!E15)","v":235.5},null,{"$f":"IF(PT!A15=\"\",NA(),PT!A15)","v":109},{"$f":"IF(PT!M15=\"\",NA(),PT!M15)","v":298.5}]
[null,{"$f":"IF(AT!H17=\"\",NA(),AT!A17)","v":50},{"$f":"IF(AT!H17=\"\",NA(),AT!H17)","v":240},{"$f":"IF(ST!H17=\"\",NA(),ST!A17)","v":90},{"$f":"IF(ST!H17=\"\",NA(),ST!H17)","v":420},null,{"$f":"IF(AT!E17=\"\",NA(),AT!A17)","v":50},{"$f":"IF(AT!E17=\"\",NA(),AT!E17)","v":0},{"$f":"IF(ST!E17=\"\",NA(),ST!A17)","v":90},{"$f":"IF(ST!E17=\"\",NA(),ST!E17)","v":150},null,{"$f":"IF(PT!A17=\"\",NA(),PT!A17)","v":90},{"$f":"IF(PT!M17=\"\",NA(),PT!M17)","v":270}]
[null,{"$f":"IF(AT!H19=\"\",NA(),AT!A19)","v":30},{"$f":"IF(AT!H19=\"\",NA(),AT!H19)","v":160},{"$f":"IF(ST!H19=\"\",NA(),ST!A19)","v":60},{"$f":"IF(ST!H19=\"\",NA(),ST!H19)","v":240},null,{"$f":"IF(AT!E19=\"\",NA(),AT!A19)","v":{"$error":"#N/A"}},{"$f":"IF(AT!E19=\"\",NA(),AT!E19)","v":{"$error":"#N/A"}},{"$f":"IF(ST!E19=\"\",NA(),ST!A19)","v":60},{"$f":"IF(ST!E19=\"\",NA(),ST!E19)","v":60},null,{"$f":"IF(PT!A19=\"\",NA(),PT!A19)","v":60},{"$f":"IF(PT!M19=\"\",NA(),PT!M19)","v":180}]
[null,{"$f":"IF(AT!H21=\"\",NA(),AT!A21)","v":{"$error":"#N/A"}},{"$f":"IF(AT!H21=\"\",NA(),AT!H21)","v":{"$error":"#N/A"}},{"$f":"IF(ST!H21=\"\",NA(),ST!A21)","v":40},{"$f":"IF(ST!H21=\"\",NA(),ST!H21)","v":160},null,{"$f":"IF(AT!E21=\"\",NA(),AT!A21)","v":{"$error":"#N/A"}},{"$f":"IF(AT!E21=\"\",NA(),AT!E21)","v":{"$error":"#N/A"}},{"$f":"IF(ST!E21=\"\",NA(),ST!A21)","v":40},{"$f":"IF(ST!E21=\"\",NA(),ST!E21)","v":0},null,{"$f":"IF(PT!A21=\"\",NA(),PT!A21)","v":40},{"$f":"IF(PT!M21=\"\",NA(),PT!M21)","v":160}]
[null,{"$f":"IF(AT!H23=\"\",NA(),AT!A23)","v":{"$error":"#N/A"}},{"$f":"IF(AT!H23=\"\",NA(),AT!H23)","v":{"$error":"#N/A"}},{"$f":"IF(ST!H23=\"\",NA(),ST!A23)","v":{"$error":"#N/A"}},{"$f":"IF(ST!H23=\"\",NA(),ST!H23)","v":{"$error":"#N/A"}},null,{"$f":"IF(AT!E23=\"\",NA(),AT!A23)","v":{"$error":"#N/A"}},{"$f":"IF(AT!E23=\"\",NA(),AT!E23)","v":{"$error":"#N/A"}},{"$f":"IF(ST!E23=\"\",NA(),ST!A23)","v":{"$error":"#N/A"}},{"$f":"IF(ST!E23=\"\",NA(),ST!E23)","v":{"$error":"#N/A"}},null,{"$f":"IF(PT!A23=\"\",NA(),PT!A23)","v":{"$error":"#N/A"}},{"$f":"IF(PT!M23=\"\",NA(),PT!M23)","v":{"$error":"#N/A"}}]
[null,{"$f":"IF(AT!H25=\"\",NA(),AT!A25)","v":{"$error":"#N/A"}},{"$f":"IF(AT!H25=\"\",NA(),AT!H25)","v":{"$error":"#N/A"}},{"$f":"IF(ST!H25=\"\",NA(),ST!A25)","v":{"$error":"#N/A"}},{"$f":"IF(ST!H25=\"\",NA(),ST!H25)","v":{"$error":"#N/A"}},null,{"$f":"IF(AT!E25=\"\",NA(),AT!A25)","v":{"$error":"#N/A"}},{"$f":"IF(AT!E25=\"\",NA(),AT!E25)","v":{"$error":"#N/A"}},{"$f":"IF(ST!E25=\"\",NA(),ST!A25)","v":{"$error":"#N/A"}},{"$f":"IF(ST!E25=\"\",NA(),ST!E25)","v":{"$error":"#N/A"}},null,{"$f":"IF(PT!A25=\"\",NA(),PT!A25)","v":{"$error":"#N/A"}},{"$f":"IF(PT!M25=\"\",NA(),PT!M25)","v":{"$error":"#N/A"}}]
[null,{"$f":"IF(AT!H27=\"\",NA(),AT!A27)","v":{"$error":"#N/A"}},{"$f":"IF(AT!H27=\"\",NA(),AT!H27)","v":{"$error":"#N/A"}},{"$f":"IF(ST!H27=\"\",NA(),ST!A27)","v":{"$error":"#N/A"}},{"$f":"IF(ST!H27=\"\",NA(),ST!H27)","v":{"$error":"#N/A"}},null,{"$f":"IF(AT!E27=\"\",NA(),AT!A27)","v":{"$error":"#N/A"}},{"$f":"IF(AT!E27=\"\",NA(),AT!E27)","v":{"$error":"#N/A"}},{"$f":"IF(ST!E27=\"\",NA(),ST!A27)","v":{"$error":"#N/A"}},{"$f":"IF(ST!E27=\"\",NA(),ST!E27)","v":{"$error":"#N/A"}},null,{"$f":"IF(PT!A27=\"\",NA(),PT!A27)","v":{"$error":"#N/A"}},{"$f":"IF(PT!M27=\"\",NA(),PT!M27)","v":{"$error":"#N/A"}}]
[null,{"$f":"IF(AT!H29=\"\",NA(),AT!A29)","v":{"$error":"#N/A"}},{"$f":"IF(AT!H29=\"\",NA(),AT!H29)","v":{"$error":"#N/A"}},{"$f":"IF(ST!H29=\"\",NA(),ST!A29)","v":{"$error":"#N/A"}},{"$f":"IF(ST!H29=\"\",NA(),ST!H29)","v":{"$error":"#N/A"}},null,{"$f":"IF(AT!E29=\"\",NA(),AT!A29)","v":{"$error":"#N/A"}},{"$f":"IF(AT!E29=\"\",NA(),AT!E29)","v":{"$error":"#N/A"}},{"$f":"IF(ST!E29=\"\",NA(),ST!A29)","v":{"$error":"#N/A"}},{"$f":"IF(ST!E29=\"\",NA(),ST!E29)","v":{"$error":"#N/A"}},null,{"$f":"IF(PT!A29=\"\",NA(),PT!A29)","v":{"$error":"#N/A"}},{"$f":"IF(PT!M29=\"\",NA(),PT!M29)","v":{"$error":"#N/A"}}]
[null,{"$f":"IF(AT!H31=\"\",NA(),AT!A31)","v":{"$error":"#N/A"}},{"$f":"IF(AT!H31=\"\",NA(),AT!H31)","v":{"$error":"#N/A"}},{"$f":"IF(ST!H31=\"\",NA(),ST!A31)","v":{"$error":"#N/A"}},{"$f":"IF(ST!H31=\"\",NA(),ST!H31)","v":{"$error":"#N/A"}},null,{"$f":"IF(AT!E31=\"\",NA(),AT!A31)","v":{"$error":"#N/A"}},{"$f":"IF(AT!E31=\"\",NA(),AT!E31)","v":{"$error":"#N/A"}},{"$f":"IF(ST!E31=\"\",NA(),ST!A31)","v":{"$error":"#N/A"}},{"$f":"IF(ST!E31=\"\",NA(),ST!E31)","v":{"$error":"#N/A"}},null,{"$f":"IF(PT!A31=\"\",NA(),PT!A31)","v":{"$error":"#N/A"}},{"$f":"IF(PT!M31=\"\",NA(),PT!M31)","v":{"$error":"#N/A"}}]
[null,{"$f":"IF(AT!H33=\"\",NA(),AT!A33)","v":{"$error":"#N/A"}},{"$f":"IF(AT!H33=\"\",NA(),AT!H33)","v":{"$error":"#N/A"}},{"$f":"IF(ST!H33=\"\",NA(),ST!A33)","v":{"$error":"#N/A"}},{"$f":"IF(ST!H33=\"\",NA(),ST!H33)","v":{"$error":"#N/A"}},null,{"$f":"IF(AT!E33=\"\",NA(),AT!A33)","v":{"$error":"#N/A"}},{"$f":"IF(AT!E33=\"\",NA(),AT!E33)","v":{"$error":"#N/A"}},{"$f":"IF(ST!E33=\"\",NA(),ST!A33)","v":{"$error":"#N/A"}},{"$f":"IF(ST!E33=\"\",NA(),ST!E33)","v":{"$error":"#N/A"}},null,{"$f":"IF(PT!A33=\"\",NA(),PT!A33)","v":{"$error":"#N/A"}},{"$f":"IF(PT!M33=\"\",NA(),PT!M33)","v":{"$error":"#N/A"}}]
[null,{"$f":"IF(AT!H35=\"\",NA(),AT!A35)","v":{"$error":"#N/A"}},{"$f":"IF(AT!H35=\"\",NA(),AT!H35)","v":{"$error":"#N/A"}},{"$f":"IF(ST!H35=\"\",NA(),ST!A35)","v":{"$error":"#N/A"}},{"$f":"IF(ST!H35=\"\",NA(),ST!H35)","v":{"$error":"#N/A"}},null,{"$f":"IF(AT!E35=\"\",NA(),AT!A35)","v":{"$error":"#N/A"}},{"$f":"IF(AT!E35=\"\",NA(),AT!E35)","v":{"$error":"#N/A"}},{"$f":"IF(ST!E35=\"\",NA(),ST!A35)","v":{"$error":"#N/A"}},{"$f":"IF(ST!E35=\"\",NA(),ST!E35)","v":{"$error":"#N/A"}},null,{"$f":"IF(PT!A35=\"\",NA(),PT!A35)","v":{"$error":"#N/A"}},{"$f":"IF(PT!M35=\"\",NA(),PT!M35)","v":{"$error":"#N/A"}}]
[null,{"$f":"IF(AT!H37=\"\",NA(),AT!A37)","v":{"$error":"#N/A"}},{"$f":"IF(AT!H37=\"\",NA(),AT!H37)","v":{"$error":"#N/A"}},{"$f":"IF(ST!H37=\"\",NA(),ST!A37)","v":{"$error":"#N/A"}},{"$f":"IF(ST!H37=\"\",NA(),ST!H37)","v":{"$error":"#N/A"}},null,{"$f":"IF(AT!E37=\"\",NA(),AT!A37)","v":{"$error":"#N/A"}},{"$f":"IF(AT!E37=\"\",NA(),AT!E37)","v":{"$error":"#N/A"}},{"$f":"IF(ST!E37=\"\",NA(),ST!A37)","v":{"$error":"#N/A"}},{"$f":"IF(ST!E37=\"\",NA(),ST!E37)","v":{"$error":"#N/A"}},null,{"$f":"IF(PT!A37=\"\",NA(),PT!A37)","v":{"$error":"#N/A"}},{"$f":"IF(PT!M37=\"\",NA(),PT!M37)","v":{"$error":"#N/A"}}]
[null,{"$f":"IF(AT!H39=\"\",NA(),AT!A39)","v":{"$error":"#N/A"}},{"$f":"IF(AT!H39=\"\",NA(),AT!H39)","v":{"$error":"#N/A"}},{"$f":"IF(ST!H39=\"\",NA(),ST!A39)","v":{"$error":"#N/A"}},{"$f":"IF(ST!H39=\"\",NA(),ST!H39)","v":{"$error":"#N/A"}},null,{"$f":"IF(AT!E39=\"\",NA(),AT!A39)","v":{"$error":"#N/A"}},{"$f":"IF(AT!E39=\"\",NA(),AT!E39)","v":{"$error":"#N/A"}},{"$f":"IF(ST!E39=\"\",NA(),ST!A39)","v":{"$error":"#N/A"}},{"$f":"IF(ST!E39=\"\",NA(),ST!E39)","v":{"$error":"#N/A"}},null,{"$f":"IF(PT!A39=\"\",NA(),PT!A39)","v":{"$error":"#N/A"}},{"$f":"IF(PT!M39=\"\",NA(),PT!M39)","v":{"$error":"#N/A"}}]
[null,{"$f":"IF(AT!H41=\"\",NA(),AT!A41)","v":{"$error":"#N/A"}},{"$f":"IF(AT!H41=\"\",NA(),AT!H41)","v":{"$error":"#N/A"}},{"$f":"IF(ST!H41=\"\",NA(),ST!A41)","v":{"$error":"#N/A"}},{"$f":"IF(ST!H41=\"\",NA(),ST!H41)","v":{"$error":"#N/A"}},null,{"$f":"IF(AT!E41=\"\",NA(),AT!A41)","v":{"$error":"#N/A"}},{"$f":"IF(AT!E41=\"\",NA(),AT!E41)","v":{"$error":"#N/A"}},{"$f":"IF(ST!E41=\"\",NA(),ST!A41)","v":{"$error":"#N/A"}},{"$f":"IF(ST!E41=\"\",NA(),ST!E41)","v":{"$error":"#N/A"}},null,{"$f":"IF(PT!A41=\"\",NA(),PT!A41)","v":{"$error":"#N/A"}},{"$f":"IF(PT!M41=\"\",NA(),PT!M41)","v":{"$error":"#N/A"}}]
[null,{"$f":"IF(AT!H43=\"\",NA(),AT!A43)","v":{"$error":"#N/A"}},{"$f":"IF(AT!H43=\"\",NA(),AT!H43)","v":{"$error":"#N/A"}},{"$f":"IF(ST!H43=\"\",NA(),ST!A43)","v":{"$error":"#N/A"}},{"$f":"IF(ST!H43=\"\",NA(),ST!H43)","v":{"$error":"#N/A"}},null,{"$f":"IF(AT!E43=\"\",NA(),AT!A43)","v":{"$error":"#N/A"}},{"$f":"IF(AT!E43=\"\",NA(),AT!E43)","v":{"$error":"#N/A"}},{"$f":"IF(ST!E43=\"\",NA(),ST!A43)","v":{"$error":"#N/A"}},{"$f":"IF(ST!E43=\"\",NA(),ST!E43)","v":{"$error":"#N/A"}},null,{"$f":"IF(PT!A43=\"\",NA(),PT!A43)","v":{"$error":"#N/A"}},{"$f":"IF(PT!M43=\"\",NA(),PT!M43)","v":{"$error":"#N/A"}}]
[null,{"$f":"IF(AT!H45=\"\",NA(),AT!A45)","v":{"$error":"#N/A"}},{"$f":"IF(AT!H45=\"\",NA(),AT!H45)","v":{"$error":"#N/A"}},{"$f":"IF(ST!H45=\"\",NA(),ST!A45)","v":{"$error":"#N/A"}},{"$f":"IF(ST!H45=\"\",NA(),ST!H45)","v":{"$error":"#N/A"}},null,{"$f":"IF(AT!E45=\"\",NA(),AT!A45)","v":{"$error":"#N/A"}},{"$f":"IF(AT!E45=\"\",NA(),AT!E45)","v":{"$error":"#N/A"}},{"$f":"IF(ST!E45=\"\",NA(),ST!A45)","v":{"$error":"#N/A"}},{"$f":"IF(ST!E45=\"\",NA(),ST!E45)","v":{"$error":"#N/A"}},null,{"$f":"IF(PT!A45=\"\",NA(),PT!A45)","v":{"$error":"#N/A"}},{"$f":"IF(PT!M45=\"\",NA(),PT!M45)","v":{"$error":"#N/A"}}]
[null,{"$f":"IF(AT!H47=\"\",NA(),AT!A47)","v":{"$error":"#N/A"}},{"$f":"IF(AT!H47=\"\",NA(),AT!H47)","v":{"$error":"#N/A"}},{"$f":"IF(ST!H47=\"\",NA(),ST!A47)","v":{"$error":"#N/A"}},{"$f":"IF(ST!H47=\"\",NA(),ST!H47)","v":{"$error":"#N/A"}},null,{"$f":"IF(AT!E47=\"\",NA(),AT!A47)","v":{"$error":"#N/A"}},{"$f":"IF(AT!E47=\"\",NA(),AT!E47)","v":{"$error":"#N/A"}},{"$f":"IF(ST!E47=\"\",NA(),ST!A47)","v":{"$error":"#N/A"}},{"$f":"IF(ST!E47=\"\",NA(),ST!E47)","v":{"$error":"#N/A"}},null,{"$f":"IF(PT!A47=\"\",NA(),PT!A47)","v":{"$error":"#N/A"}},{"$f":"IF(PT!M47=\"\",NA(),PT!M47)","v":{"$error":"#N/A"}}]
[null,{"$f":"IF(AT!H49=\"\",NA(),AT!A49)","v":{"$error":"#N/A"}},{"$f":"IF(AT!H49=\"\",NA(),AT!H49)","v":{"$error":"#N/A"}},{"$f":"IF(ST!H49=\"\",NA(),ST!A49)","v":{"$error":"#N/A"}},{"$f":"IF(ST!H49=\"\",NA(),ST!H49)","v":{"$error":"#N/A"}},null,{"$f":"IF(AT!E49=\"\",NA(),AT!A49)","v":{"$error":"#N/A"}},{"$f":"IF(AT!E49=\"\",NA(),AT!E49)","v":{"$error":"#N/A"}},{"$f":"IF(ST!E49=\"\",NA(),ST!A49)","v":{"$error":"#N/A"}},{"$f":"IF(ST!E49=\"\",NA(),ST!E49)","v":{"$error":"#N/A"}},null,{"$f":"IF(PT!A49=\"\",NA(),PT!A49)","v":{"$error":"#N/A"}},{"$f":"IF(PT!M49=\"\",NA(),PT!M49)","v":{"$error":"#N/A"}}]
[null,{"$f":"IF(AT!H51=\"\",NA(),AT!A51)","v":{"$error":"#N/A"}},{"$f":"IF(AT!H51=\"\",NA(),AT!H51)","v":{"$error":"#N/A"}},{"$f":"IF(ST!H51=\"\",NA(),ST!A51)","v":{"$error":"#N/A"}},{"$f":"IF(ST!H51=\"\",NA(),ST!H51)","v":{"$error":"#N/A"}},null,{"$f":"IF(AT!E51=\"\",NA(),AT!A51)","v":{"$error":"#N/A"}},{"$f":"IF(AT!E51=\"\",NA(),AT!E51)","v":{"$error":"#N/A"}},{"$f":"IF(ST!E51=\"\",NA(),ST!A51)","v":{"$error":"#N/A"}},{"$f":"IF(ST!E51=\"\",NA(),ST!E51)","v":{"$error":"#N/A"}},null,{"$f":"IF(PT!A51=\"\",NA(),PT!A51)","v":{"$error":"#N/A"}},{"$f":"IF(PT!M51=\"\",NA(),PT!M51)","v":{"$error":"#N/A"}}]
[null,{"$f":"IF(AT!H53=\"\",NA(),AT!A53)","v":{"$error":"#N/A"}},{"$f":"IF(AT!H53=\"\",NA(),AT!H53)","v":{"$error":"#N/A"}},{"$f":"IF(ST!H53=\"\",NA(),ST!A53)","v":{"$error":"#N/A"}},{"$f":"IF(ST!H53=\"\",NA(),ST!H53)","v":{"$error":"#N/A"}},null,{"$f":"IF(AT!E53=\"\",NA(),AT!A53)","v":{"$error":"#N/A"}},{"$f":"IF(AT!E53=\"\",NA(),AT!E53)","v":{"$error":"#N/A"}},{"$f":"IF(ST!E53=\"\",NA(),ST!A53)","v":{"$error":"#N/A"}},{"$f":"IF(ST!E53=\"\",NA(),ST!E53)","v":{"$error":"#N/A"}},null,{"$f":"IF(PT!A53=\"\",NA(),PT!A53)","v":{"$error":"#N/A"}},{"$f":"IF(PT!M53=\"\",NA(),PT!M53)","v":{"$error":"#N/A"}}]
[null,{"$f":"IF(AT!H55=\"\",NA(),AT!A55)","v":{"$error":"#N/A"}},{"$f":"IF(AT!H55=\"\",NA(),AT!H55)","v":{"$error":"#N/A"}},{"$f":"IF(ST!H55=\"\",NA(),ST!A55)","v":{"$error":"#N/A"}},{"$f":"IF(ST!H55=\"\",NA(),ST!H55)","v":{"$error":"#N/A"}},null,{"$f":"IF(AT!E55=\"\",NA(),AT!A55)","v":{"$error":"#N/A"}},{"$f":"IF(AT!E55=\"\",NA(),AT!E55)","v":{"$error":"#N/A"}},{"$f":"IF(ST!E55=\"\",NA(),ST!A55)","v":{"$error":"#N/A"}},{"$f":"IF(ST!E55=\"\",NA(),ST!E55)","v":{"$error":"#N/A"}},null,{"$f":"IF(PT!A55=\"\",NA(),PT!A55)","v":{"$error":"#N/A"}},{"$f":"IF(PT!M55=\"\",NA(),PT!M55)","v":{"$error":"#N/A"}}]
[null,{"$f":"IF(AT!H57=\"\",NA(),AT!A57)","v":{"$error":"#N/A"}},{"$f":"IF(AT!H57=\"\",NA(),AT!H57)","v":{"$error":"#N/A"}},{"$f":"IF(ST!H57=\"\",NA(),ST!A57)","v":{"$error":"#N/A"}},{"$f":"IF(ST!H57=\"\",NA(),ST!H57)","v":{"$error":"#N/A"}},null,{"$f":"IF(AT!E57=\"\",NA(),AT!A57)","v":{"$error":"#N/A"}},{"$f":"IF(AT!E57=\"\",NA(),AT!E57)","v":{"$error":"#N/A"}},{"$f":"IF(ST!E57=\"\",NA(),ST!A57)","v":{"$error":"#N/A"}},{"$f":"IF(ST!E57=\"\",NA(),ST!E57)","v":{"$error":"#N/A"}},null,{"$f":"IF(PT!A57=\"\",NA(),PT!A57)","v":{"$error":"#N/A"}},{"$f":"IF(PT!M57=\"\",NA(),PT!M57)","v":{"$error":"#N/A"}}]
[null,{"$f":"IF(AT!H59=\"\",NA(),AT!A59)","v":{"$error":"#N/A"}},{"$f":"IF(AT!H59=\"\",NA(),AT!H59)","v":{"$error":"#N/A"}},{"$f":"IF(ST!H59=\"\",NA(),ST!A59)","v":{"$error":"#N/A"}},{"$f":"IF(ST!H59=\"\",NA(),ST!H59)","v":{"$error":"#N/A"}},null,{"$f":"IF(AT!E59=\"\",NA(),AT!A59)","v":{"$error":"#N/A"}},{"$f":"IF(AT!E59=\"\",NA(),AT!E59)","v":{"$error":"#N/A"}},{"$f":"IF(ST!E59=\"\",NA(),ST!A59)","v":{"$error":"#N/A"}},{"$f":"IF(ST!E59=\"\",NA(),ST!E59)","v":{"$error":"#N/A"}},null,{"$f":"IF(PT!A59=\"\",NA(),PT!A59)","v":{"$error":"#N/A"}},{"$f":"IF(PT!M59=\"\",NA(),PT!M59)","v":{"$error":"#N/A"}}]
[null,{"$f":"IF(AT!H61=\"\",NA(),AT!A61)","v":{"$error":"#N/A"}},{"$f":"IF(AT!H61=\"\",NA(),AT!H61)","v":{"$error":"#N/A"}},{"$f":"IF(ST!H61=\"\",NA(),ST!A61)","v":{"$error":"#N/A"}},{"$f":"IF(ST!H61=\"\",NA(),ST!H61)","v":{"$error":"#N/A"}},null,{"$f":"IF(AT!E61=\"\",NA(),AT!A61)","v":{"$error":"#N/A"}},{"$f":"IF(AT!E61=\"\",NA(),AT!E61)","v":{"$error":"#N/A"}},{"$f":"IF(ST!E61=\"\",NA(),ST!A61)","v":{"$error":"#N/A"}},{"$f":"IF(ST!E61=\"\",NA(),ST!E61)","v":{"$error":"#N/A"}},null,{"$f":"IF(PT!A61=\"\",NA(),PT!A61)","v":{"$error":"#N/A"}},{"$f":"IF(PT!M61=\"\",NA(),PT!M61)","v":{"$error":"#N/A"}}]
[null,{"$f":"IF(AT!H63=\"\",NA(),AT!A63)","v":{"$error":"#N/A"}},{"$f":"IF(AT!H63=\"\",NA(),AT!H63)","v":{"$error":"#N/A"}},{"$f":"IF(ST!H63=\"\",NA(),ST!A63)","v":{"$error":"#N/A"}},{"$f":"IF(ST!H63=\"\",NA(),ST!H63)","v":{"$error":"#N/A"}},null,{"$f":"IF(AT!E63=\"\",NA(),AT!A63)","v":{"$error":"#N/A"}},{"$f":"IF(AT!E63=\"\",NA(),AT!E63)","v":{"$error":"#N/A"}},{"$f":"IF(ST!E63=\"\",NA(),ST!A63)","v":{"$error":"#N/A"}},{"$f":"IF(ST!E63=\"\",NA(),ST!E63)","v":{"$error":"#N/A"}},null,{"$f":"IF(PT!A63=\"\",NA(),PT!A63)","v":{"$error":"#N/A"}},{"$f":"IF(PT!M63=\"\",NA(),PT!M63)","v":{"$error":"#N/A"}}]
[null,{"$f":"IF(AT!H65=\"\",NA(),AT!A65)","v":{"$error":"#N/A"}},{"$f":"IF(AT!H65=\"\",NA(),AT!H65)","v":{"$error":"#N/A"}},{"$f":"IF(ST!H65=\"\",NA(),ST!A65)","v":{"$error":"#N/A"}},{"$f":"IF(ST!H65=\"\",NA(),ST!H65)","v":{"$error":"#N/A"}},null,{"$f":"IF(AT!E65=\"\",NA(),AT!A65)","v":{"$error":"#N/A"}},{"$f":"IF(AT!E65=\"\",NA(),AT!E65)","v":{"$error":"#N/A"}},{"$f":"IF(ST!E65=\"\",NA(),ST!A65)","v":{"$error":"#N/A"}},{"$f":"IF(ST!E65=\"\",NA(),ST!E65)","v":{"$error":"#N/A"}},null,{"$f":"IF(PT!A65=\"\",NA(),PT!A65)","v":{"$error":"#N/A"}},{"$f":"IF(PT!M65=\"\",NA(),PT!M65)","v":{"$error":"#N/A"}}]
[null,{"$f":"IF(AT!H67=\"\",NA(),AT!A67)","v":{"$error":"#N/A"}},{"$f":"IF(AT!H67=\"\",NA(),AT!H67)","v":{"$error":"#N/A"}},{"$f":"IF(ST!H67=\"\",NA(),ST!A67)","v":{"$error":"#N/A"}},{"$f":"IF(ST!H67=\"\",NA(),ST!H67)","v":{"$error":"#N/A"}},null,{"$f":"IF(AT!E67=\"\",NA(),AT!A67)","v":{"$error":"#N/A"}},{"$f":"IF(AT!E67=\"\",NA(),AT!E67)","v":{"$error":"#N/A"}},{"$f":"IF(ST!E67=\"\",NA(),ST!A67)","v":{"$error":"#N/A"}},{"$f":"IF(ST!E67=\"\",NA(),ST!E67)","v":{"$error":"#N/A"}},null,{"$f":"IF(PT!A67=\"\",NA(),PT!A67)","v":{"$error":"#N/A"}},{"$f":"IF(PT!M67=\"\",NA(),PT!M67)","v":{"$error":"#N/A"}}]
[null,{"$f":"IF(AT!H69=\"\",NA(),AT!A69)","v":{"$error":"#N/A"}},{"$f":"IF(AT!H69=\"\",NA(),AT!H69)","v":{"$error":"#N/A"}},{"$f":"IF(ST!H69=\"\",NA(),ST!A69)","v":{"$error":"#N/A"}},{"$f":"IF(ST!H69=\"\",NA(),ST!H69)","v":{"$error":"#N/A"}},null,{"$f":"IF(AT!E69=\"\",NA(),AT!A69)","v":{"$error":"#N/A"}},{"$f":"IF(AT!E69=\"\",NA(),AT!E69)","v":{"$error":"#N/A"}},{"$f":"IF(ST!E69=\"\",NA(),ST!A69)","v":{"$error":"#N/A"}},{"$f":"IF(ST!E69=\"\",NA(),ST!E69)","v":{"$error":"#N/A"}},null,{"$f":"IF(PT!A69=\"\",NA(),PT!A69)","v":{"$error":"#N/A"}},{"$f":"IF(PT!M69=\"\",NA(),PT!M69)","v":{"$error":"#N/A"}}]
[null,{"$f":"IF(AT!H71=\"\",NA(),AT!A71)","v":{"$error":"#N/A"}},{"$f":"IF(AT!H71=\"\",NA(),AT!H71)","v":{"$error":"#N/A"}},{"$f":"IF(ST!H71=\"\",NA(),ST!A71)","v":{"$error":"#N/A"}},{"$f":"IF(ST!H71=\"\",NA(),ST!H71)","v":{"$error":"#N/A"}},null,{"$f":"IF(AT!E71=\"\",NA(),AT!A71)","v":{"$error":"#N/A"}},{"$f":"IF(AT!E71=\"\",NA(),AT!E71)","v":{"$error":"#N/A"}},{"$f":"IF(ST!E71=\"\",NA(),ST!A71)","v":{"$error":"#N/A"}},{"$f":"IF(ST!E71=\"\",NA(),ST!E71)","v":{"$error":"#N/A"}},null,{"$f":"IF(PT!A71=\"\",NA(),PT!A71)","v":{"$error":"#N/A"}},{"$f":"IF(PT!M71=\"\",NA(),PT!M71)","v":{"$error":"#N/A"}}]
[null,{"$f":"IF(AT!H73=\"\",NA(),AT!A73)","v":{"$error":"#N/A"}},{"$f":"IF(AT!H73=\"\",NA(),AT!H73)","v":{"$error":"#N/A"}},{"$f":"IF(ST!H73=\"\",NA(),ST!A73)","v":{"$error":"#N/A"}},{"$f":"IF(ST!H73=\"\",NA(),ST!H73)","v":{"$error":"#N/A"}},null,{"$f":"IF(AT!E73=\"\",NA(),AT!A73)","v":{"$error":"#N/A"}},{"$f":"IF(AT!E73=\"\",NA(),AT!E73)","v":{"$error":"#N/A"}},{"$f":"IF(ST!E73=\"\",NA(),ST!A73)","v":{"$error":"#N/A"}},{"$f":"IF(ST!E73=\"\",NA(),ST!E73)","v":{"$error":"#N/A"}},null,{"$f":"IF(PT!A73=\"\",NA(),PT!A73)","v":{"$error":"#N/A"}},{"$f":"IF(PT!M73=\"\",NA(),PT!M73)","v":{"$error":"#N/A"}}]
[null,{"$f":"IF(AT!H75=\"\",NA(),AT!A75)","v":{"$error":"#N/A"}},{"$f":"IF(AT!H75=\"\",NA(),AT!H75)","v":{"$error":"#N/A"}},{"$f":"IF(ST!H75=\"\",NA(),ST!A75)","v":{"$error":"#N/A"}},{"$f":"IF(ST!H75=\"\",NA(),ST!H75)","v":{"$error":"#N/A"}},null,{"$f":"IF(AT!E75=\"\",NA(),AT!A75)","v":{"$error":"#N/A"}},{"$f":"IF(AT!E75=\"\",NA(),AT!E75)","v":{"$error":"#N/A"}},{"$f":"IF(ST!E75=\"\",NA(),ST!A75)","v":{"$error":"#N/A"}},{"$f":"IF(ST!E75=\"\",NA(),ST!E75)","v":{"$error":"#N/A"}},null,{"$f":"IF(PT!A75=\"\",NA(),PT!A75)","v":{"$error":"#N/A"}},{"$f":"IF(PT!M75=\"\",NA(),PT!M75)","v":{"$error":"#N/A"}}]
[null,{"$f":"IF(AT!H77=\"\",NA(),AT!A77)","v":{"$error":"#N/A"}},{"$f":"IF(AT!H77=\"\",NA(),AT!H77)","v":{"$error":"#N/A"}},{"$f":"IF(ST!H77=\"\",NA(),ST!A77)","v":{"$error":"#N/A"}},{"$f":"IF(ST!H77=\"\",NA(),ST!H77)","v":{"$error":"#N/A"}},null,{"$f":"IF(AT!E77=\"\",NA(),AT!A77)","v":{"$error":"#N/A"}},{"$f":"IF(AT!E77=\"\",NA(),AT!E77)","v":{"$error":"#N/A"}},{"$f":"IF(ST!E77=\"\",NA(),ST!A77)","v":{"$error":"#N/A"}},{"$f":"IF(ST!E77=\"\",NA(),ST!E77)","v":{"$error":"#N/A"}},null,{"$f":"IF(PT!A77=\"\",NA(),PT!A77)","v":{"$error":"#N/A"}},{"$f":"IF(PT!M77=\"\",NA(),PT!M77)","v":{"$error":"#N/A"}}]
[null,{"$f":"IF(AT!H79=\"\",NA(),AT!A79)","v":{"$error":"#N/A"}},{"$f":"IF(AT!H79=\"\",NA(),AT!H79)","v":{"$error":"#N/A"}},{"$f":"IF(ST!H79=\"\",NA(),ST!A79)","v":{"$error":"#N/A"}},{"$f":"IF(ST!H79=\"\",NA(),ST!H79)","v":{"$error":"#N/A"}},null,{"$f":"IF(AT!E79=\"\",NA(),AT!A79)","v":{"$error":"#N/A"}},{"$f":"IF(AT!E79=\"\",NA(),AT!E79)","v":{"$error":"#N/A"}},{"$f":"IF(ST!E79=\"\",NA(),ST!A79)","v":{"$error":"#N/A"}},{"$f":"IF(ST!E79=\"\",NA(),ST!E79)","v":{"$error":"#N/A"}},null,{"$f":"IF(PT!A79=\"\",NA(),PT!A79)","v":{"$error":"#N/A"}},{"$f":"IF(PT!M79=\"\",NA(),PT!M79)","v":{"$error":"#N/A"}}]
[null,{"$f":"IF(AT!H81=\"\",NA(),AT!A81)","v":{"$error":"#N/A"}},{"$f":"IF(AT!H81=\"\",NA(),AT!H81)","v":{"$error":"#N/A"}},{"$f":"IF(ST!H81=\"\",NA(),ST!A81)","v":{"$error":"#N/A"}},{"$f":"IF(ST!H81=\"\",NA(),ST!H81)","v":{"$error":"#N/A"}},null,{"$f":"IF(AT!E81=\"\",NA(),AT!A81)","v":{"$error":"#N/A"}},{"$f":"IF(AT!E81=\"\",NA(),AT!E81)","v":{"$error":"#N/A"}},{"$f":"IF(ST!E81=\"\",NA(),ST!A81)","v":{"$error":"#N/A"}},{"$f":"IF(ST!E81=\"\",NA(),ST!E81)","v":{"$error":"#N/A"}},null,{"$f":"IF(PT!A81=\"\",NA(),PT!A81)","v":{"$error":"#N/A"}},{"$f":"IF(PT!M81=\"\",NA(),PT!M81)","v":{"$error":"#N/A"}}]
[null,{"$f":"IF(AT!H83=\"\",NA(),AT!A83)","v":{"$error":"#N/A"}},{"$f":"IF(AT!H83=\"\",NA(),AT!H83)","v":{"$error":"#N/A"}},{"$f":"IF(ST!H83=\"\",NA(),ST!A83)","v":{"$error":"#N/A"}},{"$f":"IF(ST!H83=\"\",NA(),ST!H83)","v":{"$error":"#N/A"}},null,{"$f":"IF(AT!E83=\"\",NA(),AT!A83)","v":{"$error":"#N/A"}},{"$f":"IF(AT!E83=\"\",NA(),AT!E83)","v":{"$error":"#N/A"}},{"$f":"IF(ST!E83=\"\",NA(),ST!A83)","v":{"$error":"#N/A"}},{"$f":"IF(ST!E83=\"\",NA(),ST!E83)","v":{"$error":"#N/A"}},null,{"$f":"IF(PT!A83=\"\",NA(),PT!A83)","v":{"$error":"#N/A"}},{"$f":"IF(PT!M83=\"\",NA(),PT!M83)","v":{"$error":"#N/A"}}]
[null,{"$f":"IF(AT!H85=\"\",NA(),AT!A85)","v":{"$error":"#N/A"}},{"$f":"IF(AT!H85=\"\",NA(),AT!H85)","v":{"$error":"#N/A"}},{"$f":"IF(ST!H85=\"\",NA(),ST!A85)","v":{"$error":"#N/A"}},{"$f":"IF(ST!H85=\"\",NA(),ST!H85)","v":{"$error":"#N/A"}},null,{"$f":"IF(AT!E85=\"\",NA(),AT!A85)","v":{"$error":"#N/A"}},{"$f":"IF(AT!E85=\"\",NA(),AT!E85)","v":{"$error":"#N/A"}},{"$f":"IF(ST!E85=\"\",NA(),ST!A85)","v":{"$error":"#N/A"}},{"$f":"IF(ST!E85=\"\",NA(),ST!E85)","v":{"$error":"#N/A"}},null,{"$f":"IF(PT!A85=\"\",NA(),PT!A85)","v":{"$error":"#N/A"}},{"$f":"IF(PT!M85=\"\",NA(),PT!M85)","v":{"$error":"#N/A"}}]
[null,{"$f":"IF(AT!H87=\"\",NA(),AT!A87)","v":{"$error":"#N/A"}},{"$f":"IF(AT!H87=\"\",NA(),AT!H87)","v":{"$error":"#N/A"}},{"$f":"IF(ST!H87=\"\",NA(),ST!A87)","v":{"$error":"#N/A"}},{"$f":"IF(ST!H87=\"\",NA(),ST!H87)","v":{"$error":"#N/A"}},null,{"$f":"IF(AT!E87=\"\",NA(),AT!A87)","v":{"$error":"#N/A"}},{"$f":"IF(AT!E87=\"\",NA(),AT!E87)","v":{"$error":"#N/A"}},{"$f":"IF(ST!E87=\"\",NA(),ST!A87)","v":{"$error":"#N/A"}},{"$f":"IF(ST!E87=\"\",NA(),ST!E87)","v":{"$error":"#N/A"}},null,{"$f":"IF(PT!A87=\"\",NA(),PT!A87)","v":{"$error":"#N/A"}},{"$f":"IF(PT!M87=\"\",NA(),PT!M87)","v":{"$error":"#N/A"}}]
[null,{"$f":"IF(AT!H89=\"\",NA(),AT!A89)","v":{"$error":"#N/A"}},{"$f":"IF(AT!H89=\"\",NA(),AT!H89)","v":{"$error":"#N/A"}},{"$f":"IF(ST!H89=\"\",NA(),ST!A89)","v":{"$error":"#N/A"}},{"$f":"IF(ST!H89=\"\",NA(),ST!H89)","v":{"$error":"#N/A"}},null,{"$f":"IF(AT!E89=\"\",NA(),AT!A89)","v":{"$error":"#N/A"}},{"$f":"IF(AT!E89=\"\",NA(),AT!E89)","v":{"$error":"#N/A"}},{"$f":"IF(ST!E89=\"\",NA(),ST!A89)","v":{"$error":"#N/A"}},{"$f":"IF(ST!E89=\"\",NA(),ST!E89)","v":{"$error":"#N/A"}},null,{"$f":"IF(PT!A89=\"\",NA(),PT!A89)","v":{"$error":"#N/A"}},{"$f":"IF(PT!M89=\"\",NA(),PT!M89)","v":{"$error":"#N/A"}}]
[null,{"$f":"IF(AT!H91=\"\",NA(),AT!A91)","v":{"$error":"#N/A"}},{"$f":"IF(AT!H91=\"\",NA(),AT!H91)","v":{"$error":"#N/A"}},{"$f":"IF(ST!H91=\"\",NA(),ST!A91)","v":{"$error":"#N/A"}},{"$f":"IF(ST!H91=\"\",NA(),ST!H91)","v":{"$error":"#N/A"}},null,{"$f":"IF(AT!E91=\"\",NA(),AT!A91)","v":{"$error":"#N/A"}},{"$f":"IF(AT!E91=\"\",NA(),AT!E91)","v":{"$error":"#N/A"}},{"$f":"IF(ST!E91=\"\",NA(),ST!A91)","v":{"$error":"#N/A"}},{"$f":"IF(ST!E91=\"\",NA(),ST!E91)","v":{"$error":"#N/A"}},null,{"$f":"IF(PT!A91=\"\",NA(),PT!A91)","v":{"$error":"#N/A"}},{"$f":"IF(PT!M91=\"\",NA(),PT!M91)","v":{"$error":"#N/A"}}]
[null,{"$f":"IF(AT!H93=\"\",NA(),AT!A93)","v":{"$error":"#N/A"}},{"$f":"IF(AT!H93=\"\",NA(),AT!H93)","v":{"$error":"#N/A"}},{"$f":"IF(ST!H93=\"\",NA(),ST!A93)","v":{"$error":"#N/A"}},{"$f":"IF(ST!H93=\"\",NA(),ST!H93)","v":{"$error":"#N/A"}},null,{"$f":"IF(AT!E93=\"\",NA(),AT!A93)","v":{"$error":"#N/A"}},{"$f":"IF(AT!E93=\"\",NA(),AT!E93)","v":{"$error":"#N/A"}},{"$f":"IF(ST!E93=\"\",NA(),ST!A93)","v":{"$error":"#N/A"}},{"$f":"IF(ST!E93=\"\",NA(),ST!E93)","v":{"$error":"#N/A"}},null,{"$f":"IF(PT!A93=\"\",NA(),PT!A93)","v":{"$error":"#N/A"}},{"$f":"IF(PT!M93=\"\",NA(),PT!M93)","v":{"$error":"#N/A"}}]
[null,{"$f":"IF(AT!H95=\"\",NA(),AT!A95)","v":{"$error":"#N/A"}},{"$f":"IF(AT!H95=\"\",NA(),AT!H95)","v":{"$error":"#N/A"}},{"$f":"IF(ST!H95=\"\",NA(),ST!A95)","v":{"$error":"#N/A"}},{"$f":"IF(ST!H95=\"\",NA(),ST!H95)","v":{"$error":"#N/A"}},null,{"$f":"IF(AT!E95=\"\",NA(),AT!A95)","v":{"$error":"#N/A"}},{"$f":"IF(AT!E95=\"\",NA(),AT!E95)","v":{"$error":"#N/A"}},{"$f":"IF(ST!E95=\"\",NA(),ST!A95)","v":{"$error":"#N/A"}},{"$f":"IF(ST!E95=\"\",NA(),ST!E95)","v":{"$error":"#N/A"}},null,{"$f":"IF(PT!A95=\"\",NA(),PT!A95)","v":{"$error":"#N/A"}},{"$f":"IF(PT!M95=\"\",NA(),PT!M95)","v":{"$error":"#N/A"}}]
[null,{"$f":"IF(AT!H97=\"\",NA(),AT!A97)","v":{"$error":"#N/A"}},{"$f":"IF(AT!H97=\"\",NA(),AT!H97)","v":{"$error":"#N/A"}},{"$f":"IF(ST!H97=\"\",NA(),ST!A97)","v":{"$error":"#N/A"}},{"$f":"IF(ST!H97=\"\",NA(),ST!H97)","v":{"$error":"#N/A"}},null,{"$f":"IF(AT!E97=\"\",NA(),AT!A97)","v":{"$error":"#N/A"}},{"$f":"IF(AT!E97=\"\",NA(),AT!E97)","v":{"$error":"#N/A"}},{"$f":"IF(ST!E97=\"\",NA(),ST!A97)","v":{"$error":"#N/A"}},{"$f":"IF(ST!E97=\"\",NA(),ST!E97)","v":{"$error":"#N/A"}},null,{"$f":"IF(PT!A97=\"\",NA(),PT!A97)","v":{"$error":"#N/A"}},{"$f":"IF(PT!M97=\"\",NA(),PT!M97)","v":{"$error":"#N/A"}}]
[null,{"$f":"IF(AT!H99=\"\",NA(),AT!A99)","v":{"$error":"#N/A"}},{"$f":"IF(AT!H99=\"\",NA(),AT!H99)","v":{"$error":"#N/A"}},{"$f":"IF(ST!H99=\"\",NA(),ST!A99)","v":{"$error":"#N/A"}},{"$f":"IF(ST!H99=\"\",NA(),ST!H99)","v":{"$error":"#N/A"}},null,{"$f":"IF(AT!E99=\"\",NA(),AT!A99)","v":{"$error":"#N/A"}},{"$f":"IF(AT!E99=\"\",NA(),AT!E99)","v":{"$error":"#N/A"}},{"$f":"IF(ST!E99=\"\",NA(),ST!A99)","v":{"$error":"#N/A"}},{"$f":"IF(ST!E99=\"\",NA(),ST!E99)","v":{"$error":"#N/A"}},null,{"$f":"IF(PT!A99=\"\",NA(),PT!A99)","v":{"$error":"#N/A"}},{"$f":"IF(PT!M99=\"\",NA(),PT!M99)","v":{"$error":"#N/A"}}]
[null,{"$f":"IF(AT!H101=\"\",NA(),AT!A101)","v":{"$error":"#N/A"}},{"$f":"IF(AT!H101=\"\",NA(),AT!H101)","v":{"$error":"#N/A"}},{"$f":"IF(ST!H101=\"\",NA(),ST!A101)","v":{"$error":"#N/A"}},{"$f":"IF(ST!H101=\"\",NA(),ST!H101)","v":{"$error":"#N/A"}},null,{"$f":"IF(AT!E101=\"\",NA(),AT!A101)","v":{"$error":"#N/A"}},{"$f":"IF(AT!E101=\"\",NA(),AT!E101)","v":{"$error":"#N/A"}},{"$f":"IF(ST!E101=\"\",NA(),ST!A101)","v":{"$error":"#N/A"}},{"$f":"IF(ST!E101=\"\",NA(),ST!E101)","v":{"$error":"#N/A"}},null,{"$f":"IF(PT!A101=\"\",NA(),PT!A101)","v":{"$error":"#N/A"}},{"$f":"IF(PT!M101=\"\",NA(),PT!M101)","v":{"$error":"#N/A"}}]
[null,{"$f":"IF(AT!H103=\"\",NA(),AT!A103)","v":{"$error":"#N/A"}},{"$f":"IF(AT!H103=\"\",NA(),AT!H103)","v":{"$error":"#N/A"}},{"$f":"IF(ST!H103=\"\",NA(),ST!A103)","v":{"$error":"#N/A"}},{"$f":"IF(ST!H103=\"\",NA(),ST!H103)","v":{"$error":"#N/A"}},null,{"$f":"IF(AT!E103=\"\",NA(),AT!A103)","v":{"$error":"#N/A"}},{"$f":"IF(AT!E103=\"\",NA(),AT!E103)","v":{"$error":"#N/A"}},{"$f":"IF(ST!E103=\"\",NA(),ST!A103)","v":{"$error":"#N/A"}},{"$f":"IF(ST!E103=\"\",NA(),ST!E103)","v":{"$error":"#N/A"}},null,{"$f":"IF(PT!A103=\"\",NA(),PT!A103)","v":{"$error":"#N/A"}},{"$f":"IF(PT!M103=\"\",NA(),PT!M103)","v":{"$error":"#N/A"}}]
[null,{"$f":"IF(AT!H105=\"\",NA(),AT!A105)","v":{"$error":"#N/A"}},{"$f":"IF(AT!H105=\"\",NA(),AT!H105)","v":{"$error":"#N/A"}},{"$f":"IF(ST!H105=\"\",NA(),ST!A105)","v":{"$error":"#N/A"}},{"$f":"IF(ST!H105=\"\",NA(),ST!H105)","v":{"$error":"#N/A"}},null,{"$f":"IF(AT!E105=\"\",NA(),AT!A105)","v":{"$error":"#N/A"}},{"$f":"IF(AT!E105=\"\",NA(),AT!E105)","v":{"$error":"#N/A"}},{"$f":"IF(ST!E105=\"\",NA(),ST!A105)","v":{"$error":"#N/A"}},{"$f":"IF(ST!E105=\"\",NA(),ST!E105)","v":{"$error":"#N/A"}},null,{"$f":"IF(PT!A105=\"\",NA(),PT!A105)","v":{"$error":"#N/A"}},{"$f":"IF(PT!M105=\"\",NA(),PT!M105)","v":{"$error":"#N/A"}}]
[null,{"$f":"IF(AT!H106=\"\",NA(),AT!A106)","v":{"$error":"#N/A"}},{"$f":"IF(AT!H106=\"\",NA(),AT!H106)","v":{"$error":"#N/A"}},{"$f":"IF(ST!H106=\"\",NA(),ST!A106)","v":{"$error":"#N/A"}},{"$f":"IF(ST!H106=\"\",NA(),ST!H106)","v":{"$error":"#N/A"}},null,{"$f":"IF(AT!E106=\"\",NA(),AT!A106)","v":{"$error":"#N/A"}},{"$f":"IF(AT!E106=\"\",NA(),AT!E106)","v":{"$error":"#N/A"}},{"$f":"IF(ST!E106=\"\",NA(),ST!A106)","v":{"$error":"#N/A"}},{"$f":"IF(ST!E106=\"\",NA(),ST!E106)","v":{"$error":"#N/A"}},null,{"$f":"IF(PT!A106=\"\",NA(),PT!A106)","v":{"$error":"#N/A"}},{"$f":"IF(PT!M106=\"\",NA(),PT!M106)","v":{"$error":"#N/A"}}]
[null,{"$f":"IF(AT!H107=\"\",NA(),AT!A107)","v":{"$error":"#N/A"}},{"$f":"IF(AT!H107=\"\",NA(),AT!H107)","v":{"$error":"#N/A"}},{"$f":"IF(ST!H107=\"\",NA(),ST!A107)","v":{"$error":"#N/A"}},{"$f":"IF(ST!H107=\"\",NA(),ST!H107)","v":{"$error":"#N/A"}},null,{"$f":"IF(AT!E107=\"\",NA(),AT!A107)","v":{"$error":"#N/A"}},{"$f":"IF(AT!E107=\"\",NA(),AT!E107)","v":{"$error":"#N/A"}},{"$f":"IF(ST!E107=\"\",NA(),ST!A107)","v":{"$error":"#N/A"}},{"$f":"IF(ST!E107=\"\",NA(),ST!E107)","v":{"$error":"#N/A"}},null,{"$f":"IF(PT!A107=\"\",NA(),PT!A107)","v":{"$error":"#N/A"}},{"$f":"IF(PT!M107=\"\",NA(),PT!M107)","v":{"$error":"#N/A"}}]
[null,{"$f":"IF(AT!H108=\"\",NA(),AT!A108)","v":{"$error":"#N/A"}},{"$f":"IF(AT!H108=\"\",NA(),AT!H108)","v":{"$error":"#N/A"}},{"$f":"IF(ST!H108=\"\",NA(),ST!A108)","v":{"$error":"#N/A"}},{"$f":"IF(ST!H108=\"\",NA(),ST!H108)","v":{"$error":"#N/A"}},null,{"$f":"IF(AT!E108=\"\",NA(),AT!A108)","v":{"$error":"#N/A"}},{"$f":"IF(AT!E108=\"\",NA(),AT!E108)","v":{"$error":"#N/A"}},{"$f":"IF(ST!E108=\"\",NA(),ST!A108)","v":{"$error":"#N/A"}},{"$f":"IF(ST!E108=\"\",NA(),ST!E108)","v":{"$error":"#N/A"}},null,{"$f":"IF(PT!A108=\"\",NA(),PT!A108)","v":{"$error":"#N/A"}},{"$f":"IF(PT!M108=\"\",NA(),PT!M108)","v":{"$error":"#N/A"}}]
[null,{"$f":"IF(AT!H109=\"\",NA(),AT!A109)","v":{"$error":"#N/A"}},{"$f":"IF(AT!H109=\"\",NA(),AT!H109)","v":{"$error":"#N/A"}},{"$f":"IF(ST!H109=\"\",NA(),ST!A109)","v":{"$error":"#N/A"}},{"$f":"IF(ST!H109=\"\",NA(),ST!H109)","v":{"$error":"#N/A"}},null,{"$f":"IF(AT!E109=\"\",NA(),AT!A109)","v":{"$error":"#N/A"}},{"$f":"IF(AT!E109=\"\",NA(),AT!E109)","v":{"$error":"#N/A"}},{"$f":"IF(ST!E109=\"\",NA(),ST!A109)","v":{"$error":"#N/A"}},{"$f":"IF(ST!E109=\"\",NA(),ST!E109)","v":{"$error":"#N/A"}},null,{"$f":"IF(PT!A109=\"\",NA(),PT!A109)","v":{"$error":"#N/A"}},{"$f":"IF(PT!M109=\"\",NA(),PT!M109)","v":{"$error":"#N/A"}}]
[null,{"$f":"IF(AT!H110=\"\",NA(),AT!A110)","v":{"$error":"#N/A"}},{"$f":"IF(AT!H110=\"\",NA(),AT!H110)","v":{"$error":"#N/A"}},{"$f":"IF(ST!H110=\"\",NA(),ST!A110)","v":{"$error":"#N/A"}},{"$f":"IF(ST!H110=\"\",NA(),ST!H110)","v":{"$error":"#N/A"}},null,{"$f":"IF(AT!E110=\"\",NA(),AT!A110)","v":{"$error":"#N/A"}},{"$f":"IF(AT!E110=\"\",NA(),AT!E110)","v":{"$error":"#N/A"}},{"$f":"IF(ST!E110=\"\",NA(),ST!A110)","v":{"$error":"#N/A"}},{"$f":"IF(ST!E110=\"\",NA(),ST!E110)","v":{"$error":"#N/A"}},null,{"$f":"IF(PT!A110=\"\",NA(),PT!A110)","v":{"$error":"#N/A"}},{"$f":"IF(PT!M110=\"\",NA(),PT!M110)","v":{"$error":"#N/A"}}]
[null,{"$f":"IF(AT!H111=\"\",NA(),AT!A111)","v":{"$error":"#N/A"}},{"$f":"IF(AT!H111=\"\",NA(),AT!H111)","v":{"$error":"#N/A"}},{"$f":"IF(ST!H111=\"\",NA(),ST!A111)","v":{"$error":"#N/A"}},{"$f":"IF(ST!H111=\"\",NA(),ST!H111)","v":{"$error":"#N/A"}},null,{"$f":"IF(AT!E111=\"\",NA(),AT!A111)","v":{"$error":"#N/A"}},{"$f":"IF(AT!E111=\"\",NA(),AT!E111)","v":{"$error":"#N/A"}},{"$f":"IF(ST!E111=\"\",NA(),ST!A111)","v":{"$error":"#N/A"}},{"$f":"IF(ST!E111=\"\",NA(),ST!E111)","v":{"$error":"#N/A"}},null,{"$f":"IF(PT!A111=\"\",NA(),PT!A111)","v":{"$error":"#N/A"}},{"$f":"IF(PT!M111=\"\",NA(),PT!M111)","v":{"$error":"#N/A"}}]
[null,{"$f":"IF(AT!H112=\"\",NA(),AT!A112)","v":{"$error":"#N/A"}},{"$f":"IF(AT!H112=\"\",NA(),AT!H112)","v":{"$error":"#N/A"}},{"$f":"IF(ST!H112=\"\",NA(),ST!A112)","v":{"$error":"#N/A"}},{"$f":"IF(ST!H112=\"\",NA(),ST!H112)","v":{"$error":"#N/A"}},null,{"$f":"IF(AT!E112=\"\",NA(),AT!A112)","v":{"$error":"#N/A"}},{"$f":"IF(AT!E112=\"\",NA(),AT!E112)","v":{"$error":"#N/A"}},{"$f":"IF(ST!E112=\"\",NA(),ST!A112)","v":{"$error":"#N/A"}},{"$f":"IF(ST!E112=\"\",NA(),ST!E112)","v":{"$error":"#N/A"}},null,{"$f":"IF(PT!A112=\"\",NA(),PT!A112)","v":{"$error":"#N/A"}},{"$f":"IF(PT!M112=\"\",NA(),PT!M112)","v":{"$error":"#N/A"}}]
[null,{"$f":"IF(AT!H113=\"\",NA(),AT!A113)","v":{"$error":"#N/A"}},{"$f":"IF(AT!H113=\"\",NA(),AT!H113)","v":{"$error":"#N/A"}},{"$f":"IF(ST!H113=\"\",NA(),ST!A113)","v":{"$error":"#N/A"}},{"$f":"IF(ST!H113=\"\",NA(),ST!H113)","v":{"$error":"#N/A"}},null,{"$f":"IF(AT!E113=\"\",NA(),AT!A113)","v":{"$error":"#N/A"}},{"$f":"IF(AT!E113=\"\",NA(),AT!E113)","v":{"$error":"#N/A"}},{"$f":"IF(ST!E113=\"\",NA(),ST!A113)","v":{"$error":"#N/A"}},{"$f":"IF(ST!E113=\"\",NA(),ST!E113)","v":{"$error":"#N/A"}},null,{"$f":"IF(PT!A113=\"\",NA(),PT!A113)","v":{"$error":"#N/A"}},{"$f":"IF(PT!M113=\"\",NA(),PT!M113)","v":{"$error":"#N/A"}}]
[null,{"$f":"IF(AT!H114=\"\",NA(),AT!A114)","v":{"$error":"#N/A"}},{"$f":"IF(AT!H114=\"\",NA(),AT!H114)","v":{"$error":"#N/A"}},{"$f":"IF(ST!H114=\"\",NA(),ST!A114)","v":{"$error":"#N/A"}},{"$f":"IF(ST!H114=\"\",NA(),ST!H114)","v":{"$error":"#N/A"}},null,{"$f":"IF(AT!E114=\"\",NA(),AT!A114)","v":{"$error":"#N/A"}},{"$f":"IF(AT!E114=\"\",NA(),AT!E114)","v":{"$error":"#N/A"}},{"$f":"IF(ST!E114=\"\",NA(),ST!A114)","v":{"$error":"#N/A"}},{"$f":"IF(ST!E114=\"\",NA(),ST!E114)","v":{"$error":"#N/A"}},null,{"$f":"IF(PT!A114=\"\",NA(),PT!A114)","v":{"$error":"#N/A"}},{"$f":"IF(PT!M114=\"\",NA(),PT!M114)","v":{"$error":"#N/A"}}]
[null,{"$f":"IF(AT!H115=\"\",NA(),AT!A115)","v":{"$error":"#N/A"}},{"$f":"IF(AT!H115=\"\",NA(),AT!H115)","v":{"$error":"#N/A"}},{"$f":"IF(ST!H115=\"\",NA(),ST!A115)","v":{"$error":"#N/A"}},{"$f":"IF(ST!H115=\"\",NA(),ST!H115)","v":{"$error":"#N/A"}},null,{"$f":"IF(AT!E115=\"\",NA(),AT!A115)","v":{"$error":"#N/A"}},{"$f":"IF(AT!E115=\"\",NA(),AT!E115)","v":{"$error":"#N/A"}},{"$f":"IF(ST!E115=\"\",NA(),ST!A115)","v":{"$error":"#N/A"}},{"$f":"IF(ST!E115=\"\",NA(),ST!E115)","v":{"$error":"#N/A"}},null,{"$f":"IF(PT!A115=\"\",NA(),PT!A115)","v":{"$error":"#N/A"}},{"$f":"IF(PT!M115=\"\",NA(),PT!M115)","v":{"$error":"#N/A"}}]
[null,{"$f":"IF(AT!H116=\"\",NA(),AT!A116)","v":{"$error":"#N/A"}},{"$f":"IF(AT!H116=\"\",NA(),AT!H116)","v":{"$error":"#N/A"}},{"$f":"IF(ST!H116=\"\",NA(),ST!A116)","v":{"$error":"#N/A"}},{"$f":"IF(ST!H116=\"\",NA(),ST!H116)","v":{"$error":"#N/A"}},null,{"$f":"IF(AT!E116=\"\",NA(),AT!A116)","v":{"$error":"#N/A"}},{"$f":"IF(AT!E116=\"\",NA(),AT!E116)","v":{"$error":"#N/A"}},{"$f":"IF(ST!E116=\"\",NA(),ST!A116)","v":{"$error":"#N/A"}},{"$f":"IF(ST!E116=\"\",NA(),ST!E116)","v":{"$error":"#N/A"}},null,{"$f":"IF(PT!A116=\"\",NA(),PT!A116)","v":{"$error":"#N/A"}},{"$f":"IF(PT!M116=\"\",NA(),PT!M116)","v":{"$error":"#N/A"}}]
[null,{"$f":"IF(AT!H117=\"\",NA(),AT!A117)","v":{"$error":"#N/A"}},{"$f":"IF(AT!H117=\"\",NA(),AT!H117)","v":{"$error":"#N/A"}},{"$f":"IF(ST!H117=\"\",NA(),ST!A117)","v":{"$error":"#N/A"}},{"$f":"IF(ST!H117=\"\",NA(),ST!H117)","v":{"$error":"#N/A"}},null,{"$f":"IF(AT!E117=\"\",NA(),AT!A117)","v":{"$error":"#N/A"}},{"$f":"IF(AT!E117=\"\",NA(),AT!E117)","v":{"$error":"#N/A"}},{"$f":"IF(ST!E117=\"\",NA(),ST!A117)","v":{"$error":"#N/A"}},{"$f":"IF(ST!E117=\"\",NA(),ST!E117)","v":{"$error":"#N/A"}},null,{"$f":"IF(PT!A117=\"\",NA(),PT!A117)","v":{"$error":"#N/A"}},{"$f":"IF(PT!M117=\"\",NA(),PT!M117)","v":{"$error":"#N/A"}}]
[null,{"$f":"IF(AT!H118=\"\",NA(),AT!A118)","v":{"$error":"#N/A"}},{"$f":"IF(AT!H118=\"\",NA(),AT!H118)","v":{"$error":"#N/A"}},{"$f":"IF(ST!H118=\"\",NA(),ST!A118)","v":{"$error":"#N/A"}},{"$f":"IF(ST!H118=\"\",NA(),ST!H118)","v":{"$error":"#N/A"}},null,{"$f":"IF(AT!E118=\"\",NA(),AT!A118)","v":{"$error":"#N/A"}},{"$f":"IF(AT!E118=\"\",NA(),AT!E118)","v":{"$error":"#N/A"}},{"$f":"IF(ST!E118=\"\",NA(),ST!A118)","v":{"$error":"#N/A"}},{"$f":"IF(ST!E118=\"\",NA(),ST!E118)","v":{"$error":"#N/A"}},null,{"$f":"IF(PT!A118=\"\",NA(),PT!A118)","v":{"$error":"#N/A"}},{"$f":"IF(PT!M118=\"\",NA(),PT!M118)","v":{"$error":"#N/A"}}]
[null,{"$f":"IF(AT!H119=\"\",NA(),AT!A119)","v":{"$error":"#N/A"}},{"$f":"IF(AT!H119=\"\",NA(),AT!H119)","v":{"$error":"#N/A"}},{"$f":"IF(ST!H119=\"\",NA(),ST!A119)","v":{"$error":"#N/A"}},{"$f":"IF(ST!H119=\"\",NA(),ST!H119)","v":{"$error":"#N/A"}},null,{"$f":"IF(AT!E119=\"\",NA(),AT!A119)","v":{"$error":"#N/A"}},{"$f":"IF(AT!E119=\"\",NA(),AT!E119)","v":{"$error":"#N/A"}},{"$f":"IF(ST!E119=\"\",NA(),ST!A119)","v":{"$error":"#N/A"}},{"$f":"IF(ST!E119=\"\",NA(),ST!E119)","v":{"$error":"#N/A"}},null,{"$f":"IF(PT!A119=\"\",NA(),PT!A119)","v":{"$error":"#N/A"}},{"$f":"IF(PT!M119=\"\",NA(),PT!M119)","v":{"$error":"#N/A"}}]
[null,{"$f":"IF(AT!H120=\"\",NA(),AT!A120)","v":{"$error":"#N/A"}},{"$f":"IF(AT!H120=\"\",NA(),AT!H120)","v":{"$error":"#N/A"}},{"$f":"IF(ST!H120=\"\",NA(),ST!A120)","v":{"$error":"#N/A"}},{"$f":"IF(ST!H120=\"\",NA(),ST!H120)","v":{"$error":"#N/A"}},null,{"$f":"IF(AT!E120=\"\",NA(),AT!A120)","v":{"$error":"#N/A"}},{"$f":"IF(AT!E120=\"\",NA(),AT!E120)","v":{"$error":"#N/A"}},{"$f":"IF(ST!E120=\"\",NA(),ST!A120)","v":{"$error":"#N/A"}},{"$f":"IF(ST!E120=\"\",NA(),ST!E120)","v":{"$error":"#N/A"}},null,{"$f":"IF(PT!A120=\"\",NA(),PT!A120)","v":{"$error":"#N/A"}},{"$f":"IF(PT!M120=\"\",NA(),PT!M120)","v":{"$error":"#N/A"}}]
[null,{"$f":"IF(AT!H121=\"\",NA(),AT!A121)","v":{"$error":"#N/A"}},{"$f":"IF(AT!H121=\"\",NA(),AT!H121)","v":{"$error":"#N/A"}},{"$f":"IF(ST!H121=\"\",NA(),ST!A121)","v":{"$error":"#N/A"}},{"$f":"IF(ST!H121=\"\",NA(),ST!H121)","v":{"$error":"#N/A"}},null,{"$f":"IF(AT!E121=\"\",NA(),AT!A121)","v":{"$error":"#N/A"}},{"$f":"IF(AT!E121=\"\",NA(),AT!E121)","v":{"$error":"#N/A"}},{"$f":"IF(ST!E121=\"\",NA(),ST!A121)","v":{"$error":"#N/A"}},{"$f":"IF(ST!E121=\"\",NA(),ST!E121)","v":{"$error":"#N/A"}},null,{"$f":"IF(PT!A121=\"\",NA(),PT!A121)","v":{"$error":"#N/A"}},{"$f":"IF(PT!M121=\"\",NA(),PT!M121)","v":{"$error":"#N/A"}}]
[null,{"$f":"IF(AT!H122=\"\",NA(),AT!A122)","v":{"$error":"#N/A"}},{"$f":"IF(AT!H122=\"\",NA(),AT!H122)","v":{"$error":"#N/A"}},{"$f":"IF(ST!H122=\"\",NA(),ST!A122)","v":{"$error":"#N/A"}},{"$f":"IF(ST!H122=\"\",NA(),ST!H122)","v":{"$error":"#N/A"}},null,{"$f":"IF(AT!E122=\"\",NA(),AT!A122)","v":{"$error":"#N/A"}},{"$f":"IF(AT!E122=\"\",NA(),AT!E122)","v":{"$error":"#N/A"}},{"$f":"IF(ST!E122=\"\",NA(),ST!A122)","v":{"$error":"#N/A"}},{"$f":"IF(ST!E122=\"\",NA(),ST!E122)","v":{"$error":"#N/A"}},null,{"$f":"IF(PT!A122=\"\",NA(),PT!A122)","v":{"$error":"#N/A"}},{"$f":"IF(PT!M122=\"\",NA(),PT!M122)","v":{"$error":"#N/A"}}]
[null,{"$f":"IF(AT!H123=\"\",NA(),AT!A123)","v":{"$error":"#N/A"}},{"$f":"IF(AT!H123=\"\",NA(),AT!H123)","v":{"$error":"#N/A"}},{"$f":"IF(ST!H123=\"\",NA(),ST!A123)","v":{"$error":"#N/A"}},{"$f":"IF(ST!H123=\"\",NA(),ST!H123)","v":{"$error":"#N/A"}},null,{"$f":"IF(AT!E123=\"\",NA(),AT!A123)","v":{"$error":"#N/A"}},{"$f":"IF(AT!E123=\"\",NA(),AT!E123)","v":{"$error":"#N/A"}},{"$f":"IF(ST!E123=\"\",NA(),ST!A123)","v":{"$error":"#N/A"}},{"$f":"IF(ST!E123=\"\",NA(),ST!E123)","v":{"$error":"#N/A"}},null,{"$f":"IF(PT!A123=\"\",NA(),PT!A123)","v":{"$error":"#N/A"}},{"$f":"IF(PT!M123=\"\",NA(),PT!M123)","v":{"$error":"#N/A"}}]
[null,{"$f":"IF(AT!H124=\"\",NA(),AT!A124)","v":{"$error":"#N/A"}},{"$f":"IF(AT!H124=\"\",NA(),AT!H124)","v":{"$error":"#N/A"}},{"$f":"IF(ST!H124=\"\",NA(),ST!A124)","v":{"$error":"#N/A"}},{"$f":"IF(ST!H124=\"\",NA(),ST!H124)","v":{"$error":"#N/A"}},null,{"$f":"IF(AT!E124=\"\",NA(),AT!A124)","v":{"$error":"#N/A"}},{"$f":"IF(AT!E124=\"\",NA(),AT!E124)","v":{"$error":"#N/A"}},{"$f":"IF(ST!E124=\"\",NA(),ST!A124)","v":{"$error":"#N/A"}},{"$f":"IF(ST!E124=\"\",NA(),ST!E124)","v":{"$error":"#N/A"}},null,{"$f":"IF(PT!A124=\"\",NA(),PT!A124)","v":{"$error":"#N/A"}},{"$f":"IF(PT!M124=\"\",NA(),PT!M124)","v":{"$error":"#N/A"}}]
[null,{"$f":"IF(AT!H125=\"\",NA(),AT!A125)","v":{"$error":"#N/A"}},{"$f":"IF(AT!H125=\"\",NA(),AT!H125)","v":{"$error":"#N/A"}},{"$f":"IF(ST!H125=\"\",NA(),ST!A125)","v":{"$error":"#N/A"}},{"$f":"IF(ST!H125=\"\",NA(),ST!H125)","v":{"$error":"#N/A"}},null,{"$f":"IF(AT!E125=\"\",NA(),AT!A125)","v":{"$error":"#N/A"}},{"$f":"IF(AT!E125=\"\",NA(),AT!E125)","v":{"$error":"#N/A"}},{"$f":"IF(ST!E125=\"\",NA(),ST!A125)","v":{"$error":"#N/A"}},{"$f":"IF(ST!E125=\"\",NA(),ST!E125)","v":{"$error":"#N/A"}},null,{"$f":"IF(PT!A125=\"\",NA(),PT!A125)","v":{"$error":"#N/A"}},{"$f":"IF(PT!M125=\"\",NA(),PT!M125)","v":{"$error":"#N/A"}}]
[null,{"$f":"IF(AT!H126=\"\",NA(),AT!A126)","v":{"$error":"#N/A"}},{"$f":"IF(AT!H126=\"\",NA(),AT!H126)","v":{"$error":"#N/A"}},{"$f":"IF(ST!H126=\"\",NA(),ST!A126)","v":{"$error":"#N/A"}},{"$f":"IF(ST!H126=\"\",NA(),ST!H126)","v":{"$error":"#N/A"}},null,{"$f":"IF(AT!E126=\"\",NA(),AT!A126)","v":{"$error":"#N/A"}},{"$f":"IF(AT!E126=\"\",NA(),AT!E126)","v":{"$error":"#N/A"}},{"$f":"IF(ST!E126=\"\",NA(),ST!A126)","v":{"$error":"#N/A"}},{"$f":"IF(ST!E126=\"\",NA(),ST!E126)","v":{"$error":"#N/A"}},null,{"$f":"IF(PT!A126=\"\",NA(),PT!A126)","v":{"$error":"#N/A"}},{"$f":"IF(PT!M126=\"\",NA(),PT!M126)","v":{"$error":"#N/A"}}]
[null,{"$f":"IF(AT!H127=\"\",NA(),AT!A127)","v":{"$error":"#N/A"}},{"$f":"IF(AT!H127=\"\",NA(),AT!H127)","v":{"$error":"#N/A"}},{"$f":"IF(ST!H127=\"\",NA(),ST!A127)","v":{"$error":"#N/A"}},{"$f":"IF(ST!H127=\"\",NA(),ST!H127)","v":{"$error":"#N/A"}},null,{"$f":"IF(AT!E127=\"\",NA(),AT!A127)","v":{"$error":"#N/A"}},{"$f":"IF(AT!E127=\"\",NA(),AT!E127)","v":{"$error":"#N/A"}},{"$f":"IF(ST!E127=\"\",NA(),ST!A127)","v":{"$error":"#N/A"}},{"$f":"IF(ST!E127=\"\",NA(),ST!E127)","v":{"$error":"#N/A"}},null,{"$f":"IF(PT!A127=\"\",NA(),PT!A127)","v":{"$error":"#N/A"}},{"$f":"IF(PT!M127=\"\",NA(),PT!M127)","v":{"$error":"#N/A"}}]
[null,{"$f":"IF(AT!H128=\"\",NA(),AT!A128)","v":{"$error":"#N/A"}},{"$f":"IF(AT!H128=\"\",NA(),AT!H128)","v":{"$error":"#N/A"}},{"$f":"IF(ST!H128=\"\",NA(),ST!A128)","v":{"$error":"#N/A"}},{"$f":"IF(ST!H128=\"\",NA(),ST!H128)","v":{"$error":"#N/A"}},null,{"$f":"IF(AT!E128=\"\",NA(),AT!A128)","v":{"$error":"#N/A"}},{"$f":"IF(AT!E128=\"\",NA(),AT!E128)","v":{"$error":"#N/A"}},{"$f":"IF(ST!E128=\"\",NA(),ST!A128)","v":{"$error":"#N/A"}},{"$f":"IF(ST!E128=\"\",NA(),ST!E128)","v":{"$error":"#N/A"}},null,{"$f":"IF(PT!A128=\"\",NA(),PT!A128)","v":{"$error":"#N/A"}},{"$f":"IF(PT!M128=\"\",NA(),PT!M128)","v":{"$error":"#N/A"}}]
[null,{"$f":"IF(AT!H129=\"\",NA(),AT!A129)","v":{"$error":"#N/A"}},{"$f":"IF(AT!H129=\"\",NA(),AT!H129)","v":{"$error":"#N/A"}},{"$f":"IF(ST!H129=\"\",NA(),ST!A129)","v":{"$error":"#N/A"}},{"$f":"IF(ST!H129=\"\",NA(),ST!H129)","v":{"$error":"#N/A"}},null,{"$f":"IF(AT!E129=\"\",NA(),AT!A129)","v":{"$error":"#N/A"}},{"$f":"IF(AT!E129=\"\",NA(),AT!E129)","v":{"$error":"#N/A"}},{"$f":"IF(ST!E129=\"\",NA(),ST!A129)","v":{"$error":"#N/A"}},{"$f":"IF(ST!E129=\"\",NA(),ST!E129)","v":{"$error":"#N/A"}},null,{"$f":"IF(PT!A129=\"\",NA(),PT!A129)","v":{"$error":"#N/A"}},{"$f":"IF(PT!M129=\"\",NA(),PT!M129)","v":{"$error":"#N/A"}}]
[null,{"$f":"IF(AT!H130=\"\",NA(),AT!A130)","v":{"$error":"#N/A"}},{"$f":"IF(AT!H130=\"\",NA(),AT!H130)","v":{"$error":"#N/A"}},{"$f":"IF(ST!H130=\"\",NA(),ST!A130)","v":{"$error":"#N/A"}},{"$f":"IF(ST!H130=\"\",NA(),ST!H130)","v":{"$error":"#N/A"}},null,{"$f":"IF(AT!E130=\"\",NA(),AT!A130)","v":{"$error":"#N/A"}},{"$f":"IF(AT!E130=\"\",NA(),AT!E130)","v":{"$error":"#N/A"}},{"$f":"IF(ST!E130=\"\",NA(),ST!A130)","v":{"$error":"#N/A"}},{"$f":"IF(ST!E130=\"\",NA(),ST!E130)","v":{"$error":"#N/A"}},null,{"$f":"IF(PT!A130=\"\",NA(),PT!A130)","v":{"$error":"#N/A"}},{"$f":"IF(PT!M130=\"\",NA(),PT!M130)","v":{"$error":"#N/A"}}]
[null,{"$f":"IF(AT!H131=\"\",NA(),AT!A131)","v":{"$error":"#N/A"}},{"$f":"IF(AT!H131=\"\",NA(),AT!H131)","v":{"$error":"#N/A"}},{"$f":"IF(ST!H131=\"\",NA(),ST!A131)","v":{"$error":"#N/A"}},{"$f":"IF(ST!H131=\"\",NA(),ST!H131)","v":{"$error":"#N/A"}},null,{"$f":"IF(AT!E131=\"\",NA(),AT!A131)","v":{"$error":"#N/A"}},{"$f":"IF(AT!E131=\"\",NA(),AT!E131)","v":{"$error":"#N/A"}},{"$f":"IF(ST!E131=\"\",NA(),ST!A131)","v":{"$error":"#N/A"}},{"$f":"IF(ST!E131=\"\",NA(),ST!E131)","v":{"$error":"#N/A"}},null,{"$f":"IF(PT!A131=\"\",NA(),PT!A131)","v":{"$error":"#N/A"}},{"$f":"IF(PT!M131=\"\",NA(),PT!M131)","v":{"$error":"#N/A"}}]
[null,{"$f":"IF(AT!H132=\"\",NA(),AT!A132)","v":{"$error":"#N/A"}},{"$f":"IF(AT!H132=\"\",NA(),AT!H132)","v":{"$error":"#N/A"}},{"$f":"IF(ST!H132=\"\",NA(),ST!A132)","v":{"$error":"#N/A"}},{"$f":"IF(ST!H132=\"\",NA(),ST!H132)","v":{"$error":"#N/A"}},null,{"$f":"IF(AT!E132=\"\",NA(),AT!A132)","v":{"$error":"#N/A"}},{"$f":"IF(AT!E132=\"\",NA(),AT!E132)","v":{"$error":"#N/A"}},{"$f":"IF(ST!E132=\"\",NA(),ST!A132)","v":{"$error":"#N/A"}},{"$f":"IF(ST!E132=\"\",NA(),ST!E132)","v":{"$error":"#N/A"}},null,{"$f":"IF(PT!A132=\"\",NA(),PT!A132)","v":{"$error":"#N/A"}},{"$f":"IF(PT!M132=\"\",NA(),PT!M132)","v":{"$error":"#N/A"}}]
[null,{"$f":"IF(AT!H133=\"\",NA(),AT!A133)","v":{"$error":"#N/A"}},{"$f":"IF(AT!H133=\"\",NA(),AT!H133)","v":{"$error":"#N/A"}},{"$f":"IF(ST!H133=\"\",NA(),ST!A133)","v":{"$error":"#N/A"}},{"$f":"IF(ST!H133=\"\",NA(),ST!H133)","v":{"$error":"#N/A"}},null,{"$f":"IF(AT!E133=\"\",NA(),AT!A133)","v":{"$error":"#N/A"}},{"$f":"IF(AT!E133=\"\",NA(),AT!E133)","v":{"$error":"#N/A"}},{"$f":"IF(ST!E133=\"\",NA(),ST!A133)","v":{"$error":"#N/A"}},{"$f":"IF(ST!E133=\"\",NA(),ST!E133)","v":{"$error":"#N/A"}},null,{"$f":"IF(PT!A133=\"\",NA(),PT!A133)","v":{"$error":"#N/A"}},{"$f":"IF(PT!M133=\"\",NA(),PT!M133)","v":{"$error":"#N/A"}}]
[null,{"$f":"IF(AT!H134=\"\",NA(),AT!A134)","v":{"$error":"#N/A"}},{"$f":"IF(AT!H134=\"\",NA(),AT!H134)","v":{"$error":"#N/A"}},{"$f":"IF(ST!H134=\"\",NA(),ST!A134)","v":{"$error":"#N/A"}},{"$f":"IF(ST!H134=\"\",NA(),ST!H134)","v":{"$error":"#N/A"}},null,{"$f":"IF(AT!E134=\"\",NA(),AT!A134)","v":{"$error":"#N/A"}},{"$f":"IF(AT!E134=\"\",NA(),AT!E134)","v":{"$error":"#N/A"}},{"$f":"IF(ST!E134=\"\",NA(),ST!A134)","v":{"$error":"#N/A"}},{"$f":"IF(ST!E134=\"\",NA(),ST!E134)","v":{"$error":"#N/A"}},null,{"$f":"IF(PT!A134=\"\",NA(),PT!A134)","v":{"$error":"#N/A"}},{"$f":"IF(PT!M134=\"\",NA(),PT!M134)","v":{"$error":"#N/A"}}]
[null,{"$f":"IF(AT!H135=\"\",NA(),AT!A135)","v":{"$error":"#N/A"}},{"$f":"IF(AT!H135=\"\",NA(),AT!H135)","v":{"$error":"#N/A"}},{"$f":"IF(ST!H135=\"\",NA(),ST!A135)","v":{"$error":"#N/A"}},{"$f":"IF(ST!H135=\"\",NA(),ST!H135)","v":{"$error":"#N/A"}},null,{"$f":"IF(AT!E135=\"\",NA(),AT!A135)","v":{"$error":"#N/A"}},{"$f":"IF(AT!E135=\"\",NA(),AT!E135)","v":{"$error":"#N/A"}},{"$f":"IF(ST!E135=\"\",NA(),ST!A135)","v":{"$error":"#N/A"}},{"$f":"IF(ST!E135=\"\",NA(),ST!E135)","v":{"$error":"#N/A"}},null,{"$f":"IF(PT!A135=\"\",NA(),PT!A135)","v":{"$error":"#N/A"}},{"$f":"IF(PT!M135=\"\",NA(),PT!M135)","v":{"$error":"#N/A"}}]
[null,{"$f":"IF(AT!H136=\"\",NA(),AT!A136)","v":{"$error":"#N/A"}},{"$f":"IF(AT!H136=\"\",NA(),AT!H136)","v":{"$error":"#N/A"}},{"$f":"IF(ST!H136=\"\",NA(),ST!A136)","v":{"$error":"#N/A"}},{"$f":"IF(ST!H136=\"\",NA(),ST!H136)","v":{"$error":"#N/A"}},null,{"$f":"IF(AT!E136=\"\",NA(),AT!A136)","v":{"$error":"#N/A"}},{"$f":"IF(AT!E136=\"\",NA(),AT!E136)","v":{"$error":"#N/A"}},{"$f":"IF(ST!E136=\"\",NA(),ST!A136)","v":{"$error":"#N/A"}},{"$f":"IF(ST!E136=\"\",NA(),ST!E136)","v":{"$error":"#N/A"}},null,{"$f":"IF(PT!A136=\"\",NA(),PT!A136)","v":{"$error":"#N/A"}},{"$f":"IF(PT!M136=\"\",NA(),PT!M136)","v":{"$error":"#N/A"}}]
[null,{"$f":"IF(AT!H137=\"\",NA(),AT!A137)","v":{"$error":"#N/A"}},{"$f":"IF(AT!H137=\"\",NA(),AT!H137)","v":{"$error":"#N/A"}},{"$f":"IF(ST!H137=\"\",NA(),ST!A137)","v":{"$error":"#N/A"}},{"$f":"IF(ST!H137=\"\",NA(),ST!H137)","v":{"$error":"#N/A"}},null,{"$f":"IF(AT!E137=\"\",NA(),AT!A137)","v":{"$error":"#N/A"}},{"$f":"IF(AT!E137=\"\",NA(),AT!E137)","v":{"$error":"#N/A"}},{"$f":"IF(ST!E137=\"\",NA(),ST!A137)","v":{"$error":"#N/A"}},{"$f":"IF(ST!E137=\"\",NA(),ST!E137)","v":{"$error":"#N/A"}},null,{"$f":"IF(PT!A137=\"\",NA(),PT!A137)","v":{"$error":"#N/A"}},{"$f":"IF(PT!M137=\"\",NA(),PT!M137)","v":{"$error":"#N/A"}}]
[null,{"$f":"IF(AT!H138=\"\",NA(),AT!A138)","v":{"$error":"#N/A"}},{"$f":"IF(AT!H138=\"\",NA(),AT!H138)","v":{"$error":"#N/A"}},{"$f":"IF(ST!H138=\"\",NA(),ST!A138)","v":{"$error":"#N/A"}},{"$f":"IF(ST!H138=\"\",NA(),ST!H138)","v":{"$error":"#N/A"}},null,{"$f":"IF(AT!E138=\"\",NA(),AT!A138)","v":{"$error":"#N/A"}},{"$f":"IF(AT!E138=\"\",NA(),AT!E138)","v":{"$error":"#N/A"}},{"$f":"IF(ST!E138=\"\",NA(),ST!A138)","v":{"$error":"#N/A"}},{"$f":"IF(ST!E138=\"\",NA(),ST!E138)","v":{"$error":"#N/A"}},null,{"$f":"IF(PT!A138=\"\",NA(),PT!A138)","v":{"$error":"#N/A"}},{"$f":"IF(PT!M138=\"\",NA(),PT!M138)","v":{"$error":"#N/A"}}]
[null,{"$f":"IF(AT!H139=\"\",NA(),AT!A139)","v":{"$error":"#N/A"}},{"$f":"IF(AT!H139=\"\",NA(),AT!H139)","v":{"$error":"#N/A"}},{"$f":"IF(ST!H139=\"\",NA(),ST!A139)","v":{"$error":"#N/A"}},{"$f":"IF(ST!H139=\"\",NA(),ST!H139)","v":{"$error":"#N/A"}},null,{"$f":"IF(AT!E139=\"\",NA(),AT!A139)","v":{"$error":"#N/A"}},{"$f":"IF(AT!E139=\"\",NA(),AT!E139)","v":{"$error":"#N/A"}},{"$f":"IF(ST!E139=\"\",NA(),ST!A139)","v":{"$error":"#N/A"}},{"$f":"IF(ST!E139=\"\",NA(),ST!E139)","v":{"$error":"#N/A"}},null,{"$f":"IF(PT!A139=\"\",NA(),PT!A139)","v":{"$error":"#N/A"}},{"$f":"IF(PT!M139=\"\",NA(),PT!M139)","v":{"$error":"#N/A"}}]
[null,{"$f":"IF(AT!H140=\"\",NA(),AT!A140)","v":{"$error":"#N/A"}},{"$f":"IF(AT!H140=\"\",NA(),AT!H140)","v":{"$error":"#N/A"}},{"$f":"IF(ST!H140=\"\",NA(),ST!A140)","v":{"$error":"#N/A"}},{"$f":"IF(ST!H140=\"\",NA(),ST!H140)","v":{"$error":"#N/A"}},null,{"$f":"IF(AT!E140=\"\",NA(),AT!A140)","v":{"$error":"#N/A"}},{"$f":"IF(AT!E140=\"\",NA(),AT!E140)","v":{"$error":"#N/A"}},{"$f":"IF(ST!E140=\"\",NA(),ST!A140)","v":{"$error":"#N/A"}},{"$f":"IF(ST!E140=\"\",NA(),ST!E140)","v":{"$error":"#N/A"}},null,{"$f":"IF(PT!A140=\"\",NA(),PT!A140)","v":{"$error":"#N/A"}},{"$f":"IF(PT!M140=\"\",NA(),PT!M140)","v":{"$error":"#N/A"}}]
[null,{"$f":"IF(AT!H141=\"\",NA(),AT!A141)","v":{"$error":"#N/A"}},{"$f":"IF(AT!H141=\"\",NA(),AT!H141)","v":{"$error":"#N/A"}},{"$f":"IF(ST!H141=\"\",NA(),ST!A141)","v":{"$error":"#N/A"}},{"$f":"IF(ST!H141=\"\",NA(),ST!H141)","v":{"$error":"#N/A"}},null,{"$f":"IF(AT!E141=\"\",NA(),AT!A141)","v":{"$error":"#N/A"}},{"$f":"IF(AT!E141=\"\",NA(),AT!E141)","v":{"$error":"#N/A"}},{"$f":"IF(ST!E141=\"\",NA(),ST!A141)","v":{"$error":"#N/A"}},{"$f":"IF(ST!E141=\"\",NA(),ST!E141)","v":{"$error":"#N/A"}},null,{"$f":"IF(PT!A141=\"\",NA(),PT!A141)","v":{"$error":"#N/A"}},{"$f":"IF(PT!M141=\"\",NA(),PT!M141)","v":{"$error":"#N/A"}}]
[null,{"$f":"IF(AT!H142=\"\",NA(),AT!A142)","v":{"$error":"#N/A"}},{"$f":"IF(AT!H142=\"\",NA(),AT!H142)","v":{"$error":"#N/A"}},{"$f":"IF(ST!H142=\"\",NA(),ST!A142)","v":{"$error":"#N/A"}},{"$f":"IF(ST!H142=\"\",NA(),ST!H142)","v":{"$error":"#N/A"}},null,{"$f":"IF(AT!E142=\"\",NA(),AT!A142)","v":{"$error":"#N/A"}},{"$f":"IF(AT!E142=\"\",NA(),AT!E142)","v":{"$error":"#N/A"}},{"$f":"IF(ST!E142=\"\",NA(),ST!A142)","v":{"$error":"#N/A"}},{"$f":"IF(ST!E142=\"\",NA(),ST!E142)","v":{"$error":"#N/A"}},null,{"$f":"IF(PT!A142=\"\",NA(),PT!A142)","v":{"$error":"#N/A"}},{"$f":"IF(PT!M142=\"\",NA(),PT!M142)","v":{"$error":"#N/A"}}]
[null,{"$f":"IF(AT!H143=\"\",NA(),AT!A143)","v":{"$error":"#N/A"}},{"$f":"IF(AT!H143=\"\",NA(),AT!H143)","v":{"$error":"#N/A"}},{"$f":"IF(ST!H143=\"\",NA(),ST!A143)","v":{"$error":"#N/A"}},{"$f":"IF(ST!H143=\"\",NA(),ST!H143)","v":{"$error":"#N/A"}},null,{"$f":"IF(AT!E143=\"\",NA(),AT!A143)","v":{"$error":"#N/A"}},{"$f":"IF(AT!E143=\"\",NA(),AT!E143)","v":{"$error":"#N/A"}},{"$f":"IF(ST!E143=\"\",NA(),ST!A143)","v":{"$error":"#N/A"}},{"$f":"IF(ST!E143=\"\",NA(),ST!E143)","v":{"$error":"#N/A"}},null,{"$f":"IF(PT!A143=\"\",NA(),PT!A143)","v":{"$error":"#N/A"}},{"$f":"IF(PT!M143=\"\",NA(),PT!M143)","v":{"$error":"#N/A"}}]
[null,{"$f":"IF(AT!H144=\"\",NA(),AT!A144)","v":{"$error":"#N/A"}},{"$f":"IF(AT!H144=\"\",NA(),AT!H144)","v":{"$error":"#N/A"}},{"$f":"IF(ST!H144=\"\",NA(),ST!A144)","v":{"$error":"#N/A"}},{"$f":"IF(ST!H144=\"\",NA(),ST!H144)","v":{"$error":"#N/A"}},null,{"$f":"IF(AT!E144=\"\",NA(),AT!A144)","v":{"$error":"#N/A"}},{"$f":"IF(AT!E144=\"\",NA(),AT!E144)","v":{"$error":"#N/A"}},{"$f":"IF(ST!E144=\"\",NA(),ST!A144)","v":{"$error":"#N/A"}},{"$f":"IF(ST!E144=\"\",NA(),ST!E144)","v":{"$error":"#N/A"}},null,{"$f":"IF(PT!A144=\"\",NA(),PT!A144)","v":{"$error":"#N/A"}},{"$f":"IF(PT!M144=\"\",NA(),PT!M144)","v":{"$error":"#N/A"}}]
[null,{"$f":"IF(AT!H145=\"\",NA(),AT!A145)","v":{"$error":"#N/A"}},{"$f":"IF(AT!H145=\"\",NA(),AT!H145)","v":{"$error":"#N/A"}},{"$f":"IF(ST!H145=\"\",NA(),ST!A145)","v":{"$error":"#N/A"}},{"$f":"IF(ST!H145=\"\",NA(),ST!H145)","v":{"$error":"#N/A"}},null,{"$f":"IF(AT!E145=\"\",NA(),AT!A145)","v":{"$error":"#N/A"}},{"$f":"IF(AT!E145=\"\",NA(),AT!E145)","v":{"$error":"#N/A"}},{"$f":"IF(ST!E145=\"\",NA(),ST!A145)","v":{"$error":"#N/A"}},{"$f":"IF(ST!E145=\"\",NA(),ST!E145)","v":{"$error":"#N/A"}},null,{"$f":"IF(PT!A145=\"\",NA(),PT!A145)","v":{"$error":"#N/A"}},{"$f":"IF(PT!M145=\"\",NA(),PT!M145)","v":{"$error":"#N/A"}}]
[null,{"$f":"IF(AT!H146=\"\",NA(),AT!A146)","v":{"$error":"#N/A"}},{"$f":"IF(AT!H146=\"\",NA(),AT!H146)","v":{"$error":"#N/A"}},{"$f":"IF(ST!H146=\"\",NA(),ST!A146)","v":{"$error":"#N/A"}},{"$f":"IF(ST!H146=\"\",NA(),ST!H146)","v":{"$error":"#N/A"}},null,{"$f":"IF(AT!E146=\"\",NA(),AT!A146)","v":{"$error":"#N/A"}},{"$f":"IF(AT!E146=\"\",NA(),AT!E146)","v":{"$error":"#N/A"}},{"$f":"IF(ST!E146=\"\",NA(),ST!A146)","v":{"$error":"#N/A"}},{"$f":"IF(ST!E146=\"\",NA(),ST!E146)","v":{"$error":"#N/A"}},null,{"$f":"IF(PT!A146=\"\",NA(),PT!A146)","v":{"$error":"#N/A"}},{"$f":"IF(PT!M146=\"\",NA(),PT!M146)","v":{"$error":"#N/A"}}]
[null,{"$f":"IF(AT!H147=\"\",NA(),AT!A147)","v":{"$error":"#N/A"}},{"$f":"IF(AT!H147=\"\",NA(),AT!H147)","v":{"$error":"#N/A"}},{"$f":"IF(ST!H147=\"\",NA(),ST!A147)","v":{"$error":"#N/A"}},{"$f":"IF(ST!H147=\"\",NA(),ST!H147)","v":{"$error":"#N/A"}},null,{"$f":"IF(AT!E147=\"\",NA(),AT!A147)","v":{"$error":"#N/A"}},{"$f":"IF(AT!E147=\"\",NA(),AT!E147)","v":{"$error":"#N/A"}},{"$f":"IF(ST!E147=\"\",NA(),ST!A147)","v":{"$error":"#N/A"}},{"$f":"IF(ST!E147=\"\",NA(),ST!E147)","v":{"$error":"#N/A"}},null,{"$f":"IF(PT!A147=\"\",NA(),PT!A147)","v":{"$error":"#N/A"}},{"$f":"IF(PT!M147=\"\",NA(),PT!M147)","v":{"$error":"#N/A"}}]
[null,{"$f":"IF(AT!H148=\"\",NA(),AT!A148)","v":{"$error":"#N/A"}},{"$f":"IF(AT!H148=\"\",NA(),AT!H148)","v":{"$error":"#N/A"}},{"$f":"IF(ST!H148=\"\",NA(),ST!A148)","v":{"$error":"#N/A"}},{"$f":"IF(ST!H148=\"\",NA(),ST!H148)","v":{"$error":"#N/A"}},null,{"$f":"IF(AT!E148=\"\",NA(),AT!A148)","v":{"$error":"#N/A"}},{"$f":"IF(AT!E148=\"\",NA(),AT!E148)","v":{"$error":"#N/A"}},{"$f":"IF(ST!E148=\"\",NA(),ST!A148)","v":{"$error":"#N/A"}},{"$f":"IF(ST!E148=\"\",NA(),ST!E148)","v":{"$error":"#N/A"}},null,{"$f":"IF(PT!A148=\"\",NA(),PT!A148)","v":{"$error":"#N/A"}},{"$f":"IF(PT!M148=\"\",NA(),PT!M148)","v":{"$error":"#N/A"}}]
[null,{"$f":"IF(AT!H149=\"\",NA(),AT!A149)","v":{"$error":"#N/A"}},{"$f":"IF(AT!H149=\"\",NA(),AT!H149)","v":{"$error":"#N/A"}},{"$f":"IF(ST!H149=\"\",NA(),ST!A149)","v":{"$error":"#N/A"}},{"$f":"IF(ST!H149=\"\",NA(),ST!H149)","v":{"$error":"#N/A"}},null,{"$f":"IF(AT!E149=\"\",NA(),AT!A149)","v":{"$error":"#N/A"}},{"$f":"IF(AT!E149=\"\",NA(),AT!E149)","v":{"$error":"#N/A"}},{"$f":"IF(ST!E149=\"\",NA(),ST!A149)","v":{"$error":"#N/A"}},{"$f":"IF(ST!E149=\"\",NA(),ST!E149)","v":{"$error":"#N/A"}},null,{"$f":"IF(PT!A149=\"\",NA(),PT!A149)","v":{"$error":"#N/A"}},{"$f":"IF(PT!M149=\"\",NA(),PT!M149)","v":{"$error":"#N/A"}}]
[null,{"$f":"IF(AT!H150=\"\",NA(),AT!A150)","v":{"$error":"#N/A"}},{"$f":"IF(AT!H150=\"\",NA(),AT!H150)","v":{"$error":"#N/A"}},{"$f":"IF(ST!H150=\"\",NA(),ST!A150)","v":{"$error":"#N/A"}},{"$f":"IF(ST!H150=\"\",NA(),ST!H150)","v":{"$error":"#N/A"}},null,{"$f":"IF(AT!E150=\"\",NA(),AT!A150)","v":{"$error":"#N/A"}},{"$f":"IF(AT!E150=\"\",NA(),AT!E150)","v":{"$error":"#N/A"}},{"$f":"IF(ST!E150=\"\",NA(),ST!A150)","v":{"$error":"#N/A"}},{"$f":"IF(ST!E150=\"\",NA(),ST!E150)","v":{"$error":"#N/A"}},null,{"$f":"IF(PT!A150=\"\",NA(),PT!A150)","v":{"$error":"#N/A"}},{"$f":"IF(PT!M150=\"\",NA(),PT!M150)","v":{"$error":"#N/A"}}]
[null,{"$f":"IF(AT!H151=\"\",NA(),AT!A151)","v":{"$error":"#N/A"}},{"$f":"IF(AT!H151=\"\",NA(),AT!H151)","v":{"$error":"#N/A"}},{"$f":"IF(ST!H151=\"\",NA(),ST!A151)","v":{"$error":"#N/A"}},{"$f":"IF(ST!H151=\"\",NA(),ST!H151)","v":{"$error":"#N/A"}},null,{"$f":"IF(AT!E151=\"\",NA(),AT!A151)","v":{"$error":"#N/A"}},{"$f":"IF(AT!E151=\"\",NA(),AT!E151)","v":{"$error":"#N/A"}},{"$f":"IF(ST!E151=\"\",NA(),ST!A151)","v":{"$error":"#N/A"}},{"$f":"IF(ST!E151=\"\",NA(),ST!E151)","v":{"$error":"#N/A"}},null,{"$f":"IF(PT!A151=\"\",NA(),PT!A151)","v":{"$error":"#N/A"}},{"$f":"IF(PT!M151=\"\",NA(),PT!M151)","v":{"$error":"#N/A"}}]
[null,{"$f":"IF(AT!H152=\"\",NA(),AT!A152)","v":{"$error":"#N/A"}},{"$f":"IF(AT!H152=\"\",NA(),AT!H152)","v":{"$error":"#N/A"}},{"$f":"IF(ST!H152=\"\",NA(),ST!A152)","v":{"$error":"#N/A"}},{"$f":"IF(ST!H152=\"\",NA(),ST!H152)","v":{"$error":"#N/A"}},null,{"$f":"IF(AT!E152=\"\",NA(),AT!A152)","v":{"$error":"#N/A"}},{"$f":"IF(AT!E152=\"\",NA(),AT!E152)","v":{"$error":"#N/A"}},{"$f":"IF(ST!E152=\"\",NA(),ST!A152)","v":{"$error":"#N/A"}},{"$f":"IF(ST!E152=\"\",NA(),ST!E152)","v":{"$error":"#N/A"}},null,{"$f":"IF(PT!A152=\"\",NA(),PT!A152)","v":{"$error":"#N/A"}},{"$f":"IF(PT!M152=\"\",NA(),PT!M152)","v":{"$error":"#N/A"}}]
[null,{"$f":"IF(AT!H153=\"\",NA(),AT!A153)","v":{"$error":"#N/A"}},{"$f":"IF(AT!H153=\"\",NA(),AT!H153)","v":{"$error":"#N/A"}},{"$f":"IF(ST!H153=\"\",NA(),ST!A153)","v":{"$error":"#N/A"}},{"$f":"IF(ST!H153=\"\",NA(),ST!H153)","v":{"$error":"#N/A"}},null,{"$f":"IF(AT!E153=\"\",NA(),AT!A153)","v":{"$error":"#N/A"}},{"$f":"IF(AT!E153=\"\",NA(),AT!E153)","v":{"$error":"#N/A"}},{"$f":"IF(ST!E153=\"\",NA(),ST!A153)","v":{"$error":"#N/A"}},{"$f":"IF(ST!E153=\"\",NA(),ST!E153)","v":{"$error":"#N/A"}},null,{"$f":"IF(PT!A153=\"\",NA(),PT!A153)","v":{"$error":"#N/A"}},{"$f":"IF(PT!M153=\"\",NA(),PT!M153)","v":{"$error":"#N/A"}}]
[null,{"$f":"IF(AT!H154=\"\",NA(),AT!A154)","v":{"$error":"#N/A"}},{"$f":"IF(AT!H154=\"\",NA(),AT!H154)","v":{"$error":"#N/A"}},{"$f":"IF(ST!H154=\"\",NA(),ST!A154)","v":{"$error":"#N/A"}},{"$f":"IF(ST!H154=\"\",NA(),ST!H154)","v":{"$error":"#N/A"}},null,{"$f":"IF(AT!E154=\"\",NA(),AT!A154)","v":{"$error":"#N/A"}},{"$f":"IF(AT!E154=\"\",NA(),AT!E154)","v":{"$error":"#N/A"}},{"$f":"IF(ST!E154=\"\",NA(),ST!A154)","v":{"$error":"#N/A"}},{"$f":"IF(ST!E154=\"\",NA(),ST!E154)","v":{"$error":"#N/A"}},null,{"$f":"IF(PT!A154=\"\",NA(),PT!A154)","v":{"$error":"#N/A"}},{"$f":"IF(PT!M154=\"\",NA(),PT!M154)","v":{"$error":"#N/A"}}]
[null,{"$f":"IF(AT!H155=\"\",NA(),AT!A155)","v":{"$error":"#N/A"}},{"$f":"IF(AT!H155=\"\",NA(),AT!H155)","v":{"$error":"#N/A"}},{"$f":"IF(ST!H155=\"\",NA(),ST!A155)","v":{"$error":"#N/A"}},{"$f":"IF(ST!H155=\"\",NA(),ST!H155)","v":{"$error":"#N/A"}},null,{"$f":"IF(AT!E155=\"\",NA(),AT!A155)","v":{"$error":"#N/A"}},{"$f":"IF(AT!E155=\"\",NA(),AT!E155)","v":{"$error":"#N/A"}},{"$f":"IF(ST!E155=\"\",NA(),ST!A155)","v":{"$error":"#N/A"}},{"$f":"IF(ST!E155=\"\",NA(),ST!E155)","v":{"$error":"#N/A"}},null,{"$f":"IF(PT!A155=\"\",NA(),PT!A155)","v":{"$error":"#N/A"}},{"$f":"IF(PT!M155=\"\",NA(),PT!M155)","v":{"$error":"#N/A"}}]